{"text_format":"1","workbook":"xlsx","n_sheets":3,"sheets":["Poäng & instruktioner","Resultat & Tabell","Mitt tips"],"not_rendered":{"charts":0,"images":46,"macros":1,"external_links":0,"defined_names":1,"comments":0,"pivot_tables":0},"unopened":[],"bounds":{"document_bytes":16777216,"sheet_cells":100000,"rows_first":2000,"rows_last":500,"rows_between":2000,"halvings":0,"cell_chars":16384,"cell_head_chars":4096},"cells_cut":0,"cells_raw":0,"read":"whole","date_system":"1900"}

{"sheet":"Poäng & instruktioner","index":0,"n_rows":28,"n_cols":13,"rows_kept":28,"cut":false,"hidden":false,"merged":[]}
[]
["Poängräkning",null,null,"Instruktioner",null,null,null,null,null,null,null,null,"Frequently Asked Questions (FAQ)"]
["Samtliga matcher"]
["Rätt antal mål per lag","2 poäng",null,"Addera tips",null,null,null,null,null,null,null,null,"1. När jag klickar på START för att addera ett tips får jag felmeddelande"]
["Rätt tecken (1X2)","2 poäng",null,null,null,null,null,null,null,null,null,null,"Svar: Behåll alltid originalfliken \"Mitt tips\" och döp inte om den. Döps fliken om eller"]
["6 poäng kan delas ut i samtliga matcher",null,null,"Högerklicka på den nya fliken, välj \"rename\"och skriv in tipparens namn",null,null,null,null,null,null,null,null,"tas bort fungerar inte macrot ordentligt"]
[null,null,null,"Du kan addera så många spelare du önskar"]
["Prediction",null,null,null,null,null,null,null,null,null,null,null,"2. Kan jag få lösenordet till filen?"]
["Rätt lag i åttondelsfinal","2 poäng per lag",null,"Addera tippare i tabellen",null,null,null,null,null,null,null,null,"Svar: Vi ger inte ut lösenordet. Vårt bidrag är att vi publicerar tipset för er gratis"]
["Rätt lag i kvartsfinal","4 poäng per lag",null,"Välj fliken \"Resultat & tabell\" och skriv in tipparens namn i kolumnen \"Namn\" i tabellen"]
["Rätt lag i semifinal","6 poäng per lag",null,"Tryck sedan i motsvarande cell i kolumn \"Poäng\" (exempelvis cell AE4) och skriv =",null,null,null,null,null,null,null,null,"3. Finns tipset på engelska?"]
["Rätt lag i final","8 poäng per lag",null,"Välj den flik med spelarens namn, klicka en gång i cell Z19 och tryck Enter",null,null,null,null,null,null,null,null,"Svar: Nej, till detta mästerskap har vi inte gjort ett tips på engelska"]
[null,null,null,"Siffran 0 dyker nu upp i cellen bredvid spelarens namn"]
["Bonusfrågor",null,null,null,null,null,null,null,null,null,null,null,"4. När jag får tillbaka tipsen från mina kompisar, kan jag kopiera eller flytta fliken \"Mitt tips\" från"]
["Skyttekung","20 poäng",null,"Rättning",null,null,null,null,null,null,null,null,"min kompisars fil till min? "]
["Europamästare","20 poäng",null,"Fyll i de gula cellerna så uppdateras respektive spelares flik med poäng",null,null,null,null,null,null,null,null,"Svar: Nej, det kan du inte, då fungerar inte länkningen till \"Resultat & Tabell\""]
["Bonusfråga 1","20 poäng",null,"Sortera sedan tabellen i fallande ordning i cellen \"Poäng\" under \"Resultat & tabell\" och voila!",null,null,null,null,null,null,null,null,"Du måste skriva in deras tips manuellt"]
["Bonusfråga 2","20 poäng"]
[null,null,null,"Det finstilta",null,null,null,null,null,null,null,null,"5. Jag och mina kompisar vill först tippa gruppspelet, sen åttondelsfinaler, kvartsfinaler, semifinaler och final"]
["Totalpoäng",null,null,"Du måste fylla i varje deltagares tips under en separat flik i denna filen. ",null,null,null,null,null,null,null,null,"separat, eferhand som matcherna spelats i respektve del, går det?"]
["Gruppspel","216 poäng",null,"Detta eftersom det finns formler kopplade i alla flikar, vilka styrs från \"Resultat & tabell\". ",null,null,null,null,null,null,null,null,"Svar: Ja, det går utmärkt att göra det. Det finns ingen begränsning för hur ni vill lägga upp tipset"]
["Åttondelsfinal","80 poäng","(48+32)","Tyvärr lite manuellt arbete, men det går relativt snabbt och behövs enbart göras i",null,null,null,null,null,null,null,null,"Dock fäljer bonuspoängen för rätt lag vidare med i poängräkningen"]
["Kvartsfinaler","56 poäng","(24+32)","innan tipstävlingen drar igång"]
["Semifinal","36 poäng","(12+24)"]
["Final","22 poäng","(6+16)","Bra att veta!"]
["Bonusfrågor","80 poäng","(20+20)","Tänk på att bestämma i förväg om slutresultatet är efter 90 minuter, ev förlängning eller straffar "]
["Totalt","490 poäng",null,"Vid oavgjort resultat i åttondelsfinal, kvartsfinal och semifinal, måste du som tippare ange det lag du tippar vidare"]
[null,null,null,"genon att välja laget från \"drop-down\" listan för respektive match du tror slutar oavgjort"]

{"sheet":"Resultat & Tabell","index":1,"n_rows":103,"n_cols":194,"rows_kept":103,"cut":false,"hidden":false,"merged":[[5,23,5,26],[6,23,6,26],[3,23,3,26],[2,3,2,5],[2,6,2,8],[2,23,2,26],[2,30,2,32],[2,33,2,35],[29,33,29,35],[4,23,4,26],[11,3,11,5],[11,6,11,8],[11,30,11,32],[11,33,11,35],[20,3,20,5],[20,6,20,8],[20,30,20,32],[20,33,20,35],[27,2,27,3],[27,29,27,30],[29,3,29,5],[29,6,29,8],[29,30,29,32],[38,3,38,5],[38,6,38,8],[38,30,38,32],[38,33,38,35],[47,3,47,5],[47,6,47,8],[47,30,47,32],[47,33,47,35],[79,3,79,5],[79,6,79,8],[79,30,79,32],[79,33,79,35],[56,3,56,5],[56,6,56,8],[56,30,56,32],[56,33,56,35],[67,3,67,5],[67,6,67,8],[67,30,67,32],[67,33,67,35],[57,15,64,20],[58,68,58,70],[58,71,58,73],[74,3,74,5],[74,6,74,8],[74,30,74,32],[74,33,74,35]]}
[]
[null,null,"Grupp A",null,null,null,null,null,null,null,null,null,null,null,null,null,null,null,null,null,null,null,"Bonusfrågor",null,null,null,null,null,null,"Grupp A",null,null,null,null,null,null,null,null,"Rank 0",null,null,null,null,null,"Rank 1",null,null,null,null,null,"Rank 3",null,null,null,null,null,"Rank 3",null,null,null,null,null,"Rank 4",null,null,null,null,null,null,null,"Rank 0",null,null,null,null,null,null,null,null,null,null,null,"Rank 1",{"$f":"COUNTIF(CB4:CB7,1)","v":4},null,null,null,null,null,null,null,null,null,null,null,null,null,null,null,null,null,null,"Rank 2",{"$f":"COUNTIF(CB4:CB7,2)","v":0},null,null,null,null,null,null,null,null,null,null,null,null,null,null,null,null,null,null,"Rank 3",{"$f":"COUNTIF(CB4:CB7,3)","v":0},null,null,null,null,null,null,null,null,null,null,null,null,null,null,null,null,null,null,"Rank 4",{"$f":"COUNTIF(CB4:CB7,4)","v":0},null,null,null,null,null,null,null,null,null,null,null,null,null,null,null,null,null,null,null,null,null,null,"3rd places",null,null,null,null,null,null,null,null,null,null,null,null,"Check row:",{"$f":"MAX(GH3:GH18)","v":2},"Combo",null,null,null,"B","C","E","F","Valid"]
[null,null,"Datum","Match",null,null,"Resultat",null,null,"Tecken",null,null,null,"Lag","V","O","F","GM","IM","+/-","P",null,"Kategori","Land eller spelare",null,null,null,null,null,"Datum","Match",null,null,"Resultat",null,null,"Tecken","Poäng","V1","V2","O1","O2","F1","F2","V1","V2","O1","O2","F1","F2","V1","V2","O1","O2","F1","F2","V1","V2","O1","O2","F1","F2","V1","V2","O1","O2","F1","F2",null,null,"Lag","V","O","F","GM","IM","+/-","P","Grupp","Rank P","Rank +/-",null,"Lag","V","O","F","P","Grupp","Rank P","+/-","+/- rank","GM","GM rank","Rank internal","+/- all","+/- rank all","GM all","GM rank all","V all","V rank all","Rank all",null,"Lag","V","O","F","P","Grupp","Rank P","+/-","+/- rank","GM","GM rank","Rank internal","+/- all","+/- rank all","GM all","GM rank all","V all","V rank all","Rank all",null,"Lag","V","O","F","P","Grupp","Rank P","+/-","+/- rank","GM","GM rank","Rank internal","+/- all","+/- rank all","GM all","GM rank all","V all","V rank all","Rank all",null,"Lag","V","O","F","P","Grupp","Rank P","+/-","+/- rank","GM","GM rank","Rank internal","+/- all","+/- rank all","GM all","GM rank all","V all","V rank all","Rank all",null,"Rank","Rank Ties",null,null,"Grupp","Lag","Rank ties","Rank total","Rank mål","Rank +/-","Rank poäng","Poäng","+/-","GM","Grupp","Team through",null,2,"ABCD","A","B","C","D",{"$f":"VLOOKUP(\"A\",$FK$3:$FL$9,2,FALSE)","v":"Turkiet"},{"$f":"VLOOKUP(\"D\",$FK$3:$FL$9,2,FALSE)","v":"England"},{"$f":"VLOOKUP(\"B\",$FK$3:$FL$9,2,FALSE)","v":"Finland"},{"$f":"VLOOKUP(\"C\",$FK$3:$FL$9,2,FALSE)","v":"Nord Makedonien"},{"$f":"IFERROR(IF(AND(VLOOKUP(FZ3,$FV$4:$FV$9,1,FALSE)=FZ3,VLOOKUP(GA3,$FV$4:$FV$9,1,FALSE)=GA3,VLOOKUP(GB3,$FV$4:$FV$9,1,FALSE)=GB3,VLOOKUP(GC3,$FV$4:$FV$9,1,FALSE)=GC3),FX3,\"\"),\"\")","v":2},"Placering",null,"Namn","Poäng"]
[null,null,"2021-06-11","Turkiet","-","Italien",1,"-",1,{"$f":"IF(OR(ISBLANK(G4),ISBLANK(I4)),\"\",IF(G4>I4,1,IF(G4<I4,2,\"X\")))","v":"X"},{"$f":"IF(VLOOKUP(D4,BS3:CB7,10,FALSE)=VLOOKUP(F4,BS3:CB7,10,FALSE),VLOOKUP(D4,BS3:CB7,10,FALSE),\"-\")","v":1},null,1,{"$f":"VLOOKUP(M4,FH4:FI7,2,FALSE)","v":"Italien"},{"$f":"VLOOKUP($N$4,$BS$4:$BZ$7,2,FALSE)","v":0},{"$f":"VLOOKUP($N$4,$BS$4:$BZ$7,3,FALSE)","v":3},{"$f":"VLOOKUP($N$4,$BS$4:$BZ$7,4,FALSE)","v":0},{"$f":"VLOOKUP($N$4,$BS$4:$BZ$7,5,FALSE)","v":3},{"$f":"VLOOKUP($N$4,$BS$4:$BZ$7,6,FALSE)","v":3},{"$f":"VLOOKUP($N$4,$BS$4:$BZ$7,7,FALSE)","v":0},{"$f":"VLOOKUP($N$4,$BS$4:$BZ$7,8,FALSE)","v":3},null,"Europamästare",null,null,null,null,null,null,{"$f":"C4","v":"2021-06-11"},{"$f":"D4","v":"Turkiet"},"-","Italien",{"$f":"IF(G4=\"\",\"\",G4)","v":1},"-",{"$f":"IF(I4=\"\",\"\",I4)","v":1},{"$f":"J4","v":"X"},null,{"$f":"IF(AH4>AJ4,1,0)","v":0},{"$f":"IF(AJ4>AH4,1,0)","v":0},{"$f":"IF(AND(AH4=AJ4,AH4<>\"\"),1,0)","v":1},{"$f":"IF(AND(AH4=AJ4,AH4<>\"\"),1,0)","v":1},{"$f":"IF(AH4<AJ4,1,0)","v":0},{"$f":"IF(AJ4<AH4,1,)","v":0},{"$f":"IF(ISERROR(VLOOKUP(AE4,CE:CE,1,FALSE)),0,1)*IF(ISERROR(VLOOKUP(AG4,CE:CE,1,FALSE)),0,1)*AM4","v":0},{"$f":"IF(ISERROR(VLOOKUP(AE4,CE:CE,1,FALSE)),0,1)*IF(ISERROR(VLOOKUP(AG4,CE:CE,1,FALSE)),0,1)*AN4","v":0},{"$f":"IF(ISERROR(VLOOKUP(AE4,CE:CE,1,FALSE)),0,1)*IF(ISERROR(VLOOKUP(AG4,CE:CE,1,FALSE)),0,1)*AO4","v":1},{"$f":"IF(ISERROR(VLOOKUP(AE4,CE:CE,1,FALSE)),0,1)*IF(ISERROR(VLOOKUP(AG4,CE:CE,1,FALSE)),0,1)*AP4","v":1},{"$f":"IF(ISERROR(VLOOKUP(AE4,CE:CE,1,FALSE)),0,1)*IF(ISERROR(VLOOKUP(AG4,CE:CE,1,FALSE)),0,1)*AQ4","v":0},{"$f":"IF(ISERROR(VLOOKUP(AE4,CE:CE,1,FALSE)),0,1)*IF(ISERROR(VLOOKUP(AG4,CE:CE,1,FALSE)),0,1)*AR4","v":0},{"$f":"IF(ISERROR(VLOOKUP(AE4,CY:CY,1,FALSE)),0,1)*IF(ISERROR(VLOOKUP(AG4,CY:CY,1,FALSE)),0,1)*AM4","v":0},{"$f":"IF(ISERROR(VLOOKUP(AE4,CY:CY,1,FALSE)),0,1)*IF(ISERROR(VLOOKUP(AG4,CY:CY,1,FALSE)),0,1)*AN4","v":0},{"$f":"IF(ISERROR(VLOOKUP(AE4,CY:CY,1,FALSE)),0,1)*IF(ISERROR(VLOOKUP(AG4,CY:CY,1,FALSE)),0,1)*AO4","v":0},{"$f":"IF(ISERROR(VLOOKUP(AE4,CY:CY,1,FALSE)),0,1)*IF(ISERROR(VLOOKUP(AG4,CY:CY,1,FALSE)),0,1)*AP4","v":0},{"$f":"IF(ISERROR(VLOOKUP(AE4,CY:CY,1,FALSE)),0,1)*IF(ISERROR(VLOOKUP(AG4,CY:CY,1,FALSE)),0,1)*AQ4","v":0},{"$f":"IF(ISERROR(VLOOKUP(AE4,CY:CY,1,FALSE)),0,1)*IF(ISERROR(VLOOKUP(AG4,CY:CY,1,FALSE)),0,1)*AR4","v":0},{"$f":"IF(ISERROR(VLOOKUP(AE4,DS:DS,1,FALSE)),0,1)*IF(ISERROR(VLOOKUP(AG4,DS:DS,1,FALSE)),0,1)*AM4","v":0},{"$f":"IF(ISERROR(VLOOKUP(AE4,DS:DS,1,FALSE)),0,1)*IF(ISERROR(VLOOKUP(AG4,DS:DS,1,FALSE)),0,1)*AN4","v":0},{"$f":"IF(ISERROR(VLOOKUP(AE4,DS:DS,1,FALSE)),0,1)*IF(ISERROR(VLOOKUP(AG4,DS:DS,1,FALSE)),0,1)*AO4","v":0},{"$f":"IF(ISERROR(VLOOKUP(AE4,DS:DS,1,FALSE)),0,1)*IF(ISERROR(VLOOKUP(AG4,DS:DS,1,FALSE)),0,1)*AP4","v":0},{"$f":"IF(ISERROR(VLOOKUP(AE4,DS:DS,1,FALSE)),0,1)*IF(ISERROR(VLOOKUP(AG4,DS:DS,1,FALSE)),0,1)*AQ4","v":0},{"$f":"IF(ISERROR(VLOOKUP(AE4,DS:DS,1,FALSE)),0,1)*IF(ISERROR(VLOOKUP(AG4,DS:DS,1,FALSE)),0,1)*AR4","v":0},{"$f":"IF(ISERROR(VLOOKUP(AE4,EM:EM,1,FALSE)),0,1)*IF(ISERROR(VLOOKUP(AG4,EM:EM,1,FALSE)),0,1)*AM4","v":0},{"$f":"IF(ISERROR(VLOOKUP(AE4,EM:EM,1,FALSE)),0,1)*IF(ISERROR(VLOOKUP(AG4,EM:EM,1,FALSE)),0,1)*AN4","v":0},{"$f":"IF(ISERROR(VLOOKUP(AE4,EM:EM,1,FALSE)),0,1)*IF(ISERROR(VLOOKUP(AG4,EM:EM,1,FALSE)),0,1)*AO4","v":0},{"$f":"IF(ISERROR(VLOOKUP(AE4,EM:EM,1,FALSE)),0,1)*IF(ISERROR(VLOOKUP(AG4,EM:EM,1,FALSE)),0,1)*AP4","v":0},{"$f":"IF(ISERROR(VLOOKUP(AE4,EM:EM,1,FALSE)),0,1)*IF(ISERROR(VLOOKUP(AG4,EM:EM,1,FALSE)),0,1)*AQ4","v":0},{"$f":"IF(ISERROR(VLOOKUP(AE4,EM:EM,1,FALSE)),0,1)*IF(ISERROR(VLOOKUP(AG4,EM:EM,1,FALSE)),0,1)*AR4","v":0},null,null,"Italien",{"$f":"(SUMIF(AE$4:AE$54,BS4,AM$4:AM$54)+SUMIF(AG$4:AG$54,BS4,AN$4:AN$54))","v":0},{"$f":"(SUMIF(AE$4:AE$54,BS4,AO$4:AO$54)+SUMIF(AG$4:AG$54,BS4,AP$4:AP$54))","v":3},{"$f":"(SUMIF(AE$4:AE$54,BS4,AQ$4:AQ$54)+SUMIF(AG$4:AG$54,BS4,AR$4:AR$54))","v":0},{"$f":"SUMIF($AE$4:$AE$54,BS4,$AH$4:$AH$54)+SUMIF($AG$4:$AG$54,BS4,$AJ$4:$AJ$54)","v":3},{"$f":"SUMIF($AE$4:$AE$54,BS4,$AJ$4:$AJ$54)+SUMIF($AG$4:$AG$54,BS4,$AH$4:$AH$54)","v":3},{"$f":"BW4-BX4","v":0},{"$f":"IFERROR(BT4*3+BU4*1,0)","v":3},"A",{"$f":"RANK(BZ4,BZ4:BZ7)","v":1},{"$f":"SUMPRODUCT((BZ4:BZ7=BZ4)*(BY4:BY7>BY4))","v":0},null,{"$f":"IF(CB4=1,BS4,)","v":"Italien"},{"$f":"(SUMIF($AE$4:$AE$54,$BS4,$AS$4:$AS$54)+SUMIF($AG$4:$AG$54,$BS4,$AT$4:$AT$54))","v":0},{"$f":"(SUMIF($AE$4:$AE$54,$BS4,$AU$4:$AU$54)+SUMIF($AG$4:$AG$54,$BS4,$AV$4:$AV$54))","v":3},{"$f":"(SUMIF($AE$4:$AE$54,$BS4,$AW$4:$AW$54)+SUMIF($AG$4:$AG$54,$BS4,$AX$4:$AX$54))","v":0},{"$f":"IFERROR(CF4*3+CG4*1,0)","v":3},{"$f":"CA4","v":"A"},{"$f":"IF(CE4>0,RANK(CI4,CI4:CI7),)","v":1},{"$f":"IF(AND(CE4>0,COUNTIF(CK4:CK7,CK4)>1),SUMIFS($AH$4:$AH$54,$AE$4:$AE$54,$BS4,$K$4:$K$54,1)+SUMIFS($AJ$4:$AJ$54,$AG$4:$AG$54,$BS4,$K$4:$K$54,1)-SUMIFS($AJ$4:$AJ$54,$AE$4:$AE$54,$BS4,$K$4:$K$54,1)-SUMIFS($AH$4:$AH$54,$AG$4:$AG$54,$BS4,$K$4:$K$54,1),)","v":0},{"$f":"IF(AND(CE4>0,COUNTIF(CK4:CK7,CK4)>1),CK4+RANK(CL4,CL4:CL7)-1,CK4)","v":1},{"$f":"IF(AND(CE4>0,COUNTIF(CM4:CM7,CM4)>1),SUMIFS($AH$4:$AH$54,$AE$4:$AE$54,$BS4,$K$4:$K$54,1)+SUMIFS($AJ$4:$AJ$54,$AG$4:$AG$54,$BS4,$K$4:$K$54,1),)","v":3},{"$f":"IF(AND(CE4>0,COUNTIF(CM4:CM7,CM4)>1),CM4+RANK(CN4,CN4:CN7)-1,CM4)","v":1},{"$f":"IF(CO4=0,\"\",CO4)","v":1},{"$f":"IF(OR(CP4=\"\",COUNTIF(CP4:CP7,CP4)=1),\"\",$BY4)","v":0},{"$f":"IF(CP4=\"\",\"\",IF(COUNTIF(CP4:CP7,CP4)=1,CP4,CP4+RANK(CQ4,CQ4:CQ7,0)-1))","v":1},{"$f":"IF(OR(CR4=\"\",COUNTIF(CR4:CR7,CR4)=1),\"\",$BW4)","v":3},{"$f":"IF(CP4=\"\",\"\",IF(COUNTIF(CR4:CR7,CR4)=1,CR4,CR4+RANK(CS4,CS4:CS7,0)-1))","v":1},{"$f":"IF(OR(CT4=\"\",COUNTIF(CT4:CT7,CT4)=1),\"\",$BT4)","v":0},{"$f":"IF(CP4=\"\",\"\",IF(COUNTIF(CT4:CT7,CT4)=1,CT4,CT4+RANK(CU4,CU4:CU7,0)-1))","v":1},{"$f":"IF(CE4>0,BL2+RANK(CV4,CV4:CV7,1),)","v":1},null,{"$f":"IF(CB4=2,BS4,)","v":0},{"$f":"(SUMIF($AE$4:$AE$54,$BS4,$AY$4:$AY$54)+SUMIF($AG$4:$AG$54,$BS4,$AZ$4:$AZ$54))","v":0},{"$f":"(SUMIF($AE$4:$AE$54,$BS4,$BA$4:$BA$54)+SUMIF($AG$4:$AG$54,$BS4,$BB$4:$BB$54))","v":0},{"$f":"(SUMIF($AE$4:$AE$54,$BS4,$BC$4:$BC$54)+SUMIF($AG$4:$AG$54,$BS4,$BD$4:$BD$54))","v":0},{"$f":"IFERROR(CZ4*3+DA4*1,0)","v":0},{"$f":"$CA4","v":"A"},{"$f":"IF(CY4>0,RANK(DC4,DC4:DC7)+CF2,)","v":0},{"$f":"IF(AND(CY4>0,COUNTIF(DE4:DE7,DE4)>1),SUMIFS($AH$4:$AH$54,$AE$4:$AE$54,$BS4,$K$4:$K$54,2)+SUMIFS($AJ$4:$AJ$54,$AG$4:$AG$54,$BS4,$K$4:$K$54,2)-SUMIFS($AJ$4:$AJ$54,$AE$4:$AE$54,$BS4,$K$4:$K$54,2)-SUMIFS($AH$4:$AH$54,$AG$4:$AG$54,$BS4,$K$4:$K$54,2),)","v":0},{"$f":"IF(AND(CY4>0,COUNTIF(DE4:DE7,DE4)>1),DE4+RANK(DF4,DF4:DF7)-1,DE4)","v":0},{"$f":"IF(AND(CY4>0,COUNTIF(DG4:DG7,DG4)>1),SUMIFS($AH$4:$AH$54,$AE$4:$AE$54,$BS4,$K$4:$K$54,2)+SUMIFS($AJ$4:$AJ$54,$AG$4:$AG$54,$BS4,$K$4:$K$54,2),)","v":0},{"$f":"IF(AND(CY4>0,COUNTIF(DG4:DG7,DG4)>1),DG4+RANK(DH4,DH4:DH7)-1,DG4)","v":0},{"$f":"IF(DI4=0,\"\",DI4)","v":""},{"$f":"IF(OR(DJ4=\"\",COUNTIF(DJ4:DJ7,DJ4)=1),\"\",$BY4)","v":""},{"$f":"IF(DJ4=\"\",\"\",IF(COUNTIF(DJ4:DJ7,DJ4)=1,DJ4,DJ4+RANK(DK4,DK4:DK7,0)-1))","v":""},{"$f":"IF(OR(DL4=\"\",COUNTIF(DL4:DL7,DL4)=1),\"\",$BW4)","v":""},{"$f":"IF(DJ4=\"\",\"\",IF(COUNTIF(DL4:DL7,DL4)=1,DL4,DL4+RANK(DM4,DM4:DM7,0)-1))","v":""},{"$f":"IF(OR(DN4=\"\",COUNTIF(DN4:DN7,DN4)=1),\"\",$BT4)","v":""},{"$f":"IF(DJ4=\"\",\"\",IF(COUNTIF(DN4:DN7,DN4)=1,DN4,DN4+RANK(DO4,DO4:DO7,0)-1))","v":""},{"$f":"IF(CY4>0,CF2+RANK(DP4,DP4:DP7,1),)","v":0},null,{"$f":"IF(CB4=3,BS4,)","v":0},{"$f":"(SUMIF($AE$4:$AE$54,BS4,$BE$4:$BE$54)+SUMIF($AG$4:$AG$54,BS4,$BF$4:$BF$54))","v":0},{"$f":"(SUMIF($AE$4:$AE$54,BS4,$BG$4:$BG$54)+SUMIF($AG$4:$AG$54,BS4,$BH$4:$BH$54))","v":0},{"$f":"(SUMIF($AE$4:$AE$54,BS4,$BI$4:$BI$54)+SUMIF($AG$4:$AG$54,BS4,$BJ$4:$BJ$54))","v":0},{"$f":"IFERROR(DT4*3+DU4*1,0)","v":0},{"$f":"CA4","v":"A"},{"$f":"IF(DS4>0,RANK(DW4,DW4:DW7)+CF2+CZ2,)","v":0},{"$f":"IF(AND(DS4>0,COUNTIF(DY4:DY7,DY4)>1),SUMIFS($AH$4:$AH$54,$AE$4:$AE$54,$BS4,$K$4:$K$54,3)+SUMIFS($AJ$4:$AJ$54,$AG$4:$AG$54,$BS4,$K$4:$K$54,3)-SUMIFS($AJ$4:$AJ$54,$AE$4:$AE$54,$BS4,$K$4:$K$54,3)-SUMIFS($AH$4:$AH$54,$AG$4:$AG$54,$BS4,$K$4:$K$54,3),)","v":0},{"$f":"IF(AND(DS4>0,COUNTIF(DY4:DY7,DY4)>1),DY4+RANK(DZ4,DZ4:DZ7)-1,DY4)","v":0},{"$f":"IF(AND(DS4>0,COUNTIF(EA4:EA7,EA4)>1),SUMIFS($AH$4:$AH$54,$AE$4:$AE$54,$BS4,$K$4:$K$54,3)+SUMIFS($AJ$4:$AJ$54,$AG$4:$AG$54,$BS4,$K$4:$K$54,3),)","v":0},{"$f":"IF(AND(DS4>0,COUNTIF(EA4:EA7,EA4)>1),EA4+RANK(EB4,EB4:EB7)-1,EA4)","v":0},{"$f":"IF(EC4=0,\"\",EC4)","v":""},{"$f":"IF(OR(ED4=\"\",COUNTIF(ED4:ED7,ED4)=1),\"\",$BY4)","v":""},{"$f":"IF(ED4=\"\",\"\",IF(COUNTIF(ED4:ED7,ED4)=1,ED4,ED4+RANK(EE4,EE4:EE7,0)-1))","v":""},{"$f":"IF(OR(EF4=\"\",COUNTIF(EF4:EF7,EF4)=1),\"\",$BW4)","v":""},{"$f":"IF(ED4=\"\",\"\",IF(COUNTIF(EF4:EF7,EF4)=1,EF4,EF4+RANK(EG4,EG4:EG7,0)-1))","v":""},{"$f":"IF(OR(EH4=\"\",COUNTIF(EH4:EH7,EH4)=1),\"\",$BT4)","v":""},{"$f":"IF(ED4=\"\",\"\",IF(COUNTIF(EH4:EH7,EH4)=1,EH4,EH4+RANK(EI4,EI4:EI7,0)-1))","v":""},{"$f":"IF(DS4>0,CF2+CZ2+RANK(EJ4,EJ4:EJ7,1),)","v":0},null,{"$f":"IF(CB4=4,BS4,)","v":0},{"$f":"(SUMIF($AE$4:$AE$54,$BS4,$BK$4:$BK$54)+SUMIF($AG$4:$AG$54,$BS4,$BL$4:$BL$54))","v":0},{"$f":"(SUMIF($AE$4:$AE$54,$BS4,$BM$4:$BM$54)+SUMIF($AG$4:$AG$54,$BS4,$BN$4:$BN$54))","v":0},{"$f":"(SUMIF($AE$4:$AE$54,$BS4,$BO$4:$BO$54)+SUMIF($AG$4:$AG$54,$BS4,$BP$4:$BP$54))","v":0},{"$f":"IFERROR(EN4*3+EO4*1,0)","v":0},{"$f":"$CA4","v":"A"},{"$f":"IF(EM4>0,RANK(EQ4,EQ4:EQ7)+CF2+CZ2+DT2,)","v":0},{"$f":"IF(AND(EM4>0,COUNTIF(ES4:ES7,ES4)>1),SUMIFS($AH$4:$AH$54,$AE$4:$AE$54,$BS4,$K$4:$K$54,4)+SUMIFS($AJ$4:$AJ$54,$AG$4:$AG$54,$BS4,$K$4:$K$54,4)-SUMIFS($AJ$4:$AJ$54,$AE$4:$AE$54,$BS4,$K$4:$K$54,4)-SUMIFS($AH$4:$AH$54,$AG$4:$AG$54,$BS4,$K$4:$K$54,4),)","v":0},{"$f":"IF(AND(EM4>0,COUNTIF($ES$4:$ES$7,ES4)>1),ES4+RANK(ET4,$ET$4:$ET$7)-1,ES4)","v":0},{"$f":"IF(AND(EM4>0,COUNTIF(EU4:EU7,EU4)>1),SUMIFS($AH$4:$AH$54,$AE$4:$AE$54,$BS4,$K$4:$K$54,4)+SUMIFS($AJ$4:$AJ$54,$AG$4:$AG$54,$BS4,$K$4:$K$54,4),)","v":0},{"$f":"IF(AND(EM4>0,COUNTIF(EU4:EU7,EU4)>1),EU4+RANK(EV4,EV4:EV7)-1,EU4)","v":0},{"$f":"IF(EW4=0,\"\",EW4)","v":""},{"$f":"IF(OR(EX4=\"\",COUNTIF(EX4:EX7,EX4)=1),\"\",$BY4)","v":""},{"$f":"IF(EX4=\"\",\"\",IF(COUNTIF(EX4:EX7,EX4)=1,EX4,EX4+RANK(EY4,EY4:EY7,0)-1))","v":""},{"$f":"IF(OR(EZ4=\"\",COUNTIF(EZ4:EZ7,EZ4)=1),\"\",$BW4)","v":""},{"$f":"IF(EX4=\"\",\"\",IF(COUNTIF(EZ4:EZ7,EZ4)=1,EZ4,EZ4+RANK(FA4,FA4:FA7,0)-1))","v":""},{"$f":"IF(OR(FB4=\"\",COUNTIF(FB4:FB7,FB4)=1),\"\",$BT4)","v":""},{"$f":"IF(EX4=\"\",\"\",IF(COUNTIF(FB4:FB7,FB4)=1,FB4,FB4+RANK(FC4,FC4:FC7,0)-1))","v":""},{"$f":"IF(EM4>0,CF2+CZ2+DT2+RANK(FD4,FD4:FD7,1),)","v":0},null,{"$f":"IFERROR(VLOOKUP(FI4,CE3:CW7,19,FALSE),IFERROR(VLOOKUP(FI4,CY3:DQ7,19,FALSE),IFERROR(VLOOKUP(FI4,DS3:EK7,19,FALSE),VLOOKUP(FI4,EM3:FE7,19,FALSE))))","v":1},{"$f":"RANK(FG4,FG4:FG7,1)+COUNTIF(FG4:FG4,FG4)-1","v":1},{"$f":"BS4","v":"Italien"},null,"A",{"$f":"N6","v":"Turkiet"},{"$f":"RANK($FN4,$FN$4:$FN$9,1)+COUNTIF($FN$4:$FN4,$FN4)-1","v":1},{"$f":"FQ4+FP4+FO4","v":1},{"$f":"SUMPRODUCT(($FR$4:$FR$9=FR4)*($FS$4:$FS$9=FS4)*($FT$4:$FT$9>FT4))","v":0},{"$f":"SUMPRODUCT(($FR$4:$FR$9=FR4)*($FS$4:$FS$9>FS4))","v":0},{"$f":"RANK(FR4,$FR$4:$FR$9)","v":1},{"$f":"U6","v":3},{"$f":"T6","v":0},{"$f":"R6","v":3},"A",{"$f":"IF(FM4<5,FU4,)","v":"A"},null,3,"ABCE","A","B","C","E",{"$f":"VLOOKUP(\"A\",$FK$3:$FL$9,2,FALSE)","v":"Turkiet"},{"$f":"VLOOKUP(\"E\",$FK$3:$FL$9,2,FALSE)","v":"Spanien"},{"$f":"VLOOKUP(\"B\",$FK$3:$FL$9,2,FALSE)","v":"Finland"},{"$f":"VLOOKUP(\"C\",$FK$3:$FL$9,2,FALSE)","v":"Nord Makedonien"},{"$f":"IFERROR(IF(AND(VLOOKUP(FZ4,$FV$4:$FV$9,1,FALSE)=FZ4,VLOOKUP(GA4,$FV$4:$FV$9,1,FALSE)=GA4,VLOOKUP(GB4,$FV$4:$FV$9,1,FALSE)=GB4,VLOOKUP(GC4,$FV$4:$FV$9,1,FALSE)=GC4),FX4,\"\"),\"\")","v":""},1,null,"Mitt tips",{"$f":"'Mitt tips'!Z19","v":0}]
[null,null,"2021-06-12","Wales","-","Schweiz",1,"-",1,{"$f":"IF(OR(ISBLANK(G5),ISBLANK(I5)),\"\",IF(G5>I5,1,IF(G5<I5,2,\"X\")))","v":"X"},{"$f":"IF(VLOOKUP(D5,BS3:CB7,10,FALSE)=VLOOKUP(F5,BS3:CB7,10,FALSE),VLOOKUP(D5,BS3:CB7,10,FALSE),\"-\")","v":1},null,2,{"$f":"VLOOKUP(M5,FH4:FI7,2,FALSE)","v":"Schweiz"},{"$f":"VLOOKUP(N5,$BS$4:$BZ$7,2,FALSE)","v":0},{"$f":"VLOOKUP($N$5,$BS$4:$BZ$7,3,FALSE)","v":3},{"$f":"VLOOKUP($N$5,$BS$4:$BZ$7,4,FALSE)","v":0},{"$f":"VLOOKUP($N$5,$BS$4:$BZ$7,5,FALSE)","v":3},{"$f":"VLOOKUP($N$5,$BS$4:$BZ$7,6,FALSE)","v":3},{"$f":"VLOOKUP($N$5,$BS$4:$BZ$7,7,FALSE)","v":0},{"$f":"VLOOKUP($N$5,$BS$4:$BZ$7,8,FALSE)","v":3},null,"Skyttekung",null,null,null,null,null,null,{"$f":"C5","v":"2021-06-12"},"Wales","-","Schweiz",{"$f":"IF(G5=\"\",\"\",G5)","v":1},"-",1,"X",null,{"$f":"IF(AH5>AJ5,1,0)","v":0},{"$f":"IF(AJ5>AH5,1,0)","v":0},{"$f":"IF(AND(AH5=AJ5,AH5<>\"\"),1,0)","v":1},{"$f":"IF(AND(AH5=AJ5,AH5<>\"\"),1,0)","v":1},{"$f":"IF(AH5<AJ5,1,0)","v":0},{"$f":"IF(AJ5<AH5,1,)","v":0},0,0,1,1,0,0,0,0,0,0,0,0,0,0,0,0,0,0,0,0,0,0,0,0,null,null,"Schweiz",{"$f":"(SUMIF(AE$4:AE$54,BS5,AM$4:AM$54)+SUMIF(AG$4:AG$54,BS5,AN$4:AN$54))","v":0},{"$f":"(SUMIF(AE$4:AE$54,BS5,AO$4:AO$54)+SUMIF(AG$4:AG$54,BS5,AP$4:AP$54))","v":3},{"$f":"(SUMIF(AE$4:AE$54,BS5,AQ$4:AQ$54)+SUMIF(AG$4:AG$54,BS5,AR$4:AR$54))","v":0},{"$f":"SUMIF($AE$4:$AE$54,BS5,$AH$4:$AH$54)+SUMIF($AG$4:$AG$54,BS5,$AJ$4:$AJ$54)","v":3},{"$f":"SUMIF($AE$4:$AE$54,BS5,$AJ$4:$AJ$54)+SUMIF($AG$4:$AG$54,BS5,$AH$4:$AH$54)","v":3},{"$f":"BW5-BX5","v":0},{"$f":"IFERROR(BT5*3+BU5*1,0)","v":3},"A",{"$f":"RANK(BZ5,BZ4:BZ7)","v":1},{"$f":"SUMPRODUCT((BZ4:BZ7=BZ5)*(BY4:BY7>BY5))","v":0},null,{"$f":"IF(CB5=1,BS5,)","v":"Schweiz"},{"$f":"(SUMIF($AE$4:$AE$54,$BS5,$AS$4:$AS$54)+SUMIF($AG$4:$AG$54,$BS5,$AT$4:$AT$54))","v":0},{"$f":"(SUMIF($AE$4:$AE$54,$BS5,$AU$4:$AU$54)+SUMIF($AG$4:$AG$54,$BS5,$AV$4:$AV$54))","v":3},{"$f":"(SUMIF($AE$4:$AE$54,$BS5,$AW$4:$AW$54)+SUMIF($AG$4:$AG$54,$BS5,$AX$4:$AX$54))","v":0},{"$f":"IFERROR(CF5*3+CG5*1,0)","v":3},{"$f":"CA5","v":"A"},{"$f":"IF(CE5>0,RANK(CI5,CI4:CI7),)","v":1},{"$f":"IF(AND(CE5>0,COUNTIF(CK4:CK7,CK5)>1),SUMIFS($AH$4:$AH$54,$AE$4:$AE$54,BS5,$K$4:$K$54,1)+SUMIFS($AJ$4:$AJ$54,$AG$4:$AG$54,BS5,$K$4:$K$54,1)-SUMIFS($AJ$4:$AJ$54,$AE$4:$AE$54,BS5,$K$4:$K$54,1)-SUMIFS($AH$4:$AH$54,$AG$4:$AG$54,BS5,$K$4:$K$54,1),)","v":0},{"$f":"IF(AND(CE5>0,COUNTIF(CK4:CK7,CK5)>1),CK5+RANK(CL5,CL4:CL7)-1,CK5)","v":1},{"$f":"IF(AND(CE5>0,COUNTIF(CM4:CM7,CM5)>1),SUMIFS($AH$4:$AH$54,$AE$4:$AE$54,BS5,$K$4:$K$54,1)+SUMIFS($AJ$4:$AJ$54,$AG$4:$AG$54,BS5,$K$4:$K$54,1),)","v":3},{"$f":"IF(AND(CE5>0,COUNTIF(CM4:CM7,CM5)>1),CM5+RANK(CN5,CN4:CN7)-1,CM5)","v":1},{"$f":"IF(CO5=0,\"\",CO5)","v":1},{"$f":"IF(OR(CP5=\"\",COUNTIF(CP4:CP7,CP5)=1),\"\",$BY5)","v":0},{"$f":"IF(CP5=\"\",\"\",IF(COUNTIF(CP4:CP7,CP5)=1,CP5,CP5+RANK(CQ5,CQ4:CQ7,0)-1))","v":1},{"$f":"IF(OR(CR5=\"\",COUNTIF(CR4:CR7,CR5)=1),\"\",$BW5)","v":3},{"$f":"IF(CP5=\"\",\"\",IF(COUNTIF(CR4:CR7,CR5)=1,CR5,CR5+RANK(CS5,CS4:CS7,0)-1))","v":1},{"$f":"IF(OR(CT5=\"\",COUNTIF(CT4:CT7,CT5)=1),\"\",$BT5)","v":0},{"$f":"IF(CP5=\"\",\"\",IF(COUNTIF(CT4:CT7,CT5)=1,CT5,CT5+RANK(CU5,CU4:CU7,0)-1))","v":1},{"$f":"IF(CE5>0,BL2+RANK(CV5,CV4:CV7,1),)","v":1},null,{"$f":"IF(CB5=2,BS5,)","v":0},{"$f":"(SUMIF($AE$4:$AE$54,$BS5,$AY$4:$AY$54)+SUMIF($AG$4:$AG$54,$BS5,$AZ$4:$AZ$54))","v":0},{"$f":"(SUMIF($AE$4:$AE$54,$BS5,$BA$4:$BA$54)+SUMIF($AG$4:$AG$54,$BS5,$BB$4:$BB$54))","v":0},{"$f":"(SUMIF($AE$4:$AE$54,$BS5,$BC$4:$BC$54)+SUMIF($AG$4:$AG$54,$BS5,$BD$4:$BD$54))","v":0},{"$f":"IFERROR(CZ5*3+DA5*1,0)","v":0},{"$f":"$CA5","v":"A"},{"$f":"IF(CY5>0,RANK(DC5,DC4:DC7)+CF2,)","v":0},{"$f":"IF(AND(CY5>0,COUNTIF(DE4:DE7,DE5)>1),SUMIFS($AH$4:$AH$54,$AE$4:$AE$54,BS5,$K$4:$K$54,2)+SUMIFS($AJ$4:$AJ$54,$AG$4:$AG$54,BS5,$K$4:$K$54,2)-SUMIFS($AJ$4:$AJ$54,$AE$4:$AE$54,BS5,$K$4:$K$54,2)-SUMIFS($AH$4:$AH$54,$AG$4:$AG$54,BS5,$K$4:$K$54,2),)","v":0},{"$f":"IF(AND(CY5>0,COUNTIF(DE4:DE7,DE5)>1),DE5+RANK(DF5,DF4:DF7)-1,DE5)","v":0},{"$f":"IF(AND(CY5>0,COUNTIF(DG4:DG7,DG5)>1),SUMIFS($AH$4:$AH$54,$AE$4:$AE$54,BS5,$K$4:$K$54,2)+SUMIFS($AJ$4:$AJ$54,$AG$4:$AG$54,BS5,$K$4:$K$54,2),)","v":0},{"$f":"IF(AND(CY5>0,COUNTIF(DG4:DG7,DG5)>1),DG5+RANK(DH5,DH4:DH7)-1,DG5)","v":0},{"$f":"IF(DI5=0,\"\",DI5)","v":""},{"$f":"IF(OR(DJ5=\"\",COUNTIF(DJ4:DJ7,DJ5)=1),\"\",$BY5)","v":""},{"$f":"IF(DJ5=\"\",\"\",IF(COUNTIF(DJ4:DJ7,DJ5)=1,DJ5,DJ5+RANK(DK5,DK4:DK7,0)-1))","v":""},{"$f":"IF(OR(DL5=\"\",COUNTIF(DL4:DL7,DL5)=1),\"\",$BW5)","v":""},{"$f":"IF(DJ5=\"\",\"\",IF(COUNTIF(DL4:DL7,DL5)=1,DL5,DL5+RANK(DM5,DM4:DM7,0)-1))","v":""},{"$f":"IF(OR(DN5=\"\",COUNTIF(DN4:DN7,DN5)=1),\"\",$BT5)","v":""},{"$f":"IF(DJ5=\"\",\"\",IF(COUNTIF(DN4:DN7,DN5)=1,DN5,DN5+RANK(DO5,DO4:DO7,0)-1))","v":""},{"$f":"IF(CY5>0,CF2+RANK(DP5,DP4:DP7,1),)","v":0},null,{"$f":"IF(CB5=3,BS5,)","v":0},{"$f":"(SUMIF(AE$4:AE$54,BS5,BE$4:BE$54)+SUMIF(AG$4:AG$54,BS5,BF$4:BF$54))","v":0},{"$f":"(SUMIF(AE$4:AE$54,BS5,BG$4:BG$54)+SUMIF(AG$4:AG$54,BS5,BH$4:BH$54))","v":0},{"$f":"(SUMIF(AE$4:AE$54,BS5,BI$4:BI$54)+SUMIF(AG$4:AG$54,BS5,BJ$4:BJ$54))","v":0},{"$f":"IFERROR(DT5*3+DU5*1,0)","v":0},{"$f":"CA5","v":"A"},{"$f":"IF(DS5>0,RANK(DW5,DW4:DW7)+CF2+CZ2,)","v":0},{"$f":"IF(AND(DS5>0,COUNTIF(DY4:DY7,DY5)>1),SUMIFS($AH$4:$AH$54,$AE$4:$AE$54,BS5,$K$4:$K$54,3)+SUMIFS($AJ$4:$AJ$54,$AG$4:$AG$54,BS5,$K$4:$K$54,3)-SUMIFS($AJ$4:$AJ$54,$AE$4:$AE$54,BS5,$K$4:$K$54,3)-SUMIFS($AH$4:$AH$54,$AG$4:$AG$54,BS5,$K$4:$K$54,3),)","v":0},{"$f":"IF(AND(DS5>0,COUNTIF(DY4:DY7,DY5)>1),DY5+RANK(DZ5,DZ4:DZ7)-1,DY5)","v":0},{"$f":"IF(AND(DS5>0,COUNTIF(EA4:EA7,EA5)>1),SUMIFS($AH$4:$AH$54,$AE$4:$AE$54,BS5,$K$4:$K$54,3)+SUMIFS($AJ$4:$AJ$54,$AG$4:$AG$54,BS5,$K$4:$K$54,3),)","v":0},{"$f":"IF(AND(DS5>0,COUNTIF(EA4:EA7,EA5)>1),EA5+RANK(EB5,EB4:EB7)-1,EA5)","v":0},{"$f":"IF(EC5=0,\"\",EC5)","v":""},{"$f":"IF(OR(ED5=\"\",COUNTIF(ED4:ED7,ED5)=1),\"\",$BY5)","v":""},{"$f":"IF(ED5=\"\",\"\",IF(COUNTIF(ED4:ED7,ED5)=1,ED5,ED5+RANK(EE5,EE4:EE7,0)-1))","v":""},{"$f":"IF(OR(EF5=\"\",COUNTIF(EF4:EF7,EF5)=1),\"\",$BW5)","v":""},{"$f":"IF(ED5=\"\",\"\",IF(COUNTIF(EF4:EF7,EF5)=1,EF5,EF5+RANK(EG5,EG4:EG7,0)-1))","v":""},{"$f":"IF(OR(EH5=\"\",COUNTIF(EH4:EH7,EH5)=1),\"\",$BT5)","v":""},{"$f":"IF(ED5=\"\",\"\",IF(COUNTIF(EH4:EH7,EH5)=1,EH5,EH5+RANK(EI5,EI4:EI7,0)-1))","v":""},{"$f":"IF(DS5>0,CF2+CZ2+RANK(EJ5,EJ4:EJ7,1),)","v":0},null,{"$f":"IF(CB5=4,BS5,)","v":0},{"$f":"(SUMIF($AE$4:$AE$54,$BS5,$BK$4:$BK$54)+SUMIF($AG$4:$AG$54,$BS5,$BL$4:$BL$54))","v":0},{"$f":"(SUMIF($AE$4:$AE$54,$BS5,$BM$4:$BM$54)+SUMIF($AG$4:$AG$54,$BS5,$BN$4:$BN$54))","v":0},{"$f":"(SUMIF($AE$4:$AE$54,$BS5,$BO$4:$BO$54)+SUMIF($AG$4:$AG$54,$BS5,$BP$4:$BP$54))","v":0},{"$f":"IFERROR(EN5*3+EO5*1,0)","v":0},{"$f":"$CA5","v":"A"},{"$f":"IF(EM5>0,RANK(EQ5,EQ4:EQ7)+CF2+CZ2+DT2,)","v":0},{"$f":"IF(AND(EM5>0,COUNTIF(ES4:ES7,ES5)>1),SUMIFS($AH$4:$AH$54,$AE$4:$AE$54,BS5,$K$4:$K$54,4)+SUMIFS($AJ$4:$AJ$54,$AG$4:$AG$54,BS5,$K$4:$K$54,4)-SUMIFS($AJ$4:$AJ$54,$AE$4:$AE$54,BS5,$K$4:$K$54,4)-SUMIFS($AH$4:$AH$54,$AG$4:$AG$54,BS5,$K$4:$K$54,4),)","v":0},{"$f":"IF(AND(EM5>0,COUNTIF($ES$4:$ES$7,ES5)>1),ES5+RANK(ET5,$ET$4:$ET$7)-1,ES5)","v":0},{"$f":"IF(AND(EM5>0,COUNTIF(EU4:EU7,EU5)>1),SUMIFS($AH$4:$AH$54,$AE$4:$AE$54,BS5,$K$4:$K$54,4)+SUMIFS($AJ$4:$AJ$54,$AG$4:$AG$54,BS5,$K$4:$K$54,4),)","v":0},{"$f":"IF(AND(EM5>0,COUNTIF(EU4:EU7,EU5)>1),EU5+RANK(EV5,EV4:EV7)-1,EU5)","v":0},{"$f":"IF(EW5=0,\"\",EW5)","v":""},{"$f":"IF(OR(EX5=\"\",COUNTIF(EX4:EX7,EX5)=1),\"\",$BY5)","v":""},{"$f":"IF(EX5=\"\",\"\",IF(COUNTIF(EX4:EX7,EX5)=1,EX5,EX5+RANK(EY5,EY4:EY7,0)-1))","v":""},{"$f":"IF(OR(EZ5=\"\",COUNTIF(EZ4:EZ7,EZ5)=1),\"\",$BW5)","v":""},{"$f":"IF(EX5=\"\",\"\",IF(COUNTIF(EZ4:EZ7,EZ5)=1,EZ5,EZ5+RANK(FA5,FA4:FA7,0)-1))","v":""},{"$f":"IF(OR(FB5=\"\",COUNTIF(FB4:FB7,FB5)=1),\"\",$BT5)","v":""},{"$f":"IF(EX5=\"\",\"\",IF(COUNTIF(FB4:FB7,FB5)=1,FB5,FB5+RANK(FC5,FC4:FC7,0)-1))","v":""},{"$f":"IF(EM5>0,CF2+CZ2+DT2+RANK(FD5,FD4:FD7,1),)","v":0},null,{"$f":"IFERROR(VLOOKUP(FI5,CE3:CW7,19,FALSE),IFERROR(VLOOKUP(FI5,CY3:DQ7,19,FALSE),IFERROR(VLOOKUP(FI5,DS3:EK7,19,FALSE),VLOOKUP(FI5,EM3:FE7,19,FALSE))))","v":1},{"$f":"RANK(FG5,FG4:FG7,1)+COUNTIF(FG4:FG5,FG5)-1","v":2},{"$f":"BS5","v":"Schweiz"},null,"B",{"$f":"N15","v":"Finland"},{"$f":"RANK($FN5,$FN$4:$FN$9,1)+COUNTIF($FN$4:$FN5,$FN5)-1","v":2},{"$f":"FQ5+FP5+FO5","v":2},{"$f":"SUMPRODUCT(($FR$4:$FR$9=FR5)*($FS$4:$FS$9=FS5)*($FT$4:$FT$9>FT5))","v":0},{"$f":"SUMPRODUCT(($FR$4:$FR$9=FR5)*($FS$4:$FS$9>FS5))","v":0},{"$f":"RANK(FR5,$FR$4:$FR$9)","v":2},{"$f":"U15","v":0},{"$f":"T15","v":0},{"$f":"R15","v":0},"B",{"$f":"IF(FM5<5,FU5,)","v":"B"},null,4,"ABCF","A","B","C","F",{"$f":"VLOOKUP(\"A\",$FK$3:$FL$9,2,FALSE)","v":"Turkiet"},{"$f":"VLOOKUP(\"F\",$FK$3:$FL$9,2,FALSE)","v":"Ungern"},{"$f":"VLOOKUP(\"B\",$FK$3:$FL$9,2,FALSE)","v":"Finland"},{"$f":"VLOOKUP(\"C\",$FK$3:$FL$9,2,FALSE)","v":"Nord Makedonien"},"",2]
[null,null,"2021-06-16","Turkiet","-","Wales",1,"-",1,"X",{"$f":"IF(VLOOKUP(D6,BS3:CB7,10,FALSE)=VLOOKUP(F6,BS3:CB7,10,FALSE),VLOOKUP(D6,BS3:CB7,10,FALSE),\"-\")","v":1},null,3,{"$f":"VLOOKUP(M6,FH4:FI7,2,FALSE)","v":"Turkiet"},{"$f":"VLOOKUP(N6,$BS$4:$BZ$7,2,FALSE)","v":0},{"$f":"VLOOKUP($N$6,$BS$4:$BZ$7,3,FALSE)","v":3},{"$f":"VLOOKUP($N$6,$BS$4:$BZ$7,4,FALSE)","v":0},{"$f":"VLOOKUP($N$6,$BS$4:$BZ$7,5,FALSE)","v":3},{"$f":"VLOOKUP($N$6,$BS$4:$BZ$7,6,FALSE)","v":3},{"$f":"VLOOKUP($N$6,$BS$4:$BZ$7,7,FALSE)","v":0},{"$f":"VLOOKUP($N$6,$BS$4:$BZ$7,8,FALSE)","v":3},null,"Bonusfråga 1",null,null,null,null,null,null,"2021-06-16","Turkiet","-","Wales",1,"-",1,"X",null,0,0,1,1,0,0,0,0,1,1,0,0,0,0,0,0,0,0,0,0,0,0,0,0,0,0,0,0,0,0,null,null,"Turkiet",{"$f":"(SUMIF(AE$4:AE$54,BS6,AM$4:AM$54)+SUMIF(AG$4:AG$54,BS6,AN$4:AN$54))","v":0},{"$f":"(SUMIF(AE$4:AE$54,BS6,AO$4:AO$54)+SUMIF(AG$4:AG$54,BS6,AP$4:AP$54))","v":3},{"$f":"(SUMIF(AE$4:AE$54,BS6,AQ$4:AQ$54)+SUMIF(AG$4:AG$54,BS6,AR$4:AR$54))","v":0},3,3,0,3,"A",{"$f":"RANK(BZ6,BZ4:BZ7)","v":1},{"$f":"SUMPRODUCT((BZ4:BZ7=BZ6)*(BY4:BY7>BY6))","v":0},null,{"$f":"IF(CB6=1,BS6,)","v":"Turkiet"},0,3,0,3,"A",{"$f":"IF(CE6>0,RANK(CI6,CI4:CI7),)","v":1},{"$f":"IF(AND(CE6>0,COUNTIF(CK4:CK7,CK6)>1),SUMIFS($AH$4:$AH$54,$AE$4:$AE$54,BS6,$K$4:$K$54,1)+SUMIFS($AJ$4:$AJ$54,$AG$4:$AG$54,BS6,$K$4:$K$54,1)-SUMIFS($AJ$4:$AJ$54,$AE$4:$AE$54,BS6,$K$4:$K$54,1)-SUMIFS($AH$4:$AH$54,$AG$4:$AG$54,BS6,$K$4:$K$54,1),)","v":0},{"$f":"IF(AND(CE6>0,COUNTIF(CK4:CK7,CK6)>1),CK6+RANK(CL6,CL4:CL7)-1,CK6)","v":1},{"$f":"IF(AND(CE6>0,COUNTIF(CM4:CM7,CM6)>1),SUMIFS($AH$4:$AH$54,$AE$4:$AE$54,BS6,$K$4:$K$54,1)+SUMIFS($AJ$4:$AJ$54,$AG$4:$AG$54,BS6,$K$4:$K$54,1),)","v":3},{"$f":"IF(AND(CE6>0,COUNTIF(CM4:CM7,CM6)>1),CM6+RANK(CN6,CN4:CN7)-1,CM6)","v":1},1,{"$f":"IF(OR(CP6=\"\",COUNTIF(CP4:CP7,CP6)=1),\"\",$BY6)","v":0},{"$f":"IF(CP6=\"\",\"\",IF(COUNTIF(CP4:CP7,CP6)=1,CP6,CP6+RANK(CQ6,CQ4:CQ7,0)-1))","v":1},{"$f":"IF(OR(CR6=\"\",COUNTIF(CR4:CR7,CR6)=1),\"\",$BW6)","v":3},{"$f":"IF(CP6=\"\",\"\",IF(COUNTIF(CR4:CR7,CR6)=1,CR6,CR6+RANK(CS6,CS4:CS7,0)-1))","v":1},{"$f":"IF(OR(CT6=\"\",COUNTIF(CT4:CT7,CT6)=1),\"\",$BT6)","v":0},{"$f":"IF(CP6=\"\",\"\",IF(COUNTIF(CT4:CT7,CT6)=1,CT6,CT6+RANK(CU6,CU4:CU7,0)-1))","v":1},{"$f":"IF(CE6>0,BL2+RANK(CV6,CV4:CV7,1),)","v":1},null,{"$f":"IF(CB6=2,BS6,)","v":0},0,0,0,0,"A",{"$f":"IF(CY6>0,RANK(DC6,DC4:DC7)+CF2,)","v":0},{"$f":"IF(AND(CY6>0,COUNTIF(DE4:DE7,DE6)>1),SUMIFS($AH$4:$AH$54,$AE$4:$AE$54,BS6,$K$4:$K$54,2)+SUMIFS($AJ$4:$AJ$54,$AG$4:$AG$54,BS6,$K$4:$K$54,2)-SUMIFS($AJ$4:$AJ$54,$AE$4:$AE$54,BS6,$K$4:$K$54,2)-SUMIFS($AH$4:$AH$54,$AG$4:$AG$54,BS6,$K$4:$K$54,2),)","v":0},{"$f":"IF(AND(CY6>0,COUNTIF(DE4:DE7,DE6)>1),DE6+RANK(DF6,DF4:DF7)-1,DE6)","v":0},{"$f":"IF(AND(CY6>0,COUNTIF(DG4:DG7,DG6)>1),SUMIFS($AH$4:$AH$54,$AE$4:$AE$54,BS6,$K$4:$K$54,2)+SUMIFS($AJ$4:$AJ$54,$AG$4:$AG$54,BS6,$K$4:$K$54,2),)","v":0},{"$f":"IF(AND(CY6>0,COUNTIF(DG4:DG7,DG6)>1),DG6+RANK(DH6,DH4:DH7)-1,DG6)","v":0},"",{"$f":"IF(OR(DJ6=\"\",COUNTIF(DJ4:DJ7,DJ6)=1),\"\",$BY6)","v":""},{"$f":"IF(DJ6=\"\",\"\",IF(COUNTIF(DJ4:DJ7,DJ6)=1,DJ6,DJ6+RANK(DK6,DK4:DK7,0)-1))","v":""},{"$f":"IF(OR(DL6=\"\",COUNTIF(DL4:DL7,DL6)=1),\"\",$BW6)","v":""},{"$f":"IF(DJ6=\"\",\"\",IF(COUNTIF(DL4:DL7,DL6)=1,DL6,DL6+RANK(DM6,DM4:DM7,0)-1))","v":""},{"$f":"IF(OR(DN6=\"\",COUNTIF(DN4:DN7,DN6)=1),\"\",$BT6)","v":""},{"$f":"IF(DJ6=\"\",\"\",IF(COUNTIF(DN4:DN7,DN6)=1,DN6,DN6+RANK(DO6,DO4:DO7,0)-1))","v":""},{"$f":"IF(CY6>0,CF2+RANK(DP6,DP4:DP7,1),)","v":0},null,{"$f":"IF(CB6=3,BS6,)","v":0},{"$f":"(SUMIF(AE$4:AE$54,BS6,BE$4:BE$54)+SUMIF(AG$4:AG$54,BS6,BF$4:BF$54))","v":0},{"$f":"(SUMIF(AE$4:AE$54,BS6,BG$4:BG$54)+SUMIF(AG$4:AG$54,BS6,BH$4:BH$54))","v":0},{"$f":"(SUMIF(AE$4:AE$54,BS6,BI$4:BI$54)+SUMIF(AG$4:AG$54,BS6,BJ$4:BJ$54))","v":0},0,{"$f":"CA6","v":"A"},{"$f":"IF(DS6>0,RANK(DW6,DW4:DW7)+CF2+CZ2,)","v":0},{"$f":"IF(AND(DS6>0,COUNTIF(DY4:DY7,DY6)>1),SUMIFS($AH$4:$AH$54,$AE$4:$AE$54,BS6,$K$4:$K$54,3)+SUMIFS($AJ$4:$AJ$54,$AG$4:$AG$54,BS6,$K$4:$K$54,3)-SUMIFS($AJ$4:$AJ$54,$AE$4:$AE$54,BS6,$K$4:$K$54,3)-SUMIFS($AH$4:$AH$54,$AG$4:$AG$54,BS6,$K$4:$K$54,3),)","v":0},{"$f":"IF(AND(DS6>0,COUNTIF(DY4:DY7,DY6)>1),DY6+RANK(DZ6,DZ4:DZ7)-1,DY6)","v":0},{"$f":"IF(AND(DS6>0,COUNTIF(EA4:EA7,EA6)>1),SUMIFS($AH$4:$AH$54,$AE$4:$AE$54,BS6,$K$4:$K$54,3)+SUMIFS($AJ$4:$AJ$54,$AG$4:$AG$54,BS6,$K$4:$K$54,3),)","v":0},{"$f":"IF(AND(DS6>0,COUNTIF(EA4:EA7,EA6)>1),EA6+RANK(EB6,EB4:EB7)-1,EA6)","v":0},"",{"$f":"IF(OR(ED6=\"\",COUNTIF(ED4:ED7,ED6)=1),\"\",$BY6)","v":""},{"$f":"IF(ED6=\"\",\"\",IF(COUNTIF(ED4:ED7,ED6)=1,ED6,ED6+RANK(EE6,EE4:EE7,0)-1))","v":""},{"$f":"IF(OR(EF6=\"\",COUNTIF(EF4:EF7,EF6)=1),\"\",$BW6)","v":""},{"$f":"IF(ED6=\"\",\"\",IF(COUNTIF(EF4:EF7,EF6)=1,EF6,EF6+RANK(EG6,EG4:EG7,0)-1))","v":""},{"$f":"IF(OR(EH6=\"\",COUNTIF(EH4:EH7,EH6)=1),\"\",$BT6)","v":""},{"$f":"IF(ED6=\"\",\"\",IF(COUNTIF(EH4:EH7,EH6)=1,EH6,EH6+RANK(EI6,EI4:EI7,0)-1))","v":""},{"$f":"IF(DS6>0,CF2+CZ2+RANK(EJ6,EJ4:EJ7,1),)","v":0},null,{"$f":"IF(CB6=4,BS6,)","v":0},0,0,0,0,"A",{"$f":"IF(EM6>0,RANK(EQ6,EQ4:EQ7)+CF2+CZ2+DT2,)","v":0},{"$f":"IF(AND(EM6>0,COUNTIF(ES4:ES7,ES6)>1),SUMIFS($AH$4:$AH$54,$AE$4:$AE$54,BS6,$K$4:$K$54,4)+SUMIFS($AJ$4:$AJ$54,$AG$4:$AG$54,BS6,$K$4:$K$54,4)-SUMIFS($AJ$4:$AJ$54,$AE$4:$AE$54,BS6,$K$4:$K$54,4)-SUMIFS($AH$4:$AH$54,$AG$4:$AG$54,BS6,$K$4:$K$54,4),)","v":0},0,{"$f":"IF(AND(EM6>0,COUNTIF(EU4:EU7,EU6)>1),SUMIFS($AH$4:$AH$54,$AE$4:$AE$54,BS6,$K$4:$K$54,4)+SUMIFS($AJ$4:$AJ$54,$AG$4:$AG$54,BS6,$K$4:$K$54,4),)","v":0},{"$f":"IF(AND(EM6>0,COUNTIF(EU4:EU7,EU6)>1),EU6+RANK(EV6,EV4:EV7)-1,EU6)","v":0},"",{"$f":"IF(OR(EX6=\"\",COUNTIF(EX4:EX7,EX6)=1),\"\",$BY6)","v":""},{"$f":"IF(EX6=\"\",\"\",IF(COUNTIF(EX4:EX7,EX6)=1,EX6,EX6+RANK(EY6,EY4:EY7,0)-1))","v":""},{"$f":"IF(OR(EZ6=\"\",COUNTIF(EZ4:EZ7,EZ6)=1),\"\",$BW6)","v":""},{"$f":"IF(EX6=\"\",\"\",IF(COUNTIF(EZ4:EZ7,EZ6)=1,EZ6,EZ6+RANK(FA6,FA4:FA7,0)-1))","v":""},{"$f":"IF(OR(FB6=\"\",COUNTIF(FB4:FB7,FB6)=1),\"\",$BT6)","v":""},{"$f":"IF(EX6=\"\",\"\",IF(COUNTIF(FB4:FB7,FB6)=1,FB6,FB6+RANK(FC6,FC4:FC7,0)-1))","v":""},{"$f":"IF(EM6>0,CF2+CZ2+DT2+RANK(FD6,FD4:FD7,1),)","v":0},null,{"$f":"IFERROR(VLOOKUP(FI6,CE3:CW7,19,FALSE),IFERROR(VLOOKUP(FI6,CY3:DQ7,19,FALSE),IFERROR(VLOOKUP(FI6,DS3:EK7,19,FALSE),VLOOKUP(FI6,EM3:FE7,19,FALSE))))","v":1},{"$f":"RANK(FG6,FG4:FG7,1)+COUNTIF(FG4:FG6,FG6)-1","v":3},{"$f":"BS6","v":"Turkiet"},null,"C",{"$f":"N24","v":"Nord Makedonien"},{"$f":"RANK($FN6,$FN$4:$FN$9,1)+COUNTIF($FN$4:$FN6,$FN6)-1","v":3},2,0,0,2,{"$f":"U24","v":0},{"$f":"T24","v":0},{"$f":"R24","v":0},"C","C",null,5,"ABDE","A","B","D","E",{"$f":"VLOOKUP(\"D\",$FK$3:$FL$9,2,FALSE)","v":"England"},{"$f":"VLOOKUP(\"E\",$FK$3:$FL$9,2,FALSE)","v":"Spanien"},{"$f":"VLOOKUP(\"A\",$FK$3:$FL$9,2,FALSE)","v":"Turkiet"},{"$f":"VLOOKUP(\"B\",$FK$3:$FL$9,2,FALSE)","v":"Finland"},"",3]
[null,null,"2021-06-16","Italien","-","Schweiz",1,"-",1,"X",{"$f":"IF(VLOOKUP(D7,BS3:CB7,10,FALSE)=VLOOKUP(F7,BS3:CB7,10,FALSE),VLOOKUP(D7,BS3:CB7,10,FALSE),\"-\")","v":1},null,4,{"$f":"VLOOKUP(M7,FH4:FI7,2,FALSE)","v":"Wales"},{"$f":"VLOOKUP(N7,$BS$4:$BZ$7,2,FALSE)","v":0},{"$f":"VLOOKUP($N$7,$BS$4:$BZ$7,3,FALSE)","v":3},{"$f":"VLOOKUP($N$7,$BS$4:$BZ$7,4,FALSE)","v":0},{"$f":"VLOOKUP($N$7,$BS$4:$BZ$7,5,FALSE)","v":3},{"$f":"VLOOKUP($N$7,$BS$4:$BZ$7,6,FALSE)","v":3},{"$f":"VLOOKUP($N$7,$BS$4:$BZ$7,7,FALSE)","v":0},{"$f":"VLOOKUP($N$7,$BS$4:$BZ$7,8,FALSE)","v":3},null,"Bonusfråga 2",null,null,null,null,null,null,"2021-06-16","Italien","-","Schweiz",1,"-",1,"X",null,0,0,1,1,0,0,0,0,1,1,0,0,0,0,0,0,0,0,0,0,0,0,0,0,0,0,0,0,0,0,null,null,"Wales",{"$f":"(SUMIF(AE$4:AE$54,BS7,AM$4:AM$54)+SUMIF(AG$4:AG$54,BS7,AN$4:AN$54))","v":0},{"$f":"(SUMIF(AE$4:AE$54,BS7,AO$4:AO$54)+SUMIF(AG$4:AG$54,BS7,AP$4:AP$54))","v":3},{"$f":"(SUMIF(AE$4:AE$54,BS7,AQ$4:AQ$54)+SUMIF(AG$4:AG$54,BS7,AR$4:AR$54))","v":0},3,3,0,3,"A",{"$f":"RANK(BZ7,BZ4:BZ7)","v":1},{"$f":"SUMPRODUCT((BZ4:BZ7=BZ7)*(BY4:BY7>BY7))","v":0},null,{"$f":"IF(CB7=1,BS7,)","v":"Wales"},0,3,0,3,"A",{"$f":"IF(CE7>0,RANK(CI7,CI4:CI7),)","v":1},{"$f":"IF(AND(CE7>0,COUNTIF(CK4:CK7,CK7)>1),SUMIFS($AH$4:$AH$54,$AE$4:$AE$54,BS7,$K$4:$K$54,1)+SUMIFS($AJ$4:$AJ$54,$AG$4:$AG$54,BS7,$K$4:$K$54,1)-SUMIFS($AJ$4:$AJ$54,$AE$4:$AE$54,BS7,$K$4:$K$54,1)-SUMIFS($AH$4:$AH$54,$AG$4:$AG$54,BS7,$K$4:$K$54,1),)","v":0},{"$f":"IF(AND(CE7>0,COUNTIF(CK4:CK7,CK7)>1),CK7+RANK(CL7,CL4:CL7)-1,CK7)","v":1},{"$f":"IF(AND(CE7>0,COUNTIF(CM4:CM7,CM7)>1),SUMIFS($AH$4:$AH$54,$AE$4:$AE$54,BS7,$K$4:$K$54,1)+SUMIFS($AJ$4:$AJ$54,$AG$4:$AG$54,BS7,$K$4:$K$54,1),)","v":3},{"$f":"IF(AND(CE7>0,COUNTIF(CM4:CM7,CM7)>1),CM7+RANK(CN7,CN4:CN7)-1,CM7)","v":1},1,{"$f":"IF(OR(CP7=\"\",COUNTIF(CP4:CP7,CP7)=1),\"\",$BY7)","v":0},{"$f":"IF(CP7=\"\",\"\",IF(COUNTIF(CP4:CP7,CP7)=1,CP7,CP7+RANK(CQ7,CQ4:CQ7,0)-1))","v":1},{"$f":"IF(OR(CR7=\"\",COUNTIF(CR4:CR7,CR7)=1),\"\",$BW7)","v":3},{"$f":"IF(CP7=\"\",\"\",IF(COUNTIF(CR4:CR7,CR7)=1,CR7,CR7+RANK(CS7,CS4:CS7,0)-1))","v":1},{"$f":"IF(OR(CT7=\"\",COUNTIF(CT4:CT7,CT7)=1),\"\",$BT7)","v":0},{"$f":"IF(CP7=\"\",\"\",IF(COUNTIF(CT4:CT7,CT7)=1,CT7,CT7+RANK(CU7,CU4:CU7,0)-1))","v":1},{"$f":"IF(CE7>0,BL2+RANK(CV7,CV4:CV7,1),)","v":1},null,{"$f":"IF(CB7=2,BS7,)","v":0},0,0,0,0,"A",{"$f":"IF(CY7>0,RANK(DC7,DC4:DC7)+CF2,)","v":0},{"$f":"IF(AND(CY7>0,COUNTIF(DE4:DE7,DE7)>1),SUMIFS($AH$4:$AH$54,$AE$4:$AE$54,BS7,$K$4:$K$54,2)+SUMIFS($AJ$4:$AJ$54,$AG$4:$AG$54,BS7,$K$4:$K$54,2)-SUMIFS($AJ$4:$AJ$54,$AE$4:$AE$54,BS7,$K$4:$K$54,2)-SUMIFS($AH$4:$AH$54,$AG$4:$AG$54,BS7,$K$4:$K$54,2),)","v":0},{"$f":"IF(AND(CY7>0,COUNTIF(DE4:DE7,DE7)>1),DE7+RANK(DF7,DF4:DF7)-1,DE7)","v":0},{"$f":"IF(AND(CY7>0,COUNTIF(DG4:DG7,DG7)>1),SUMIFS($AH$4:$AH$54,$AE$4:$AE$54,BS7,$K$4:$K$54,2)+SUMIFS($AJ$4:$AJ$54,$AG$4:$AG$54,BS7,$K$4:$K$54,2),)","v":0},{"$f":"IF(AND(CY7>0,COUNTIF(DG4:DG7,DG7)>1),DG7+RANK(DH7,DH4:DH7)-1,DG7)","v":0},"",{"$f":"IF(OR(DJ7=\"\",COUNTIF(DJ4:DJ7,DJ7)=1),\"\",$BY7)","v":""},{"$f":"IF(DJ7=\"\",\"\",IF(COUNTIF(DJ4:DJ7,DJ7)=1,DJ7,DJ7+RANK(DK7,DK4:DK7,0)-1))","v":""},{"$f":"IF(OR(DL7=\"\",COUNTIF(DL4:DL7,DL7)=1),\"\",$BW7)","v":""},{"$f":"IF(DJ7=\"\",\"\",IF(COUNTIF(DL4:DL7,DL7)=1,DL7,DL7+RANK(DM7,DM4:DM7,0)-1))","v":""},{"$f":"IF(OR(DN7=\"\",COUNTIF(DN4:DN7,DN7)=1),\"\",$BT7)","v":""},{"$f":"IF(DJ7=\"\",\"\",IF(COUNTIF(DN4:DN7,DN7)=1,DN7,DN7+RANK(DO7,DO4:DO7,0)-1))","v":""},{"$f":"IF(CY7>0,CF2+RANK(DP7,DP4:DP7,1),)","v":0},null,{"$f":"IF(CB7=3,BS7,)","v":0},{"$f":"(SUMIF(AE$4:AE$54,BS7,BE$4:BE$54)+SUMIF(AG$4:AG$54,BS7,BF$4:BF$54))","v":0},{"$f":"(SUMIF(AE$4:AE$54,BS7,BG$4:BG$54)+SUMIF(AG$4:AG$54,BS7,BH$4:BH$54))","v":0},{"$f":"(SUMIF(AE$4:AE$54,BS7,BI$4:BI$54)+SUMIF(AG$4:AG$54,BS7,BJ$4:BJ$54))","v":0},0,{"$f":"CA7","v":"A"},{"$f":"IF(DS7>0,RANK(DW7,DW4:DW7)+CF2+CZ2,)","v":0},{"$f":"IF(AND(DS7>0,COUNTIF(DY4:DY7,DY7)>1),SUMIFS($AH$4:$AH$54,$AE$4:$AE$54,BS7,$K$4:$K$54,3)+SUMIFS($AJ$4:$AJ$54,$AG$4:$AG$54,BS7,$K$4:$K$54,3)-SUMIFS($AJ$4:$AJ$54,$AE$4:$AE$54,BS7,$K$4:$K$54,3)-SUMIFS($AH$4:$AH$54,$AG$4:$AG$54,BS7,$K$4:$K$54,3),)","v":0},{"$f":"IF(AND(DS7>0,COUNTIF(DY4:DY7,DY7)>1),DY7+RANK(DZ7,DZ4:DZ7)-1,DY7)","v":0},{"$f":"IF(AND(DS7>0,COUNTIF(EA4:EA7,EA7)>1),SUMIFS($AH$4:$AH$54,$AE$4:$AE$54,BS7,$K$4:$K$54,3)+SUMIFS($AJ$4:$AJ$54,$AG$4:$AG$54,BS7,$K$4:$K$54,3),)","v":0},{"$f":"IF(AND(DS7>0,COUNTIF(EA4:EA7,EA7)>1),EA7+RANK(EB7,EB4:EB7)-1,EA7)","v":0},"",{"$f":"IF(OR(ED7=\"\",COUNTIF(ED4:ED7,ED7)=1),\"\",$BY7)","v":""},{"$f":"IF(ED7=\"\",\"\",IF(COUNTIF(ED4:ED7,ED7)=1,ED7,ED7+RANK(EE7,EE4:EE7,0)-1))","v":""},{"$f":"IF(OR(EF7=\"\",COUNTIF(EF4:EF7,EF7)=1),\"\",$BW7)","v":""},{"$f":"IF(ED7=\"\",\"\",IF(COUNTIF(EF4:EF7,EF7)=1,EF7,EF7+RANK(EG7,EG4:EG7,0)-1))","v":""},{"$f":"IF(OR(EH7=\"\",COUNTIF(EH4:EH7,EH7)=1),\"\",$BT7)","v":""},{"$f":"IF(ED7=\"\",\"\",IF(COUNTIF(EH4:EH7,EH7)=1,EH7,EH7+RANK(EI7,EI4:EI7,0)-1))","v":""},{"$f":"IF(DS7>0,CF2+CZ2+RANK(EJ7,EJ4:EJ7,1),)","v":0},null,{"$f":"IF(CB7=4,BS7,)","v":0},0,0,0,0,"A",{"$f":"IF(EM7>0,RANK(EQ7,EQ4:EQ7)+CF2+CZ2+DT2,)","v":0},{"$f":"IF(AND(EM7>0,COUNTIF(ES4:ES7,ES7)>1),SUMIFS($AH$4:$AH$54,$AE$4:$AE$54,BS7,$K$4:$K$54,4)+SUMIFS($AJ$4:$AJ$54,$AG$4:$AG$54,BS7,$K$4:$K$54,4)-SUMIFS($AJ$4:$AJ$54,$AE$4:$AE$54,BS7,$K$4:$K$54,4)-SUMIFS($AH$4:$AH$54,$AG$4:$AG$54,BS7,$K$4:$K$54,4),)","v":0},0,{"$f":"IF(AND(EM7>0,COUNTIF(EU4:EU7,EU7)>1),SUMIFS($AH$4:$AH$54,$AE$4:$AE$54,BS7,$K$4:$K$54,4)+SUMIFS($AJ$4:$AJ$54,$AG$4:$AG$54,BS7,$K$4:$K$54,4),)","v":0},{"$f":"IF(AND(EM7>0,COUNTIF(EU4:EU7,EU7)>1),EU7+RANK(EV7,EV4:EV7)-1,EU7)","v":0},"",{"$f":"IF(OR(EX7=\"\",COUNTIF(EX4:EX7,EX7)=1),\"\",$BY7)","v":""},{"$f":"IF(EX7=\"\",\"\",IF(COUNTIF(EX4:EX7,EX7)=1,EX7,EX7+RANK(EY7,EY4:EY7,0)-1))","v":""},{"$f":"IF(OR(EZ7=\"\",COUNTIF(EZ4:EZ7,EZ7)=1),\"\",$BW7)","v":""},{"$f":"IF(EX7=\"\",\"\",IF(COUNTIF(EZ4:EZ7,EZ7)=1,EZ7,EZ7+RANK(FA7,FA4:FA7,0)-1))","v":""},{"$f":"IF(OR(FB7=\"\",COUNTIF(FB4:FB7,FB7)=1),\"\",$BT7)","v":""},{"$f":"IF(EX7=\"\",\"\",IF(COUNTIF(FB4:FB7,FB7)=1,FB7,FB7+RANK(FC7,FC4:FC7,0)-1))","v":""},{"$f":"IF(EM7>0,CF2+CZ2+DT2+RANK(FD7,FD4:FD7,1),)","v":0},null,{"$f":"IFERROR(VLOOKUP(FI7,CE3:CW7,19,FALSE),IFERROR(VLOOKUP(FI7,CY3:DQ7,19,FALSE),IFERROR(VLOOKUP(FI7,DS3:EK7,19,FALSE),VLOOKUP(FI7,EM3:FE7,19,FALSE))))","v":1},{"$f":"RANK(FG7,FG4:FG7,1)+COUNTIF(FG4:FG7,FG7)-1","v":4},{"$f":"BS7","v":"Wales"},null,"D",{"$f":"N33","v":"England"},{"$f":"RANK($FN7,$FN$4:$FN$9,1)+COUNTIF($FN$4:$FN7,$FN7)-1","v":4},2,0,0,2,{"$f":"U33","v":0},{"$f":"T33","v":0},{"$f":"R33","v":0},"D","D",null,6,"ABDF","A","B","D","F",{"$f":"VLOOKUP(\"D\",$FK$3:$FL$9,2,FALSE)","v":"England"},{"$f":"VLOOKUP(\"F\",$FK$3:$FL$9,2,FALSE)","v":"Ungern"},{"$f":"VLOOKUP(\"A\",$FK$3:$FL$9,2,FALSE)","v":"Turkiet"},{"$f":"VLOOKUP(\"B\",$FK$3:$FL$9,2,FALSE)","v":"Finland"},"",4]
[null,null,"2021-06-20","Italien","-","Wales",1,"-",1,"X",{"$f":"IF(VLOOKUP(D8,BS3:CB7,10,FALSE)=VLOOKUP(F8,BS3:CB7,10,FALSE),VLOOKUP(D8,BS3:CB7,10,FALSE),\"-\")","v":1},null,null,{"$f":"IF(COUNTBLANK(G4:G9)+COUNTBLANK(I4:I9)=0,\"Resultat OK\",\"Fyll i resultat\")","v":"Resultat OK"},null,null,null,null,null,null,null,null,null,null,null,null,null,null,null,"2021-06-20","Italien","-","Wales",1,"-",1,"X",null,0,0,1,1,0,0,0,0,1,1,0,0,0,0,0,0,0,0,0,0,0,0,0,0,0,0,0,0,0,0,null,null,null,null,null,null,null,null,null,null,null,null,null,null,null,null,null,null,null,null,null,null,null,null,null,null,null,null,null,null,null,null,null,null,null,null,null,null,null,null,null,null,null,null,null,null,null,null,null,null,null,null,null,null,null,null,null,null,null,null,null,null,null,null,null,null,null,null,null,null,null,null,null,null,null,null,null,null,null,null,null,null,null,null,null,null,null,null,null,null,null,null,null,null,null,null,null,null,"E",{"$f":"N42","v":"Spanien"},{"$f":"RANK($FN8,$FN$4:$FN$9,1)+COUNTIF($FN$4:$FN8,$FN8)-1","v":5},2,0,0,2,{"$f":"U42","v":0},{"$f":"T42","v":0},{"$f":"R42","v":0},"E",0,null,7,"ABEF","A","B","E","F",{"$f":"VLOOKUP(\"E\",$FK$3:$FL$9,2,FALSE)","v":"Spanien"},{"$f":"VLOOKUP(\"F\",$FK$3:$FL$9,2,FALSE)","v":"Ungern"},{"$f":"VLOOKUP(\"B\",$FK$3:$FL$9,2,FALSE)","v":"Finland"},{"$f":"VLOOKUP(\"A\",$FK$3:$FL$9,2,FALSE)","v":"Turkiet"},"",5]
[null,null,"2021-06-20","Schweiz","-","Turkiet",1,"-",1,"X",{"$f":"IF(VLOOKUP(D9,BS3:CB7,10,FALSE)=VLOOKUP(F9,BS3:CB7,10,FALSE),VLOOKUP(D9,BS3:CB7,10,FALSE),\"-\")","v":1},null,null,null,null,null,null,null,null,null,null,null,null,null,null,null,null,null,null,"2021-06-20","Schweiz","-","Turkiet",1,"-",1,"X",null,0,0,1,1,0,0,0,0,1,1,0,0,0,0,0,0,0,0,0,0,0,0,0,0,0,0,0,0,0,0,null,null,null,null,null,null,null,null,null,null,null,null,null,null,null,null,null,null,null,null,null,null,null,null,null,null,null,null,null,null,null,null,null,null,null,null,null,null,null,null,null,null,null,null,null,null,null,null,null,null,null,null,null,null,null,null,null,null,null,null,null,null,null,null,null,null,null,null,null,null,null,null,null,null,null,null,null,null,null,null,null,null,null,null,null,null,null,null,null,null,null,null,null,null,null,null,null,null,"F",{"$f":"N51","v":"Ungern"},{"$f":"RANK($FN9,$FN$4:$FN$9,1)+COUNTIF($FN$4:$FN9,$FN9)-1","v":6},2,0,0,2,{"$f":"U51","v":0},{"$f":"T51","v":0},{"$f":"R51","v":0},"F",0,null,8,"ACDE","A","C","D","E",{"$f":"VLOOKUP(\"E\",$FK$3:$FL$9,2,FALSE)","v":"Spanien"},{"$f":"VLOOKUP(\"D\",$FK$3:$FL$9,2,FALSE)","v":"England"},{"$f":"VLOOKUP(\"C\",$FK$3:$FL$9,2,FALSE)","v":"Nord Makedonien"},{"$f":"VLOOKUP(\"A\",$FK$3:$FL$9,2,FALSE)","v":"Turkiet"},"",6]
[null,null,null,null,null,null,null,null,null,"",null,null,null,null,null,null,null,null,null,null,null,null,null,null,null,null,null,null,null,null,null,null,null,"",null,null,"",null,null,null,null,null,null,null,null,null,null,null,null,null,null,null,null,null,null,null,null,null,null,null,null,null,null,null,null,null,null,null,null,null,null,null,null,null,null,null,null,null,null,null,null,null,null,null,null,null,null,null,null,null,null,null,null,null,null,null,null,null,null,null,null,null,null,null,null,null,null,null,null,null,null,null,null,null,null,null,null,null,null,null,null,null,null,null,null,null,null,null,null,null,null,null,null,null,null,null,null,null,null,null,null,null,null,null,null,null,null,null,null,null,null,null,null,null,null,null,null,null,null,null,null,null,null,null,null,null,null,null,null,null,null,null,null,null,null,null,null,null,null,9,"ACDF","A","C","D","F",{"$f":"VLOOKUP(\"F\",$FK$3:$FL$9,2,FALSE)","v":"Ungern"},{"$f":"VLOOKUP(\"D\",$FK$3:$FL$9,2,FALSE)","v":"England"},{"$f":"VLOOKUP(\"C\",$FK$3:$FL$9,2,FALSE)","v":"Nord Makedonien"},{"$f":"VLOOKUP(\"A\",$FK$3:$FL$9,2,FALSE)","v":"Turkiet"},"",7]
[null,null,"Grupp B",null,null,null,null,null,null,null,null,null,null,null,null,null,null,null,null,null,null,null,null,null,null,null,null,null,null,"Grupp B",null,null,null,null,null,null,null,null,null,null,null,null,null,null,null,null,null,null,null,null,null,null,null,null,null,null,null,null,null,null,null,null,null,null,null,null,null,null,null,null,"Rank 0",null,null,null,null,null,null,null,null,null,null,null,"Rank 1",{"$f":"COUNTIF(CB13:CB16,1)","v":4},null,null,null,null,null,null,null,null,null,null,null,null,null,null,null,null,null,null,"Rank 2",{"$f":"COUNTIF(CB13:CB16,2)","v":0},null,null,null,null,null,null,null,null,null,null,null,null,null,null,null,null,null,null,"Rank 3",{"$f":"COUNTIF(CB13:CB16,3)","v":0},null,null,null,null,null,null,null,null,null,null,null,null,null,null,null,null,null,null,"Rank 4",{"$f":"COUNTIF(CB13:CB16,4)","v":0},null,null,null,null,null,null,null,null,null,null,null,null,null,null,null,null,null,null,null,null,null,null,null,null,null,null,null,null,null,null,null,null,null,null,null,10,"ACEF","A","C","E","F",{"$f":"VLOOKUP(\"E\",$FK$3:$FL$9,2,FALSE)","v":"Spanien"},{"$f":"VLOOKUP(\"F\",$FK$3:$FL$9,2,FALSE)","v":"Ungern"},{"$f":"VLOOKUP(\"C\",$FK$3:$FL$9,2,FALSE)","v":"Nord Makedonien"},{"$f":"VLOOKUP(\"A\",$FK$3:$FL$9,2,FALSE)","v":"Turkiet"},"",8]
[null,null,"Datum","Match",null,null,"Resultat",null,null,"Tecken",null,null,null,"Lag","V","O","F","GM","IM","+/-","P",null,null,null,null,null,null,null,null,"Datum","Match",null,null,"Resultat",null,null,"Tecken","Poäng","V1","V2","O1","O2","F1","F2","V1","V2","O1","O2","F1","F2","V1","V2","O1","O2","F1","F2","V1","V2","O1","O2","F1","F2","V1","V2","O1","O2","F1","F2",null,null,"Lag","V","O","F","GM","IM","+/-","P","Grupp","Rank P","Rank +/-",null,"Lag","V","O","F","P","Grupp","Rank P","+/-","+/- rank","GM","GM rank","Rank internal","+/- all","+/- rank all","GM all","GM rank all","V all","V rank all","Rank all",null,"Lag","V","O","F","P","Grupp","Rank P","+/-","+/- rank","GM","GM rank","Rank internal","+/- all","+/- rank all","GM all","GM rank all","V all","V rank all","Rank all",null,"Lag","V","O","F","P","Grupp","Rank P","+/-","+/- rank","GM","GM rank","Rank internal","+/- all","+/- rank all","GM all","GM rank all","V all","V rank all","Rank all",null,"Lag","V","O","F","P","Grupp","Rank P","+/-","+/- rank","GM","GM rank","Rank internal","+/- all","+/- rank all","GM all","GM rank all","V all","V rank all","Rank all",null,"Rank","Rank Ties",null,null,null,{"$f":"IF(COUNTBLANK(G4:G9)+COUNTBLANK(I4:I9)+COUNTBLANK(G22:G27)+COUNTBLANK(I22:I27)+COUNTBLANK(G31:G36)+COUNTBLANK(I31:I36)+COUNTBLANK(G40:G45)+COUNTBLANK(I40:I45)+COUNTBLANK(G49:G54)+COUNTBLANK(I49:I54)++COUNTBLANK(G13:G18)+COUNTBLANK(I13:I18)=0,\"Resultat OK\",\"Fyll i resultat\")","v":"Fyll i resultat"},null,null,null,null,null,null,null,null,null,null,null,11,"ADEF","A","D","E","F",{"$f":"VLOOKUP(\"E\",$FK$3:$FL$9,2,FALSE)","v":"Spanien"},{"$f":"VLOOKUP(\"F\",$FK$3:$FL$9,2,FALSE)","v":"Ungern"},{"$f":"VLOOKUP(\"D\",$FK$3:$FL$9,2,FALSE)","v":"England"},{"$f":"VLOOKUP(\"A\",$FK$3:$FL$9,2,FALSE)","v":"Turkiet"},"",9]
[null,null,"2021-06-12","Danmark","-","Finland",null,"-",null,{"$f":"IF(OR(ISBLANK(G13),ISBLANK(I13)),\"\",IF(G13>I13,1,IF(G13<I13,2,\"X\")))","v":""},{"$f":"IF(VLOOKUP(D13,BS12:CB16,10,FALSE)=VLOOKUP(F13,BS12:CB16,10,FALSE),VLOOKUP(D13,BS12:CB16,10,FALSE),\"-\")","v":1},null,1,{"$f":"VLOOKUP(M13,FH13:FI16,2,FALSE)","v":"Belgien"},{"$f":"VLOOKUP($N13,$BS$13:$BZ$16,2,FALSE)","v":0},{"$f":"VLOOKUP($N13,$BS$13:$BZ$16,3,FALSE)","v":0},{"$f":"VLOOKUP($N13,$BS$13:$BZ$16,4,FALSE)","v":0},{"$f":"VLOOKUP($N13,$BS$13:$BZ$16,5,FALSE)","v":0},{"$f":"VLOOKUP($N13,$BS$13:$BZ$16,6,FALSE)","v":0},{"$f":"VLOOKUP($N13,$BS$13:$BZ$16,7,FALSE)","v":0},{"$f":"VLOOKUP($N13,$BS$13:$BZ$16,8,FALSE)","v":0},null,null,null,null,null,null,null,null,{"$f":"C13","v":"2021-06-12"},"Danmark","-","Finland",{"$f":"IF(G13=\"\",\"\",G13)","v":""},"-",{"$f":"IF(I13=\"\",\"\",I13)","v":""},{"$f":"J13","v":""},null,{"$f":"IF(AH13>AJ13,1,0)","v":0},{"$f":"IF(AJ13>AH13,1,0)","v":0},{"$f":"IF(AND(AH13=AJ13,AH13<>\"\"),1,0)","v":0},{"$f":"IF(AND(AH13=AJ13,AH13<>\"\"),1,0)","v":0},{"$f":"IF(AH13<AJ13,1,0)","v":0},{"$f":"IF(AJ13<AH13,1,)","v":0},{"$f":"IF(ISERROR(VLOOKUP(AE13,CE:CE,1,FALSE)),0,1)*IF(ISERROR(VLOOKUP(AG13,CE:CE,1,FALSE)),0,1)*AM13","v":0},{"$f":"IF(ISERROR(VLOOKUP(AE13,CE:CE,1,FALSE)),0,1)*IF(ISERROR(VLOOKUP(AG13,CE:CE,1,FALSE)),0,1)*AN13","v":0},{"$f":"IF(ISERROR(VLOOKUP(AE13,CE:CE,1,FALSE)),0,1)*IF(ISERROR(VLOOKUP(AG13,CE:CE,1,FALSE)),0,1)*AO13","v":0},{"$f":"IF(ISERROR(VLOOKUP(AE13,CE:CE,1,FALSE)),0,1)*IF(ISERROR(VLOOKUP(AG13,CE:CE,1,FALSE)),0,1)*AP13","v":0},{"$f":"IF(ISERROR(VLOOKUP(AE13,CE:CE,1,FALSE)),0,1)*IF(ISERROR(VLOOKUP(AG13,CE:CE,1,FALSE)),0,1)*AQ13","v":0},{"$f":"IF(ISERROR(VLOOKUP(AE13,CE:CE,1,FALSE)),0,1)*IF(ISERROR(VLOOKUP(AG13,CE:CE,1,FALSE)),0,1)*AR13","v":0},{"$f":"IF(ISERROR(VLOOKUP(AE13,CY:CY,1,FALSE)),0,1)*IF(ISERROR(VLOOKUP(AG13,CY:CY,1,FALSE)),0,1)*AM13","v":0},{"$f":"IF(ISERROR(VLOOKUP(AE13,CY:CY,1,FALSE)),0,1)*IF(ISERROR(VLOOKUP(AG13,CY:CY,1,FALSE)),0,1)*AN13","v":0},{"$f":"IF(ISERROR(VLOOKUP(AE13,CY:CY,1,FALSE)),0,1)*IF(ISERROR(VLOOKUP(AG13,CY:CY,1,FALSE)),0,1)*AO13","v":0},{"$f":"IF(ISERROR(VLOOKUP(AE13,CY:CY,1,FALSE)),0,1)*IF(ISERROR(VLOOKUP(AG13,CY:CY,1,FALSE)),0,1)*AP13","v":0},{"$f":"IF(ISERROR(VLOOKUP(AE13,CY:CY,1,FALSE)),0,1)*IF(ISERROR(VLOOKUP(AG13,CY:CY,1,FALSE)),0,1)*AQ13","v":0},{"$f":"IF(ISERROR(VLOOKUP(AE13,CY:CY,1,FALSE)),0,1)*IF(ISERROR(VLOOKUP(AG13,CY:CY,1,FALSE)),0,1)*AR13","v":0},{"$f":"IF(ISERROR(VLOOKUP(AE13,DS:DS,1,FALSE)),0,1)*IF(ISERROR(VLOOKUP(AG13,DS:DS,1,FALSE)),0,1)*AM13","v":0},{"$f":"IF(ISERROR(VLOOKUP(AE13,DS:DS,1,FALSE)),0,1)*IF(ISERROR(VLOOKUP(AG13,DS:DS,1,FALSE)),0,1)*AN13","v":0},{"$f":"IF(ISERROR(VLOOKUP(AE13,DS:DS,1,FALSE)),0,1)*IF(ISERROR(VLOOKUP(AG13,DS:DS,1,FALSE)),0,1)*AO13","v":0},{"$f":"IF(ISERROR(VLOOKUP(AE13,DS:DS,1,FALSE)),0,1)*IF(ISERROR(VLOOKUP(AG13,DS:DS,1,FALSE)),0,1)*AP13","v":0},{"$f":"IF(ISERROR(VLOOKUP(AE13,DS:DS,1,FALSE)),0,1)*IF(ISERROR(VLOOKUP(AG13,DS:DS,1,FALSE)),0,1)*AQ13","v":0},{"$f":"IF(ISERROR(VLOOKUP(AE13,DS:DS,1,FALSE)),0,1)*IF(ISERROR(VLOOKUP(AG13,DS:DS,1,FALSE)),0,1)*AR13","v":0},{"$f":"IF(ISERROR(VLOOKUP(AE13,EM:EM,1,FALSE)),0,1)*IF(ISERROR(VLOOKUP(AG13,EM:EM,1,FALSE)),0,1)*AM13","v":0},{"$f":"IF(ISERROR(VLOOKUP(AE13,EM:EM,1,FALSE)),0,1)*IF(ISERROR(VLOOKUP(AG13,EM:EM,1,FALSE)),0,1)*AN13","v":0},{"$f":"IF(ISERROR(VLOOKUP(AE13,EM:EM,1,FALSE)),0,1)*IF(ISERROR(VLOOKUP(AG13,EM:EM,1,FALSE)),0,1)*AO13","v":0},{"$f":"IF(ISERROR(VLOOKUP(AE13,EM:EM,1,FALSE)),0,1)*IF(ISERROR(VLOOKUP(AG13,EM:EM,1,FALSE)),0,1)*AP13","v":0},{"$f":"IF(ISERROR(VLOOKUP(AE13,EM:EM,1,FALSE)),0,1)*IF(ISERROR(VLOOKUP(AG13,EM:EM,1,FALSE)),0,1)*AQ13","v":0},{"$f":"IF(ISERROR(VLOOKUP(AE13,EM:EM,1,FALSE)),0,1)*IF(ISERROR(VLOOKUP(AG13,EM:EM,1,FALSE)),0,1)*AR13","v":0},null,null,"Belgien",{"$f":"(SUMIF(AE$4:AE$54,BS13,AM$4:AM$54)+SUMIF(AG$4:AG$54,BS13,AN$4:AN$54))","v":0},{"$f":"(SUMIF(AE$4:AE$54,BS13,AO$4:AO$54)+SUMIF(AG$4:AG$54,BS13,AP$4:AP$54))","v":0},{"$f":"(SUMIF(AE$4:AE$54,BS13,AQ$4:AQ$54)+SUMIF(AG$4:AG$54,BS13,AR$4:AR$54))","v":0},{"$f":"SUMIF($AE$4:$AE$54,BS13,$AH$4:$AH$54)+SUMIF($AG$4:$AG$54,BS13,$AJ$4:$AJ$54)","v":0},{"$f":"SUMIF($AE$4:$AE$54,BS13,$AJ$4:$AJ$54)+SUMIF($AG$4:$AG$54,BS13,$AH$4:$AH$54)","v":0},{"$f":"BW13-BX13","v":0},{"$f":"IFERROR(BT13*3+BU13*1,0)","v":0},"B",{"$f":"RANK(BZ13,BZ13:BZ16)","v":1},{"$f":"SUMPRODUCT((BZ13:BZ16=BZ13)*(BY13:BY16>BY13))","v":0},null,{"$f":"IF(CB13=1,BS13,)","v":"Belgien"},{"$f":"(SUMIF($AE$4:$AE$54,$BS13,$AS$4:$AS$54)+SUMIF($AG$4:$AG$54,$BS13,$AT$4:$AT$54))","v":0},{"$f":"(SUMIF($AE$4:$AE$54,$BS13,$AU$4:$AU$54)+SUMIF($AG$4:$AG$54,$BS13,$AV$4:$AV$54))","v":0},{"$f":"(SUMIF($AE$4:$AE$54,$BS13,$AW$4:$AW$54)+SUMIF($AG$4:$AG$54,$BS13,$AX$4:$AX$54))","v":0},{"$f":"IFERROR(CF13*3+CG13*1,0)","v":0},{"$f":"CA13","v":"B"},{"$f":"IF(CE13>0,RANK(CI13,CI13:CI16),)","v":1},{"$f":"IF(AND(CE13>0,COUNTIF(CK13:CK16,CK13)>1),SUMIFS($AH$4:$AH$54,$AE$4:$AE$54,$BS13,$K$4:$K$54,1)+SUMIFS($AJ$4:$AJ$54,$AG$4:$AG$54,$BS13,$K$4:$K$54,1)-SUMIFS($AJ$4:$AJ$54,$AE$4:$AE$54,$BS13,$K$4:$K$54,1)-SUMIFS($AH$4:$AH$54,$AG$4:$AG$54,$BS13,$K$4:$K$54,1),)","v":0},{"$f":"IF(AND(CE13>0,COUNTIF(CK13:CK16,CK13)>1),CK13+RANK(CL13,CL13:CL16)-1,CK13)","v":1},{"$f":"IF(AND(CE13>0,COUNTIF(CM13:CM16,CM13)>1),SUMIFS($AH$4:$AH$54,$AE$4:$AE$54,$BS13,$K$4:$K$54,1)+SUMIFS($AJ$4:$AJ$54,$AG$4:$AG$54,$BS13,$K$4:$K$54,1),)","v":0},{"$f":"IF(AND(CE13>0,COUNTIF(CM13:CM16,CM13)>1),CM13+RANK(CN13,CN13:CN16)-1,CM13)","v":1},{"$f":"IF(CO13=0,\"\",CO13)","v":1},{"$f":"IF(OR(CP13=\"\",COUNTIF(CP13:CP16,CP13)=1),\"\",$BY13)","v":0},{"$f":"IF(CP13=\"\",\"\",IF(COUNTIF(CP13:CP16,CP13)=1,CP13,CP13+RANK(CQ13,CQ13:CQ16,0)-1))","v":1},{"$f":"IF(OR(CR13=\"\",COUNTIF(CR13:CR16,CR13)=1),\"\",$BW13)","v":0},{"$f":"IF(CP13=\"\",\"\",IF(COUNTIF(CR13:CR16,CR13)=1,CR13,CR13+RANK(CS13,CS13:CS16,0)-1))","v":1},{"$f":"IF(OR(CT13=\"\",COUNTIF(CT13:CT16,CT13)=1),\"\",$BT13)","v":0},{"$f":"IF(CP13=\"\",\"\",IF(COUNTIF(CT13:CT16,CT13)=1,CT13,CT13+RANK(CU13,CU13:CU16,0)-1))","v":1},{"$f":"IF(CE13>0,BL11+RANK(CV13,CV13:CV16,1),)","v":1},null,{"$f":"IF(CB13=2,BS13,)","v":0},{"$f":"(SUMIF($AE$4:$AE$54,$BS13,$AY$4:$AY$54)+SUMIF($AG$4:$AG$54,$BS13,$AZ$4:$AZ$54))","v":0},{"$f":"(SUMIF($AE$4:$AE$54,$BS13,$BA$4:$BA$54)+SUMIF($AG$4:$AG$54,$BS13,$BB$4:$BB$54))","v":0},{"$f":"(SUMIF($AE$4:$AE$54,$BS13,$BC$4:$BC$54)+SUMIF($AG$4:$AG$54,$BS13,$BD$4:$BD$54))","v":0},{"$f":"IFERROR(CZ13*3+DA13*1,0)","v":0},{"$f":"$CA13","v":"B"},{"$f":"IF(CY13>0,RANK(DC13,DC13:DC16)+CF11,)","v":0},{"$f":"IF(AND(CY13>0,COUNTIF(DE13:DE16,DE13)>1),SUMIFS($AH$4:$AH$54,$AE$4:$AE$54,$BS13,$K$4:$K$54,2)+SUMIFS($AJ$4:$AJ$54,$AG$4:$AG$54,$BS13,$K$4:$K$54,2)-SUMIFS($AJ$4:$AJ$54,$AE$4:$AE$54,$BS13,$K$4:$K$54,2)-SUMIFS($AH$4:$AH$54,$AG$4:$AG$54,$BS13,$K$4:$K$54,2),)","v":0},{"$f":"IF(AND(CY13>0,COUNTIF(DE13:DE16,DE13)>1),DE13+RANK(DF13,DF13:DF16)-1,DE13)","v":0},{"$f":"IF(AND(CY13>0,COUNTIF(DG13:DG16,DG13)>1),SUMIFS($AH$4:$AH$54,$AE$4:$AE$54,$BS13,$K$4:$K$54,2)+SUMIFS($AJ$4:$AJ$54,$AG$4:$AG$54,$BS13,$K$4:$K$54,2),)","v":0},{"$f":"IF(AND(CY13>0,COUNTIF(DG13:DG16,DG13)>1),DG13+RANK(DH13,DH13:DH16)-1,DG13)","v":0},{"$f":"IF(DI13=0,\"\",DI13)","v":""},{"$f":"IF(OR(DJ13=\"\",COUNTIF(DJ13:DJ16,DJ13)=1),\"\",$BY13)","v":""},{"$f":"IF(DJ13=\"\",\"\",IF(COUNTIF(DJ13:DJ16,DJ13)=1,DJ13,DJ13+RANK(DK13,DK13:DK16,0)-1))","v":""},{"$f":"IF(OR(DL13=\"\",COUNTIF(DL13:DL16,DL13)=1),\"\",$BW13)","v":""},{"$f":"IF(DJ13=\"\",\"\",IF(COUNTIF(DL13:DL16,DL13)=1,DL13,DL13+RANK(DM13,DM13:DM16,0)-1))","v":""},{"$f":"IF(OR(DN13=\"\",COUNTIF(DN13:DN16,DN13)=1),\"\",$BT13)","v":""},{"$f":"IF(DJ13=\"\",\"\",IF(COUNTIF(DN13:DN16,DN13)=1,DN13,DN13+RANK(DO13,DO13:DO16,0)-1))","v":""},{"$f":"IF(CY13>0,CF11+RANK(DP13,DP13:DP16,1),)","v":0},null,{"$f":"IF(CB13=3,BS13,)","v":0},{"$f":"(SUMIF($AE$4:$AE$54,BS13,$BE$4:$BE$54)+SUMIF($AG$4:$AG$54,BS13,$BF$4:$BF$54))","v":0},{"$f":"(SUMIF($AE$4:$AE$54,BS13,$BG$4:$BG$54)+SUMIF($AG$4:$AG$54,BS13,$BH$4:$BH$54))","v":0},{"$f":"(SUMIF($AE$4:$AE$54,BS13,$BI$4:$BI$54)+SUMIF($AG$4:$AG$54,BS13,$BJ$4:$BJ$54))","v":0},{"$f":"IFERROR(DT13*3+DU13*1,0)","v":0},{"$f":"CA13","v":"B"},{"$f":"IF(DS13>0,RANK(DW13,DW13:DW16)+CF11+CZ11,)","v":0},{"$f":"IF(AND(DS13>0,COUNTIF(DY13:DY16,DY13)>1),SUMIFS($AH$4:$AH$54,$AE$4:$AE$54,$BS13,$K$4:$K$54,3)+SUMIFS($AJ$4:$AJ$54,$AG$4:$AG$54,$BS13,$K$4:$K$54,3)-SUMIFS($AJ$4:$AJ$54,$AE$4:$AE$54,$BS13,$K$4:$K$54,3)-SUMIFS($AH$4:$AH$54,$AG$4:$AG$54,$BS13,$K$4:$K$54,3),)","v":0},{"$f":"IF(AND(DS13>0,COUNTIF(DY13:DY16,DY13)>1),DY13+RANK(DZ13,DZ13:DZ16)-1,DY13)","v":0},{"$f":"IF(AND(DS13>0,COUNTIF(EA13:EA16,EA13)>1),SUMIFS($AH$4:$AH$54,$AE$4:$AE$54,$BS13,$K$4:$K$54,3)+SUMIFS($AJ$4:$AJ$54,$AG$4:$AG$54,$BS13,$K$4:$K$54,3),)","v":0},{"$f":"IF(AND(DS13>0,COUNTIF(EA13:EA16,EA13)>1),EA13+RANK(EB13,EB13:EB16)-1,EA13)","v":0},{"$f":"IF(EC13=0,\"\",EC13)","v":""},{"$f":"IF(OR(ED13=\"\",COUNTIF(ED13:ED16,ED13)=1),\"\",$BY13)","v":""},{"$f":"IF(ED13=\"\",\"\",IF(COUNTIF(ED13:ED16,ED13)=1,ED13,ED13+RANK(EE13,EE13:EE16,0)-1))","v":""},{"$f":"IF(OR(EF13=\"\",COUNTIF(EF13:EF16,EF13)=1),\"\",$BW13)","v":""},{"$f":"IF(ED13=\"\",\"\",IF(COUNTIF(EF13:EF16,EF13)=1,EF13,EF13+RANK(EG13,EG13:EG16,0)-1))","v":""},{"$f":"IF(OR(EH13=\"\",COUNTIF(EH13:EH16,EH13)=1),\"\",$BT13)","v":""},{"$f":"IF(ED13=\"\",\"\",IF(COUNTIF(EH13:EH16,EH13)=1,EH13,EH13+RANK(EI13,EI13:EI16,0)-1))","v":""},{"$f":"IF(DS13>0,CF11+CZ11+RANK(EJ13,EJ13:EJ16,1),)","v":0},null,{"$f":"IF(CB13=4,BS13,)","v":0},{"$f":"(SUMIF($AE$4:$AE$54,$BS13,$BK$4:$BK$54)+SUMIF($AG$4:$AG$54,$BS13,$BL$4:$BL$54))","v":0},{"$f":"(SUMIF($AE$4:$AE$54,$BS13,$BM$4:$BM$54)+SUMIF($AG$4:$AG$54,$BS13,$BN$4:$BN$54))","v":0},{"$f":"(SUMIF($AE$4:$AE$54,$BS13,$BO$4:$BO$54)+SUMIF($AG$4:$AG$54,$BS13,$BP$4:$BP$54))","v":0},{"$f":"IFERROR(EN13*3+EO13*1,0)","v":0},{"$f":"$CA13","v":"B"},{"$f":"IF(EM13>0,RANK(EQ13,EQ13:EQ16)+CF11+CZ11+DT11,)","v":0},{"$f":"IF(AND(EM13>0,COUNTIF(ES13:ES16,ES13)>1),SUMIFS($AH$4:$AH$54,$AE$4:$AE$54,$BS13,$K$4:$K$54,4)+SUMIFS($AJ$4:$AJ$54,$AG$4:$AG$54,$BS13,$K$4:$K$54,4)-SUMIFS($AJ$4:$AJ$54,$AE$4:$AE$54,$BS13,$K$4:$K$54,4)-SUMIFS($AH$4:$AH$54,$AG$4:$AG$54,$BS13,$K$4:$K$54,4),)","v":0},{"$f":"IF(AND(EM13>0,COUNTIF($ES$4:$ES$7,ES13)>1),ES13+RANK(ET13,$ET$4:$ET$7)-1,ES13)","v":0},{"$f":"IF(AND(EM13>0,COUNTIF(EU13:EU16,EU13)>1),SUMIFS($AH$4:$AH$54,$AE$4:$AE$54,$BS13,$K$4:$K$54,4)+SUMIFS($AJ$4:$AJ$54,$AG$4:$AG$54,$BS13,$K$4:$K$54,4),)","v":0},{"$f":"IF(AND(EM13>0,COUNTIF(EU13:EU16,EU13)>1),EU13+RANK(EV13,EV13:EV16)-1,EU13)","v":0},{"$f":"IF(EW13=0,\"\",EW13)","v":""},{"$f":"IF(OR(EX13=\"\",COUNTIF(EX13:EX16,EX13)=1),\"\",$BY13)","v":""},{"$f":"IF(EX13=\"\",\"\",IF(COUNTIF(EX13:EX16,EX13)=1,EX13,EX13+RANK(EY13,EY13:EY16,0)-1))","v":""},{"$f":"IF(OR(EZ13=\"\",COUNTIF(EZ13:EZ16,EZ13)=1),\"\",$BW13)","v":""},{"$f":"IF(EX13=\"\",\"\",IF(COUNTIF(EZ13:EZ16,EZ13)=1,EZ13,EZ13+RANK(FA13,FA13:FA16,0)-1))","v":""},{"$f":"IF(OR(FB13=\"\",COUNTIF(FB13:FB16,FB13)=1),\"\",$BT13)","v":""},{"$f":"IF(EX13=\"\",\"\",IF(COUNTIF(FB13:FB16,FB13)=1,FB13,FB13+RANK(FC13,FC13:FC16,0)-1))","v":""},{"$f":"IF(EM13>0,CF11+CZ11+DT11+RANK(FD13,FD13:FD16,1),)","v":0},null,{"$f":"IFERROR(VLOOKUP(FI13,CE12:CW16,19,FALSE),IFERROR(VLOOKUP(FI13,CY12:DQ16,19,FALSE),IFERROR(VLOOKUP(FI13,DS12:EK16,19,FALSE),VLOOKUP(FI13,EM12:FE16,19,FALSE))))","v":1},{"$f":"RANK(FG13,FG13:FG16,1)+COUNTIF(FG13:FG13,FG13)-1","v":1},{"$f":"BS13","v":"Belgien"},null,null,null,null,null,null,null,null,null,null,null,null,null,null,12,"BCDE","B","C","D","E",{"$f":"VLOOKUP(\"E\",$FK$3:$FL$9,2,FALSE)","v":"Spanien"},{"$f":"VLOOKUP(\"D\",$FK$3:$FL$9,2,FALSE)","v":"England"},{"$f":"VLOOKUP(\"B\",$FK$3:$FL$9,2,FALSE)","v":"Finland"},{"$f":"VLOOKUP(\"C\",$FK$3:$FL$9,2,FALSE)","v":"Nord Makedonien"},"",10]
[null,null,"2021-06-12","Belgien","-","Ryssland",null,"-",null,{"$f":"IF(OR(ISBLANK(G14),ISBLANK(I14)),\"\",IF(G14>I14,1,IF(G14<I14,2,\"X\")))","v":""},{"$f":"IF(VLOOKUP(D14,BS12:CB16,10,FALSE)=VLOOKUP(F14,BS12:CB16,10,FALSE),VLOOKUP(D14,BS12:CB16,10,FALSE),\"-\")","v":1},null,2,{"$f":"VLOOKUP(M14,FH13:FI16,2,FALSE)","v":"Danmark"},{"$f":"VLOOKUP($N14,$BS$13:$BZ$16,2,FALSE)","v":0},{"$f":"VLOOKUP($N14,$BS$13:$BZ$16,3,FALSE)","v":0},{"$f":"VLOOKUP($N14,$BS$13:$BZ$16,4,FALSE)","v":0},{"$f":"VLOOKUP($N14,$BS$13:$BZ$16,5,FALSE)","v":0},{"$f":"VLOOKUP($N14,$BS$13:$BZ$16,6,FALSE)","v":0},{"$f":"VLOOKUP($N14,$BS$13:$BZ$16,7,FALSE)","v":0},{"$f":"VLOOKUP($N14,$BS$13:$BZ$16,8,FALSE)","v":0},null,null,null,null,null,null,null,null,"2021-06-12","Belgien","-","Ryssland","","-","","",null,0,0,0,0,0,0,0,0,0,0,0,0,0,0,0,0,0,0,0,0,0,0,0,0,0,0,0,0,0,0,null,null,"Danmark",{"$f":"(SUMIF(AE$4:AE$54,BS14,AM$4:AM$54)+SUMIF(AG$4:AG$54,BS14,AN$4:AN$54))","v":0},{"$f":"(SUMIF(AE$4:AE$54,BS14,AO$4:AO$54)+SUMIF(AG$4:AG$54,BS14,AP$4:AP$54))","v":0},{"$f":"(SUMIF(AE$4:AE$54,BS14,AQ$4:AQ$54)+SUMIF(AG$4:AG$54,BS14,AR$4:AR$54))","v":0},{"$f":"SUMIF($AE$4:$AE$54,BS14,$AH$4:$AH$54)+SUMIF($AG$4:$AG$54,BS14,$AJ$4:$AJ$54)","v":0},{"$f":"SUMIF($AE$4:$AE$54,BS14,$AJ$4:$AJ$54)+SUMIF($AG$4:$AG$54,BS14,$AH$4:$AH$54)","v":0},{"$f":"BW14-BX14","v":0},{"$f":"IFERROR(BT14*3+BU14*1,0)","v":0},"B",{"$f":"RANK(BZ14,BZ13:BZ16)","v":1},{"$f":"SUMPRODUCT((BZ13:BZ16=BZ14)*(BY13:BY16>BY14))","v":0},null,{"$f":"IF(CB14=1,BS14,)","v":"Danmark"},{"$f":"(SUMIF($AE$4:$AE$54,$BS14,$AS$4:$AS$54)+SUMIF($AG$4:$AG$54,$BS14,$AT$4:$AT$54))","v":0},{"$f":"(SUMIF($AE$4:$AE$54,$BS14,$AU$4:$AU$54)+SUMIF($AG$4:$AG$54,$BS14,$AV$4:$AV$54))","v":0},{"$f":"(SUMIF($AE$4:$AE$54,$BS14,$AW$4:$AW$54)+SUMIF($AG$4:$AG$54,$BS14,$AX$4:$AX$54))","v":0},{"$f":"IFERROR(CF14*3+CG14*1,0)","v":0},{"$f":"CA14","v":"B"},{"$f":"IF(CE14>0,RANK(CI14,CI13:CI16),)","v":1},{"$f":"IF(AND(CE14>0,COUNTIF(CK13:CK16,CK14)>1),SUMIFS($AH$4:$AH$54,$AE$4:$AE$54,BS14,$K$4:$K$54,1)+SUMIFS($AJ$4:$AJ$54,$AG$4:$AG$54,BS14,$K$4:$K$54,1)-SUMIFS($AJ$4:$AJ$54,$AE$4:$AE$54,BS14,$K$4:$K$54,1)-SUMIFS($AH$4:$AH$54,$AG$4:$AG$54,BS14,$K$4:$K$54,1),)","v":0},{"$f":"IF(AND(CE14>0,COUNTIF(CK13:CK16,CK14)>1),CK14+RANK(CL14,CL13:CL16)-1,CK14)","v":1},{"$f":"IF(AND(CE14>0,COUNTIF(CM13:CM16,CM14)>1),SUMIFS($AH$4:$AH$54,$AE$4:$AE$54,BS14,$K$4:$K$54,1)+SUMIFS($AJ$4:$AJ$54,$AG$4:$AG$54,BS14,$K$4:$K$54,1),)","v":0},{"$f":"IF(AND(CE14>0,COUNTIF(CM13:CM16,CM14)>1),CM14+RANK(CN14,CN13:CN16)-1,CM14)","v":1},{"$f":"IF(CO14=0,\"\",CO14)","v":1},{"$f":"IF(OR(CP14=\"\",COUNTIF(CP13:CP16,CP14)=1),\"\",$BY14)","v":0},{"$f":"IF(CP14=\"\",\"\",IF(COUNTIF(CP13:CP16,CP14)=1,CP14,CP14+RANK(CQ14,CQ13:CQ16,0)-1))","v":1},{"$f":"IF(OR(CR14=\"\",COUNTIF(CR13:CR16,CR14)=1),\"\",$BW14)","v":0},{"$f":"IF(CP14=\"\",\"\",IF(COUNTIF(CR13:CR16,CR14)=1,CR14,CR14+RANK(CS14,CS13:CS16,0)-1))","v":1},{"$f":"IF(OR(CT14=\"\",COUNTIF(CT13:CT16,CT14)=1),\"\",$BT14)","v":0},{"$f":"IF(CP14=\"\",\"\",IF(COUNTIF(CT13:CT16,CT14)=1,CT14,CT14+RANK(CU14,CU13:CU16,0)-1))","v":1},{"$f":"IF(CE14>0,BL11+RANK(CV14,CV13:CV16,1),)","v":1},null,{"$f":"IF(CB14=2,BS14,)","v":0},{"$f":"(SUMIF($AE$4:$AE$54,$BS14,$AY$4:$AY$54)+SUMIF($AG$4:$AG$54,$BS14,$AZ$4:$AZ$54))","v":0},{"$f":"(SUMIF($AE$4:$AE$54,$BS14,$BA$4:$BA$54)+SUMIF($AG$4:$AG$54,$BS14,$BB$4:$BB$54))","v":0},{"$f":"(SUMIF($AE$4:$AE$54,$BS14,$BC$4:$BC$54)+SUMIF($AG$4:$AG$54,$BS14,$BD$4:$BD$54))","v":0},{"$f":"IFERROR(CZ14*3+DA14*1,0)","v":0},{"$f":"$CA14","v":"B"},{"$f":"IF(CY14>0,RANK(DC14,DC13:DC16)+CF11,)","v":0},{"$f":"IF(AND(CY14>0,COUNTIF(DE13:DE16,DE14)>1),SUMIFS($AH$4:$AH$54,$AE$4:$AE$54,BS14,$K$4:$K$54,2)+SUMIFS($AJ$4:$AJ$54,$AG$4:$AG$54,BS14,$K$4:$K$54,2)-SUMIFS($AJ$4:$AJ$54,$AE$4:$AE$54,BS14,$K$4:$K$54,2)-SUMIFS($AH$4:$AH$54,$AG$4:$AG$54,BS14,$K$4:$K$54,2),)","v":0},{"$f":"IF(AND(CY14>0,COUNTIF(DE13:DE16,DE14)>1),DE14+RANK(DF14,DF13:DF16)-1,DE14)","v":0},{"$f":"IF(AND(CY14>0,COUNTIF(DG13:DG16,DG14)>1),SUMIFS($AH$4:$AH$54,$AE$4:$AE$54,BS14,$K$4:$K$54,2)+SUMIFS($AJ$4:$AJ$54,$AG$4:$AG$54,BS14,$K$4:$K$54,2),)","v":0},{"$f":"IF(AND(CY14>0,COUNTIF(DG13:DG16,DG14)>1),DG14+RANK(DH14,DH13:DH16)-1,DG14)","v":0},{"$f":"IF(DI14=0,\"\",DI14)","v":""},{"$f":"IF(OR(DJ14=\"\",COUNTIF(DJ13:DJ16,DJ14)=1),\"\",$BY14)","v":""},{"$f":"IF(DJ14=\"\",\"\",IF(COUNTIF(DJ13:DJ16,DJ14)=1,DJ14,DJ14+RANK(DK14,DK13:DK16,0)-1))","v":""},{"$f":"IF(OR(DL14=\"\",COUNTIF(DL13:DL16,DL14)=1),\"\",$BW14)","v":""},{"$f":"IF(DJ14=\"\",\"\",IF(COUNTIF(DL13:DL16,DL14)=1,DL14,DL14+RANK(DM14,DM13:DM16,0)-1))","v":""},{"$f":"IF(OR(DN14=\"\",COUNTIF(DN13:DN16,DN14)=1),\"\",$BT14)","v":""},{"$f":"IF(DJ14=\"\",\"\",IF(COUNTIF(DN13:DN16,DN14)=1,DN14,DN14+RANK(DO14,DO13:DO16,0)-1))","v":""},{"$f":"IF(CY14>0,CF11+RANK(DP14,DP13:DP16,1),)","v":0},null,{"$f":"IF(CB14=3,BS14,)","v":0},{"$f":"(SUMIF(AE$4:AE$54,BS14,BE$4:BE$54)+SUMIF(AG$4:AG$54,BS14,BF$4:BF$54))","v":0},{"$f":"(SUMIF(AE$4:AE$54,BS14,BG$4:BG$54)+SUMIF(AG$4:AG$54,BS14,BH$4:BH$54))","v":0},{"$f":"(SUMIF(AE$4:AE$54,BS14,BI$4:BI$54)+SUMIF(AG$4:AG$54,BS14,BJ$4:BJ$54))","v":0},{"$f":"IFERROR(DT14*3+DU14*1,0)","v":0},{"$f":"CA14","v":"B"},{"$f":"IF(DS14>0,RANK(DW14,DW13:DW16)+CF11+CZ11,)","v":0},{"$f":"IF(AND(DS14>0,COUNTIF(DY13:DY16,DY14)>1),SUMIFS($AH$4:$AH$54,$AE$4:$AE$54,BS14,$K$4:$K$54,3)+SUMIFS($AJ$4:$AJ$54,$AG$4:$AG$54,BS14,$K$4:$K$54,3)-SUMIFS($AJ$4:$AJ$54,$AE$4:$AE$54,BS14,$K$4:$K$54,3)-SUMIFS($AH$4:$AH$54,$AG$4:$AG$54,BS14,$K$4:$K$54,3),)","v":0},{"$f":"IF(AND(DS14>0,COUNTIF(DY13:DY16,DY14)>1),DY14+RANK(DZ14,DZ13:DZ16)-1,DY14)","v":0},{"$f":"IF(AND(DS14>0,COUNTIF(EA13:EA16,EA14)>1),SUMIFS($AH$4:$AH$54,$AE$4:$AE$54,BS14,$K$4:$K$54,3)+SUMIFS($AJ$4:$AJ$54,$AG$4:$AG$54,BS14,$K$4:$K$54,3),)","v":0},{"$f":"IF(AND(DS14>0,COUNTIF(EA13:EA16,EA14)>1),EA14+RANK(EB14,EB13:EB16)-1,EA14)","v":0},{"$f":"IF(EC14=0,\"\",EC14)","v":""},{"$f":"IF(OR(ED14=\"\",COUNTIF(ED13:ED16,ED14)=1),\"\",$BY14)","v":""},{"$f":"IF(ED14=\"\",\"\",IF(COUNTIF(ED13:ED16,ED14)=1,ED14,ED14+RANK(EE14,EE13:EE16,0)-1))","v":""},{"$f":"IF(OR(EF14=\"\",COUNTIF(EF13:EF16,EF14)=1),\"\",$BW14)","v":""},{"$f":"IF(ED14=\"\",\"\",IF(COUNTIF(EF13:EF16,EF14)=1,EF14,EF14+RANK(EG14,EG13:EG16,0)-1))","v":""},{"$f":"IF(OR(EH14=\"\",COUNTIF(EH13:EH16,EH14)=1),\"\",$BT14)","v":""},{"$f":"IF(ED14=\"\",\"\",IF(COUNTIF(EH13:EH16,EH14)=1,EH14,EH14+RANK(EI14,EI13:EI16,0)-1))","v":""},{"$f":"IF(DS14>0,CF11+CZ11+RANK(EJ14,EJ13:EJ16,1),)","v":0},null,{"$f":"IF(CB14=4,BS14,)","v":0},{"$f":"(SUMIF($AE$4:$AE$54,$BS14,$BK$4:$BK$54)+SUMIF($AG$4:$AG$54,$BS14,$BL$4:$BL$54))","v":0},{"$f":"(SUMIF($AE$4:$AE$54,$BS14,$BM$4:$BM$54)+SUMIF($AG$4:$AG$54,$BS14,$BN$4:$BN$54))","v":0},{"$f":"(SUMIF($AE$4:$AE$54,$BS14,$BO$4:$BO$54)+SUMIF($AG$4:$AG$54,$BS14,$BP$4:$BP$54))","v":0},{"$f":"IFERROR(EN14*3+EO14*1,0)","v":0},{"$f":"$CA14","v":"B"},{"$f":"IF(EM14>0,RANK(EQ14,EQ13:EQ16)+CF11+CZ11+DT11,)","v":0},{"$f":"IF(AND(EM14>0,COUNTIF(ES13:ES16,ES14)>1),SUMIFS($AH$4:$AH$54,$AE$4:$AE$54,BS14,$K$4:$K$54,4)+SUMIFS($AJ$4:$AJ$54,$AG$4:$AG$54,BS14,$K$4:$K$54,4)-SUMIFS($AJ$4:$AJ$54,$AE$4:$AE$54,BS14,$K$4:$K$54,4)-SUMIFS($AH$4:$AH$54,$AG$4:$AG$54,BS14,$K$4:$K$54,4),)","v":0},{"$f":"IF(AND(EM14>0,COUNTIF($ES$4:$ES$7,ES14)>1),ES14+RANK(ET14,$ET$4:$ET$7)-1,ES14)","v":0},{"$f":"IF(AND(EM14>0,COUNTIF(EU13:EU16,EU14)>1),SUMIFS($AH$4:$AH$54,$AE$4:$AE$54,BS14,$K$4:$K$54,4)+SUMIFS($AJ$4:$AJ$54,$AG$4:$AG$54,BS14,$K$4:$K$54,4),)","v":0},{"$f":"IF(AND(EM14>0,COUNTIF(EU13:EU16,EU14)>1),EU14+RANK(EV14,EV13:EV16)-1,EU14)","v":0},{"$f":"IF(EW14=0,\"\",EW14)","v":""},{"$f":"IF(OR(EX14=\"\",COUNTIF(EX13:EX16,EX14)=1),\"\",$BY14)","v":""},{"$f":"IF(EX14=\"\",\"\",IF(COUNTIF(EX13:EX16,EX14)=1,EX14,EX14+RANK(EY14,EY13:EY16,0)-1))","v":""},{"$f":"IF(OR(EZ14=\"\",COUNTIF(EZ13:EZ16,EZ14)=1),\"\",$BW14)","v":""},{"$f":"IF(EX14=\"\",\"\",IF(COUNTIF(EZ13:EZ16,EZ14)=1,EZ14,EZ14+RANK(FA14,FA13:FA16,0)-1))","v":""},{"$f":"IF(OR(FB14=\"\",COUNTIF(FB13:FB16,FB14)=1),\"\",$BT14)","v":""},{"$f":"IF(EX14=\"\",\"\",IF(COUNTIF(FB13:FB16,FB14)=1,FB14,FB14+RANK(FC14,FC13:FC16,0)-1))","v":""},{"$f":"IF(EM14>0,CF11+CZ11+DT11+RANK(FD14,FD13:FD16,1),)","v":0},null,{"$f":"IFERROR(VLOOKUP(FI14,CE12:CW16,19,FALSE),IFERROR(VLOOKUP(FI14,CY12:DQ16,19,FALSE),IFERROR(VLOOKUP(FI14,DS12:EK16,19,FALSE),VLOOKUP(FI14,EM12:FE16,19,FALSE))))","v":1},{"$f":"RANK(FG14,FG13:FG16,1)+COUNTIF(FG13:FG14,FG14)-1","v":2},{"$f":"BS14","v":"Danmark"},null,null,null,null,null,null,null,null,null,null,null,null,null,null,13,"BCDF","B","C","D","F",{"$f":"VLOOKUP(\"F\",$FK$3:$FL$9,2,FALSE)","v":"Ungern"},{"$f":"VLOOKUP(\"D\",$FK$3:$FL$9,2,FALSE)","v":"England"},{"$f":"VLOOKUP(\"C\",$FK$3:$FL$9,2,FALSE)","v":"Nord Makedonien"},{"$f":"VLOOKUP(\"B\",$FK$3:$FL$9,2,FALSE)","v":"Finland"},"",11]
[null,null,"2021-06-16","Finland","-","Ryssland",null,"-",null,"",{"$f":"IF(VLOOKUP(D15,BS12:CB16,10,FALSE)=VLOOKUP(F15,BS12:CB16,10,FALSE),VLOOKUP(D15,BS12:CB16,10,FALSE),\"-\")","v":1},null,3,{"$f":"VLOOKUP(M15,FH13:FI16,2,FALSE)","v":"Finland"},{"$f":"VLOOKUP($N15,$BS$13:$BZ$16,2,FALSE)","v":0},{"$f":"VLOOKUP($N15,$BS$13:$BZ$16,3,FALSE)","v":0},{"$f":"VLOOKUP($N15,$BS$13:$BZ$16,4,FALSE)","v":0},{"$f":"VLOOKUP($N15,$BS$13:$BZ$16,5,FALSE)","v":0},{"$f":"VLOOKUP($N15,$BS$13:$BZ$16,6,FALSE)","v":0},{"$f":"VLOOKUP($N15,$BS$13:$BZ$16,7,FALSE)","v":0},{"$f":"VLOOKUP($N15,$BS$13:$BZ$16,8,FALSE)","v":0},null,null,null,null,null,null,null,null,"2021-06-16","Finland","-","Ryssland","","-","","",null,0,0,0,0,0,0,0,0,0,0,0,0,0,0,0,0,0,0,0,0,0,0,0,0,0,0,0,0,0,0,null,null,"Finland",{"$f":"(SUMIF(AE$4:AE$54,BS15,AM$4:AM$54)+SUMIF(AG$4:AG$54,BS15,AN$4:AN$54))","v":0},{"$f":"(SUMIF(AE$4:AE$54,BS15,AO$4:AO$54)+SUMIF(AG$4:AG$54,BS15,AP$4:AP$54))","v":0},{"$f":"(SUMIF(AE$4:AE$54,BS15,AQ$4:AQ$54)+SUMIF(AG$4:AG$54,BS15,AR$4:AR$54))","v":0},{"$f":"SUMIF($AE$4:$AE$54,BS15,$AH$4:$AH$54)+SUMIF($AG$4:$AG$54,BS15,$AJ$4:$AJ$54)","v":0},{"$f":"SUMIF($AE$4:$AE$54,BS15,$AJ$4:$AJ$54)+SUMIF($AG$4:$AG$54,BS15,$AH$4:$AH$54)","v":0},{"$f":"BW15-BX15","v":0},{"$f":"IFERROR(BT15*3+BU15*1,0)","v":0},"B",{"$f":"RANK(BZ15,BZ13:BZ16)","v":1},{"$f":"SUMPRODUCT((BZ13:BZ16=BZ15)*(BY13:BY16>BY15))","v":0},null,{"$f":"IF(CB15=1,BS15,)","v":"Finland"},0,0,0,0,"B",{"$f":"IF(CE15>0,RANK(CI15,CI13:CI16),)","v":1},{"$f":"IF(AND(CE15>0,COUNTIF(CK13:CK16,CK15)>1),SUMIFS($AH$4:$AH$54,$AE$4:$AE$54,BS15,$K$4:$K$54,1)+SUMIFS($AJ$4:$AJ$54,$AG$4:$AG$54,BS15,$K$4:$K$54,1)-SUMIFS($AJ$4:$AJ$54,$AE$4:$AE$54,BS15,$K$4:$K$54,1)-SUMIFS($AH$4:$AH$54,$AG$4:$AG$54,BS15,$K$4:$K$54,1),)","v":0},{"$f":"IF(AND(CE15>0,COUNTIF(CK13:CK16,CK15)>1),CK15+RANK(CL15,CL13:CL16)-1,CK15)","v":1},{"$f":"IF(AND(CE15>0,COUNTIF(CM13:CM16,CM15)>1),SUMIFS($AH$4:$AH$54,$AE$4:$AE$54,BS15,$K$4:$K$54,1)+SUMIFS($AJ$4:$AJ$54,$AG$4:$AG$54,BS15,$K$4:$K$54,1),)","v":0},{"$f":"IF(AND(CE15>0,COUNTIF(CM13:CM16,CM15)>1),CM15+RANK(CN15,CN13:CN16)-1,CM15)","v":1},1,{"$f":"IF(OR(CP15=\"\",COUNTIF(CP13:CP16,CP15)=1),\"\",$BY15)","v":0},{"$f":"IF(CP15=\"\",\"\",IF(COUNTIF(CP13:CP16,CP15)=1,CP15,CP15+RANK(CQ15,CQ13:CQ16,0)-1))","v":1},{"$f":"IF(OR(CR15=\"\",COUNTIF(CR13:CR16,CR15)=1),\"\",$BW15)","v":0},{"$f":"IF(CP15=\"\",\"\",IF(COUNTIF(CR13:CR16,CR15)=1,CR15,CR15+RANK(CS15,CS13:CS16,0)-1))","v":1},{"$f":"IF(OR(CT15=\"\",COUNTIF(CT13:CT16,CT15)=1),\"\",$BT15)","v":0},{"$f":"IF(CP15=\"\",\"\",IF(COUNTIF(CT13:CT16,CT15)=1,CT15,CT15+RANK(CU15,CU13:CU16,0)-1))","v":1},{"$f":"IF(CE15>0,BL11+RANK(CV15,CV13:CV16,1),)","v":1},null,{"$f":"IF(CB15=2,BS15,)","v":0},0,0,0,0,"B",{"$f":"IF(CY15>0,RANK(DC15,DC13:DC16)+CF11,)","v":0},{"$f":"IF(AND(CY15>0,COUNTIF(DE13:DE16,DE15)>1),SUMIFS($AH$4:$AH$54,$AE$4:$AE$54,BS15,$K$4:$K$54,2)+SUMIFS($AJ$4:$AJ$54,$AG$4:$AG$54,BS15,$K$4:$K$54,2)-SUMIFS($AJ$4:$AJ$54,$AE$4:$AE$54,BS15,$K$4:$K$54,2)-SUMIFS($AH$4:$AH$54,$AG$4:$AG$54,BS15,$K$4:$K$54,2),)","v":0},{"$f":"IF(AND(CY15>0,COUNTIF(DE13:DE16,DE15)>1),DE15+RANK(DF15,DF13:DF16)-1,DE15)","v":0},{"$f":"IF(AND(CY15>0,COUNTIF(DG13:DG16,DG15)>1),SUMIFS($AH$4:$AH$54,$AE$4:$AE$54,BS15,$K$4:$K$54,2)+SUMIFS($AJ$4:$AJ$54,$AG$4:$AG$54,BS15,$K$4:$K$54,2),)","v":0},{"$f":"IF(AND(CY15>0,COUNTIF(DG13:DG16,DG15)>1),DG15+RANK(DH15,DH13:DH16)-1,DG15)","v":0},"",{"$f":"IF(OR(DJ15=\"\",COUNTIF(DJ13:DJ16,DJ15)=1),\"\",$BY15)","v":""},{"$f":"IF(DJ15=\"\",\"\",IF(COUNTIF(DJ13:DJ16,DJ15)=1,DJ15,DJ15+RANK(DK15,DK13:DK16,0)-1))","v":""},{"$f":"IF(OR(DL15=\"\",COUNTIF(DL13:DL16,DL15)=1),\"\",$BW15)","v":""},{"$f":"IF(DJ15=\"\",\"\",IF(COUNTIF(DL13:DL16,DL15)=1,DL15,DL15+RANK(DM15,DM13:DM16,0)-1))","v":""},{"$f":"IF(OR(DN15=\"\",COUNTIF(DN13:DN16,DN15)=1),\"\",$BT15)","v":""},{"$f":"IF(DJ15=\"\",\"\",IF(COUNTIF(DN13:DN16,DN15)=1,DN15,DN15+RANK(DO15,DO13:DO16,0)-1))","v":""},{"$f":"IF(CY15>0,CF11+RANK(DP15,DP13:DP16,1),)","v":0},null,{"$f":"IF(CB15=3,BS15,)","v":0},{"$f":"(SUMIF(AE$4:AE$54,BS15,BE$4:BE$54)+SUMIF(AG$4:AG$54,BS15,BF$4:BF$54))","v":0},{"$f":"(SUMIF(AE$4:AE$54,BS15,BG$4:BG$54)+SUMIF(AG$4:AG$54,BS15,BH$4:BH$54))","v":0},{"$f":"(SUMIF(AE$4:AE$54,BS15,BI$4:BI$54)+SUMIF(AG$4:AG$54,BS15,BJ$4:BJ$54))","v":0},0,{"$f":"CA15","v":"B"},{"$f":"IF(DS15>0,RANK(DW15,DW13:DW16)+CF11+CZ11,)","v":0},{"$f":"IF(AND(DS15>0,COUNTIF(DY13:DY16,DY15)>1),SUMIFS($AH$4:$AH$54,$AE$4:$AE$54,BS15,$K$4:$K$54,3)+SUMIFS($AJ$4:$AJ$54,$AG$4:$AG$54,BS15,$K$4:$K$54,3)-SUMIFS($AJ$4:$AJ$54,$AE$4:$AE$54,BS15,$K$4:$K$54,3)-SUMIFS($AH$4:$AH$54,$AG$4:$AG$54,BS15,$K$4:$K$54,3),)","v":0},{"$f":"IF(AND(DS15>0,COUNTIF(DY13:DY16,DY15)>1),DY15+RANK(DZ15,DZ13:DZ16)-1,DY15)","v":0},{"$f":"IF(AND(DS15>0,COUNTIF(EA13:EA16,EA15)>1),SUMIFS($AH$4:$AH$54,$AE$4:$AE$54,BS15,$K$4:$K$54,3)+SUMIFS($AJ$4:$AJ$54,$AG$4:$AG$54,BS15,$K$4:$K$54,3),)","v":0},{"$f":"IF(AND(DS15>0,COUNTIF(EA13:EA16,EA15)>1),EA15+RANK(EB15,EB13:EB16)-1,EA15)","v":0},"",{"$f":"IF(OR(ED15=\"\",COUNTIF(ED13:ED16,ED15)=1),\"\",$BY15)","v":""},{"$f":"IF(ED15=\"\",\"\",IF(COUNTIF(ED13:ED16,ED15)=1,ED15,ED15+RANK(EE15,EE13:EE16,0)-1))","v":""},{"$f":"IF(OR(EF15=\"\",COUNTIF(EF13:EF16,EF15)=1),\"\",$BW15)","v":""},{"$f":"IF(ED15=\"\",\"\",IF(COUNTIF(EF13:EF16,EF15)=1,EF15,EF15+RANK(EG15,EG13:EG16,0)-1))","v":""},{"$f":"IF(OR(EH15=\"\",COUNTIF(EH13:EH16,EH15)=1),\"\",$BT15)","v":""},{"$f":"IF(ED15=\"\",\"\",IF(COUNTIF(EH13:EH16,EH15)=1,EH15,EH15+RANK(EI15,EI13:EI16,0)-1))","v":""},{"$f":"IF(DS15>0,CF11+CZ11+RANK(EJ15,EJ13:EJ16,1),)","v":0},null,{"$f":"IF(CB15=4,BS15,)","v":0},0,0,0,0,"B",{"$f":"IF(EM15>0,RANK(EQ15,EQ13:EQ16)+CF11+CZ11+DT11,)","v":0},{"$f":"IF(AND(EM15>0,COUNTIF(ES13:ES16,ES15)>1),SUMIFS($AH$4:$AH$54,$AE$4:$AE$54,BS15,$K$4:$K$54,4)+SUMIFS($AJ$4:$AJ$54,$AG$4:$AG$54,BS15,$K$4:$K$54,4)-SUMIFS($AJ$4:$AJ$54,$AE$4:$AE$54,BS15,$K$4:$K$54,4)-SUMIFS($AH$4:$AH$54,$AG$4:$AG$54,BS15,$K$4:$K$54,4),)","v":0},0,{"$f":"IF(AND(EM15>0,COUNTIF(EU13:EU16,EU15)>1),SUMIFS($AH$4:$AH$54,$AE$4:$AE$54,BS15,$K$4:$K$54,4)+SUMIFS($AJ$4:$AJ$54,$AG$4:$AG$54,BS15,$K$4:$K$54,4),)","v":0},{"$f":"IF(AND(EM15>0,COUNTIF(EU13:EU16,EU15)>1),EU15+RANK(EV15,EV13:EV16)-1,EU15)","v":0},"",{"$f":"IF(OR(EX15=\"\",COUNTIF(EX13:EX16,EX15)=1),\"\",$BY15)","v":""},{"$f":"IF(EX15=\"\",\"\",IF(COUNTIF(EX13:EX16,EX15)=1,EX15,EX15+RANK(EY15,EY13:EY16,0)-1))","v":""},{"$f":"IF(OR(EZ15=\"\",COUNTIF(EZ13:EZ16,EZ15)=1),\"\",$BW15)","v":""},{"$f":"IF(EX15=\"\",\"\",IF(COUNTIF(EZ13:EZ16,EZ15)=1,EZ15,EZ15+RANK(FA15,FA13:FA16,0)-1))","v":""},{"$f":"IF(OR(FB15=\"\",COUNTIF(FB13:FB16,FB15)=1),\"\",$BT15)","v":""},{"$f":"IF(EX15=\"\",\"\",IF(COUNTIF(FB13:FB16,FB15)=1,FB15,FB15+RANK(FC15,FC13:FC16,0)-1))","v":""},{"$f":"IF(EM15>0,CF11+CZ11+DT11+RANK(FD15,FD13:FD16,1),)","v":0},null,{"$f":"IFERROR(VLOOKUP(FI15,CE12:CW16,19,FALSE),IFERROR(VLOOKUP(FI15,CY12:DQ16,19,FALSE),IFERROR(VLOOKUP(FI15,DS12:EK16,19,FALSE),VLOOKUP(FI15,EM12:FE16,19,FALSE))))","v":1},{"$f":"RANK(FG15,FG13:FG16,1)+COUNTIF(FG13:FG15,FG15)-1","v":3},{"$f":"BS15","v":"Finland"},null,null,null,null,null,null,null,null,null,null,null,null,null,null,14,"BCEF","B","C","E","F",{"$f":"VLOOKUP(\"F\",$FK$3:$FL$9,2,FALSE)","v":"Ungern"},{"$f":"VLOOKUP(\"E\",$FK$3:$FL$9,2,FALSE)","v":"Spanien"},{"$f":"VLOOKUP(\"C\",$FK$3:$FL$9,2,FALSE)","v":"Nord Makedonien"},{"$f":"VLOOKUP(\"B\",$FK$3:$FL$9,2,FALSE)","v":"Finland"},"",12]
[null,null,"2021-06-17","Danmark","-","Belgien",null,"-",null,"",{"$f":"IF(VLOOKUP(D16,BS12:CB16,10,FALSE)=VLOOKUP(F16,BS12:CB16,10,FALSE),VLOOKUP(D16,BS12:CB16,10,FALSE),\"-\")","v":1},null,4,{"$f":"VLOOKUP(M16,FH13:FI16,2,FALSE)","v":"Ryssland"},{"$f":"VLOOKUP($N16,$BS$13:$BZ$16,2,FALSE)","v":0},{"$f":"VLOOKUP($N16,$BS$13:$BZ$16,3,FALSE)","v":0},{"$f":"VLOOKUP($N16,$BS$13:$BZ$16,4,FALSE)","v":0},{"$f":"VLOOKUP($N16,$BS$13:$BZ$16,5,FALSE)","v":0},{"$f":"VLOOKUP($N16,$BS$13:$BZ$16,6,FALSE)","v":0},{"$f":"VLOOKUP($N16,$BS$13:$BZ$16,7,FALSE)","v":0},{"$f":"VLOOKUP($N16,$BS$13:$BZ$16,8,FALSE)","v":0},null,null,null,null,null,null,null,null,"2021-06-17","Danmark","-","Belgien","","-","","",null,0,0,0,0,0,0,0,0,0,0,0,0,0,0,0,0,0,0,0,0,0,0,0,0,0,0,0,0,0,0,null,null,"Ryssland",{"$f":"(SUMIF(AE$4:AE$54,BS16,AM$4:AM$54)+SUMIF(AG$4:AG$54,BS16,AN$4:AN$54))","v":0},{"$f":"(SUMIF(AE$4:AE$54,BS16,AO$4:AO$54)+SUMIF(AG$4:AG$54,BS16,AP$4:AP$54))","v":0},{"$f":"(SUMIF(AE$4:AE$54,BS16,AQ$4:AQ$54)+SUMIF(AG$4:AG$54,BS16,AR$4:AR$54))","v":0},{"$f":"SUMIF($AE$4:$AE$54,BS16,$AH$4:$AH$54)+SUMIF($AG$4:$AG$54,BS16,$AJ$4:$AJ$54)","v":0},{"$f":"SUMIF($AE$4:$AE$54,BS16,$AJ$4:$AJ$54)+SUMIF($AG$4:$AG$54,BS16,$AH$4:$AH$54)","v":0},{"$f":"BW16-BX16","v":0},{"$f":"IFERROR(BT16*3+BU16*1,0)","v":0},"B",{"$f":"RANK(BZ16,BZ13:BZ16)","v":1},{"$f":"SUMPRODUCT((BZ13:BZ16=BZ16)*(BY13:BY16>BY16))","v":0},null,{"$f":"IF(CB16=1,BS16,)","v":"Ryssland"},0,0,0,0,"B",{"$f":"IF(CE16>0,RANK(CI16,CI13:CI16),)","v":1},{"$f":"IF(AND(CE16>0,COUNTIF(CK13:CK16,CK16)>1),SUMIFS($AH$4:$AH$54,$AE$4:$AE$54,BS16,$K$4:$K$54,1)+SUMIFS($AJ$4:$AJ$54,$AG$4:$AG$54,BS16,$K$4:$K$54,1)-SUMIFS($AJ$4:$AJ$54,$AE$4:$AE$54,BS16,$K$4:$K$54,1)-SUMIFS($AH$4:$AH$54,$AG$4:$AG$54,BS16,$K$4:$K$54,1),)","v":0},{"$f":"IF(AND(CE16>0,COUNTIF(CK13:CK16,CK16)>1),CK16+RANK(CL16,CL13:CL16)-1,CK16)","v":1},{"$f":"IF(AND(CE16>0,COUNTIF(CM13:CM16,CM16)>1),SUMIFS($AH$4:$AH$54,$AE$4:$AE$54,BS16,$K$4:$K$54,1)+SUMIFS($AJ$4:$AJ$54,$AG$4:$AG$54,BS16,$K$4:$K$54,1),)","v":0},{"$f":"IF(AND(CE16>0,COUNTIF(CM13:CM16,CM16)>1),CM16+RANK(CN16,CN13:CN16)-1,CM16)","v":1},1,{"$f":"IF(OR(CP16=\"\",COUNTIF(CP13:CP16,CP16)=1),\"\",$BY16)","v":0},{"$f":"IF(CP16=\"\",\"\",IF(COUNTIF(CP13:CP16,CP16)=1,CP16,CP16+RANK(CQ16,CQ13:CQ16,0)-1))","v":1},{"$f":"IF(OR(CR16=\"\",COUNTIF(CR13:CR16,CR16)=1),\"\",$BW16)","v":0},{"$f":"IF(CP16=\"\",\"\",IF(COUNTIF(CR13:CR16,CR16)=1,CR16,CR16+RANK(CS16,CS13:CS16,0)-1))","v":1},{"$f":"IF(OR(CT16=\"\",COUNTIF(CT13:CT16,CT16)=1),\"\",$BT16)","v":0},{"$f":"IF(CP16=\"\",\"\",IF(COUNTIF(CT13:CT16,CT16)=1,CT16,CT16+RANK(CU16,CU13:CU16,0)-1))","v":1},{"$f":"IF(CE16>0,BL11+RANK(CV16,CV13:CV16,1),)","v":1},null,{"$f":"IF(CB16=2,BS16,)","v":0},0,0,0,0,"B",{"$f":"IF(CY16>0,RANK(DC16,DC13:DC16)+CF11,)","v":0},{"$f":"IF(AND(CY16>0,COUNTIF(DE13:DE16,DE16)>1),SUMIFS($AH$4:$AH$54,$AE$4:$AE$54,BS16,$K$4:$K$54,2)+SUMIFS($AJ$4:$AJ$54,$AG$4:$AG$54,BS16,$K$4:$K$54,2)-SUMIFS($AJ$4:$AJ$54,$AE$4:$AE$54,BS16,$K$4:$K$54,2)-SUMIFS($AH$4:$AH$54,$AG$4:$AG$54,BS16,$K$4:$K$54,2),)","v":0},{"$f":"IF(AND(CY16>0,COUNTIF(DE13:DE16,DE16)>1),DE16+RANK(DF16,DF13:DF16)-1,DE16)","v":0},{"$f":"IF(AND(CY16>0,COUNTIF(DG13:DG16,DG16)>1),SUMIFS($AH$4:$AH$54,$AE$4:$AE$54,BS16,$K$4:$K$54,2)+SUMIFS($AJ$4:$AJ$54,$AG$4:$AG$54,BS16,$K$4:$K$54,2),)","v":0},{"$f":"IF(AND(CY16>0,COUNTIF(DG13:DG16,DG16)>1),DG16+RANK(DH16,DH13:DH16)-1,DG16)","v":0},"",{"$f":"IF(OR(DJ16=\"\",COUNTIF(DJ13:DJ16,DJ16)=1),\"\",$BY16)","v":""},{"$f":"IF(DJ16=\"\",\"\",IF(COUNTIF(DJ13:DJ16,DJ16)=1,DJ16,DJ16+RANK(DK16,DK13:DK16,0)-1))","v":""},{"$f":"IF(OR(DL16=\"\",COUNTIF(DL13:DL16,DL16)=1),\"\",$BW16)","v":""},{"$f":"IF(DJ16=\"\",\"\",IF(COUNTIF(DL14:DL17,DL16)=1,DL16,DL16+RANK(DM16,DM14:DM17,0)-1))","v":""},{"$f":"IF(OR(DN16=\"\",COUNTIF(DN13:DN16,DN16)=1),\"\",$BT16)","v":""},{"$f":"IF(DJ16=\"\",\"\",IF(COUNTIF(DN13:DN16,DN16)=1,DN16,DN16+RANK(DO16,DO13:DO16,0)-1))","v":""},{"$f":"IF(CY16>0,CF11+RANK(DP16,DP13:DP16,1),)","v":0},null,{"$f":"IF(CB16=3,BS16,)","v":0},{"$f":"(SUMIF(AE$4:AE$54,BS16,BE$4:BE$54)+SUMIF(AG$4:AG$54,BS16,BF$4:BF$54))","v":0},{"$f":"(SUMIF(AE$4:AE$54,BS16,BG$4:BG$54)+SUMIF(AG$4:AG$54,BS16,BH$4:BH$54))","v":0},{"$f":"(SUMIF(AE$4:AE$54,BS16,BI$4:BI$54)+SUMIF(AG$4:AG$54,BS16,BJ$4:BJ$54))","v":0},0,{"$f":"CA16","v":"B"},{"$f":"IF(DS16>0,RANK(DW16,DW13:DW16)+CF11+CZ11,)","v":0},{"$f":"IF(AND(DS16>0,COUNTIF(DY13:DY16,DY16)>1),SUMIFS($AH$4:$AH$54,$AE$4:$AE$54,BS16,$K$4:$K$54,3)+SUMIFS($AJ$4:$AJ$54,$AG$4:$AG$54,BS16,$K$4:$K$54,3)-SUMIFS($AJ$4:$AJ$54,$AE$4:$AE$54,BS16,$K$4:$K$54,3)-SUMIFS($AH$4:$AH$54,$AG$4:$AG$54,BS16,$K$4:$K$54,3),)","v":0},{"$f":"IF(AND(DS16>0,COUNTIF(DY13:DY16,DY16)>1),DY16+RANK(DZ16,DZ13:DZ16)-1,DY16)","v":0},{"$f":"IF(AND(DS16>0,COUNTIF(EA13:EA16,EA16)>1),SUMIFS($AH$4:$AH$54,$AE$4:$AE$54,BS16,$K$4:$K$54,3)+SUMIFS($AJ$4:$AJ$54,$AG$4:$AG$54,BS16,$K$4:$K$54,3),)","v":0},{"$f":"IF(AND(DS16>0,COUNTIF(EA13:EA16,EA16)>1),EA16+RANK(EB16,EB13:EB16)-1,EA16)","v":0},"",{"$f":"IF(OR(ED16=\"\",COUNTIF(ED13:ED16,ED16)=1),\"\",$BY16)","v":""},{"$f":"IF(ED16=\"\",\"\",IF(COUNTIF(ED13:ED16,ED16)=1,ED16,ED16+RANK(EE16,EE13:EE16,0)-1))","v":""},{"$f":"IF(OR(EF16=\"\",COUNTIF(EF13:EF16,EF16)=1),\"\",$BW16)","v":""},{"$f":"IF(ED16=\"\",\"\",IF(COUNTIF(EF13:EF16,EF16)=1,EF16,EF16+RANK(EG16,EG13:EG16,0)-1))","v":""},{"$f":"IF(OR(EH16=\"\",COUNTIF(EH13:EH16,EH16)=1),\"\",$BT16)","v":""},{"$f":"IF(ED16=\"\",\"\",IF(COUNTIF(EH13:EH16,EH16)=1,EH16,EH16+RANK(EI16,EI13:EI16,0)-1))","v":""},{"$f":"IF(DS16>0,CF11+CZ11+RANK(EJ16,EJ13:EJ16,1),)","v":0},null,{"$f":"IF(CB16=4,BS16,)","v":0},0,0,0,0,"B",{"$f":"IF(EM16>0,RANK(EQ16,EQ13:EQ16)+CF11+CZ11+DT11,)","v":0},{"$f":"IF(AND(EM16>0,COUNTIF(ES13:ES16,ES16)>1),SUMIFS($AH$4:$AH$54,$AE$4:$AE$54,BS16,$K$4:$K$54,4)+SUMIFS($AJ$4:$AJ$54,$AG$4:$AG$54,BS16,$K$4:$K$54,4)-SUMIFS($AJ$4:$AJ$54,$AE$4:$AE$54,BS16,$K$4:$K$54,4)-SUMIFS($AH$4:$AH$54,$AG$4:$AG$54,BS16,$K$4:$K$54,4),)","v":0},0,{"$f":"IF(AND(EM16>0,COUNTIF(EU13:EU16,EU16)>1),SUMIFS($AH$4:$AH$54,$AE$4:$AE$54,BS16,$K$4:$K$54,4)+SUMIFS($AJ$4:$AJ$54,$AG$4:$AG$54,BS16,$K$4:$K$54,4),)","v":0},{"$f":"IF(AND(EM16>0,COUNTIF(EU13:EU16,EU16)>1),EU16+RANK(EV16,EV13:EV16)-1,EU16)","v":0},"",{"$f":"IF(OR(EX16=\"\",COUNTIF(EX13:EX16,EX16)=1),\"\",$BY16)","v":""},{"$f":"IF(EX16=\"\",\"\",IF(COUNTIF(EX13:EX16,EX16)=1,EX16,EX16+RANK(EY16,EY13:EY16,0)-1))","v":""},{"$f":"IF(OR(EZ16=\"\",COUNTIF(EZ13:EZ16,EZ16)=1),\"\",$BW16)","v":""},{"$f":"IF(EX16=\"\",\"\",IF(COUNTIF(EZ13:EZ16,EZ16)=1,EZ16,EZ16+RANK(FA16,FA13:FA16,0)-1))","v":""},{"$f":"IF(OR(FB16=\"\",COUNTIF(FB13:FB16,FB16)=1),\"\",$BT16)","v":""},{"$f":"IF(EX16=\"\",\"\",IF(COUNTIF(FB13:FB16,FB16)=1,FB16,FB16+RANK(FC16,FC13:FC16,0)-1))","v":""},{"$f":"IF(EM16>0,CF11+CZ11+DT11+RANK(FD16,FD13:FD16,1),)","v":0},null,{"$f":"IFERROR(VLOOKUP(FI16,CE12:CW16,19,FALSE),IFERROR(VLOOKUP(FI16,CY12:DQ16,19,FALSE),IFERROR(VLOOKUP(FI16,DS12:EK16,19,FALSE),VLOOKUP(FI16,EM12:FE16,19,FALSE))))","v":1},{"$f":"RANK(FG16,FG13:FG16,1)+COUNTIF(FG13:FG16,FG16)-1","v":4},{"$f":"BS16","v":"Ryssland"},null,null,null,null,null,null,null,null,null,null,null,null,null,null,15,"BDEF","B","D","E","F",{"$f":"VLOOKUP(\"F\",$FK$3:$FL$9,2,FALSE)","v":"Ungern"},{"$f":"VLOOKUP(\"E\",$FK$3:$FL$9,2,FALSE)","v":"Spanien"},{"$f":"VLOOKUP(\"D\",$FK$3:$FL$9,2,FALSE)","v":"England"},{"$f":"VLOOKUP(\"B\",$FK$3:$FL$9,2,FALSE)","v":"Finland"},"",13]
[null,null,"2021-06-21","Finland","-","Belgien",null,"-",null,"",{"$f":"IF(VLOOKUP(D17,BS12:CB16,10,FALSE)=VLOOKUP(F17,BS12:CB16,10,FALSE),VLOOKUP(D17,BS12:CB16,10,FALSE),\"-\")","v":1},null,null,{"$f":"IF(COUNTBLANK(G13:G18)+COUNTBLANK(I13:I18)=0,\"Resultat OK\",\"Fyll i resultat\")","v":"Fyll i resultat"},null,null,null,null,null,null,null,null,null,null,null,null,null,null,null,"2021-06-21","Finland","-","Belgien","","-","","",null,0,0,0,0,0,0,0,0,0,0,0,0,0,0,0,0,0,0,0,0,0,0,0,0,0,0,0,0,0,0,null,null,null,null,null,null,null,null,null,null,null,null,null,null,null,null,null,null,null,null,null,null,null,null,null,null,null,null,null,null,null,null,null,null,null,null,null,null,null,null,null,null,null,null,null,null,null,null,null,null,null,null,null,null,null,null,null,null,null,null,null,null,null,null,null,null,null,null,null,null,null,null,null,null,null,null,null,null,null,null,null,null,null,null,null,null,null,null,null,null,null,null,null,null,null,null,null,null,null,null,null,null,null,null,null,null,null,null,null,null,null,16,"CDEF","C","D","E","F",{"$f":"VLOOKUP(\"F\",$FK$3:$FL$9,2,FALSE)","v":"Ungern"},{"$f":"VLOOKUP(\"E\",$FK$3:$FL$9,2,FALSE)","v":"Spanien"},{"$f":"VLOOKUP(\"D\",$FK$3:$FL$9,2,FALSE)","v":"England"},{"$f":"VLOOKUP(\"C\",$FK$3:$FL$9,2,FALSE)","v":"Nord Makedonien"},"",14]
[null,null,"2021-06-21","Ryssland","-","Danmark",null,"-",null,"",{"$f":"IF(VLOOKUP(D18,BS12:CB16,10,FALSE)=VLOOKUP(F18,BS12:CB16,10,FALSE),VLOOKUP(D18,BS12:CB16,10,FALSE),\"-\")","v":1},null,null,null,null,null,null,null,null,null,null,null,null,null,null,null,null,null,null,"2021-06-21","Ryssland","-","Danmark","","-","","",null,0,0,0,0,0,0,0,0,0,0,0,0,0,0,0,0,0,0,0,0,0,0,0,0,0,0,0,0,0,0,null,null,null,null,null,null,null,null,null,null,null,null,null,null,null,null,null,null,null,null,null,null,null,null,null,null,null,null,null,null,null,null,null,null,null,null,null,null,null,null,null,null,null,null,null,null,null,null,null,null,null,null,null,null,null,null,null,null,null,null,null,null,null,null,null,null,null,null,null,null,null,null,null,null,null,null,null,null,null,null,null,null,null,null,null,null,null,null,null,null,null,null,null,null,null,null,null,null,null,null,null,null,null,null,null,null,null,null,null,null,null,null,null,null,null,null,null,null,null,null,null,null,15]
[null,null,null,null,null,null,null,null,null,null,null,null,null,null,null,null,null,null,null,null,null,null,null,null,null,null,null,null,null,null,null,null,null,null,null,null,null,null,null,null,null,null,null,null,null,null,null,null,null,null,null,null,null,null,null,null,null,null,null,null,null,null,null,null,null,null,null,null,null,null,null,null,null,null,null,null,null,null,null,null,null,null,null,null,null,null,null,null,null,null,null,null,null,null,null,null,null,null,null,null,null,null,null,null,null,null,null,null,null,null,null,null,null,null,null,null,null,null,null,null,null,null,null,null,null,null,null,null,null,null,null,null,null,null,null,null,null,null,null,null,null,null,null,null,null,null,null,null,null,null,null,null,null,null,null,null,null,null,null,null,null,null,null,null,null,null,null,null,null,null,null,null,null,null,null,null,null,null,null,null,null,null,null,null,null,null,null,null,null,null,16]
[null,null,"Grupp C",null,null,null,null,null,null,null,null,null,null,null,null,null,null,null,null,null,null,null,null,null,null,null,null,null,null,"Grupp C",null,null,null,null,null,null,null,null,null,null,null,null,null,null,null,null,null,null,null,null,null,null,null,null,null,null,null,null,null,null,null,null,null,null,null,null,null,null,null,null,"Rank 0",null,null,null,null,null,null,null,null,null,null,null,"Rank 1",{"$f":"COUNTIF(CB22:CB25,1)","v":4},null,null,null,null,null,null,null,null,null,null,null,null,null,null,null,null,null,null,"Rank 2",{"$f":"COUNTIF(CB22:CB25,2)","v":0},null,null,null,null,null,null,null,null,null,null,null,null,null,null,null,null,null,null,"Rank 3",{"$f":"COUNTIF(CB22:CB25,3)","v":0},null,null,null,null,null,null,null,null,null,null,null,null,null,null,null,null,null,null,"Rank 4",{"$f":"COUNTIF(CB22:CB25,4)","v":0},null,null,null,null,null,null,null,null,null,null,null,null,null,null,null,null,null,null,null,null,null,null,null,null,null,null,null,null,null,null,null,null,null,null,null,null,null,null,null,null,null,null,null,null,null,null,17]
[null,null,"Datum","Match",null,null,"Resultat",null,null,"Tecken",null,null,null,"Lag","V","O","F","GM","IM","+/-","P",null,null,null,null,null,null,null,null,"Datum","Match",null,null,"Resultat",null,null,"Tecken","Poäng","V1","V2","O1","O2","F1","F2","V1","V2","O1","O2","F1","F2","V1","V2","O1","O2","F1","F2","V1","V2","O1","O2","F1","F2","V1","V2","O1","O2","F1","F2",null,null,"Lag","V","O","F","GM","IM","+/-","P","Grupp","Rank P","Rank +/-",null,"Lag","V","O","F","P","Grupp","Rank P","+/-","+/- rank","GM","GM rank","Rank internal","+/- all","+/- rank all","GM all","GM rank all","V all","V rank all","Rank all",null,"Lag","V","O","F","P","Grupp","Rank P","+/-","+/- rank","GM","GM rank","Rank internal","+/- all","+/- rank all","GM all","GM rank all","V all","V rank all","Rank all",null,"Lag","V","O","F","P","Grupp","Rank P","+/-","+/- rank","GM","GM rank","Rank internal","+/- all","+/- rank all","GM all","GM rank all","V all","V rank all","Rank all",null,"Lag","V","O","F","P","Grupp","Rank P","+/-","+/- rank","GM","GM rank","Rank internal","+/- all","+/- rank all","GM all","GM rank all","V all","V rank all","Rank all",null,"Rank","Rank Ties",null,null,null,null,null,null,null,null,null,null,null,null,null,null,null,null,null,null,null,null,null,null,null,null,null,null,18]
[null,null,"2021-06-13","Österrike","-","Nord Makedonien",null,"-",null,{"$f":"IF(OR(ISBLANK(G22),ISBLANK(I22)),\"\",IF(G22>I22,1,IF(G22<I22,2,\"X\")))","v":""},{"$f":"IF(VLOOKUP(D22,BS21:CB25,10,FALSE)=VLOOKUP(F22,BS21:CB25,10,FALSE),VLOOKUP(D22,BS21:CB25,10,FALSE),\"-\")","v":1},null,1,{"$f":"VLOOKUP(M22,FH22:FI25,2,FALSE)","v":"Österrike"},{"$f":"VLOOKUP($N22,$BS$22:$BZ$25,2,FALSE)","v":0},{"$f":"VLOOKUP($N22,$BS$22:$BZ$25,3,FALSE)","v":0},{"$f":"VLOOKUP($N22,$BS$22:$BZ$25,4,FALSE)","v":0},{"$f":"VLOOKUP($N22,$BS$22:$BZ$25,5,FALSE)","v":0},{"$f":"VLOOKUP($N22,$BS$22:$BZ$25,6,FALSE)","v":0},{"$f":"VLOOKUP($N22,$BS$22:$BZ$25,7,FALSE)","v":0},{"$f":"VLOOKUP($N22,$BS$22:$BZ$25,8,FALSE)","v":0},null,null,null,null,null,null,null,null,{"$f":"C22","v":"2021-06-13"},"Österrike","-","Nord Makedonien",{"$f":"IF(G22=\"\",\"\",G22)","v":""},"-",{"$f":"IF(I22=\"\",\"\",I22)","v":""},{"$f":"J22","v":""},null,{"$f":"IF(AH22>AJ22,1,0)","v":0},{"$f":"IF(AJ22>AH22,1,0)","v":0},{"$f":"IF(AND(AH22=AJ22,AH22<>\"\"),1,0)","v":0},{"$f":"IF(AND(AH22=AJ22,AH22<>\"\"),1,0)","v":0},{"$f":"IF(AH22<AJ22,1,0)","v":0},{"$f":"IF(AJ22<AH22,1,)","v":0},{"$f":"IF(ISERROR(VLOOKUP(AE22,CE:CE,1,FALSE)),0,1)*IF(ISERROR(VLOOKUP(AG22,CE:CE,1,FALSE)),0,1)*AM22","v":0},{"$f":"IF(ISERROR(VLOOKUP(AE22,CE:CE,1,FALSE)),0,1)*IF(ISERROR(VLOOKUP(AG22,CE:CE,1,FALSE)),0,1)*AN22","v":0},{"$f":"IF(ISERROR(VLOOKUP(AE22,CE:CE,1,FALSE)),0,1)*IF(ISERROR(VLOOKUP(AG22,CE:CE,1,FALSE)),0,1)*AO22","v":0},{"$f":"IF(ISERROR(VLOOKUP(AE22,CE:CE,1,FALSE)),0,1)*IF(ISERROR(VLOOKUP(AG22,CE:CE,1,FALSE)),0,1)*AP22","v":0},{"$f":"IF(ISERROR(VLOOKUP(AE22,CE:CE,1,FALSE)),0,1)*IF(ISERROR(VLOOKUP(AG22,CE:CE,1,FALSE)),0,1)*AQ22","v":0},{"$f":"IF(ISERROR(VLOOKUP(AE22,CE:CE,1,FALSE)),0,1)*IF(ISERROR(VLOOKUP(AG22,CE:CE,1,FALSE)),0,1)*AR22","v":0},{"$f":"IF(ISERROR(VLOOKUP(AE22,CY:CY,1,FALSE)),0,1)*IF(ISERROR(VLOOKUP(AG22,CY:CY,1,FALSE)),0,1)*AM22","v":0},{"$f":"IF(ISERROR(VLOOKUP(AE22,CY:CY,1,FALSE)),0,1)*IF(ISERROR(VLOOKUP(AG22,CY:CY,1,FALSE)),0,1)*AN22","v":0},{"$f":"IF(ISERROR(VLOOKUP(AE22,CY:CY,1,FALSE)),0,1)*IF(ISERROR(VLOOKUP(AG22,CY:CY,1,FALSE)),0,1)*AO22","v":0},{"$f":"IF(ISERROR(VLOOKUP(AE22,CY:CY,1,FALSE)),0,1)*IF(ISERROR(VLOOKUP(AG22,CY:CY,1,FALSE)),0,1)*AP22","v":0},{"$f":"IF(ISERROR(VLOOKUP(AE22,CY:CY,1,FALSE)),0,1)*IF(ISERROR(VLOOKUP(AG22,CY:CY,1,FALSE)),0,1)*AQ22","v":0},{"$f":"IF(ISERROR(VLOOKUP(AE22,CY:CY,1,FALSE)),0,1)*IF(ISERROR(VLOOKUP(AG22,CY:CY,1,FALSE)),0,1)*AR22","v":0},{"$f":"IF(ISERROR(VLOOKUP(AE22,DS:DS,1,FALSE)),0,1)*IF(ISERROR(VLOOKUP(AG22,DS:DS,1,FALSE)),0,1)*AM22","v":0},{"$f":"IF(ISERROR(VLOOKUP(AE22,DS:DS,1,FALSE)),0,1)*IF(ISERROR(VLOOKUP(AG22,DS:DS,1,FALSE)),0,1)*AN22","v":0},{"$f":"IF(ISERROR(VLOOKUP(AE22,DS:DS,1,FALSE)),0,1)*IF(ISERROR(VLOOKUP(AG22,DS:DS,1,FALSE)),0,1)*AO22","v":0},{"$f":"IF(ISERROR(VLOOKUP(AE22,DS:DS,1,FALSE)),0,1)*IF(ISERROR(VLOOKUP(AG22,DS:DS,1,FALSE)),0,1)*AP22","v":0},{"$f":"IF(ISERROR(VLOOKUP(AE22,DS:DS,1,FALSE)),0,1)*IF(ISERROR(VLOOKUP(AG22,DS:DS,1,FALSE)),0,1)*AQ22","v":0},{"$f":"IF(ISERROR(VLOOKUP(AE22,DS:DS,1,FALSE)),0,1)*IF(ISERROR(VLOOKUP(AG22,DS:DS,1,FALSE)),0,1)*AR22","v":0},{"$f":"IF(ISERROR(VLOOKUP(AE22,EM:EM,1,FALSE)),0,1)*IF(ISERROR(VLOOKUP(AG22,EM:EM,1,FALSE)),0,1)*AM22","v":0},{"$f":"IF(ISERROR(VLOOKUP(AE22,EM:EM,1,FALSE)),0,1)*IF(ISERROR(VLOOKUP(AG22,EM:EM,1,FALSE)),0,1)*AN22","v":0},{"$f":"IF(ISERROR(VLOOKUP(AE22,EM:EM,1,FALSE)),0,1)*IF(ISERROR(VLOOKUP(AG22,EM:EM,1,FALSE)),0,1)*AO22","v":0},{"$f":"IF(ISERROR(VLOOKUP(AE22,EM:EM,1,FALSE)),0,1)*IF(ISERROR(VLOOKUP(AG22,EM:EM,1,FALSE)),0,1)*AP22","v":0},{"$f":"IF(ISERROR(VLOOKUP(AE22,EM:EM,1,FALSE)),0,1)*IF(ISERROR(VLOOKUP(AG22,EM:EM,1,FALSE)),0,1)*AQ22","v":0},{"$f":"IF(ISERROR(VLOOKUP(AE22,EM:EM,1,FALSE)),0,1)*IF(ISERROR(VLOOKUP(AG22,EM:EM,1,FALSE)),0,1)*AR22","v":0},null,null,"Österrike",{"$f":"(SUMIF(AE$4:AE$54,BS22,AM$4:AM$54)+SUMIF(AG$4:AG$54,BS22,AN$4:AN$54))","v":0},{"$f":"(SUMIF(AE$4:AE$54,BS22,AO$4:AO$54)+SUMIF(AG$4:AG$54,BS22,AP$4:AP$54))","v":0},{"$f":"(SUMIF(AE$4:AE$54,BS22,AQ$4:AQ$54)+SUMIF(AG$4:AG$54,BS22,AR$4:AR$54))","v":0},{"$f":"SUMIF($AE$4:$AE$54,BS22,$AH$4:$AH$54)+SUMIF($AG$4:$AG$54,BS22,$AJ$4:$AJ$54)","v":0},{"$f":"SUMIF($AE$4:$AE$54,BS22,$AJ$4:$AJ$54)+SUMIF($AG$4:$AG$54,BS22,$AH$4:$AH$54)","v":0},{"$f":"BW22-BX22","v":0},{"$f":"IFERROR(BT22*3+BU22*1,0)","v":0},"C",{"$f":"RANK(BZ22,BZ22:BZ25)","v":1},{"$f":"SUMPRODUCT((BZ22:BZ25=BZ22)*(BY22:BY25>BY22))","v":0},null,{"$f":"IF(CB22=1,BS22,)","v":"Österrike"},{"$f":"(SUMIF($AE$4:$AE$54,$BS22,$AS$4:$AS$54)+SUMIF($AG$4:$AG$54,$BS22,$AT$4:$AT$54))","v":0},{"$f":"(SUMIF($AE$4:$AE$54,$BS22,$AU$4:$AU$54)+SUMIF($AG$4:$AG$54,$BS22,$AV$4:$AV$54))","v":0},{"$f":"(SUMIF($AE$4:$AE$54,$BS22,$AW$4:$AW$54)+SUMIF($AG$4:$AG$54,$BS22,$AX$4:$AX$54))","v":0},{"$f":"IFERROR(CF22*3+CG22*1,0)","v":0},{"$f":"CA22","v":"C"},{"$f":"IF(CE22>0,RANK(CI22,CI22:CI25),)","v":1},{"$f":"IF(AND(CE22>0,COUNTIF(CK22:CK25,CK22)>1),SUMIFS($AH$4:$AH$54,$AE$4:$AE$54,$BS22,$K$4:$K$54,1)+SUMIFS($AJ$4:$AJ$54,$AG$4:$AG$54,$BS22,$K$4:$K$54,1)-SUMIFS($AJ$4:$AJ$54,$AE$4:$AE$54,$BS22,$K$4:$K$54,1)-SUMIFS($AH$4:$AH$54,$AG$4:$AG$54,$BS22,$K$4:$K$54,1),)","v":0},{"$f":"IF(AND(CE22>0,COUNTIF(CK22:CK25,CK22)>1),CK22+RANK(CL22,CL22:CL25)-1,CK22)","v":1},{"$f":"IF(AND(CE22>0,COUNTIF(CM22:CM25,CM22)>1),SUMIFS($AH$4:$AH$54,$AE$4:$AE$54,$BS22,$K$4:$K$54,1)+SUMIFS($AJ$4:$AJ$54,$AG$4:$AG$54,$BS22,$K$4:$K$54,1),)","v":0},{"$f":"IF(AND(CE22>0,COUNTIF(CM22:CM25,CM22)>1),CM22+RANK(CN22,CN22:CN25)-1,CM22)","v":1},{"$f":"IF(CO22=0,\"\",CO22)","v":1},{"$f":"IF(OR(CP22=\"\",COUNTIF(CP22:CP25,CP22)=1),\"\",$BY22)","v":0},{"$f":"IF(CP22=\"\",\"\",IF(COUNTIF(CP22:CP25,CP22)=1,CP22,CP22+RANK(CQ22,CQ22:CQ25,0)-1))","v":1},{"$f":"IF(OR(CR22=\"\",COUNTIF(CR22:CR25,CR22)=1),\"\",$BW22)","v":0},{"$f":"IF(CP22=\"\",\"\",IF(COUNTIF(CR22:CR25,CR22)=1,CR22,CR22+RANK(CS22,CS22:CS25,0)-1))","v":1},{"$f":"IF(OR(CT22=\"\",COUNTIF(CT22:CT25,CT22)=1),\"\",$BT22)","v":0},{"$f":"IF(CP22=\"\",\"\",IF(COUNTIF(CT22:CT25,CT22)=1,CT22,CT22+RANK(CU22,CU22:CU25,0)-1))","v":1},{"$f":"IF(CE22>0,BL20+RANK(CV22,CV22:CV25,1),)","v":1},null,{"$f":"IF(CB22=2,BS22,)","v":0},{"$f":"(SUMIF($AE$4:$AE$54,$BS22,$AY$4:$AY$54)+SUMIF($AG$4:$AG$54,$BS22,$AZ$4:$AZ$54))","v":0},{"$f":"(SUMIF($AE$4:$AE$54,$BS22,$BA$4:$BA$54)+SUMIF($AG$4:$AG$54,$BS22,$BB$4:$BB$54))","v":0},{"$f":"(SUMIF($AE$4:$AE$54,$BS22,$BC$4:$BC$54)+SUMIF($AG$4:$AG$54,$BS22,$BD$4:$BD$54))","v":0},{"$f":"IFERROR(CZ22*3+DA22*1,0)","v":0},{"$f":"$CA22","v":"C"},{"$f":"IF(CY22>0,RANK(DC22,DC22:DC25)+CF20,)","v":0},{"$f":"IF(AND(CY22>0,COUNTIF(DE22:DE25,DE22)>1),SUMIFS($AH$4:$AH$54,$AE$4:$AE$54,$BS22,$K$4:$K$54,2)+SUMIFS($AJ$4:$AJ$54,$AG$4:$AG$54,$BS22,$K$4:$K$54,2)-SUMIFS($AJ$4:$AJ$54,$AE$4:$AE$54,$BS22,$K$4:$K$54,2)-SUMIFS($AH$4:$AH$54,$AG$4:$AG$54,$BS22,$K$4:$K$54,2),)","v":0},{"$f":"IF(AND(CY22>0,COUNTIF(DE22:DE25,DE22)>1),DE22+RANK(DF22,DF22:DF25)-1,DE22)","v":0},{"$f":"IF(AND(CY22>0,COUNTIF(DG22:DG25,DG22)>1),SUMIFS($AH$4:$AH$54,$AE$4:$AE$54,$BS22,$K$4:$K$54,2)+SUMIFS($AJ$4:$AJ$54,$AG$4:$AG$54,$BS22,$K$4:$K$54,2),)","v":0},{"$f":"IF(AND(CY22>0,COUNTIF(DG22:DG25,DG22)>1),DG22+RANK(DH22,DH22:DH25)-1,DG22)","v":0},{"$f":"IF(DI22=0,\"\",DI22)","v":""},{"$f":"IF(OR(DJ22=\"\",COUNTIF(DJ22:DJ25,DJ22)=1),\"\",$BY22)","v":""},{"$f":"IF(DJ22=\"\",\"\",IF(COUNTIF(DJ22:DJ25,DJ22)=1,DJ22,DJ22+RANK(DK22,DK22:DK25,0)-1))","v":""},{"$f":"IF(OR(DL22=\"\",COUNTIF(DL22:DL25,DL22)=1),\"\",$BW22)","v":""},{"$f":"IF(DJ22=\"\",\"\",IF(COUNTIF(DL22:DL25,DL22)=1,DL22,DL22+RANK(DM22,DM22:DM25,0)-1))","v":""},{"$f":"IF(OR(DN22=\"\",COUNTIF(DN22:DN25,DN22)=1),\"\",$BT22)","v":""},{"$f":"IF(DJ22=\"\",\"\",IF(COUNTIF(DN22:DN25,DN22)=1,DN22,DN22+RANK(DO22,DO22:DO25,0)-1))","v":""},{"$f":"IF(CY22>0,CF20+RANK(DP22,DP22:DP25,1),)","v":0},null,{"$f":"IF(CB22=3,BS22,)","v":0},{"$f":"(SUMIF($AE$4:$AE$54,BS22,$BE$4:$BE$54)+SUMIF($AG$4:$AG$54,BS22,$BF$4:$BF$54))","v":0},{"$f":"(SUMIF($AE$4:$AE$54,BS22,$BG$4:$BG$54)+SUMIF($AG$4:$AG$54,BS22,$BH$4:$BH$54))","v":0},{"$f":"(SUMIF($AE$4:$AE$54,BS22,$BI$4:$BI$54)+SUMIF($AG$4:$AG$54,BS22,$BJ$4:$BJ$54))","v":0},{"$f":"IFERROR(DT22*3+DU22*1,0)","v":0},{"$f":"CA22","v":"C"},{"$f":"IF(DS22>0,RANK(DW22,DW22:DW25)+CF20+CZ20,)","v":0},{"$f":"IF(AND(DS22>0,COUNTIF(DY22:DY25,DY22)>1),SUMIFS($AH$4:$AH$54,$AE$4:$AE$54,$BS22,$K$4:$K$54,3)+SUMIFS($AJ$4:$AJ$54,$AG$4:$AG$54,$BS22,$K$4:$K$54,3)-SUMIFS($AJ$4:$AJ$54,$AE$4:$AE$54,$BS22,$K$4:$K$54,3)-SUMIFS($AH$4:$AH$54,$AG$4:$AG$54,$BS22,$K$4:$K$54,3),)","v":0},{"$f":"IF(AND(DS22>0,COUNTIF(DY22:DY25,DY22)>1),DY22+RANK(DZ22,DZ22:DZ25)-1,DY22)","v":0},{"$f":"IF(AND(DS22>0,COUNTIF(EA22:EA25,EA22)>1),SUMIFS($AH$4:$AH$54,$AE$4:$AE$54,$BS22,$K$4:$K$54,3)+SUMIFS($AJ$4:$AJ$54,$AG$4:$AG$54,$BS22,$K$4:$K$54,3),)","v":0},{"$f":"IF(AND(DS22>0,COUNTIF(EA22:EA25,EA22)>1),EA22+RANK(EB22,EB22:EB25)-1,EA22)","v":0},{"$f":"IF(EC22=0,\"\",EC22)","v":""},{"$f":"IF(OR(ED22=\"\",COUNTIF(ED22:ED25,ED22)=1),\"\",$BY22)","v":""},{"$f":"IF(ED22=\"\",\"\",IF(COUNTIF(ED22:ED25,ED22)=1,ED22,ED22+RANK(EE22,EE22:EE25,0)-1))","v":""},{"$f":"IF(OR(EF22=\"\",COUNTIF(EF22:EF25,EF22)=1),\"\",$BW22)","v":""},{"$f":"IF(ED22=\"\",\"\",IF(COUNTIF(EF22:EF25,EF22)=1,EF22,EF22+RANK(EG22,EG22:EG25,0)-1))","v":""},{"$f":"IF(OR(EH22=\"\",COUNTIF(EH22:EH25,EH22)=1),\"\",$BT22)","v":""},{"$f":"IF(ED22=\"\",\"\",IF(COUNTIF(EH22:EH25,EH22)=1,EH22,EH22+RANK(EI22,EI22:EI25,0)-1))","v":""},{"$f":"IF(DS22>0,CF20+CZ20+RANK(EJ22,EJ22:EJ25,1),)","v":0},null,{"$f":"IF(CB22=4,BS22,)","v":0},{"$f":"(SUMIF($AE$4:$AE$54,$BS22,$BK$4:$BK$54)+SUMIF($AG$4:$AG$54,$BS22,$BL$4:$BL$54))","v":0},{"$f":"(SUMIF($AE$4:$AE$54,$BS22,$BM$4:$BM$54)+SUMIF($AG$4:$AG$54,$BS22,$BN$4:$BN$54))","v":0},{"$f":"(SUMIF($AE$4:$AE$54,$BS22,$BO$4:$BO$54)+SUMIF($AG$4:$AG$54,$BS22,$BP$4:$BP$54))","v":0},{"$f":"IFERROR(EN22*3+EO22*1,0)","v":0},{"$f":"$CA22","v":"C"},{"$f":"IF(EM22>0,RANK(EQ22,EQ22:EQ25)+CF20+CZ20+DT20,)","v":0},{"$f":"IF(AND(EM22>0,COUNTIF(ES22:ES25,ES22)>1),SUMIFS($AH$4:$AH$54,$AE$4:$AE$54,$BS22,$K$4:$K$54,4)+SUMIFS($AJ$4:$AJ$54,$AG$4:$AG$54,$BS22,$K$4:$K$54,4)-SUMIFS($AJ$4:$AJ$54,$AE$4:$AE$54,$BS22,$K$4:$K$54,4)-SUMIFS($AH$4:$AH$54,$AG$4:$AG$54,$BS22,$K$4:$K$54,4),)","v":0},{"$f":"IF(AND(EM22>0,COUNTIF($ES$4:$ES$7,ES22)>1),ES22+RANK(ET22,$ET$4:$ET$7)-1,ES22)","v":0},{"$f":"IF(AND(EM22>0,COUNTIF(EU22:EU25,EU22)>1),SUMIFS($AH$4:$AH$54,$AE$4:$AE$54,$BS22,$K$4:$K$54,4)+SUMIFS($AJ$4:$AJ$54,$AG$4:$AG$54,$BS22,$K$4:$K$54,4),)","v":0},{"$f":"IF(AND(EM22>0,COUNTIF(EU22:EU25,EU22)>1),EU22+RANK(EV22,EV22:EV25)-1,EU22)","v":0},{"$f":"IF(EW22=0,\"\",EW22)","v":""},{"$f":"IF(OR(EX22=\"\",COUNTIF(EX22:EX25,EX22)=1),\"\",$BY22)","v":""},{"$f":"IF(EX22=\"\",\"\",IF(COUNTIF(EX22:EX25,EX22)=1,EX22,EX22+RANK(EY22,EY22:EY25,0)-1))","v":""},{"$f":"IF(OR(EZ22=\"\",COUNTIF(EZ22:EZ25,EZ22)=1),\"\",$BW22)","v":""},{"$f":"IF(EX22=\"\",\"\",IF(COUNTIF(EZ22:EZ25,EZ22)=1,EZ22,EZ22+RANK(FA22,FA22:FA25,0)-1))","v":""},{"$f":"IF(OR(FB22=\"\",COUNTIF(FB22:FB25,FB22)=1),\"\",$BT22)","v":""},{"$f":"IF(EX22=\"\",\"\",IF(COUNTIF(FB22:FB25,FB22)=1,FB22,FB22+RANK(FC22,FC22:FC25,0)-1))","v":""},{"$f":"IF(EM22>0,CF20+CZ20+DT20+RANK(FD22,FD22:FD25,1),)","v":0},null,{"$f":"IFERROR(VLOOKUP(FI22,CE21:CW25,19,FALSE),IFERROR(VLOOKUP(FI22,CY21:DQ25,19,FALSE),IFERROR(VLOOKUP(FI22,DS21:EK25,19,FALSE),VLOOKUP(FI22,EM21:FE25,19,FALSE))))","v":1},{"$f":"RANK(FG22,FG22:FG25,1)+COUNTIF(FG22:FG22,FG22)-1","v":1},{"$f":"BS22","v":"Österrike"},null,null,null,null,null,null,null,null,null,null,null,null,null,null,null,null,null,null,null,null,null,null,null,null,null,19]
[null,null,"2021-06-13","Nederländerna","-","Ukraina",null,"-",null,{"$f":"IF(OR(ISBLANK(G23),ISBLANK(I23)),\"\",IF(G23>I23,1,IF(G23<I23,2,\"X\")))","v":""},{"$f":"IF(VLOOKUP(D23,BS21:CB25,10,FALSE)=VLOOKUP(F23,BS21:CB25,10,FALSE),VLOOKUP(D23,BS21:CB25,10,FALSE),\"-\")","v":1},null,2,{"$f":"VLOOKUP(M23,FH22:FI25,2,FALSE)","v":"Nederländerna"},{"$f":"VLOOKUP($N23,$BS$22:$BZ$25,2,FALSE)","v":0},{"$f":"VLOOKUP($N23,$BS$22:$BZ$25,3,FALSE)","v":0},{"$f":"VLOOKUP($N23,$BS$22:$BZ$25,4,FALSE)","v":0},{"$f":"VLOOKUP($N23,$BS$22:$BZ$25,5,FALSE)","v":0},{"$f":"VLOOKUP($N23,$BS$22:$BZ$25,6,FALSE)","v":0},{"$f":"VLOOKUP($N23,$BS$22:$BZ$25,7,FALSE)","v":0},{"$f":"VLOOKUP($N23,$BS$22:$BZ$25,8,FALSE)","v":0},null,null,null,null,null,null,null,null,"2021-06-13","Nederländerna","-","Ukraina","","-","","",null,0,0,0,0,0,0,0,0,0,0,0,0,0,0,0,0,0,0,0,0,0,0,0,0,0,0,0,0,0,0,null,null,"Nederländerna",{"$f":"(SUMIF(AE$4:AE$54,BS23,AM$4:AM$54)+SUMIF(AG$4:AG$54,BS23,AN$4:AN$54))","v":0},{"$f":"(SUMIF(AE$4:AE$54,BS23,AO$4:AO$54)+SUMIF(AG$4:AG$54,BS23,AP$4:AP$54))","v":0},{"$f":"(SUMIF(AE$4:AE$54,BS23,AQ$4:AQ$54)+SUMIF(AG$4:AG$54,BS23,AR$4:AR$54))","v":0},{"$f":"SUMIF($AE$4:$AE$54,BS23,$AH$4:$AH$54)+SUMIF($AG$4:$AG$54,BS23,$AJ$4:$AJ$54)","v":0},{"$f":"SUMIF($AE$4:$AE$54,BS23,$AJ$4:$AJ$54)+SUMIF($AG$4:$AG$54,BS23,$AH$4:$AH$54)","v":0},{"$f":"BW23-BX23","v":0},{"$f":"IFERROR(BT23*3+BU23*1,0)","v":0},"C",{"$f":"RANK(BZ23,BZ22:BZ25)","v":1},{"$f":"SUMPRODUCT((BZ22:BZ25=BZ23)*(BY22:BY25>BY23))","v":0},null,{"$f":"IF(CB23=1,BS23,)","v":"Nederländerna"},{"$f":"(SUMIF($AE$4:$AE$54,$BS23,$AS$4:$AS$54)+SUMIF($AG$4:$AG$54,$BS23,$AT$4:$AT$54))","v":0},{"$f":"(SUMIF($AE$4:$AE$54,$BS23,$AU$4:$AU$54)+SUMIF($AG$4:$AG$54,$BS23,$AV$4:$AV$54))","v":0},{"$f":"(SUMIF($AE$4:$AE$54,$BS23,$AW$4:$AW$54)+SUMIF($AG$4:$AG$54,$BS23,$AX$4:$AX$54))","v":0},{"$f":"IFERROR(CF23*3+CG23*1,0)","v":0},{"$f":"CA23","v":"C"},{"$f":"IF(CE23>0,RANK(CI23,CI22:CI25),)","v":1},{"$f":"IF(AND(CE23>0,COUNTIF(CK22:CK25,CK23)>1),SUMIFS($AH$4:$AH$54,$AE$4:$AE$54,BS23,$K$4:$K$54,1)+SUMIFS($AJ$4:$AJ$54,$AG$4:$AG$54,BS23,$K$4:$K$54,1)-SUMIFS($AJ$4:$AJ$54,$AE$4:$AE$54,BS23,$K$4:$K$54,1)-SUMIFS($AH$4:$AH$54,$AG$4:$AG$54,BS23,$K$4:$K$54,1),)","v":0},{"$f":"IF(AND(CE23>0,COUNTIF(CK22:CK25,CK23)>1),CK23+RANK(CL23,CL22:CL25)-1,CK23)","v":1},{"$f":"IF(AND(CE23>0,COUNTIF(CM22:CM25,CM23)>1),SUMIFS($AH$4:$AH$54,$AE$4:$AE$54,BS23,$K$4:$K$54,1)+SUMIFS($AJ$4:$AJ$54,$AG$4:$AG$54,BS23,$K$4:$K$54,1),)","v":0},{"$f":"IF(AND(CE23>0,COUNTIF(CM22:CM25,CM23)>1),CM23+RANK(CN23,CN22:CN25)-1,CM23)","v":1},{"$f":"IF(CO23=0,\"\",CO23)","v":1},{"$f":"IF(OR(CP23=\"\",COUNTIF(CP22:CP25,CP23)=1),\"\",$BY23)","v":0},{"$f":"IF(CP23=\"\",\"\",IF(COUNTIF(CP22:CP25,CP23)=1,CP23,CP23+RANK(CQ23,CQ22:CQ25,0)-1))","v":1},{"$f":"IF(OR(CR23=\"\",COUNTIF(CR22:CR25,CR23)=1),\"\",$BW23)","v":0},{"$f":"IF(CP23=\"\",\"\",IF(COUNTIF(CR22:CR25,CR23)=1,CR23,CR23+RANK(CS23,CS22:CS25,0)-1))","v":1},{"$f":"IF(OR(CT23=\"\",COUNTIF(CT22:CT25,CT23)=1),\"\",$BT23)","v":0},{"$f":"IF(CP23=\"\",\"\",IF(COUNTIF(CT22:CT25,CT23)=1,CT23,CT23+RANK(CU23,CU22:CU25,0)-1))","v":1},{"$f":"IF(CE23>0,BL20+RANK(CV23,CV22:CV25,1),)","v":1},null,{"$f":"IF(CB23=2,BS23,)","v":0},{"$f":"(SUMIF($AE$4:$AE$54,$BS23,$AY$4:$AY$54)+SUMIF($AG$4:$AG$54,$BS23,$AZ$4:$AZ$54))","v":0},{"$f":"(SUMIF($AE$4:$AE$54,$BS23,$BA$4:$BA$54)+SUMIF($AG$4:$AG$54,$BS23,$BB$4:$BB$54))","v":0},{"$f":"(SUMIF($AE$4:$AE$54,$BS23,$BC$4:$BC$54)+SUMIF($AG$4:$AG$54,$BS23,$BD$4:$BD$54))","v":0},{"$f":"IFERROR(CZ23*3+DA23*1,0)","v":0},{"$f":"$CA23","v":"C"},{"$f":"IF(CY23>0,RANK(DC23,DC22:DC25)+CF20,)","v":0},{"$f":"IF(AND(CY23>0,COUNTIF(DE22:DE25,DE23)>1),SUMIFS($AH$4:$AH$54,$AE$4:$AE$54,BS23,$K$4:$K$54,2)+SUMIFS($AJ$4:$AJ$54,$AG$4:$AG$54,BS23,$K$4:$K$54,2)-SUMIFS($AJ$4:$AJ$54,$AE$4:$AE$54,BS23,$K$4:$K$54,2)-SUMIFS($AH$4:$AH$54,$AG$4:$AG$54,BS23,$K$4:$K$54,2),)","v":0},{"$f":"IF(AND(CY23>0,COUNTIF(DE22:DE25,DE23)>1),DE23+RANK(DF23,DF22:DF25)-1,DE23)","v":0},{"$f":"IF(AND(CY23>0,COUNTIF(DG22:DG25,DG23)>1),SUMIFS($AH$4:$AH$54,$AE$4:$AE$54,BS23,$K$4:$K$54,2)+SUMIFS($AJ$4:$AJ$54,$AG$4:$AG$54,BS23,$K$4:$K$54,2),)","v":0},{"$f":"IF(AND(CY23>0,COUNTIF(DG22:DG25,DG23)>1),DG23+RANK(DH23,DH22:DH25)-1,DG23)","v":0},{"$f":"IF(DI23=0,\"\",DI23)","v":""},{"$f":"IF(OR(DJ23=\"\",COUNTIF(DJ22:DJ25,DJ23)=1),\"\",$BY23)","v":""},{"$f":"IF(DJ23=\"\",\"\",IF(COUNTIF(DJ22:DJ25,DJ23)=1,DJ23,DJ23+RANK(DK23,DK22:DK25,0)-1))","v":""},{"$f":"IF(OR(DL23=\"\",COUNTIF(DL22:DL25,DL23)=1),\"\",$BW23)","v":""},{"$f":"IF(DJ23=\"\",\"\",IF(COUNTIF(DL22:DL25,DL23)=1,DL23,DL23+RANK(DM23,DM22:DM25,0)-1))","v":""},{"$f":"IF(OR(DN23=\"\",COUNTIF(DN22:DN25,DN23)=1),\"\",$BT23)","v":""},{"$f":"IF(DJ23=\"\",\"\",IF(COUNTIF(DN22:DN25,DN23)=1,DN23,DN23+RANK(DO23,DO22:DO25,0)-1))","v":""},{"$f":"IF(CY23>0,CF20+RANK(DP23,DP22:DP25,1),)","v":0},null,{"$f":"IF(CB23=3,BS23,)","v":0},{"$f":"(SUMIF(AE$4:AE$54,BS23,BE$4:BE$54)+SUMIF(AG$4:AG$54,BS23,BF$4:BF$54))","v":0},{"$f":"(SUMIF(AE$4:AE$54,BS23,BG$4:BG$54)+SUMIF(AG$4:AG$54,BS23,BH$4:BH$54))","v":0},{"$f":"(SUMIF(AE$4:AE$54,BS23,BI$4:BI$54)+SUMIF(AG$4:AG$54,BS23,BJ$4:BJ$54))","v":0},{"$f":"IFERROR(DT23*3+DU23*1,0)","v":0},{"$f":"CA23","v":"C"},{"$f":"IF(DS23>0,RANK(DW23,DW22:DW25)+CF20+CZ20,)","v":0},{"$f":"IF(AND(DS23>0,COUNTIF(DY22:DY25,DY23)>1),SUMIFS($AH$4:$AH$54,$AE$4:$AE$54,BS23,$K$4:$K$54,3)+SUMIFS($AJ$4:$AJ$54,$AG$4:$AG$54,BS23,$K$4:$K$54,3)-SUMIFS($AJ$4:$AJ$54,$AE$4:$AE$54,BS23,$K$4:$K$54,3)-SUMIFS($AH$4:$AH$54,$AG$4:$AG$54,BS23,$K$4:$K$54,3),)","v":0},{"$f":"IF(AND(DS23>0,COUNTIF(DY22:DY25,DY23)>1),DY23+RANK(DZ23,DZ22:DZ25)-1,DY23)","v":0},{"$f":"IF(AND(DS23>0,COUNTIF(EA22:EA25,EA23)>1),SUMIFS($AH$4:$AH$54,$AE$4:$AE$54,BS23,$K$4:$K$54,3)+SUMIFS($AJ$4:$AJ$54,$AG$4:$AG$54,BS23,$K$4:$K$54,3),)","v":0},{"$f":"IF(AND(DS23>0,COUNTIF(EA22:EA25,EA23)>1),EA23+RANK(EB23,EB22:EB25)-1,EA23)","v":0},{"$f":"IF(EC23=0,\"\",EC23)","v":""},{"$f":"IF(OR(ED23=\"\",COUNTIF(ED22:ED25,ED23)=1),\"\",$BY23)","v":""},{"$f":"IF(ED23=\"\",\"\",IF(COUNTIF(ED22:ED25,ED23)=1,ED23,ED23+RANK(EE23,EE22:EE25,0)-1))","v":""},{"$f":"IF(OR(EF23=\"\",COUNTIF(EF22:EF25,EF23)=1),\"\",$BW23)","v":""},{"$f":"IF(ED23=\"\",\"\",IF(COUNTIF(EF22:EF25,EF23)=1,EF23,EF23+RANK(EG23,EG22:EG25,0)-1))","v":""},{"$f":"IF(OR(EH23=\"\",COUNTIF(EH22:EH25,EH23)=1),\"\",$BT23)","v":""},{"$f":"IF(ED23=\"\",\"\",IF(COUNTIF(EH22:EH25,EH23)=1,EH23,EH23+RANK(EI23,EI22:EI25,0)-1))","v":""},{"$f":"IF(DS23>0,CF20+CZ20+RANK(EJ23,EJ22:EJ25,1),)","v":0},null,{"$f":"IF(CB23=4,BS23,)","v":0},{"$f":"(SUMIF($AE$4:$AE$54,$BS23,$BK$4:$BK$54)+SUMIF($AG$4:$AG$54,$BS23,$BL$4:$BL$54))","v":0},{"$f":"(SUMIF($AE$4:$AE$54,$BS23,$BM$4:$BM$54)+SUMIF($AG$4:$AG$54,$BS23,$BN$4:$BN$54))","v":0},{"$f":"(SUMIF($AE$4:$AE$54,$BS23,$BO$4:$BO$54)+SUMIF($AG$4:$AG$54,$BS23,$BP$4:$BP$54))","v":0},{"$f":"IFERROR(EN23*3+EO23*1,0)","v":0},{"$f":"$CA23","v":"C"},{"$f":"IF(EM23>0,RANK(EQ23,EQ22:EQ25)+CF20+CZ20+DT20,)","v":0},{"$f":"IF(AND(EM23>0,COUNTIF(ES22:ES25,ES23)>1),SUMIFS($AH$4:$AH$54,$AE$4:$AE$54,BS23,$K$4:$K$54,4)+SUMIFS($AJ$4:$AJ$54,$AG$4:$AG$54,BS23,$K$4:$K$54,4)-SUMIFS($AJ$4:$AJ$54,$AE$4:$AE$54,BS23,$K$4:$K$54,4)-SUMIFS($AH$4:$AH$54,$AG$4:$AG$54,BS23,$K$4:$K$54,4),)","v":0},{"$f":"IF(AND(EM23>0,COUNTIF($ES$4:$ES$7,ES23)>1),ES23+RANK(ET23,$ET$4:$ET$7)-1,ES23)","v":0},{"$f":"IF(AND(EM23>0,COUNTIF(EU22:EU25,EU23)>1),SUMIFS($AH$4:$AH$54,$AE$4:$AE$54,BS23,$K$4:$K$54,4)+SUMIFS($AJ$4:$AJ$54,$AG$4:$AG$54,BS23,$K$4:$K$54,4),)","v":0},{"$f":"IF(AND(EM23>0,COUNTIF(EU22:EU25,EU23)>1),EU23+RANK(EV23,EV22:EV25)-1,EU23)","v":0},{"$f":"IF(EW23=0,\"\",EW23)","v":""},{"$f":"IF(OR(EX23=\"\",COUNTIF(EX22:EX25,EX23)=1),\"\",$BY23)","v":""},{"$f":"IF(EX23=\"\",\"\",IF(COUNTIF(EX22:EX25,EX23)=1,EX23,EX23+RANK(EY23,EY22:EY25,0)-1))","v":""},{"$f":"IF(OR(EZ23=\"\",COUNTIF(EZ22:EZ25,EZ23)=1),\"\",$BW23)","v":""},{"$f":"IF(EX23=\"\",\"\",IF(COUNTIF(EZ22:EZ25,EZ23)=1,EZ23,EZ23+RANK(FA23,FA22:FA25,0)-1))","v":""},{"$f":"IF(OR(FB23=\"\",COUNTIF(FB22:FB25,FB23)=1),\"\",$BT23)","v":""},{"$f":"IF(EX23=\"\",\"\",IF(COUNTIF(FB22:FB25,FB23)=1,FB23,FB23+RANK(FC23,FC22:FC25,0)-1))","v":""},{"$f":"IF(EM23>0,CF20+CZ20+DT20+RANK(FD23,FD22:FD25,1),)","v":0},null,{"$f":"IFERROR(VLOOKUP(FI23,CE21:CW25,19,FALSE),IFERROR(VLOOKUP(FI23,CY21:DQ25,19,FALSE),IFERROR(VLOOKUP(FI23,DS21:EK25,19,FALSE),VLOOKUP(FI23,EM21:FE25,19,FALSE))))","v":1},{"$f":"RANK(FG23,FG22:FG25,1)+COUNTIF(FG22:FG23,FG23)-1","v":2},{"$f":"BS23","v":"Nederländerna"},null,null,null,null,null,null,null,null,null,null,null,null,null,null,null,null,null,null,null,null,null,null,null,null,null,20]
[null,null,"2021-06-17","Ukraina","-","Nord Makedonien",null,"-",null,"",{"$f":"IF(VLOOKUP(D24,BS21:CB25,10,FALSE)=VLOOKUP(F24,BS21:CB25,10,FALSE),VLOOKUP(D24,BS21:CB25,10,FALSE),\"-\")","v":1},null,3,{"$f":"VLOOKUP(M24,FH22:FI25,2,FALSE)","v":"Nord Makedonien"},{"$f":"VLOOKUP($N24,$BS$22:$BZ$25,2,FALSE)","v":0},{"$f":"VLOOKUP($N24,$BS$22:$BZ$25,3,FALSE)","v":0},{"$f":"VLOOKUP($N24,$BS$22:$BZ$25,4,FALSE)","v":0},{"$f":"VLOOKUP($N24,$BS$22:$BZ$25,5,FALSE)","v":0},{"$f":"VLOOKUP($N24,$BS$22:$BZ$25,6,FALSE)","v":0},{"$f":"VLOOKUP($N24,$BS$22:$BZ$25,7,FALSE)","v":0},{"$f":"VLOOKUP($N24,$BS$22:$BZ$25,8,FALSE)","v":0},null,null,null,null,null,null,null,null,"2021-06-17","Ukraina","-","Nord Makedonien","","-","","",null,0,0,0,0,0,0,0,0,0,0,0,0,0,0,0,0,0,0,0,0,0,0,0,0,0,0,0,0,0,0,null,null,"Nord Makedonien",{"$f":"(SUMIF(AE$4:AE$54,BS24,AM$4:AM$54)+SUMIF(AG$4:AG$54,BS24,AN$4:AN$54))","v":0},{"$f":"(SUMIF(AE$4:AE$54,BS24,AO$4:AO$54)+SUMIF(AG$4:AG$54,BS24,AP$4:AP$54))","v":0},{"$f":"(SUMIF(AE$4:AE$54,BS24,AQ$4:AQ$54)+SUMIF(AG$4:AG$54,BS24,AR$4:AR$54))","v":0},{"$f":"SUMIF($AE$4:$AE$54,BS24,$AH$4:$AH$54)+SUMIF($AG$4:$AG$54,BS24,$AJ$4:$AJ$54)","v":0},{"$f":"SUMIF($AE$4:$AE$54,BS24,$AJ$4:$AJ$54)+SUMIF($AG$4:$AG$54,BS24,$AH$4:$AH$54)","v":0},{"$f":"BW24-BX24","v":0},{"$f":"IFERROR(BT24*3+BU24*1,0)","v":0},"C",{"$f":"RANK(BZ24,BZ22:BZ25)","v":1},{"$f":"SUMPRODUCT((BZ22:BZ25=BZ24)*(BY22:BY25>BY24))","v":0},null,{"$f":"IF(CB24=1,BS24,)","v":"Nord Makedonien"},0,0,0,0,"C",{"$f":"IF(CE24>0,RANK(CI24,CI22:CI25),)","v":1},{"$f":"IF(AND(CE24>0,COUNTIF(CK22:CK25,CK24)>1),SUMIFS($AH$4:$AH$54,$AE$4:$AE$54,BS24,$K$4:$K$54,1)+SUMIFS($AJ$4:$AJ$54,$AG$4:$AG$54,BS24,$K$4:$K$54,1)-SUMIFS($AJ$4:$AJ$54,$AE$4:$AE$54,BS24,$K$4:$K$54,1)-SUMIFS($AH$4:$AH$54,$AG$4:$AG$54,BS24,$K$4:$K$54,1),)","v":0},{"$f":"IF(AND(CE24>0,COUNTIF(CK22:CK25,CK24)>1),CK24+RANK(CL24,CL22:CL25)-1,CK24)","v":1},{"$f":"IF(AND(CE24>0,COUNTIF(CM22:CM25,CM24)>1),SUMIFS($AH$4:$AH$54,$AE$4:$AE$54,BS24,$K$4:$K$54,1)+SUMIFS($AJ$4:$AJ$54,$AG$4:$AG$54,BS24,$K$4:$K$54,1),)","v":0},{"$f":"IF(AND(CE24>0,COUNTIF(CM22:CM25,CM24)>1),CM24+RANK(CN24,CN22:CN25)-1,CM24)","v":1},1,{"$f":"IF(OR(CP24=\"\",COUNTIF(CP22:CP25,CP24)=1),\"\",$BY24)","v":0},{"$f":"IF(CP24=\"\",\"\",IF(COUNTIF(CP22:CP25,CP24)=1,CP24,CP24+RANK(CQ24,CQ22:CQ25,0)-1))","v":1},{"$f":"IF(OR(CR24=\"\",COUNTIF(CR22:CR25,CR24)=1),\"\",$BW24)","v":0},{"$f":"IF(CP24=\"\",\"\",IF(COUNTIF(CR22:CR25,CR24)=1,CR24,CR24+RANK(CS24,CS22:CS25,0)-1))","v":1},{"$f":"IF(OR(CT24=\"\",COUNTIF(CT22:CT25,CT24)=1),\"\",$BT24)","v":0},{"$f":"IF(CP24=\"\",\"\",IF(COUNTIF(CT22:CT25,CT24)=1,CT24,CT24+RANK(CU24,CU22:CU25,0)-1))","v":1},{"$f":"IF(CE24>0,BL20+RANK(CV24,CV22:CV25,1),)","v":1},null,{"$f":"IF(CB24=2,BS24,)","v":0},0,0,0,0,"C",{"$f":"IF(CY24>0,RANK(DC24,DC22:DC25)+CF20,)","v":0},{"$f":"IF(AND(CY24>0,COUNTIF(DE22:DE25,DE24)>1),SUMIFS($AH$4:$AH$54,$AE$4:$AE$54,BS24,$K$4:$K$54,2)+SUMIFS($AJ$4:$AJ$54,$AG$4:$AG$54,BS24,$K$4:$K$54,2)-SUMIFS($AJ$4:$AJ$54,$AE$4:$AE$54,BS24,$K$4:$K$54,2)-SUMIFS($AH$4:$AH$54,$AG$4:$AG$54,BS24,$K$4:$K$54,2),)","v":0},{"$f":"IF(AND(CY24>0,COUNTIF(DE22:DE25,DE24)>1),DE24+RANK(DF24,DF22:DF25)-1,DE24)","v":0},{"$f":"IF(AND(CY24>0,COUNTIF(DG22:DG25,DG24)>1),SUMIFS($AH$4:$AH$54,$AE$4:$AE$54,BS24,$K$4:$K$54,2)+SUMIFS($AJ$4:$AJ$54,$AG$4:$AG$54,BS24,$K$4:$K$54,2),)","v":0},{"$f":"IF(AND(CY24>0,COUNTIF(DG22:DG25,DG24)>1),DG24+RANK(DH24,DH22:DH25)-1,DG24)","v":0},"",{"$f":"IF(OR(DJ24=\"\",COUNTIF(DJ22:DJ25,DJ24)=1),\"\",$BY24)","v":""},{"$f":"IF(DJ24=\"\",\"\",IF(COUNTIF(DJ22:DJ25,DJ24)=1,DJ24,DJ24+RANK(DK24,DK22:DK25,0)-1))","v":""},{"$f":"IF(OR(DL24=\"\",COUNTIF(DL22:DL25,DL24)=1),\"\",$BW24)","v":""},{"$f":"IF(DJ24=\"\",\"\",IF(COUNTIF(DL22:DL25,DL24)=1,DL24,DL24+RANK(DM24,DM22:DM25,0)-1))","v":""},{"$f":"IF(OR(DN24=\"\",COUNTIF(DN22:DN25,DN24)=1),\"\",$BT24)","v":""},{"$f":"IF(DJ24=\"\",\"\",IF(COUNTIF(DN22:DN25,DN24)=1,DN24,DN24+RANK(DO24,DO22:DO25,0)-1))","v":""},{"$f":"IF(CY24>0,CF20+RANK(DP24,DP22:DP25,1),)","v":0},null,{"$f":"IF(CB24=3,BS24,)","v":0},{"$f":"(SUMIF(AE$4:AE$54,BS24,BE$4:BE$54)+SUMIF(AG$4:AG$54,BS24,BF$4:BF$54))","v":0},{"$f":"(SUMIF(AE$4:AE$54,BS24,BG$4:BG$54)+SUMIF(AG$4:AG$54,BS24,BH$4:BH$54))","v":0},{"$f":"(SUMIF(AE$4:AE$54,BS24,BI$4:BI$54)+SUMIF(AG$4:AG$54,BS24,BJ$4:BJ$54))","v":0},0,{"$f":"CA24","v":"C"},{"$f":"IF(DS24>0,RANK(DW24,DW22:DW25)+CF20+CZ20,)","v":0},{"$f":"IF(AND(DS24>0,COUNTIF(DY22:DY25,DY24)>1),SUMIFS($AH$4:$AH$54,$AE$4:$AE$54,BS24,$K$4:$K$54,3)+SUMIFS($AJ$4:$AJ$54,$AG$4:$AG$54,BS24,$K$4:$K$54,3)-SUMIFS($AJ$4:$AJ$54,$AE$4:$AE$54,BS24,$K$4:$K$54,3)-SUMIFS($AH$4:$AH$54,$AG$4:$AG$54,BS24,$K$4:$K$54,3),)","v":0},{"$f":"IF(AND(DS24>0,COUNTIF(DY22:DY25,DY24)>1),DY24+RANK(DZ24,DZ22:DZ25)-1,DY24)","v":0},{"$f":"IF(AND(DS24>0,COUNTIF(EA22:EA25,EA24)>1),SUMIFS($AH$4:$AH$54,$AE$4:$AE$54,BS24,$K$4:$K$54,3)+SUMIFS($AJ$4:$AJ$54,$AG$4:$AG$54,BS24,$K$4:$K$54,3),)","v":0},{"$f":"IF(AND(DS24>0,COUNTIF(EA22:EA25,EA24)>1),EA24+RANK(EB24,EB22:EB25)-1,EA24)","v":0},"",{"$f":"IF(OR(ED24=\"\",COUNTIF(ED22:ED25,ED24)=1),\"\",$BY24)","v":""},{"$f":"IF(ED24=\"\",\"\",IF(COUNTIF(ED22:ED25,ED24)=1,ED24,ED24+RANK(EE24,EE22:EE25,0)-1))","v":""},{"$f":"IF(OR(EF24=\"\",COUNTIF(EF22:EF25,EF24)=1),\"\",$BW24)","v":""},{"$f":"IF(ED24=\"\",\"\",IF(COUNTIF(EF22:EF25,EF24)=1,EF24,EF24+RANK(EG24,EG22:EG25,0)-1))","v":""},{"$f":"IF(OR(EH24=\"\",COUNTIF(EH22:EH25,EH24)=1),\"\",$BT24)","v":""},{"$f":"IF(ED24=\"\",\"\",IF(COUNTIF(EH22:EH25,EH24)=1,EH24,EH24+RANK(EI24,EI22:EI25,0)-1))","v":""},{"$f":"IF(DS24>0,CF20+CZ20+RANK(EJ24,EJ22:EJ25,1),)","v":0},null,{"$f":"IF(CB24=4,BS24,)","v":0},0,0,0,0,"C",{"$f":"IF(EM24>0,RANK(EQ24,EQ22:EQ25)+CF20+CZ20+DT20,)","v":0},{"$f":"IF(AND(EM24>0,COUNTIF(ES22:ES25,ES24)>1),SUMIFS($AH$4:$AH$54,$AE$4:$AE$54,BS24,$K$4:$K$54,4)+SUMIFS($AJ$4:$AJ$54,$AG$4:$AG$54,BS24,$K$4:$K$54,4)-SUMIFS($AJ$4:$AJ$54,$AE$4:$AE$54,BS24,$K$4:$K$54,4)-SUMIFS($AH$4:$AH$54,$AG$4:$AG$54,BS24,$K$4:$K$54,4),)","v":0},0,{"$f":"IF(AND(EM24>0,COUNTIF(EU22:EU25,EU24)>1),SUMIFS($AH$4:$AH$54,$AE$4:$AE$54,BS24,$K$4:$K$54,4)+SUMIFS($AJ$4:$AJ$54,$AG$4:$AG$54,BS24,$K$4:$K$54,4),)","v":0},{"$f":"IF(AND(EM24>0,COUNTIF(EU22:EU25,EU24)>1),EU24+RANK(EV24,EV22:EV25)-1,EU24)","v":0},"",{"$f":"IF(OR(EX24=\"\",COUNTIF(EX22:EX25,EX24)=1),\"\",$BY24)","v":""},{"$f":"IF(EX24=\"\",\"\",IF(COUNTIF(EX22:EX25,EX24)=1,EX24,EX24+RANK(EY24,EY22:EY25,0)-1))","v":""},{"$f":"IF(OR(EZ24=\"\",COUNTIF(EZ22:EZ25,EZ24)=1),\"\",$BW24)","v":""},{"$f":"IF(EX24=\"\",\"\",IF(COUNTIF(EZ22:EZ25,EZ24)=1,EZ24,EZ24+RANK(FA24,FA22:FA25,0)-1))","v":""},{"$f":"IF(OR(FB24=\"\",COUNTIF(FB22:FB25,FB24)=1),\"\",$BT24)","v":""},{"$f":"IF(EX24=\"\",\"\",IF(COUNTIF(FB22:FB25,FB24)=1,FB24,FB24+RANK(FC24,FC22:FC25,0)-1))","v":""},{"$f":"IF(EM24>0,CF20+CZ20+DT20+RANK(FD24,FD22:FD25,1),)","v":0},null,{"$f":"IFERROR(VLOOKUP(FI24,CE21:CW25,19,FALSE),IFERROR(VLOOKUP(FI24,CY21:DQ25,19,FALSE),IFERROR(VLOOKUP(FI24,DS21:EK25,19,FALSE),VLOOKUP(FI24,EM21:FE25,19,FALSE))))","v":1},{"$f":"RANK(FG24,FG22:FG25,1)+COUNTIF(FG22:FG24,FG24)-1","v":3},{"$f":"BS24","v":"Nord Makedonien"},null,null,null,null,null,null,null,null,null,null,null,null,null,null,null,null,null,null,null,null,null,null,null,null,null,21]
[null,null,"2021-06-17","Nederländerna","-","Österrike",null,"-",null,"",{"$f":"IF(VLOOKUP(D25,BS21:CB25,10,FALSE)=VLOOKUP(F25,BS21:CB25,10,FALSE),VLOOKUP(D25,BS21:CB25,10,FALSE),\"-\")","v":1},null,4,{"$f":"VLOOKUP(M25,FH22:FI25,2,FALSE)","v":"Ukraina"},{"$f":"VLOOKUP($N25,$BS$22:$BZ$25,2,FALSE)","v":0},{"$f":"VLOOKUP($N25,$BS$22:$BZ$25,3,FALSE)","v":0},{"$f":"VLOOKUP($N25,$BS$22:$BZ$25,4,FALSE)","v":0},{"$f":"VLOOKUP($N25,$BS$22:$BZ$25,5,FALSE)","v":0},{"$f":"VLOOKUP($N25,$BS$22:$BZ$25,6,FALSE)","v":0},{"$f":"VLOOKUP($N25,$BS$22:$BZ$25,7,FALSE)","v":0},{"$f":"VLOOKUP($N25,$BS$22:$BZ$25,8,FALSE)","v":0},null,null,null,null,null,null,null,null,"2021-06-17","Nederländerna","-","Österrike","","-","","",null,0,0,0,0,0,0,0,0,0,0,0,0,0,0,0,0,0,0,0,0,0,0,0,0,0,0,0,0,0,0,null,null,"Ukraina",{"$f":"(SUMIF(AE$4:AE$54,BS25,AM$4:AM$54)+SUMIF(AG$4:AG$54,BS25,AN$4:AN$54))","v":0},{"$f":"(SUMIF(AE$4:AE$54,BS25,AO$4:AO$54)+SUMIF(AG$4:AG$54,BS25,AP$4:AP$54))","v":0},{"$f":"(SUMIF(AE$4:AE$54,BS25,AQ$4:AQ$54)+SUMIF(AG$4:AG$54,BS25,AR$4:AR$54))","v":0},{"$f":"SUMIF($AE$4:$AE$54,BS25,$AH$4:$AH$54)+SUMIF($AG$4:$AG$54,BS25,$AJ$4:$AJ$54)","v":0},{"$f":"SUMIF($AE$4:$AE$54,BS25,$AJ$4:$AJ$54)+SUMIF($AG$4:$AG$54,BS25,$AH$4:$AH$54)","v":0},{"$f":"BW25-BX25","v":0},{"$f":"IFERROR(BT25*3+BU25*1,0)","v":0},"C",{"$f":"RANK(BZ25,BZ22:BZ25)","v":1},{"$f":"SUMPRODUCT((BZ22:BZ25=BZ25)*(BY22:BY25>BY25))","v":0},null,{"$f":"IF(CB25=1,BS25,)","v":"Ukraina"},0,0,0,0,"C",{"$f":"IF(CE25>0,RANK(CI25,CI22:CI25),)","v":1},{"$f":"IF(AND(CE25>0,COUNTIF(CK22:CK25,CK25)>1),SUMIFS($AH$4:$AH$54,$AE$4:$AE$54,BS25,$K$4:$K$54,1)+SUMIFS($AJ$4:$AJ$54,$AG$4:$AG$54,BS25,$K$4:$K$54,1)-SUMIFS($AJ$4:$AJ$54,$AE$4:$AE$54,BS25,$K$4:$K$54,1)-SUMIFS($AH$4:$AH$54,$AG$4:$AG$54,BS25,$K$4:$K$54,1),)","v":0},{"$f":"IF(AND(CE25>0,COUNTIF(CK22:CK25,CK25)>1),CK25+RANK(CL25,CL22:CL25)-1,CK25)","v":1},{"$f":"IF(AND(CE25>0,COUNTIF(CM22:CM25,CM25)>1),SUMIFS($AH$4:$AH$54,$AE$4:$AE$54,BS25,$K$4:$K$54,1)+SUMIFS($AJ$4:$AJ$54,$AG$4:$AG$54,BS25,$K$4:$K$54,1),)","v":0},{"$f":"IF(AND(CE25>0,COUNTIF(CM22:CM25,CM25)>1),CM25+RANK(CN25,CN22:CN25)-1,CM25)","v":1},1,{"$f":"IF(OR(CP25=\"\",COUNTIF(CP22:CP25,CP25)=1),\"\",$BY25)","v":0},{"$f":"IF(CP25=\"\",\"\",IF(COUNTIF(CP22:CP25,CP25)=1,CP25,CP25+RANK(CQ25,CQ22:CQ25,0)-1))","v":1},{"$f":"IF(OR(CR25=\"\",COUNTIF(CR22:CR25,CR25)=1),\"\",$BW25)","v":0},{"$f":"IF(CP25=\"\",\"\",IF(COUNTIF(CR22:CR25,CR25)=1,CR25,CR25+RANK(CS25,CS22:CS25,0)-1))","v":1},{"$f":"IF(OR(CT25=\"\",COUNTIF(CT22:CT25,CT25)=1),\"\",$BT25)","v":0},{"$f":"IF(CP25=\"\",\"\",IF(COUNTIF(CT22:CT25,CT25)=1,CT25,CT25+RANK(CU25,CU22:CU25,0)-1))","v":1},{"$f":"IF(CE25>0,BL20+RANK(CV25,CV22:CV25,1),)","v":1},null,{"$f":"IF(CB25=2,BS25,)","v":0},0,0,0,0,"C",{"$f":"IF(CY25>0,RANK(DC25,DC22:DC25)+CF20,)","v":0},{"$f":"IF(AND(CY25>0,COUNTIF(DE22:DE25,DE25)>1),SUMIFS($AH$4:$AH$54,$AE$4:$AE$54,BS25,$K$4:$K$54,2)+SUMIFS($AJ$4:$AJ$54,$AG$4:$AG$54,BS25,$K$4:$K$54,2)-SUMIFS($AJ$4:$AJ$54,$AE$4:$AE$54,BS25,$K$4:$K$54,2)-SUMIFS($AH$4:$AH$54,$AG$4:$AG$54,BS25,$K$4:$K$54,2),)","v":0},{"$f":"IF(AND(CY25>0,COUNTIF(DE22:DE25,DE25)>1),DE25+RANK(DF25,DF22:DF25)-1,DE25)","v":0},{"$f":"IF(AND(CY25>0,COUNTIF(DG22:DG25,DG25)>1),SUMIFS($AH$4:$AH$54,$AE$4:$AE$54,BS25,$K$4:$K$54,2)+SUMIFS($AJ$4:$AJ$54,$AG$4:$AG$54,BS25,$K$4:$K$54,2),)","v":0},{"$f":"IF(AND(CY25>0,COUNTIF(DG22:DG25,DG25)>1),DG25+RANK(DH25,DH22:DH25)-1,DG25)","v":0},"",{"$f":"IF(OR(DJ25=\"\",COUNTIF(DJ22:DJ25,DJ25)=1),\"\",$BY25)","v":""},{"$f":"IF(DJ25=\"\",\"\",IF(COUNTIF(DJ22:DJ25,DJ25)=1,DJ25,DJ25+RANK(DK25,DK22:DK25,0)-1))","v":""},{"$f":"IF(OR(DL25=\"\",COUNTIF(DL22:DL25,DL25)=1),\"\",$BW25)","v":""},{"$f":"IF(DJ25=\"\",\"\",IF(COUNTIF(DL22:DL25,DL25)=1,DL25,DL25+RANK(DM25,DM22:DM25,0)-1))","v":""},{"$f":"IF(OR(DN25=\"\",COUNTIF(DN22:DN25,DN25)=1),\"\",$BT25)","v":""},{"$f":"IF(DJ25=\"\",\"\",IF(COUNTIF(DN22:DN25,DN25)=1,DN25,DN25+RANK(DO25,DO22:DO25,0)-1))","v":""},{"$f":"IF(CY25>0,CF20+RANK(DP25,DP22:DP25,1),)","v":0},null,{"$f":"IF(CB25=3,BS25,)","v":0},{"$f":"(SUMIF(AE$4:AE$54,BS25,BE$4:BE$54)+SUMIF(AG$4:AG$54,BS25,BF$4:BF$54))","v":0},{"$f":"(SUMIF(AE$4:AE$54,BS25,BG$4:BG$54)+SUMIF(AG$4:AG$54,BS25,BH$4:BH$54))","v":0},{"$f":"(SUMIF(AE$4:AE$54,BS25,BI$4:BI$54)+SUMIF(AG$4:AG$54,BS25,BJ$4:BJ$54))","v":0},0,{"$f":"CA25","v":"C"},{"$f":"IF(DS25>0,RANK(DW25,DW22:DW25)+CF20+CZ20,)","v":0},{"$f":"IF(AND(DS25>0,COUNTIF(DY22:DY25,DY25)>1),SUMIFS($AH$4:$AH$54,$AE$4:$AE$54,BS25,$K$4:$K$54,3)+SUMIFS($AJ$4:$AJ$54,$AG$4:$AG$54,BS25,$K$4:$K$54,3)-SUMIFS($AJ$4:$AJ$54,$AE$4:$AE$54,BS25,$K$4:$K$54,3)-SUMIFS($AH$4:$AH$54,$AG$4:$AG$54,BS25,$K$4:$K$54,3),)","v":0},{"$f":"IF(AND(DS25>0,COUNTIF(DY22:DY25,DY25)>1),DY25+RANK(DZ25,DZ22:DZ25)-1,DY25)","v":0},{"$f":"IF(AND(DS25>0,COUNTIF(EA22:EA25,EA25)>1),SUMIFS($AH$4:$AH$54,$AE$4:$AE$54,BS25,$K$4:$K$54,3)+SUMIFS($AJ$4:$AJ$54,$AG$4:$AG$54,BS25,$K$4:$K$54,3),)","v":0},{"$f":"IF(AND(DS25>0,COUNTIF(EA22:EA25,EA25)>1),EA25+RANK(EB25,EB22:EB25)-1,EA25)","v":0},"",{"$f":"IF(OR(ED25=\"\",COUNTIF(ED22:ED25,ED25)=1),\"\",$BY25)","v":""},{"$f":"IF(ED25=\"\",\"\",IF(COUNTIF(ED22:ED25,ED25)=1,ED25,ED25+RANK(EE25,EE22:EE25,0)-1))","v":""},{"$f":"IF(OR(EF25=\"\",COUNTIF(EF22:EF25,EF25)=1),\"\",$BW25)","v":""},{"$f":"IF(ED25=\"\",\"\",IF(COUNTIF(EF22:EF25,EF25)=1,EF25,EF25+RANK(EG25,EG22:EG25,0)-1))","v":""},{"$f":"IF(OR(EH25=\"\",COUNTIF(EH22:EH25,EH25)=1),\"\",$BT25)","v":""},{"$f":"IF(ED25=\"\",\"\",IF(COUNTIF(EH22:EH25,EH25)=1,EH25,EH25+RANK(EI25,EI22:EI25,0)-1))","v":""},{"$f":"IF(DS25>0,CF20+CZ20+RANK(EJ25,EJ22:EJ25,1),)","v":0},null,{"$f":"IF(CB25=4,BS25,)","v":0},0,0,0,0,"C",{"$f":"IF(EM25>0,RANK(EQ25,EQ22:EQ25)+CF20+CZ20+DT20,)","v":0},{"$f":"IF(AND(EM25>0,COUNTIF(ES22:ES25,ES25)>1),SUMIFS($AH$4:$AH$54,$AE$4:$AE$54,BS25,$K$4:$K$54,4)+SUMIFS($AJ$4:$AJ$54,$AG$4:$AG$54,BS25,$K$4:$K$54,4)-SUMIFS($AJ$4:$AJ$54,$AE$4:$AE$54,BS25,$K$4:$K$54,4)-SUMIFS($AH$4:$AH$54,$AG$4:$AG$54,BS25,$K$4:$K$54,4),)","v":0},0,{"$f":"IF(AND(EM25>0,COUNTIF(EU22:EU25,EU25)>1),SUMIFS($AH$4:$AH$54,$AE$4:$AE$54,BS25,$K$4:$K$54,4)+SUMIFS($AJ$4:$AJ$54,$AG$4:$AG$54,BS25,$K$4:$K$54,4),)","v":0},{"$f":"IF(AND(EM25>0,COUNTIF(EU22:EU25,EU25)>1),EU25+RANK(EV25,EV22:EV25)-1,EU25)","v":0},"",{"$f":"IF(OR(EX25=\"\",COUNTIF(EX22:EX25,EX25)=1),\"\",$BY25)","v":""},{"$f":"IF(EX25=\"\",\"\",IF(COUNTIF(EX22:EX25,EX25)=1,EX25,EX25+RANK(EY25,EY22:EY25,0)-1))","v":""},{"$f":"IF(OR(EZ25=\"\",COUNTIF(EZ22:EZ25,EZ25)=1),\"\",$BW25)","v":""},{"$f":"IF(EX25=\"\",\"\",IF(COUNTIF(EZ22:EZ25,EZ25)=1,EZ25,EZ25+RANK(FA25,FA22:FA25,0)-1))","v":""},{"$f":"IF(OR(FB25=\"\",COUNTIF(FB22:FB25,FB25)=1),\"\",$BT25)","v":""},{"$f":"IF(EX25=\"\",\"\",IF(COUNTIF(FB22:FB25,FB25)=1,FB25,FB25+RANK(FC25,FC22:FC25,0)-1))","v":""},{"$f":"IF(EM25>0,CF20+CZ20+DT20+RANK(FD25,FD22:FD25,1),)","v":0},null,{"$f":"IFERROR(VLOOKUP(FI25,CE21:CW25,19,FALSE),IFERROR(VLOOKUP(FI25,CY21:DQ25,19,FALSE),IFERROR(VLOOKUP(FI25,DS21:EK25,19,FALSE),VLOOKUP(FI25,EM21:FE25,19,FALSE))))","v":1},{"$f":"RANK(FG25,FG22:FG25,1)+COUNTIF(FG22:FG25,FG25)-1","v":4},{"$f":"BS25","v":"Ukraina"},null,null,null,null,null,null,null,null,null,null,null,null,null,null,null,null,null,null,null,null,null,null,null,null,null,22]
[null,null,"2021-06-21","Ukraina","-","Österrike",null,"-",null,"",{"$f":"IF(VLOOKUP(D26,BS21:CB25,10,FALSE)=VLOOKUP(F26,BS21:CB25,10,FALSE),VLOOKUP(D26,BS21:CB25,10,FALSE),\"-\")","v":1},null,null,{"$f":"IF(COUNTBLANK(G22:G27)+COUNTBLANK(I22:I27)=0,\"Resultat OK\",\"Fyll i resultat\")","v":"Fyll i resultat"},null,null,null,null,null,null,null,null,null,null,null,null,null,null,null,"2021-06-21","Ukraina","-","Österrike","","-","","",null,0,0,0,0,0,0,0,0,0,0,0,0,0,0,0,0,0,0,0,0,0,0,0,0,0,0,0,0,0,0,null,null,null,null,null,null,null,null,null,null,null,null,null,null,null,null,null,null,null,null,null,null,null,null,null,null,null,null,null,null,null,null,null,null,null,null,null,null,null,null,null,null,null,null,null,null,null,null,null,null,null,null,null,null,null,null,null,null,null,null,null,null,null,null,null,null,null,null,null,null,null,null,null,null,null,null,null,null,null,null,null,null,null,null,null,null,null,null,null,null,null,null,null,null,null,null,null,null,null,null,null,null,null,null,null,null,null,null,null,null,null,null,null,null,null,null,null,null,null,null,null,null,23]
[null,null,"2021-06-21","Nord Makedonien","-","Nederländerna",null,"-",null,"",{"$f":"IF(VLOOKUP(D27,BS21:CB25,10,FALSE)=VLOOKUP(F27,BS21:CB25,10,FALSE),VLOOKUP(D27,BS21:CB25,10,FALSE),\"-\")","v":1},null,null,null,null,null,null,null,null,null,null,null,null,null,null,null,null,null,null,"2021-06-21","Nord Makedonien","-","Nederländerna","","-","","",null,0,0,0,0,0,0,0,0,0,0,0,0,0,0,0,0,0,0,0,0,0,0,0,0,0,0,0,0,0,0,null,null,null,null,null,null,null,null,null,null,null,null,null,null,null,null,null,null,null,null,null,null,null,null,null,null,null,null,null,null,null,null,null,null,null,null,null,null,null,null,null,null,null,null,null,null,null,null,null,null,null,null,null,null,null,null,null,null,null,null,null,null,null,null,null,null,null,null,null,null,null,null,null,null,null,null,null,null,null,null,null,null,null,null,null,null,null,null,null,null,null,null,null,null,null,null,null,null,null,null,null,null,null,null,null,null,null,null,null,null,null,null,null,null,null,null,null,null,null,null,null,null,24]
[null,null,null,null,null,null,null,null,null,null,null,null,null,null,null,null,null,null,null,null,null,null,null,null,null,null,null,null,null,null,null,null,null,null,null,null,null,null,null,null,null,null,null,null,null,null,null,null,null,null,null,null,null,null,null,null,null,null,null,null,null,null,null,null,null,null,null,null,null,null,null,null,null,null,null,null,null,null,null,null,null,null,null,null,null,null,null,null,null,null,null,null,null,null,null,null,null,null,null,null,null,null,null,null,null,null,null,null,null,null,null,null,null,null,null,null,null,null,null,null,null,null,null,null,null,null,null,null,null,null,null,null,null,null,null,null,null,null,null,null,null,null,null,null,null,null,null,null,null,null,null,null,null,null,null,null,null,null,null,null,null,null,null,null,null,null,null,null,null,null,null,null,null,null,null,null,null,null,null,null,null,null,null,null,null,null,null,null,null,null,25]
[null,null,"Grupp D",null,null,null,null,null,null,null,null,null,null,null,null,null,null,null,null,null,null,null,null,null,null,null,null,null,null,"Grupp D",null,null,null,null,null,null,null,null,null,null,null,null,null,null,null,null,null,null,null,null,null,null,null,null,null,null,null,null,null,null,null,null,null,null,null,null,null,null,null,null,"Rank 0",null,null,null,null,null,null,null,null,null,null,null,"Rank 1",{"$f":"COUNTIF(CB31:CB34,1)","v":4},null,null,null,null,null,null,null,null,null,null,null,null,null,null,null,null,null,null,"Rank 2",{"$f":"COUNTIF(CB31:CB34,2)","v":0},null,null,null,null,null,null,null,null,null,null,null,null,null,null,null,null,null,null,"Rank 3",{"$f":"COUNTIF(CB31:CB34,3)","v":0},null,null,null,null,null,null,null,null,null,null,null,null,null,null,null,null,null,null,"Rank 4",{"$f":"COUNTIF(CB31:CB34,4)","v":0},null,null,null,null,null,null,null,null,null,null,null,null,null,null,null,null,null,null,null,null,null,null,null,null,null,null,null,null,null,null,null,null,null,null,null,null,null,null,null,null,null,null,null,null,null,null,26]
[null,null,"Datum","Match",null,null,"Resultat",null,null,"Tecken",null,null,null,"Lag","V","O","F","GM","IM","+/-","P",null,null,null,null,null,null,null,null,"Datum","Match",null,null,"Resultat",null,null,"Tecken","Poäng","V1","V2","O1","O2","F1","F2","V1","V2","O1","O2","F1","F2","V1","V2","O1","O2","F1","F2","V1","V2","O1","O2","F1","F2","V1","V2","O1","O2","F1","F2",null,null,"Lag","V","O","F","GM","IM","+/-","P","Grupp","Rank P","Rank +/-",null,"Lag","V","O","F","P","Grupp","Rank P","+/-","+/- rank","GM","GM rank","Rank internal","+/- all","+/- rank all","GM all","GM rank all","V all","V rank all","Rank all",null,"Lag","V","O","F","P","Grupp","Rank P","+/-","+/- rank","GM","GM rank","Rank internal","+/- all","+/- rank all","GM all","GM rank all","V all","V rank all","Rank all",null,"Lag","V","O","F","P","Grupp","Rank P","+/-","+/- rank","GM","GM rank","Rank internal","+/- all","+/- rank all","GM all","GM rank all","V all","V rank all","Rank all",null,"Lag","V","O","F","P","Grupp","Rank P","+/-","+/- rank","GM","GM rank","Rank internal","+/- all","+/- rank all","GM all","GM rank all","V all","V rank all","Rank all",null,"Rank","Rank Ties",null,null,null,null,null,null,null,null,null,null,null,null,null,null,null,null,null,null,null,null,null,null,null,null,null,null,27]
[null,null,"2021-06-13","England","-","Kroatien",null,"-",null,{"$f":"IF(OR(ISBLANK(G31),ISBLANK(I31)),\"\",IF(G31>I31,1,IF(G31<I31,2,\"X\")))","v":""},{"$f":"IF(VLOOKUP(D31,BS30:CB34,10,FALSE)=VLOOKUP(F31,BS30:CB34,10,FALSE),VLOOKUP(D31,BS30:CB34,10,FALSE),\"-\")","v":1},null,1,{"$f":"VLOOKUP(M31,FH31:FI34,2,FALSE)","v":"Kroatien"},{"$f":"VLOOKUP($N31,$BS$31:$BZ$34,2,FALSE)","v":0},{"$f":"VLOOKUP($N31,$BS$31:$BZ$34,3,FALSE)","v":0},{"$f":"VLOOKUP($N31,$BS$31:$BZ$34,4,FALSE)","v":0},{"$f":"VLOOKUP($N31,$BS$31:$BZ$34,5,FALSE)","v":0},{"$f":"VLOOKUP($N31,$BS$31:$BZ$34,6,FALSE)","v":0},{"$f":"VLOOKUP($N31,$BS$31:$BZ$34,7,FALSE)","v":0},{"$f":"VLOOKUP($N31,$BS$31:$BZ$34,8,FALSE)","v":0},null,null,null,null,null,null,null,null,{"$f":"C31","v":"2021-06-13"},"England","-","Kroatien",{"$f":"IF(G31=\"\",\"\",G31)","v":""},"-",{"$f":"IF(I31=\"\",\"\",I31)","v":""},{"$f":"J31","v":""},null,{"$f":"IF(AH31>AJ31,1,0)","v":0},{"$f":"IF(AJ31>AH31,1,0)","v":0},{"$f":"IF(AND(AH31=AJ31,AH31<>\"\"),1,0)","v":0},{"$f":"IF(AND(AH31=AJ31,AH31<>\"\"),1,0)","v":0},{"$f":"IF(AH31<AJ31,1,0)","v":0},{"$f":"IF(AJ31<AH31,1,)","v":0},{"$f":"IF(ISERROR(VLOOKUP(AE31,CE:CE,1,FALSE)),0,1)*IF(ISERROR(VLOOKUP(AG31,CE:CE,1,FALSE)),0,1)*AM31","v":0},{"$f":"IF(ISERROR(VLOOKUP(AE31,CE:CE,1,FALSE)),0,1)*IF(ISERROR(VLOOKUP(AG31,CE:CE,1,FALSE)),0,1)*AN31","v":0},{"$f":"IF(ISERROR(VLOOKUP(AE31,CE:CE,1,FALSE)),0,1)*IF(ISERROR(VLOOKUP(AG31,CE:CE,1,FALSE)),0,1)*AO31","v":0},{"$f":"IF(ISERROR(VLOOKUP(AE31,CE:CE,1,FALSE)),0,1)*IF(ISERROR(VLOOKUP(AG31,CE:CE,1,FALSE)),0,1)*AP31","v":0},{"$f":"IF(ISERROR(VLOOKUP(AE31,CE:CE,1,FALSE)),0,1)*IF(ISERROR(VLOOKUP(AG31,CE:CE,1,FALSE)),0,1)*AQ31","v":0},{"$f":"IF(ISERROR(VLOOKUP(AE31,CE:CE,1,FALSE)),0,1)*IF(ISERROR(VLOOKUP(AG31,CE:CE,1,FALSE)),0,1)*AR31","v":0},{"$f":"IF(ISERROR(VLOOKUP(AE31,CY:CY,1,FALSE)),0,1)*IF(ISERROR(VLOOKUP(AG31,CY:CY,1,FALSE)),0,1)*AM31","v":0},{"$f":"IF(ISERROR(VLOOKUP(AE31,CY:CY,1,FALSE)),0,1)*IF(ISERROR(VLOOKUP(AG31,CY:CY,1,FALSE)),0,1)*AN31","v":0},{"$f":"IF(ISERROR(VLOOKUP(AE31,CY:CY,1,FALSE)),0,1)*IF(ISERROR(VLOOKUP(AG31,CY:CY,1,FALSE)),0,1)*AO31","v":0},{"$f":"IF(ISERROR(VLOOKUP(AE31,CY:CY,1,FALSE)),0,1)*IF(ISERROR(VLOOKUP(AG31,CY:CY,1,FALSE)),0,1)*AP31","v":0},{"$f":"IF(ISERROR(VLOOKUP(AE31,CY:CY,1,FALSE)),0,1)*IF(ISERROR(VLOOKUP(AG31,CY:CY,1,FALSE)),0,1)*AQ31","v":0},{"$f":"IF(ISERROR(VLOOKUP(AE31,CY:CY,1,FALSE)),0,1)*IF(ISERROR(VLOOKUP(AG31,CY:CY,1,FALSE)),0,1)*AR31","v":0},{"$f":"IF(ISERROR(VLOOKUP(AE31,DS:DS,1,FALSE)),0,1)*IF(ISERROR(VLOOKUP(AG31,DS:DS,1,FALSE)),0,1)*AM31","v":0},{"$f":"IF(ISERROR(VLOOKUP(AE31,DS:DS,1,FALSE)),0,1)*IF(ISERROR(VLOOKUP(AG31,DS:DS,1,FALSE)),0,1)*AN31","v":0},{"$f":"IF(ISERROR(VLOOKUP(AE31,DS:DS,1,FALSE)),0,1)*IF(ISERROR(VLOOKUP(AG31,DS:DS,1,FALSE)),0,1)*AO31","v":0},{"$f":"IF(ISERROR(VLOOKUP(AE31,DS:DS,1,FALSE)),0,1)*IF(ISERROR(VLOOKUP(AG31,DS:DS,1,FALSE)),0,1)*AP31","v":0},{"$f":"IF(ISERROR(VLOOKUP(AE31,DS:DS,1,FALSE)),0,1)*IF(ISERROR(VLOOKUP(AG31,DS:DS,1,FALSE)),0,1)*AQ31","v":0},{"$f":"IF(ISERROR(VLOOKUP(AE31,DS:DS,1,FALSE)),0,1)*IF(ISERROR(VLOOKUP(AG31,DS:DS,1,FALSE)),0,1)*AR31","v":0},{"$f":"IF(ISERROR(VLOOKUP(AE31,EM:EM,1,FALSE)),0,1)*IF(ISERROR(VLOOKUP(AG31,EM:EM,1,FALSE)),0,1)*AM31","v":0},{"$f":"IF(ISERROR(VLOOKUP(AE31,EM:EM,1,FALSE)),0,1)*IF(ISERROR(VLOOKUP(AG31,EM:EM,1,FALSE)),0,1)*AN31","v":0},{"$f":"IF(ISERROR(VLOOKUP(AE31,EM:EM,1,FALSE)),0,1)*IF(ISERROR(VLOOKUP(AG31,EM:EM,1,FALSE)),0,1)*AO31","v":0},{"$f":"IF(ISERROR(VLOOKUP(AE31,EM:EM,1,FALSE)),0,1)*IF(ISERROR(VLOOKUP(AG31,EM:EM,1,FALSE)),0,1)*AP31","v":0},{"$f":"IF(ISERROR(VLOOKUP(AE31,EM:EM,1,FALSE)),0,1)*IF(ISERROR(VLOOKUP(AG31,EM:EM,1,FALSE)),0,1)*AQ31","v":0},{"$f":"IF(ISERROR(VLOOKUP(AE31,EM:EM,1,FALSE)),0,1)*IF(ISERROR(VLOOKUP(AG31,EM:EM,1,FALSE)),0,1)*AR31","v":0},null,null,"Kroatien",{"$f":"(SUMIF(AE$4:AE$54,BS31,AM$4:AM$54)+SUMIF(AG$4:AG$54,BS31,AN$4:AN$54))","v":0},{"$f":"(SUMIF(AE$4:AE$54,BS31,AO$4:AO$54)+SUMIF(AG$4:AG$54,BS31,AP$4:AP$54))","v":0},{"$f":"(SUMIF(AE$4:AE$54,BS31,AQ$4:AQ$54)+SUMIF(AG$4:AG$54,BS31,AR$4:AR$54))","v":0},{"$f":"SUMIF($AE$4:$AE$54,BS31,$AH$4:$AH$54)+SUMIF($AG$4:$AG$54,BS31,$AJ$4:$AJ$54)","v":0},{"$f":"SUMIF($AE$4:$AE$54,BS31,$AJ$4:$AJ$54)+SUMIF($AG$4:$AG$54,BS31,$AH$4:$AH$54)","v":0},{"$f":"BW31-BX31","v":0},{"$f":"IFERROR(BT31*3+BU31*1,0)","v":0},"D",{"$f":"RANK(BZ31,BZ31:BZ34)","v":1},{"$f":"SUMPRODUCT((BZ31:BZ34=BZ31)*(BY31:BY34>BY31))","v":0},null,{"$f":"IF(CB31=1,BS31,)","v":"Kroatien"},{"$f":"(SUMIF($AE$4:$AE$54,$BS31,$AS$4:$AS$54)+SUMIF($AG$4:$AG$54,$BS31,$AT$4:$AT$54))","v":0},{"$f":"(SUMIF($AE$4:$AE$54,$BS31,$AU$4:$AU$54)+SUMIF($AG$4:$AG$54,$BS31,$AV$4:$AV$54))","v":0},{"$f":"(SUMIF($AE$4:$AE$54,$BS31,$AW$4:$AW$54)+SUMIF($AG$4:$AG$54,$BS31,$AX$4:$AX$54))","v":0},{"$f":"IFERROR(CF31*3+CG31*1,0)","v":0},{"$f":"CA31","v":"D"},{"$f":"IF(CE31>0,RANK(CI31,CI31:CI34),)","v":1},{"$f":"IF(AND(CE31>0,COUNTIF(CK31:CK34,CK31)>1),SUMIFS($AH$4:$AH$54,$AE$4:$AE$54,$BS31,$K$4:$K$54,1)+SUMIFS($AJ$4:$AJ$54,$AG$4:$AG$54,$BS31,$K$4:$K$54,1)-SUMIFS($AJ$4:$AJ$54,$AE$4:$AE$54,$BS31,$K$4:$K$54,1)-SUMIFS($AH$4:$AH$54,$AG$4:$AG$54,$BS31,$K$4:$K$54,1),)","v":0},{"$f":"IF(AND(CE31>0,COUNTIF(CK31:CK34,CK31)>1),CK31+RANK(CL31,CL31:CL34)-1,CK31)","v":1},{"$f":"IF(AND(CE31>0,COUNTIF(CM31:CM34,CM31)>1),SUMIFS($AH$4:$AH$54,$AE$4:$AE$54,$BS31,$K$4:$K$54,1)+SUMIFS($AJ$4:$AJ$54,$AG$4:$AG$54,$BS31,$K$4:$K$54,1),)","v":0},{"$f":"IF(AND(CE31>0,COUNTIF(CM31:CM34,CM31)>1),CM31+RANK(CN31,CN31:CN34)-1,CM31)","v":1},{"$f":"IF(CO31=0,\"\",CO31)","v":1},{"$f":"IF(OR(CP31=\"\",COUNTIF(CP31:CP34,CP31)=1),\"\",$BY31)","v":0},{"$f":"IF(CP31=\"\",\"\",IF(COUNTIF(CP31:CP34,CP31)=1,CP31,CP31+RANK(CQ31,CQ31:CQ34,0)-1))","v":1},{"$f":"IF(OR(CR31=\"\",COUNTIF(CR31:CR34,CR31)=1),\"\",$BW31)","v":0},{"$f":"IF(CP31=\"\",\"\",IF(COUNTIF(CR31:CR34,CR31)=1,CR31,CR31+RANK(CS31,CS31:CS34,0)-1))","v":1},{"$f":"IF(OR(CT31=\"\",COUNTIF(CT31:CT34,CT31)=1),\"\",$BT31)","v":0},{"$f":"IF(CP31=\"\",\"\",IF(COUNTIF(CT31:CT34,CT31)=1,CT31,CT31+RANK(CU31,CU31:CU34,0)-1))","v":1},{"$f":"IF(CE31>0,BL29+RANK(CV31,CV31:CV34,1),)","v":1},null,{"$f":"IF(CB31=2,BS31,)","v":0},{"$f":"(SUMIF($AE$4:$AE$54,$BS31,$AY$4:$AY$54)+SUMIF($AG$4:$AG$54,$BS31,$AZ$4:$AZ$54))","v":0},{"$f":"(SUMIF($AE$4:$AE$54,$BS31,$BA$4:$BA$54)+SUMIF($AG$4:$AG$54,$BS31,$BB$4:$BB$54))","v":0},{"$f":"(SUMIF($AE$4:$AE$54,$BS31,$BC$4:$BC$54)+SUMIF($AG$4:$AG$54,$BS31,$BD$4:$BD$54))","v":0},{"$f":"IFERROR(CZ31*3+DA31*1,0)","v":0},{"$f":"$CA31","v":"D"},{"$f":"IF(CY31>0,RANK(DC31,DC31:DC34)+CF29,)","v":0},{"$f":"IF(AND(CY31>0,COUNTIF(DE31:DE34,DE31)>1),SUMIFS($AH$4:$AH$54,$AE$4:$AE$54,$BS31,$K$4:$K$54,2)+SUMIFS($AJ$4:$AJ$54,$AG$4:$AG$54,$BS31,$K$4:$K$54,2)-SUMIFS($AJ$4:$AJ$54,$AE$4:$AE$54,$BS31,$K$4:$K$54,2)-SUMIFS($AH$4:$AH$54,$AG$4:$AG$54,$BS31,$K$4:$K$54,2),)","v":0},{"$f":"IF(AND(CY31>0,COUNTIF(DE31:DE34,DE31)>1),DE31+RANK(DF31,DF31:DF34)-1,DE31)","v":0},{"$f":"IF(AND(CY31>0,COUNTIF(DG31:DG34,DG31)>1),SUMIFS($AH$4:$AH$54,$AE$4:$AE$54,$BS31,$K$4:$K$54,2)+SUMIFS($AJ$4:$AJ$54,$AG$4:$AG$54,$BS31,$K$4:$K$54,2),)","v":0},{"$f":"IF(AND(CY31>0,COUNTIF(DG31:DG34,DG31)>1),DG31+RANK(DH31,DH31:DH34)-1,DG31)","v":0},{"$f":"IF(DI31=0,\"\",DI31)","v":""},{"$f":"IF(OR(DJ31=\"\",COUNTIF(DJ31:DJ34,DJ31)=1),\"\",$BY31)","v":""},{"$f":"IF(DJ31=\"\",\"\",IF(COUNTIF(DJ31:DJ34,DJ31)=1,DJ31,DJ31+RANK(DK31,DK31:DK34,0)-1))","v":""},{"$f":"IF(OR(DL31=\"\",COUNTIF(DL31:DL34,DL31)=1),\"\",$BW31)","v":""},{"$f":"IF(DJ31=\"\",\"\",IF(COUNTIF(DL31:DL34,DL31)=1,DL31,DL31+RANK(DM31,DM31:DM34,0)-1))","v":""},{"$f":"IF(OR(DN31=\"\",COUNTIF(DN31:DN34,DN31)=1),\"\",$BT31)","v":""},{"$f":"IF(DJ31=\"\",\"\",IF(COUNTIF(DN31:DN34,DN31)=1,DN31,DN31+RANK(DO31,DO31:DO34,0)-1))","v":""},{"$f":"IF(CY31>0,CF29+RANK(DP31,DP31:DP34,1),)","v":0},null,{"$f":"IF(CB31=3,BS31,)","v":0},{"$f":"(SUMIF($AE$4:$AE$54,BS31,$BE$4:$BE$54)+SUMIF($AG$4:$AG$54,BS31,$BF$4:$BF$54))","v":0},{"$f":"(SUMIF($AE$4:$AE$54,BS31,$BG$4:$BG$54)+SUMIF($AG$4:$AG$54,BS31,$BH$4:$BH$54))","v":0},{"$f":"(SUMIF($AE$4:$AE$54,BS31,$BI$4:$BI$54)+SUMIF($AG$4:$AG$54,BS31,$BJ$4:$BJ$54))","v":0},{"$f":"IFERROR(DT31*3+DU31*1,0)","v":0},{"$f":"CA31","v":"D"},{"$f":"IF(DS31>0,RANK(DW31,DW31:DW34)+CF29+CZ29,)","v":0},{"$f":"IF(AND(DS31>0,COUNTIF(DY31:DY34,DY31)>1),SUMIFS($AH$4:$AH$54,$AE$4:$AE$54,$BS31,$K$4:$K$54,3)+SUMIFS($AJ$4:$AJ$54,$AG$4:$AG$54,$BS31,$K$4:$K$54,3)-SUMIFS($AJ$4:$AJ$54,$AE$4:$AE$54,$BS31,$K$4:$K$54,3)-SUMIFS($AH$4:$AH$54,$AG$4:$AG$54,$BS31,$K$4:$K$54,3),)","v":0},{"$f":"IF(AND(DS31>0,COUNTIF(DY31:DY34,DY31)>1),DY31+RANK(DZ31,DZ31:DZ34)-1,DY31)","v":0},{"$f":"IF(AND(DS31>0,COUNTIF(EA31:EA34,EA31)>1),SUMIFS($AH$4:$AH$54,$AE$4:$AE$54,$BS31,$K$4:$K$54,3)+SUMIFS($AJ$4:$AJ$54,$AG$4:$AG$54,$BS31,$K$4:$K$54,3),)","v":0},{"$f":"IF(AND(DS31>0,COUNTIF(EA31:EA34,EA31)>1),EA31+RANK(EB31,EB31:EB34)-1,EA31)","v":0},{"$f":"IF(EC31=0,\"\",EC31)","v":""},{"$f":"IF(OR(ED31=\"\",COUNTIF(ED31:ED34,ED31)=1),\"\",$BY31)","v":""},{"$f":"IF(ED31=\"\",\"\",IF(COUNTIF(ED31:ED34,ED31)=1,ED31,ED31+RANK(EE31,EE31:EE34,0)-1))","v":""},{"$f":"IF(OR(EF31=\"\",COUNTIF(EF31:EF34,EF31)=1),\"\",$BW31)","v":""},{"$f":"IF(ED31=\"\",\"\",IF(COUNTIF(EF31:EF34,EF31)=1,EF31,EF31+RANK(EG31,EG31:EG34,0)-1))","v":""},{"$f":"IF(OR(EH31=\"\",COUNTIF(EH31:EH34,EH31)=1),\"\",$BT31)","v":""},{"$f":"IF(ED31=\"\",\"\",IF(COUNTIF(EH31:EH34,EH31)=1,EH31,EH31+RANK(EI31,EI31:EI34,0)-1))","v":""},{"$f":"IF(DS31>0,CF29+CZ29+RANK(EJ31,EJ31:EJ34,1),)","v":0},null,{"$f":"IF(CB31=4,BS31,)","v":0},{"$f":"(SUMIF($AE$4:$AE$54,$BS31,$BK$4:$BK$54)+SUMIF($AG$4:$AG$54,$BS31,$BL$4:$BL$54))","v":0},{"$f":"(SUMIF($AE$4:$AE$54,$BS31,$BM$4:$BM$54)+SUMIF($AG$4:$AG$54,$BS31,$BN$4:$BN$54))","v":0},{"$f":"(SUMIF($AE$4:$AE$54,$BS31,$BO$4:$BO$54)+SUMIF($AG$4:$AG$54,$BS31,$BP$4:$BP$54))","v":0},{"$f":"IFERROR(EN31*3+EO31*1,0)","v":0},{"$f":"$CA31","v":"D"},{"$f":"IF(EM31>0,RANK(EQ31,EQ31:EQ34)+CF29+CZ29+DT29,)","v":0},{"$f":"IF(AND(EM31>0,COUNTIF(ES31:ES34,ES31)>1),SUMIFS($AH$4:$AH$54,$AE$4:$AE$54,$BS31,$K$4:$K$54,4)+SUMIFS($AJ$4:$AJ$54,$AG$4:$AG$54,$BS31,$K$4:$K$54,4)-SUMIFS($AJ$4:$AJ$54,$AE$4:$AE$54,$BS31,$K$4:$K$54,4)-SUMIFS($AH$4:$AH$54,$AG$4:$AG$54,$BS31,$K$4:$K$54,4),)","v":0},{"$f":"IF(AND(EM31>0,COUNTIF($ES$4:$ES$7,ES31)>1),ES31+RANK(ET31,$ET$4:$ET$7)-1,ES31)","v":0},{"$f":"IF(AND(EM31>0,COUNTIF(EU31:EU34,EU31)>1),SUMIFS($AH$4:$AH$54,$AE$4:$AE$54,$BS31,$K$4:$K$54,4)+SUMIFS($AJ$4:$AJ$54,$AG$4:$AG$54,$BS31,$K$4:$K$54,4),)","v":0},{"$f":"IF(AND(EM31>0,COUNTIF(EU31:EU34,EU31)>1),EU31+RANK(EV31,EV31:EV34)-1,EU31)","v":0},{"$f":"IF(EW31=0,\"\",EW31)","v":""},{"$f":"IF(OR(EX31=\"\",COUNTIF(EX31:EX34,EX31)=1),\"\",$BY31)","v":""},{"$f":"IF(EX31=\"\",\"\",IF(COUNTIF(EX31:EX34,EX31)=1,EX31,EX31+RANK(EY31,EY31:EY34,0)-1))","v":""},{"$f":"IF(OR(EZ31=\"\",COUNTIF(EZ31:EZ34,EZ31)=1),\"\",$BW31)","v":""},{"$f":"IF(EX31=\"\",\"\",IF(COUNTIF(EZ31:EZ34,EZ31)=1,EZ31,EZ31+RANK(FA31,FA31:FA34,0)-1))","v":""},{"$f":"IF(OR(FB31=\"\",COUNTIF(FB31:FB34,FB31)=1),\"\",$BT31)","v":""},{"$f":"IF(EX31=\"\",\"\",IF(COUNTIF(FB31:FB34,FB31)=1,FB31,FB31+RANK(FC31,FC31:FC34,0)-1))","v":""},{"$f":"IF(EM31>0,CF29+CZ29+DT29+RANK(FD31,FD31:FD34,1),)","v":0},null,{"$f":"IFERROR(VLOOKUP(FI31,CE30:CW34,19,FALSE),IFERROR(VLOOKUP(FI31,CY30:DQ34,19,FALSE),IFERROR(VLOOKUP(FI31,DS30:EK34,19,FALSE),VLOOKUP(FI31,EM30:FE34,19,FALSE))))","v":1},{"$f":"RANK(FG31,FG31:FG34,1)+COUNTIF(FG31:FG31,FG31)-1","v":1},{"$f":"BS31","v":"Kroatien"},null,null,null,null,null,null,null,null,null,null,null,null,null,null,null,null,null,null,null,null,null,null,null,null,null,28]
[null,null,"2021-06-14","Skottland","-","Tjeckien",null,"-",null,{"$f":"IF(OR(ISBLANK(G32),ISBLANK(I32)),\"\",IF(G32>I32,1,IF(G32<I32,2,\"X\")))","v":""},{"$f":"IF(VLOOKUP(D32,BS30:CB34,10,FALSE)=VLOOKUP(F32,BS30:CB34,10,FALSE),VLOOKUP(D32,BS30:CB34,10,FALSE),\"-\")","v":1},null,2,{"$f":"VLOOKUP(M32,FH31:FI34,2,FALSE)","v":"Tjeckien"},{"$f":"VLOOKUP($N32,$BS$31:$BZ$34,2,FALSE)","v":0},{"$f":"VLOOKUP($N32,$BS$31:$BZ$34,3,FALSE)","v":0},{"$f":"VLOOKUP($N32,$BS$31:$BZ$34,4,FALSE)","v":0},{"$f":"VLOOKUP($N32,$BS$31:$BZ$34,5,FALSE)","v":0},{"$f":"VLOOKUP($N32,$BS$31:$BZ$34,6,FALSE)","v":0},{"$f":"VLOOKUP($N32,$BS$31:$BZ$34,7,FALSE)","v":0},{"$f":"VLOOKUP($N32,$BS$31:$BZ$34,8,FALSE)","v":0},null,null,null,null,null,null,null,null,"2021-06-14","Skottland","-","Tjeckien","","-","","",null,0,0,0,0,0,0,0,0,0,0,0,0,0,0,0,0,0,0,0,0,0,0,0,0,0,0,0,0,0,0,null,null,"Tjeckien",{"$f":"(SUMIF(AE$4:AE$54,BS32,AM$4:AM$54)+SUMIF(AG$4:AG$54,BS32,AN$4:AN$54))","v":0},{"$f":"(SUMIF(AE$4:AE$54,BS32,AO$4:AO$54)+SUMIF(AG$4:AG$54,BS32,AP$4:AP$54))","v":0},{"$f":"(SUMIF(AE$4:AE$54,BS32,AQ$4:AQ$54)+SUMIF(AG$4:AG$54,BS32,AR$4:AR$54))","v":0},{"$f":"SUMIF($AE$4:$AE$54,BS32,$AH$4:$AH$54)+SUMIF($AG$4:$AG$54,BS32,$AJ$4:$AJ$54)","v":0},{"$f":"SUMIF($AE$4:$AE$54,BS32,$AJ$4:$AJ$54)+SUMIF($AG$4:$AG$54,BS32,$AH$4:$AH$54)","v":0},{"$f":"BW32-BX32","v":0},{"$f":"IFERROR(BT32*3+BU32*1,0)","v":0},"D",{"$f":"RANK(BZ32,BZ31:BZ34)","v":1},{"$f":"SUMPRODUCT((BZ31:BZ34=BZ32)*(BY31:BY34>BY32))","v":0},null,{"$f":"IF(CB32=1,BS32,)","v":"Tjeckien"},{"$f":"(SUMIF($AE$4:$AE$54,$BS32,$AS$4:$AS$54)+SUMIF($AG$4:$AG$54,$BS32,$AT$4:$AT$54))","v":0},{"$f":"(SUMIF($AE$4:$AE$54,$BS32,$AU$4:$AU$54)+SUMIF($AG$4:$AG$54,$BS32,$AV$4:$AV$54))","v":0},{"$f":"(SUMIF($AE$4:$AE$54,$BS32,$AW$4:$AW$54)+SUMIF($AG$4:$AG$54,$BS32,$AX$4:$AX$54))","v":0},{"$f":"IFERROR(CF32*3+CG32*1,0)","v":0},{"$f":"CA32","v":"D"},{"$f":"IF(CE32>0,RANK(CI32,CI31:CI34),)","v":1},{"$f":"IF(AND(CE32>0,COUNTIF(CK31:CK34,CK32)>1),SUMIFS($AH$4:$AH$54,$AE$4:$AE$54,BS32,$K$4:$K$54,1)+SUMIFS($AJ$4:$AJ$54,$AG$4:$AG$54,BS32,$K$4:$K$54,1)-SUMIFS($AJ$4:$AJ$54,$AE$4:$AE$54,BS32,$K$4:$K$54,1)-SUMIFS($AH$4:$AH$54,$AG$4:$AG$54,BS32,$K$4:$K$54,1),)","v":0},{"$f":"IF(AND(CE32>0,COUNTIF(CK31:CK34,CK32)>1),CK32+RANK(CL32,CL31:CL34)-1,CK32)","v":1},{"$f":"IF(AND(CE32>0,COUNTIF(CM31:CM34,CM32)>1),SUMIFS($AH$4:$AH$54,$AE$4:$AE$54,BS32,$K$4:$K$54,1)+SUMIFS($AJ$4:$AJ$54,$AG$4:$AG$54,BS32,$K$4:$K$54,1),)","v":0},{"$f":"IF(AND(CE32>0,COUNTIF(CM31:CM34,CM32)>1),CM32+RANK(CN32,CN31:CN34)-1,CM32)","v":1},{"$f":"IF(CO32=0,\"\",CO32)","v":1},{"$f":"IF(OR(CP32=\"\",COUNTIF(CP31:CP34,CP32)=1),\"\",$BY32)","v":0},{"$f":"IF(CP32=\"\",\"\",IF(COUNTIF(CP31:CP34,CP32)=1,CP32,CP32+RANK(CQ32,CQ31:CQ34,0)-1))","v":1},{"$f":"IF(OR(CR32=\"\",COUNTIF(CR31:CR34,CR32)=1),\"\",$BW32)","v":0},{"$f":"IF(CP32=\"\",\"\",IF(COUNTIF(CR31:CR34,CR32)=1,CR32,CR32+RANK(CS32,CS31:CS34,0)-1))","v":1},{"$f":"IF(OR(CT32=\"\",COUNTIF(CT31:CT34,CT32)=1),\"\",$BT32)","v":0},{"$f":"IF(CP32=\"\",\"\",IF(COUNTIF(CT31:CT34,CT32)=1,CT32,CT32+RANK(CU32,CU31:CU34,0)-1))","v":1},{"$f":"IF(CE32>0,BL29+RANK(CV32,CV31:CV34,1),)","v":1},null,{"$f":"IF(CB32=2,BS32,)","v":0},{"$f":"(SUMIF($AE$4:$AE$54,$BS32,$AY$4:$AY$54)+SUMIF($AG$4:$AG$54,$BS32,$AZ$4:$AZ$54))","v":0},{"$f":"(SUMIF($AE$4:$AE$54,$BS32,$BA$4:$BA$54)+SUMIF($AG$4:$AG$54,$BS32,$BB$4:$BB$54))","v":0},{"$f":"(SUMIF($AE$4:$AE$54,$BS32,$BC$4:$BC$54)+SUMIF($AG$4:$AG$54,$BS32,$BD$4:$BD$54))","v":0},{"$f":"IFERROR(CZ32*3+DA32*1,0)","v":0},{"$f":"$CA32","v":"D"},{"$f":"IF(CY32>0,RANK(DC32,DC31:DC34)+CF29,)","v":0},{"$f":"IF(AND(CY32>0,COUNTIF(DE31:DE34,DE32)>1),SUMIFS($AH$4:$AH$54,$AE$4:$AE$54,BS32,$K$4:$K$54,2)+SUMIFS($AJ$4:$AJ$54,$AG$4:$AG$54,BS32,$K$4:$K$54,2)-SUMIFS($AJ$4:$AJ$54,$AE$4:$AE$54,BS32,$K$4:$K$54,2)-SUMIFS($AH$4:$AH$54,$AG$4:$AG$54,BS32,$K$4:$K$54,2),)","v":0},{"$f":"IF(AND(CY32>0,COUNTIF(DE31:DE34,DE32)>1),DE32+RANK(DF32,DF31:DF34)-1,DE32)","v":0},{"$f":"IF(AND(CY32>0,COUNTIF(DG31:DG34,DG32)>1),SUMIFS($AH$4:$AH$54,$AE$4:$AE$54,BS32,$K$4:$K$54,2)+SUMIFS($AJ$4:$AJ$54,$AG$4:$AG$54,BS32,$K$4:$K$54,2),)","v":0},{"$f":"IF(AND(CY32>0,COUNTIF(DG31:DG34,DG32)>1),DG32+RANK(DH32,DH31:DH34)-1,DG32)","v":0},{"$f":"IF(DI32=0,\"\",DI32)","v":""},{"$f":"IF(OR(DJ32=\"\",COUNTIF(DJ31:DJ34,DJ32)=1),\"\",$BY32)","v":""},{"$f":"IF(DJ32=\"\",\"\",IF(COUNTIF(DJ31:DJ34,DJ32)=1,DJ32,DJ32+RANK(DK32,DK31:DK34,0)-1))","v":""},{"$f":"IF(OR(DL32=\"\",COUNTIF(DL31:DL34,DL32)=1),\"\",$BW32)","v":""},{"$f":"IF(DJ32=\"\",\"\",IF(COUNTIF(DL31:DL34,DL32)=1,DL32,DL32+RANK(DM32,DM31:DM34,0)-1))","v":""},{"$f":"IF(OR(DN32=\"\",COUNTIF(DN31:DN34,DN32)=1),\"\",$BT32)","v":""},{"$f":"IF(DJ32=\"\",\"\",IF(COUNTIF(DN31:DN34,DN32)=1,DN32,DN32+RANK(DO32,DO31:DO34,0)-1))","v":""},{"$f":"IF(CY32>0,CF29+RANK(DP32,DP31:DP34,1),)","v":0},null,{"$f":"IF(CB32=3,BS32,)","v":0},{"$f":"(SUMIF(AE$4:AE$54,BS32,BE$4:BE$54)+SUMIF(AG$4:AG$54,BS32,BF$4:BF$54))","v":0},{"$f":"(SUMIF(AE$4:AE$54,BS32,BG$4:BG$54)+SUMIF(AG$4:AG$54,BS32,BH$4:BH$54))","v":0},{"$f":"(SUMIF(AE$4:AE$54,BS32,BI$4:BI$54)+SUMIF(AG$4:AG$54,BS32,BJ$4:BJ$54))","v":0},{"$f":"IFERROR(DT32*3+DU32*1,0)","v":0},{"$f":"CA32","v":"D"},{"$f":"IF(DS32>0,RANK(DW32,DW31:DW34)+CF29+CZ29,)","v":0},{"$f":"IF(AND(DS32>0,COUNTIF(DY31:DY34,DY32)>1),SUMIFS($AH$4:$AH$54,$AE$4:$AE$54,BS32,$K$4:$K$54,3)+SUMIFS($AJ$4:$AJ$54,$AG$4:$AG$54,BS32,$K$4:$K$54,3)-SUMIFS($AJ$4:$AJ$54,$AE$4:$AE$54,BS32,$K$4:$K$54,3)-SUMIFS($AH$4:$AH$54,$AG$4:$AG$54,BS32,$K$4:$K$54,3),)","v":0},{"$f":"IF(AND(DS32>0,COUNTIF(DY31:DY34,DY32)>1),DY32+RANK(DZ32,DZ31:DZ34)-1,DY32)","v":0},{"$f":"IF(AND(DS32>0,COUNTIF(EA31:EA34,EA32)>1),SUMIFS($AH$4:$AH$54,$AE$4:$AE$54,BS32,$K$4:$K$54,3)+SUMIFS($AJ$4:$AJ$54,$AG$4:$AG$54,BS32,$K$4:$K$54,3),)","v":0},{"$f":"IF(AND(DS32>0,COUNTIF(EA31:EA34,EA32)>1),EA32+RANK(EB32,EB31:EB34)-1,EA32)","v":0},{"$f":"IF(EC32=0,\"\",EC32)","v":""},{"$f":"IF(OR(ED32=\"\",COUNTIF(ED31:ED34,ED32)=1),\"\",$BY32)","v":""},{"$f":"IF(ED32=\"\",\"\",IF(COUNTIF(ED31:ED34,ED32)=1,ED32,ED32+RANK(EE32,EE31:EE34,0)-1))","v":""},{"$f":"IF(OR(EF32=\"\",COUNTIF(EF31:EF34,EF32)=1),\"\",$BW32)","v":""},{"$f":"IF(ED32=\"\",\"\",IF(COUNTIF(EF31:EF34,EF32)=1,EF32,EF32+RANK(EG32,EG31:EG34,0)-1))","v":""},{"$f":"IF(OR(EH32=\"\",COUNTIF(EH31:EH34,EH32)=1),\"\",$BT32)","v":""},{"$f":"IF(ED32=\"\",\"\",IF(COUNTIF(EH31:EH34,EH32)=1,EH32,EH32+RANK(EI32,EI31:EI34,0)-1))","v":""},{"$f":"IF(DS32>0,CF29+CZ29+RANK(EJ32,EJ31:EJ34,1),)","v":0},null,{"$f":"IF(CB32=4,BS32,)","v":0},{"$f":"(SUMIF($AE$4:$AE$54,$BS32,$BK$4:$BK$54)+SUMIF($AG$4:$AG$54,$BS32,$BL$4:$BL$54))","v":0},{"$f":"(SUMIF($AE$4:$AE$54,$BS32,$BM$4:$BM$54)+SUMIF($AG$4:$AG$54,$BS32,$BN$4:$BN$54))","v":0},{"$f":"(SUMIF($AE$4:$AE$54,$BS32,$BO$4:$BO$54)+SUMIF($AG$4:$AG$54,$BS32,$BP$4:$BP$54))","v":0},{"$f":"IFERROR(EN32*3+EO32*1,0)","v":0},{"$f":"$CA32","v":"D"},{"$f":"IF(EM32>0,RANK(EQ32,EQ31:EQ34)+CF29+CZ29+DT29,)","v":0},{"$f":"IF(AND(EM32>0,COUNTIF(ES31:ES34,ES32)>1),SUMIFS($AH$4:$AH$54,$AE$4:$AE$54,BS32,$K$4:$K$54,4)+SUMIFS($AJ$4:$AJ$54,$AG$4:$AG$54,BS32,$K$4:$K$54,4)-SUMIFS($AJ$4:$AJ$54,$AE$4:$AE$54,BS32,$K$4:$K$54,4)-SUMIFS($AH$4:$AH$54,$AG$4:$AG$54,BS32,$K$4:$K$54,4),)","v":0},{"$f":"IF(AND(EM32>0,COUNTIF($ES$4:$ES$7,ES32)>1),ES32+RANK(ET32,$ET$4:$ET$7)-1,ES32)","v":0},{"$f":"IF(AND(EM32>0,COUNTIF(EU31:EU34,EU32)>1),SUMIFS($AH$4:$AH$54,$AE$4:$AE$54,BS32,$K$4:$K$54,4)+SUMIFS($AJ$4:$AJ$54,$AG$4:$AG$54,BS32,$K$4:$K$54,4),)","v":0},{"$f":"IF(AND(EM32>0,COUNTIF(EU31:EU34,EU32)>1),EU32+RANK(EV32,EV31:EV34)-1,EU32)","v":0},{"$f":"IF(EW32=0,\"\",EW32)","v":""},{"$f":"IF(OR(EX32=\"\",COUNTIF(EX31:EX34,EX32)=1),\"\",$BY32)","v":""},{"$f":"IF(EX32=\"\",\"\",IF(COUNTIF(EX31:EX34,EX32)=1,EX32,EX32+RANK(EY32,EY31:EY34,0)-1))","v":""},{"$f":"IF(OR(EZ32=\"\",COUNTIF(EZ31:EZ34,EZ32)=1),\"\",$BW32)","v":""},{"$f":"IF(EX32=\"\",\"\",IF(COUNTIF(EZ31:EZ34,EZ32)=1,EZ32,EZ32+RANK(FA32,FA31:FA34,0)-1))","v":""},{"$f":"IF(OR(FB32=\"\",COUNTIF(FB31:FB34,FB32)=1),\"\",$BT32)","v":""},{"$f":"IF(EX32=\"\",\"\",IF(COUNTIF(FB31:FB34,FB32)=1,FB32,FB32+RANK(FC32,FC31:FC34,0)-1))","v":""},{"$f":"IF(EM32>0,CF29+CZ29+DT29+RANK(FD32,FD31:FD34,1),)","v":0},null,{"$f":"IFERROR(VLOOKUP(FI32,CE30:CW34,19,FALSE),IFERROR(VLOOKUP(FI32,CY30:DQ34,19,FALSE),IFERROR(VLOOKUP(FI32,DS30:EK34,19,FALSE),VLOOKUP(FI32,EM30:FE34,19,FALSE))))","v":1},{"$f":"RANK(FG32,FG31:FG34,1)+COUNTIF(FG31:FG32,FG32)-1","v":2},{"$f":"BS32","v":"Tjeckien"},null,null,null,null,null,null,null,null,null,null,null,null,null,null,null,null,null,null,null,null,null,null,null,null,null,29]
[null,null,"2021-06-18","Kroatien","-","Tjeckien",null,"-",null,"",{"$f":"IF(VLOOKUP(D33,BS30:CB34,10,FALSE)=VLOOKUP(F33,BS30:CB34,10,FALSE),VLOOKUP(D33,BS30:CB34,10,FALSE),\"-\")","v":1},null,3,{"$f":"VLOOKUP(M33,FH31:FI34,2,FALSE)","v":"England"},{"$f":"VLOOKUP($N33,$BS$31:$BZ$34,2,FALSE)","v":0},{"$f":"VLOOKUP($N33,$BS$31:$BZ$34,3,FALSE)","v":0},{"$f":"VLOOKUP($N33,$BS$31:$BZ$34,4,FALSE)","v":0},{"$f":"VLOOKUP($N33,$BS$31:$BZ$34,5,FALSE)","v":0},{"$f":"VLOOKUP($N33,$BS$31:$BZ$34,6,FALSE)","v":0},{"$f":"VLOOKUP($N33,$BS$31:$BZ$34,7,FALSE)","v":0},{"$f":"VLOOKUP($N33,$BS$31:$BZ$34,8,FALSE)","v":0},null,null,null,null,null,null,null,null,"2021-06-18","Kroatien","-","Tjeckien","","-","","",null,0,0,0,0,0,0,0,0,0,0,0,0,0,0,0,0,0,0,0,0,0,0,0,0,0,0,0,0,0,0,null,null,"England",{"$f":"(SUMIF(AE$4:AE$54,BS33,AM$4:AM$54)+SUMIF(AG$4:AG$54,BS33,AN$4:AN$54))","v":0},{"$f":"(SUMIF(AE$4:AE$54,BS33,AO$4:AO$54)+SUMIF(AG$4:AG$54,BS33,AP$4:AP$54))","v":0},{"$f":"(SUMIF(AE$4:AE$54,BS33,AQ$4:AQ$54)+SUMIF(AG$4:AG$54,BS33,AR$4:AR$54))","v":0},{"$f":"SUMIF($AE$4:$AE$54,BS33,$AH$4:$AH$54)+SUMIF($AG$4:$AG$54,BS33,$AJ$4:$AJ$54)","v":0},{"$f":"SUMIF($AE$4:$AE$54,BS33,$AJ$4:$AJ$54)+SUMIF($AG$4:$AG$54,BS33,$AH$4:$AH$54)","v":0},{"$f":"BW33-BX33","v":0},{"$f":"IFERROR(BT33*3+BU33*1,0)","v":0},"D",{"$f":"RANK(BZ33,BZ31:BZ34)","v":1},{"$f":"SUMPRODUCT((BZ31:BZ34=BZ33)*(BY31:BY34>BY33))","v":0},null,{"$f":"IF(CB33=1,BS33,)","v":"England"},0,0,0,0,"D",{"$f":"IF(CE33>0,RANK(CI33,CI31:CI34),)","v":1},{"$f":"IF(AND(CE33>0,COUNTIF(CK31:CK34,CK33)>1),SUMIFS($AH$4:$AH$54,$AE$4:$AE$54,BS33,$K$4:$K$54,1)+SUMIFS($AJ$4:$AJ$54,$AG$4:$AG$54,BS33,$K$4:$K$54,1)-SUMIFS($AJ$4:$AJ$54,$AE$4:$AE$54,BS33,$K$4:$K$54,1)-SUMIFS($AH$4:$AH$54,$AG$4:$AG$54,BS33,$K$4:$K$54,1),)","v":0},{"$f":"IF(AND(CE33>0,COUNTIF(CK31:CK34,CK33)>1),CK33+RANK(CL33,CL31:CL34)-1,CK33)","v":1},{"$f":"IF(AND(CE33>0,COUNTIF(CM31:CM34,CM33)>1),SUMIFS($AH$4:$AH$54,$AE$4:$AE$54,BS33,$K$4:$K$54,1)+SUMIFS($AJ$4:$AJ$54,$AG$4:$AG$54,BS33,$K$4:$K$54,1),)","v":0},{"$f":"IF(AND(CE33>0,COUNTIF(CM31:CM34,CM33)>1),CM33+RANK(CN33,CN31:CN34)-1,CM33)","v":1},1,{"$f":"IF(OR(CP33=\"\",COUNTIF(CP31:CP34,CP33)=1),\"\",$BY33)","v":0},{"$f":"IF(CP33=\"\",\"\",IF(COUNTIF(CP31:CP34,CP33)=1,CP33,CP33+RANK(CQ33,CQ31:CQ34,0)-1))","v":1},{"$f":"IF(OR(CR33=\"\",COUNTIF(CR31:CR34,CR33)=1),\"\",$BW33)","v":0},{"$f":"IF(CP33=\"\",\"\",IF(COUNTIF(CR31:CR34,CR33)=1,CR33,CR33+RANK(CS33,CS31:CS34,0)-1))","v":1},{"$f":"IF(OR(CT33=\"\",COUNTIF(CT31:CT34,CT33)=1),\"\",$BT33)","v":0},{"$f":"IF(CP33=\"\",\"\",IF(COUNTIF(CT31:CT34,CT33)=1,CT33,CT33+RANK(CU33,CU31:CU34,0)-1))","v":1},{"$f":"IF(CE33>0,BL29+RANK(CV33,CV31:CV34,1),)","v":1},null,{"$f":"IF(CB33=2,BS33,)","v":0},0,0,0,0,"D",{"$f":"IF(CY33>0,RANK(DC33,DC31:DC34)+CF29,)","v":0},{"$f":"IF(AND(CY33>0,COUNTIF(DE31:DE34,DE33)>1),SUMIFS($AH$4:$AH$54,$AE$4:$AE$54,BS33,$K$4:$K$54,2)+SUMIFS($AJ$4:$AJ$54,$AG$4:$AG$54,BS33,$K$4:$K$54,2)-SUMIFS($AJ$4:$AJ$54,$AE$4:$AE$54,BS33,$K$4:$K$54,2)-SUMIFS($AH$4:$AH$54,$AG$4:$AG$54,BS33,$K$4:$K$54,2),)","v":0},{"$f":"IF(AND(CY33>0,COUNTIF(DE31:DE34,DE33)>1),DE33+RANK(DF33,DF31:DF34)-1,DE33)","v":0},{"$f":"IF(AND(CY33>0,COUNTIF(DG31:DG34,DG33)>1),SUMIFS($AH$4:$AH$54,$AE$4:$AE$54,BS33,$K$4:$K$54,2)+SUMIFS($AJ$4:$AJ$54,$AG$4:$AG$54,BS33,$K$4:$K$54,2),)","v":0},{"$f":"IF(AND(CY33>0,COUNTIF(DG31:DG34,DG33)>1),DG33+RANK(DH33,DH31:DH34)-1,DG33)","v":0},"",{"$f":"IF(OR(DJ33=\"\",COUNTIF(DJ31:DJ34,DJ33)=1),\"\",$BY33)","v":""},{"$f":"IF(DJ33=\"\",\"\",IF(COUNTIF(DJ31:DJ34,DJ33)=1,DJ33,DJ33+RANK(DK33,DK31:DK34,0)-1))","v":""},{"$f":"IF(OR(DL33=\"\",COUNTIF(DL31:DL34,DL33)=1),\"\",$BW33)","v":""},{"$f":"IF(DJ33=\"\",\"\",IF(COUNTIF(DL31:DL34,DL33)=1,DL33,DL33+RANK(DM33,DM31:DM34,0)-1))","v":""},{"$f":"IF(OR(DN33=\"\",COUNTIF(DN31:DN34,DN33)=1),\"\",$BT33)","v":""},{"$f":"IF(DJ33=\"\",\"\",IF(COUNTIF(DN31:DN34,DN33)=1,DN33,DN33+RANK(DO33,DO31:DO34,0)-1))","v":""},{"$f":"IF(CY33>0,CF29+RANK(DP33,DP31:DP34,1),)","v":0},null,{"$f":"IF(CB33=3,BS33,)","v":0},{"$f":"(SUMIF(AE$4:AE$54,BS33,BE$4:BE$54)+SUMIF(AG$4:AG$54,BS33,BF$4:BF$54))","v":0},{"$f":"(SUMIF(AE$4:AE$54,BS33,BG$4:BG$54)+SUMIF(AG$4:AG$54,BS33,BH$4:BH$54))","v":0},{"$f":"(SUMIF(AE$4:AE$54,BS33,BI$4:BI$54)+SUMIF(AG$4:AG$54,BS33,BJ$4:BJ$54))","v":0},0,{"$f":"CA33","v":"D"},{"$f":"IF(DS33>0,RANK(DW33,DW31:DW34)+CF29+CZ29,)","v":0},{"$f":"IF(AND(DS33>0,COUNTIF(DY31:DY34,DY33)>1),SUMIFS($AH$4:$AH$54,$AE$4:$AE$54,BS33,$K$4:$K$54,3)+SUMIFS($AJ$4:$AJ$54,$AG$4:$AG$54,BS33,$K$4:$K$54,3)-SUMIFS($AJ$4:$AJ$54,$AE$4:$AE$54,BS33,$K$4:$K$54,3)-SUMIFS($AH$4:$AH$54,$AG$4:$AG$54,BS33,$K$4:$K$54,3),)","v":0},{"$f":"IF(AND(DS33>0,COUNTIF(DY31:DY34,DY33)>1),DY33+RANK(DZ33,DZ31:DZ34)-1,DY33)","v":0},{"$f":"IF(AND(DS33>0,COUNTIF(EA31:EA34,EA33)>1),SUMIFS($AH$4:$AH$54,$AE$4:$AE$54,BS33,$K$4:$K$54,3)+SUMIFS($AJ$4:$AJ$54,$AG$4:$AG$54,BS33,$K$4:$K$54,3),)","v":0},{"$f":"IF(AND(DS33>0,COUNTIF(EA31:EA34,EA33)>1),EA33+RANK(EB33,EB31:EB34)-1,EA33)","v":0},"",{"$f":"IF(OR(ED33=\"\",COUNTIF(ED31:ED34,ED33)=1),\"\",$BY33)","v":""},{"$f":"IF(ED33=\"\",\"\",IF(COUNTIF(ED31:ED34,ED33)=1,ED33,ED33+RANK(EE33,EE31:EE34,0)-1))","v":""},{"$f":"IF(OR(EF33=\"\",COUNTIF(EF31:EF34,EF33)=1),\"\",$BW33)","v":""},{"$f":"IF(ED33=\"\",\"\",IF(COUNTIF(EF31:EF34,EF33)=1,EF33,EF33+RANK(EG33,EG31:EG34,0)-1))","v":""},{"$f":"IF(OR(EH33=\"\",COUNTIF(EH31:EH34,EH33)=1),\"\",$BT33)","v":""},{"$f":"IF(ED33=\"\",\"\",IF(COUNTIF(EH31:EH34,EH33)=1,EH33,EH33+RANK(EI33,EI31:EI34,0)-1))","v":""},{"$f":"IF(DS33>0,CF29+CZ29+RANK(EJ33,EJ31:EJ34,1),)","v":0},null,{"$f":"IF(CB33=4,BS33,)","v":0},0,0,0,0,"D",{"$f":"IF(EM33>0,RANK(EQ33,EQ31:EQ34)+CF29+CZ29+DT29,)","v":0},{"$f":"IF(AND(EM33>0,COUNTIF(ES31:ES34,ES33)>1),SUMIFS($AH$4:$AH$54,$AE$4:$AE$54,BS33,$K$4:$K$54,4)+SUMIFS($AJ$4:$AJ$54,$AG$4:$AG$54,BS33,$K$4:$K$54,4)-SUMIFS($AJ$4:$AJ$54,$AE$4:$AE$54,BS33,$K$4:$K$54,4)-SUMIFS($AH$4:$AH$54,$AG$4:$AG$54,BS33,$K$4:$K$54,4),)","v":0},0,{"$f":"IF(AND(EM33>0,COUNTIF(EU31:EU34,EU33)>1),SUMIFS($AH$4:$AH$54,$AE$4:$AE$54,BS33,$K$4:$K$54,4)+SUMIFS($AJ$4:$AJ$54,$AG$4:$AG$54,BS33,$K$4:$K$54,4),)","v":0},{"$f":"IF(AND(EM33>0,COUNTIF(EU31:EU34,EU33)>1),EU33+RANK(EV33,EV31:EV34)-1,EU33)","v":0},"",{"$f":"IF(OR(EX33=\"\",COUNTIF(EX31:EX34,EX33)=1),\"\",$BY33)","v":""},{"$f":"IF(EX33=\"\",\"\",IF(COUNTIF(EX31:EX34,EX33)=1,EX33,EX33+RANK(EY33,EY31:EY34,0)-1))","v":""},{"$f":"IF(OR(EZ33=\"\",COUNTIF(EZ31:EZ34,EZ33)=1),\"\",$BW33)","v":""},{"$f":"IF(EX33=\"\",\"\",IF(COUNTIF(EZ31:EZ34,EZ33)=1,EZ33,EZ33+RANK(FA33,FA31:FA34,0)-1))","v":""},{"$f":"IF(OR(FB33=\"\",COUNTIF(FB31:FB34,FB33)=1),\"\",$BT33)","v":""},{"$f":"IF(EX33=\"\",\"\",IF(COUNTIF(FB31:FB34,FB33)=1,FB33,FB33+RANK(FC33,FC31:FC34,0)-1))","v":""},{"$f":"IF(EM33>0,CF29+CZ29+DT29+RANK(FD33,FD31:FD34,1),)","v":0},null,{"$f":"IFERROR(VLOOKUP(FI33,CE30:CW34,19,FALSE),IFERROR(VLOOKUP(FI33,CY30:DQ34,19,FALSE),IFERROR(VLOOKUP(FI33,DS30:EK34,19,FALSE),VLOOKUP(FI33,EM30:FE34,19,FALSE))))","v":1},{"$f":"RANK(FG33,FG31:FG34,1)+COUNTIF(FG31:FG33,FG33)-1","v":3},{"$f":"BS33","v":"England"},null,null,null,null,null,null,null,null,null,null,null,null,null,null,null,null,null,null,null,null,null,null,null,null,null,30]
[null,null,"2021-06-18","England","-","Skottland",null,"-",null,"",{"$f":"IF(VLOOKUP(D34,BS30:CB34,10,FALSE)=VLOOKUP(F34,BS30:CB34,10,FALSE),VLOOKUP(D34,BS30:CB34,10,FALSE),\"-\")","v":1},null,4,{"$f":"VLOOKUP(M34,FH31:FI34,2,FALSE)","v":"Skottland"},{"$f":"VLOOKUP($N34,$BS$31:$BZ$34,2,FALSE)","v":0},{"$f":"VLOOKUP($N34,$BS$31:$BZ$34,3,FALSE)","v":0},{"$f":"VLOOKUP($N34,$BS$31:$BZ$34,4,FALSE)","v":0},{"$f":"VLOOKUP($N34,$BS$31:$BZ$34,5,FALSE)","v":0},{"$f":"VLOOKUP($N34,$BS$31:$BZ$34,6,FALSE)","v":0},{"$f":"VLOOKUP($N34,$BS$31:$BZ$34,7,FALSE)","v":0},{"$f":"VLOOKUP($N34,$BS$31:$BZ$34,8,FALSE)","v":0},null,null,null,null,null,null,null,null,"2021-06-18","England","-","Skottland","","-","","",null,0,0,0,0,0,0,0,0,0,0,0,0,0,0,0,0,0,0,0,0,0,0,0,0,0,0,0,0,0,0,null,null,"Skottland",{"$f":"(SUMIF(AE$4:AE$54,BS34,AM$4:AM$54)+SUMIF(AG$4:AG$54,BS34,AN$4:AN$54))","v":0},{"$f":"(SUMIF(AE$4:AE$54,BS34,AO$4:AO$54)+SUMIF(AG$4:AG$54,BS34,AP$4:AP$54))","v":0},{"$f":"(SUMIF(AE$4:AE$54,BS34,AQ$4:AQ$54)+SUMIF(AG$4:AG$54,BS34,AR$4:AR$54))","v":0},{"$f":"SUMIF($AE$4:$AE$54,BS34,$AH$4:$AH$54)+SUMIF($AG$4:$AG$54,BS34,$AJ$4:$AJ$54)","v":0},{"$f":"SUMIF($AE$4:$AE$54,BS34,$AJ$4:$AJ$54)+SUMIF($AG$4:$AG$54,BS34,$AH$4:$AH$54)","v":0},{"$f":"BW34-BX34","v":0},{"$f":"IFERROR(BT34*3+BU34*1,0)","v":0},"D",{"$f":"RANK(BZ34,BZ31:BZ34)","v":1},{"$f":"SUMPRODUCT((BZ31:BZ34=BZ34)*(BY31:BY34>BY34))","v":0},null,{"$f":"IF(CB34=1,BS34,)","v":"Skottland"},0,0,0,0,"D",{"$f":"IF(CE34>0,RANK(CI34,CI31:CI34),)","v":1},{"$f":"IF(AND(CE34>0,COUNTIF(CK31:CK34,CK34)>1),SUMIFS($AH$4:$AH$54,$AE$4:$AE$54,BS34,$K$4:$K$54,1)+SUMIFS($AJ$4:$AJ$54,$AG$4:$AG$54,BS34,$K$4:$K$54,1)-SUMIFS($AJ$4:$AJ$54,$AE$4:$AE$54,BS34,$K$4:$K$54,1)-SUMIFS($AH$4:$AH$54,$AG$4:$AG$54,BS34,$K$4:$K$54,1),)","v":0},{"$f":"IF(AND(CE34>0,COUNTIF(CK31:CK34,CK34)>1),CK34+RANK(CL34,CL31:CL34)-1,CK34)","v":1},{"$f":"IF(AND(CE34>0,COUNTIF(CM31:CM34,CM34)>1),SUMIFS($AH$4:$AH$54,$AE$4:$AE$54,BS34,$K$4:$K$54,1)+SUMIFS($AJ$4:$AJ$54,$AG$4:$AG$54,BS34,$K$4:$K$54,1),)","v":0},{"$f":"IF(AND(CE34>0,COUNTIF(CM31:CM34,CM34)>1),CM34+RANK(CN34,CN31:CN34)-1,CM34)","v":1},1,{"$f":"IF(OR(CP34=\"\",COUNTIF(CP31:CP34,CP34)=1),\"\",$BY34)","v":0},{"$f":"IF(CP34=\"\",\"\",IF(COUNTIF(CP31:CP34,CP34)=1,CP34,CP34+RANK(CQ34,CQ31:CQ34,0)-1))","v":1},{"$f":"IF(OR(CR34=\"\",COUNTIF(CR31:CR34,CR34)=1),\"\",$BW34)","v":0},{"$f":"IF(CP34=\"\",\"\",IF(COUNTIF(CR31:CR34,CR34)=1,CR34,CR34+RANK(CS34,CS31:CS34,0)-1))","v":1},{"$f":"IF(OR(CT34=\"\",COUNTIF(CT31:CT34,CT34)=1),\"\",$BT34)","v":0},{"$f":"IF(CP34=\"\",\"\",IF(COUNTIF(CT31:CT34,CT34)=1,CT34,CT34+RANK(CU34,CU31:CU34,0)-1))","v":1},{"$f":"IF(CE34>0,BL29+RANK(CV34,CV31:CV34,1),)","v":1},null,{"$f":"IF(CB34=2,BS34,)","v":0},0,0,0,0,"D",{"$f":"IF(CY34>0,RANK(DC34,DC31:DC34)+CF29,)","v":0},{"$f":"IF(AND(CY34>0,COUNTIF(DE31:DE34,DE34)>1),SUMIFS($AH$4:$AH$54,$AE$4:$AE$54,BS34,$K$4:$K$54,2)+SUMIFS($AJ$4:$AJ$54,$AG$4:$AG$54,BS34,$K$4:$K$54,2)-SUMIFS($AJ$4:$AJ$54,$AE$4:$AE$54,BS34,$K$4:$K$54,2)-SUMIFS($AH$4:$AH$54,$AG$4:$AG$54,BS34,$K$4:$K$54,2),)","v":0},{"$f":"IF(AND(CY34>0,COUNTIF(DE31:DE34,DE34)>1),DE34+RANK(DF34,DF31:DF34)-1,DE34)","v":0},{"$f":"IF(AND(CY34>0,COUNTIF(DG31:DG34,DG34)>1),SUMIFS($AH$4:$AH$54,$AE$4:$AE$54,BS34,$K$4:$K$54,2)+SUMIFS($AJ$4:$AJ$54,$AG$4:$AG$54,BS34,$K$4:$K$54,2),)","v":0},{"$f":"IF(AND(CY34>0,COUNTIF(DG31:DG34,DG34)>1),DG34+RANK(DH34,DH31:DH34)-1,DG34)","v":0},"",{"$f":"IF(OR(DJ34=\"\",COUNTIF(DJ31:DJ34,DJ34)=1),\"\",$BY34)","v":""},{"$f":"IF(DJ34=\"\",\"\",IF(COUNTIF(DJ31:DJ34,DJ34)=1,DJ34,DJ34+RANK(DK34,DK31:DK34,0)-1))","v":""},{"$f":"IF(OR(DL34=\"\",COUNTIF(DL31:DL34,DL34)=1),\"\",$BW34)","v":""},{"$f":"IF(DJ34=\"\",\"\",IF(COUNTIF(DL31:DL34,DL34)=1,DL34,DL34+RANK(DM34,DM31:DM34,0)-1))","v":""},{"$f":"IF(OR(DN34=\"\",COUNTIF(DN31:DN34,DN34)=1),\"\",$BT34)","v":""},{"$f":"IF(DJ34=\"\",\"\",IF(COUNTIF(DN31:DN34,DN34)=1,DN34,DN34+RANK(DO34,DO31:DO34,0)-1))","v":""},{"$f":"IF(CY34>0,CF29+RANK(DP34,DP31:DP34,1),)","v":0},null,{"$f":"IF(CB34=3,BS34,)","v":0},{"$f":"(SUMIF(AE$4:AE$54,BS34,BE$4:BE$54)+SUMIF(AG$4:AG$54,BS34,BF$4:BF$54))","v":0},{"$f":"(SUMIF(AE$4:AE$54,BS34,BG$4:BG$54)+SUMIF(AG$4:AG$54,BS34,BH$4:BH$54))","v":0},{"$f":"(SUMIF(AE$4:AE$54,BS34,BI$4:BI$54)+SUMIF(AG$4:AG$54,BS34,BJ$4:BJ$54))","v":0},0,{"$f":"CA34","v":"D"},{"$f":"IF(DS34>0,RANK(DW34,DW31:DW34)+CF29+CZ29,)","v":0},{"$f":"IF(AND(DS34>0,COUNTIF(DY31:DY34,DY34)>1),SUMIFS($AH$4:$AH$54,$AE$4:$AE$54,BS34,$K$4:$K$54,3)+SUMIFS($AJ$4:$AJ$54,$AG$4:$AG$54,BS34,$K$4:$K$54,3)-SUMIFS($AJ$4:$AJ$54,$AE$4:$AE$54,BS34,$K$4:$K$54,3)-SUMIFS($AH$4:$AH$54,$AG$4:$AG$54,BS34,$K$4:$K$54,3),)","v":0},{"$f":"IF(AND(DS34>0,COUNTIF(DY31:DY34,DY34)>1),DY34+RANK(DZ34,DZ31:DZ34)-1,DY34)","v":0},{"$f":"IF(AND(DS34>0,COUNTIF(EA31:EA34,EA34)>1),SUMIFS($AH$4:$AH$54,$AE$4:$AE$54,BS34,$K$4:$K$54,3)+SUMIFS($AJ$4:$AJ$54,$AG$4:$AG$54,BS34,$K$4:$K$54,3),)","v":0},{"$f":"IF(AND(DS34>0,COUNTIF(EA31:EA34,EA34)>1),EA34+RANK(EB34,EB31:EB34)-1,EA34)","v":0},"",{"$f":"IF(OR(ED34=\"\",COUNTIF(ED31:ED34,ED34)=1),\"\",$BY34)","v":""},{"$f":"IF(ED34=\"\",\"\",IF(COUNTIF(ED31:ED34,ED34)=1,ED34,ED34+RANK(EE34,EE31:EE34,0)-1))","v":""},{"$f":"IF(OR(EF34=\"\",COUNTIF(EF31:EF34,EF34)=1),\"\",$BW34)","v":""},{"$f":"IF(ED34=\"\",\"\",IF(COUNTIF(EF31:EF34,EF34)=1,EF34,EF34+RANK(EG34,EG31:EG34,0)-1))","v":""},{"$f":"IF(OR(EH34=\"\",COUNTIF(EH31:EH34,EH34)=1),\"\",$BT34)","v":""},{"$f":"IF(ED34=\"\",\"\",IF(COUNTIF(EH31:EH34,EH34)=1,EH34,EH34+RANK(EI34,EI31:EI34,0)-1))","v":""},{"$f":"IF(DS34>0,CF29+CZ29+RANK(EJ34,EJ31:EJ34,1),)","v":0},null,{"$f":"IF(CB34=4,BS34,)","v":0},0,0,0,0,"D",{"$f":"IF(EM34>0,RANK(EQ34,EQ31:EQ34)+CF29+CZ29+DT29,)","v":0},{"$f":"IF(AND(EM34>0,COUNTIF(ES31:ES34,ES34)>1),SUMIFS($AH$4:$AH$54,$AE$4:$AE$54,BS34,$K$4:$K$54,4)+SUMIFS($AJ$4:$AJ$54,$AG$4:$AG$54,BS34,$K$4:$K$54,4)-SUMIFS($AJ$4:$AJ$54,$AE$4:$AE$54,BS34,$K$4:$K$54,4)-SUMIFS($AH$4:$AH$54,$AG$4:$AG$54,BS34,$K$4:$K$54,4),)","v":0},0,{"$f":"IF(AND(EM34>0,COUNTIF(EU31:EU34,EU34)>1),SUMIFS($AH$4:$AH$54,$AE$4:$AE$54,BS34,$K$4:$K$54,4)+SUMIFS($AJ$4:$AJ$54,$AG$4:$AG$54,BS34,$K$4:$K$54,4),)","v":0},{"$f":"IF(AND(EM34>0,COUNTIF(EU31:EU34,EU34)>1),EU34+RANK(EV34,EV31:EV34)-1,EU34)","v":0},"",{"$f":"IF(OR(EX34=\"\",COUNTIF(EX31:EX34,EX34)=1),\"\",$BY34)","v":""},{"$f":"IF(EX34=\"\",\"\",IF(COUNTIF(EX31:EX34,EX34)=1,EX34,EX34+RANK(EY34,EY31:EY34,0)-1))","v":""},{"$f":"IF(OR(EZ34=\"\",COUNTIF(EZ31:EZ34,EZ34)=1),\"\",$BW34)","v":""},{"$f":"IF(EX34=\"\",\"\",IF(COUNTIF(EZ31:EZ34,EZ34)=1,EZ34,EZ34+RANK(FA34,FA31:FA34,0)-1))","v":""},{"$f":"IF(OR(FB34=\"\",COUNTIF(FB31:FB34,FB34)=1),\"\",$BT34)","v":""},{"$f":"IF(EX34=\"\",\"\",IF(COUNTIF(FB31:FB34,FB34)=1,FB34,FB34+RANK(FC34,FC31:FC34,0)-1))","v":""},{"$f":"IF(EM34>0,CF29+CZ29+DT29+RANK(FD34,FD31:FD34,1),)","v":0},null,{"$f":"IFERROR(VLOOKUP(FI34,CE30:CW34,19,FALSE),IFERROR(VLOOKUP(FI34,CY30:DQ34,19,FALSE),IFERROR(VLOOKUP(FI34,DS30:EK34,19,FALSE),VLOOKUP(FI34,EM30:FE34,19,FALSE))))","v":1},{"$f":"RANK(FG34,FG31:FG34,1)+COUNTIF(FG31:FG34,FG34)-1","v":4},{"$f":"BS34","v":"Skottland"},null,null,null,null,null,null,null,null,null,null,null,null,null,null,null,null,null,null,null,null,null,null,null,null,null,31]
[null,null,"2021-06-22","Tjeckien","-","England",null,"-",null,"",{"$f":"IF(VLOOKUP(D35,BS30:CB34,10,FALSE)=VLOOKUP(F35,BS30:CB34,10,FALSE),VLOOKUP(D35,BS30:CB34,10,FALSE),\"-\")","v":1},null,null,{"$f":"IF(COUNTBLANK(G31:G36)+COUNTBLANK(I31:I36)=0,\"Resultat OK\",\"Fyll i resultat\")","v":"Fyll i resultat"},null,null,null,null,null,null,null,null,null,null,null,null,null,null,null,"2021-06-22","Tjeckien","-","England","","-","","",null,0,0,0,0,0,0,0,0,0,0,0,0,0,0,0,0,0,0,0,0,0,0,0,0,0,0,0,0,0,0,null,null,null,null,null,null,null,null,null,null,null,null,null,null,null,null,null,null,null,null,null,null,null,null,null,null,null,null,null,null,null,null,null,null,null,null,null,null,null,null,null,null,null,null,null,null,null,null,null,null,null,null,null,null,null,null,null,null,null,null,null,null,null,null,null,null,null,null,null,null,null,null,null,null,null,null,null,null,null,null,null,null,null,null,null,null,null,null,null,null,null,null,null,null,null,null,null,null,null,null,null,null,null,null,null,null,null,null,null,null,null,null,null,null,null,null,null,null,null,null,null,null,32]
[null,null,"2021-06-22","Kroatien","-","Skottland",null,"-",null,"",{"$f":"IF(VLOOKUP(D36,BS30:CB34,10,FALSE)=VLOOKUP(F36,BS30:CB34,10,FALSE),VLOOKUP(D36,BS30:CB34,10,FALSE),\"-\")","v":1},null,null,null,null,null,null,null,null,null,null,null,null,null,null,null,null,null,null,"2021-06-22","Kroatien","-","Skottland","","-","","",null,0,0,0,0,0,0,0,0,0,0,0,0,0,0,0,0,0,0,0,0,0,0,0,0,0,0,0,0,0,0,null,null,null,null,null,null,null,null,null,null,null,null,null,null,null,null,null,null,null,null,null,null,null,null,null,null,null,null,null,null,null,null,null,null,null,null,null,null,null,null,null,null,null,null,null,null,null,null,null,null,null,null,null,null,null,null,null,null,null,null,null,null,null,null,null,null,null,null,null,null,null,null,null,null,null,null,null,null,null,null,null,null,null,null,null,null,null,null,null,null,null,null,null,null,null,null,null,null,null,null,null,null,null,null,null,null,null,null,null,null,null,null,null,null,null,null,null,null,null,null,null,null,33]
[null,null,null,null,null,null,null,null,null,"",null,null,null,null,null,null,null,null,null,null,null,null,null,null,null,null,null,null,null,null,null,null,null,"",null,null,"",null,null,null,null,null,null,null,null,null,null,null,null,null,null,null,null,null,null,null,null,null,null,null,null,null,null,null,null,null,null,null,null,null,null,null,null,null,null,null,null,null,null,null,null,null,null,null,null,null,null,null,null,null,null,null,null,null,null,null,null,null,null,null,null,null,null,null,null,null,null,null,null,null,null,null,null,null,null,null,null,null,null,null,null,null,null,null,null,null,null,null,null,null,null,null,null,null,null,null,null,null,null,null,null,null,null,null,null,null,null,null,null,null,null,null,null,null,null,null,null,null,null,null,null,null,null,null,null,null,null,null,null,null,null,null,null,null,null,null,null,null,null,null,null,null,null,null,null,null,null,null,null,null,34]
[null,null,"Grupp E",null,null,null,null,null,null,null,null,null,null,null,null,null,null,null,null,null,null,null,null,null,null,null,null,null,null,"Grupp E",null,null,null,null,null,null,null,null,null,null,null,null,null,null,null,null,null,null,null,null,null,null,null,null,null,null,null,null,null,null,null,null,null,null,null,null,null,null,null,null,"Rank 0",null,null,null,null,null,null,null,null,null,null,null,"Rank 1",{"$f":"COUNTIF(CB40:CB43,1)","v":4},null,null,null,null,null,null,null,null,null,null,null,null,null,null,null,null,null,null,"Rank 2",{"$f":"COUNTIF(CB40:CB43,2)","v":0},null,null,null,null,null,null,null,null,null,null,null,null,null,null,null,null,null,null,"Rank 3",{"$f":"COUNTIF(CB40:CB43,3)","v":0},null,null,null,null,null,null,null,null,null,null,null,null,null,null,null,null,null,null,"Rank 4",{"$f":"COUNTIF(CB40:CB43,4)","v":0},null,null,null,null,null,null,null,null,null,null,null,null,null,null,null,null,null,null,null,null,null,null,null,null,null,null,null,null,null,null,null,null,null,null,null,null,null,null,null,null,null,null,null,null,null,null,35]
[null,null,"Datum","Match",null,null,"Resultat",null,null,"Tecken",null,null,null,"Lag","V","O","F","GM","IM","+/-","P",null,null,null,null,null,null,null,null,"Datum","Match",null,null,"Resultat",null,null,"Tecken","Poäng","V1","V2","O1","O2","F1","F2","V1","V2","O1","O2","F1","F2","V1","V2","O1","O2","F1","F2","V1","V2","O1","O2","F1","F2","V1","V2","O1","O2","F1","F2",null,null,"Lag","V","O","F","GM","IM","+/-","P","Grupp","Rank P","Rank +/-",null,"Lag","V","O","F","P","Grupp","Rank P","+/-","+/- rank","GM","GM rank","Rank internal","+/- all","+/- rank all","GM all","GM rank all","V all","V rank all","Rank all",null,"Lag","V","O","F","P","Grupp","Rank P","+/-","+/- rank","GM","GM rank","Rank internal","+/- all","+/- rank all","GM all","GM rank all","V all","V rank all","Rank all",null,"Lag","V","O","F","P","Grupp","Rank P","+/-","+/- rank","GM","GM rank","Rank internal","+/- all","+/- rank all","GM all","GM rank all","V all","V rank all","Rank all",null,"Lag","V","O","F","P","Grupp","Rank P","+/-","+/- rank","GM","GM rank","Rank internal","+/- all","+/- rank all","GM all","GM rank all","V all","V rank all","Rank all",null,"Rank","Rank Ties",null,null,null,null,null,null,null,null,null,null,null,null,null,null,null,null,null,null,null,null,null,null,null,null,null,null,36]
[null,null,"2021-06-14","Polen","-","Slovakien",null,"-",null,{"$f":"IF(OR(ISBLANK(G40),ISBLANK(I40)),\"\",IF(G40>I40,1,IF(G40<I40,2,\"X\")))","v":""},{"$f":"IF(VLOOKUP(D40,BS39:CB43,10,FALSE)=VLOOKUP(F40,BS39:CB43,10,FALSE),VLOOKUP(D40,BS39:CB43,10,FALSE),\"-\")","v":1},null,1,{"$f":"VLOOKUP(M40,FH40:FI43,2,FALSE)","v":"Polen"},{"$f":"VLOOKUP($N40,$BS$40:$BZ$43,2,FALSE)","v":0},{"$f":"VLOOKUP($N40,$BS$40:$BZ$43,3,FALSE)","v":0},{"$f":"VLOOKUP($N40,$BS$40:$BZ$43,4,FALSE)","v":0},{"$f":"VLOOKUP($N40,$BS$40:$BZ$43,5,FALSE)","v":0},{"$f":"VLOOKUP($N40,$BS$40:$BZ$43,6,FALSE)","v":0},{"$f":"VLOOKUP($N40,$BS$40:$BZ$43,7,FALSE)","v":0},{"$f":"VLOOKUP($N40,$BS$40:$BZ$43,8,FALSE)","v":0},null,null,null,null,null,null,null,null,{"$f":"C40","v":"2021-06-14"},"Polen","-","Slovakien",{"$f":"IF(G40=\"\",\"\",G40)","v":""},"-",{"$f":"IF(I40=\"\",\"\",I40)","v":""},{"$f":"J40","v":""},null,{"$f":"IF(AH40>AJ40,1,0)","v":0},{"$f":"IF(AJ40>AH40,1,0)","v":0},{"$f":"IF(AND(AH40=AJ40,AH40<>\"\"),1,0)","v":0},{"$f":"IF(AND(AH40=AJ40,AH40<>\"\"),1,0)","v":0},{"$f":"IF(AH40<AJ40,1,0)","v":0},{"$f":"IF(AJ40<AH40,1,)","v":0},{"$f":"IF(ISERROR(VLOOKUP(AE40,CE:CE,1,FALSE)),0,1)*IF(ISERROR(VLOOKUP(AG40,CE:CE,1,FALSE)),0,1)*AM40","v":0},{"$f":"IF(ISERROR(VLOOKUP(AE40,CE:CE,1,FALSE)),0,1)*IF(ISERROR(VLOOKUP(AG40,CE:CE,1,FALSE)),0,1)*AN40","v":0},{"$f":"IF(ISERROR(VLOOKUP(AE40,CE:CE,1,FALSE)),0,1)*IF(ISERROR(VLOOKUP(AG40,CE:CE,1,FALSE)),0,1)*AO40","v":0},{"$f":"IF(ISERROR(VLOOKUP(AE40,CE:CE,1,FALSE)),0,1)*IF(ISERROR(VLOOKUP(AG40,CE:CE,1,FALSE)),0,1)*AP40","v":0},{"$f":"IF(ISERROR(VLOOKUP(AE40,CE:CE,1,FALSE)),0,1)*IF(ISERROR(VLOOKUP(AG40,CE:CE,1,FALSE)),0,1)*AQ40","v":0},{"$f":"IF(ISERROR(VLOOKUP(AE40,CE:CE,1,FALSE)),0,1)*IF(ISERROR(VLOOKUP(AG40,CE:CE,1,FALSE)),0,1)*AR40","v":0},{"$f":"IF(ISERROR(VLOOKUP(AE40,CY:CY,1,FALSE)),0,1)*IF(ISERROR(VLOOKUP(AG40,CY:CY,1,FALSE)),0,1)*AM40","v":0},{"$f":"IF(ISERROR(VLOOKUP(AE40,CY:CY,1,FALSE)),0,1)*IF(ISERROR(VLOOKUP(AG40,CY:CY,1,FALSE)),0,1)*AN40","v":0},{"$f":"IF(ISERROR(VLOOKUP(AE40,CY:CY,1,FALSE)),0,1)*IF(ISERROR(VLOOKUP(AG40,CY:CY,1,FALSE)),0,1)*AO40","v":0},{"$f":"IF(ISERROR(VLOOKUP(AE40,CY:CY,1,FALSE)),0,1)*IF(ISERROR(VLOOKUP(AG40,CY:CY,1,FALSE)),0,1)*AP40","v":0},{"$f":"IF(ISERROR(VLOOKUP(AE40,CY:CY,1,FALSE)),0,1)*IF(ISERROR(VLOOKUP(AG40,CY:CY,1,FALSE)),0,1)*AQ40","v":0},{"$f":"IF(ISERROR(VLOOKUP(AE40,CY:CY,1,FALSE)),0,1)*IF(ISERROR(VLOOKUP(AG40,CY:CY,1,FALSE)),0,1)*AR40","v":0},{"$f":"IF(ISERROR(VLOOKUP(AE40,DS:DS,1,FALSE)),0,1)*IF(ISERROR(VLOOKUP(AG40,DS:DS,1,FALSE)),0,1)*AM40","v":0},{"$f":"IF(ISERROR(VLOOKUP(AE40,DS:DS,1,FALSE)),0,1)*IF(ISERROR(VLOOKUP(AG40,DS:DS,1,FALSE)),0,1)*AN40","v":0},{"$f":"IF(ISERROR(VLOOKUP(AE40,DS:DS,1,FALSE)),0,1)*IF(ISERROR(VLOOKUP(AG40,DS:DS,1,FALSE)),0,1)*AO40","v":0},{"$f":"IF(ISERROR(VLOOKUP(AE40,DS:DS,1,FALSE)),0,1)*IF(ISERROR(VLOOKUP(AG40,DS:DS,1,FALSE)),0,1)*AP40","v":0},{"$f":"IF(ISERROR(VLOOKUP(AE40,DS:DS,1,FALSE)),0,1)*IF(ISERROR(VLOOKUP(AG40,DS:DS,1,FALSE)),0,1)*AQ40","v":0},{"$f":"IF(ISERROR(VLOOKUP(AE40,DS:DS,1,FALSE)),0,1)*IF(ISERROR(VLOOKUP(AG40,DS:DS,1,FALSE)),0,1)*AR40","v":0},{"$f":"IF(ISERROR(VLOOKUP(AE40,EM:EM,1,FALSE)),0,1)*IF(ISERROR(VLOOKUP(AG40,EM:EM,1,FALSE)),0,1)*AM40","v":0},{"$f":"IF(ISERROR(VLOOKUP(AE40,EM:EM,1,FALSE)),0,1)*IF(ISERROR(VLOOKUP(AG40,EM:EM,1,FALSE)),0,1)*AN40","v":0},{"$f":"IF(ISERROR(VLOOKUP(AE40,EM:EM,1,FALSE)),0,1)*IF(ISERROR(VLOOKUP(AG40,EM:EM,1,FALSE)),0,1)*AO40","v":0},{"$f":"IF(ISERROR(VLOOKUP(AE40,EM:EM,1,FALSE)),0,1)*IF(ISERROR(VLOOKUP(AG40,EM:EM,1,FALSE)),0,1)*AP40","v":0},{"$f":"IF(ISERROR(VLOOKUP(AE40,EM:EM,1,FALSE)),0,1)*IF(ISERROR(VLOOKUP(AG40,EM:EM,1,FALSE)),0,1)*AQ40","v":0},{"$f":"IF(ISERROR(VLOOKUP(AE40,EM:EM,1,FALSE)),0,1)*IF(ISERROR(VLOOKUP(AG40,EM:EM,1,FALSE)),0,1)*AR40","v":0},null,null,"Polen",{"$f":"(SUMIF(AE$4:AE$54,BS40,AM$4:AM$54)+SUMIF(AG$4:AG$54,BS40,AN$4:AN$54))","v":0},{"$f":"(SUMIF(AE$4:AE$54,BS40,AO$4:AO$54)+SUMIF(AG$4:AG$54,BS40,AP$4:AP$54))","v":0},{"$f":"(SUMIF(AE$4:AE$54,BS40,AQ$4:AQ$54)+SUMIF(AG$4:AG$54,BS40,AR$4:AR$54))","v":0},{"$f":"SUMIF($AE$4:$AE$54,BS40,$AH$4:$AH$54)+SUMIF($AG$4:$AG$54,BS40,$AJ$4:$AJ$54)","v":0},{"$f":"SUMIF($AE$4:$AE$54,BS40,$AJ$4:$AJ$54)+SUMIF($AG$4:$AG$54,BS40,$AH$4:$AH$54)","v":0},{"$f":"BW40-BX40","v":0},{"$f":"IFERROR(BT40*3+BU40*1,0)","v":0},"E",{"$f":"RANK(BZ40,BZ40:BZ43)","v":1},{"$f":"SUMPRODUCT((BZ40:BZ43=BZ40)*(BY40:BY43>BY40))","v":0},null,{"$f":"IF(CB40=1,BS40,)","v":"Polen"},{"$f":"(SUMIF($AE$4:$AE$54,$BS40,$AS$4:$AS$54)+SUMIF($AG$4:$AG$54,$BS40,$AT$4:$AT$54))","v":0},{"$f":"(SUMIF($AE$4:$AE$54,$BS40,$AU$4:$AU$54)+SUMIF($AG$4:$AG$54,$BS40,$AV$4:$AV$54))","v":0},{"$f":"(SUMIF($AE$4:$AE$54,$BS40,$AW$4:$AW$54)+SUMIF($AG$4:$AG$54,$BS40,$AX$4:$AX$54))","v":0},{"$f":"IFERROR(CF40*3+CG40*1,0)","v":0},{"$f":"CA40","v":"E"},{"$f":"IF(CE40>0,RANK(CI40,CI40:CI43),)","v":1},{"$f":"IF(AND(CE40>0,COUNTIF(CK40:CK43,CK40)>1),SUMIFS($AH$4:$AH$54,$AE$4:$AE$54,$BS40,$K$4:$K$54,1)+SUMIFS($AJ$4:$AJ$54,$AG$4:$AG$54,$BS40,$K$4:$K$54,1)-SUMIFS($AJ$4:$AJ$54,$AE$4:$AE$54,$BS40,$K$4:$K$54,1)-SUMIFS($AH$4:$AH$54,$AG$4:$AG$54,$BS40,$K$4:$K$54,1),)","v":0},{"$f":"IF(AND(CE40>0,COUNTIF(CK40:CK43,CK40)>1),CK40+RANK(CL40,CL40:CL43)-1,CK40)","v":1},{"$f":"IF(AND(CE40>0,COUNTIF(CM40:CM43,CM40)>1),SUMIFS($AH$4:$AH$54,$AE$4:$AE$54,$BS40,$K$4:$K$54,1)+SUMIFS($AJ$4:$AJ$54,$AG$4:$AG$54,$BS40,$K$4:$K$54,1),)","v":0},{"$f":"IF(AND(CE40>0,COUNTIF(CM40:CM43,CM40)>1),CM40+RANK(CN40,CN40:CN43)-1,CM40)","v":1},{"$f":"IF(CO40=0,\"\",CO40)","v":1},{"$f":"IF(OR(CP40=\"\",COUNTIF(CP40:CP43,CP40)=1),\"\",$BY40)","v":0},{"$f":"IF(CP40=\"\",\"\",IF(COUNTIF(CP40:CP43,CP40)=1,CP40,CP40+RANK(CQ40,CQ40:CQ43,0)-1))","v":1},{"$f":"IF(OR(CR40=\"\",COUNTIF(CR40:CR43,CR40)=1),\"\",$BW40)","v":0},{"$f":"IF(CP40=\"\",\"\",IF(COUNTIF(CR40:CR43,CR40)=1,CR40,CR40+RANK(CS40,CS40:CS43,0)-1))","v":1},{"$f":"IF(OR(CT40=\"\",COUNTIF(CT40:CT43,CT40)=1),\"\",$BT40)","v":0},{"$f":"IF(CP40=\"\",\"\",IF(COUNTIF(CT40:CT43,CT40)=1,CT40,CT40+RANK(CU40,CU40:CU43,0)-1))","v":1},{"$f":"IF(CE40>0,BL38+RANK(CV40,CV40:CV43,1),)","v":1},null,{"$f":"IF(CB40=2,BS40,)","v":0},{"$f":"(SUMIF($AE$4:$AE$54,$BS40,$AY$4:$AY$54)+SUMIF($AG$4:$AG$54,$BS40,$AZ$4:$AZ$54))","v":0},{"$f":"(SUMIF($AE$4:$AE$54,$BS40,$BA$4:$BA$54)+SUMIF($AG$4:$AG$54,$BS40,$BB$4:$BB$54))","v":0},{"$f":"(SUMIF($AE$4:$AE$54,$BS40,$BC$4:$BC$54)+SUMIF($AG$4:$AG$54,$BS40,$BD$4:$BD$54))","v":0},{"$f":"IFERROR(CZ40*3+DA40*1,0)","v":0},{"$f":"$CA40","v":"E"},{"$f":"IF(CY40>0,RANK(DC40,DC40:DC43)+CF38,)","v":0},{"$f":"IF(AND(CY40>0,COUNTIF(DE40:DE43,DE40)>1),SUMIFS($AH$4:$AH$54,$AE$4:$AE$54,$BS40,$K$4:$K$54,2)+SUMIFS($AJ$4:$AJ$54,$AG$4:$AG$54,$BS40,$K$4:$K$54,2)-SUMIFS($AJ$4:$AJ$54,$AE$4:$AE$54,$BS40,$K$4:$K$54,2)-SUMIFS($AH$4:$AH$54,$AG$4:$AG$54,$BS40,$K$4:$K$54,2),)","v":0},{"$f":"IF(AND(CY40>0,COUNTIF(DE40:DE43,DE40)>1),DE40+RANK(DF40,DF40:DF43)-1,DE40)","v":0},{"$f":"IF(AND(CY40>0,COUNTIF(DG40:DG43,DG40)>1),SUMIFS($AH$4:$AH$54,$AE$4:$AE$54,$BS40,$K$4:$K$54,2)+SUMIFS($AJ$4:$AJ$54,$AG$4:$AG$54,$BS40,$K$4:$K$54,2),)","v":0},{"$f":"IF(AND(CY40>0,COUNTIF(DG40:DG43,DG40)>1),DG40+RANK(DH40,DH40:DH43)-1,DG40)","v":0},{"$f":"IF(DI40=0,\"\",DI40)","v":""},{"$f":"IF(OR(DJ40=\"\",COUNTIF(DJ40:DJ43,DJ40)=1),\"\",$BY40)","v":""},{"$f":"IF(DJ40=\"\",\"\",IF(COUNTIF(DJ40:DJ43,DJ40)=1,DJ40,DJ40+RANK(DK40,DK40:DK43,0)-1))","v":""},{"$f":"IF(OR(DL40=\"\",COUNTIF(DL40:DL43,DL40)=1),\"\",$BW40)","v":""},{"$f":"IF(DJ40=\"\",\"\",IF(COUNTIF(DL40:DL43,DL40)=1,DL40,DL40+RANK(DM40,DM40:DM43,0)-1))","v":""},{"$f":"IF(OR(DN40=\"\",COUNTIF(DN40:DN43,DN40)=1),\"\",$BT40)","v":""},{"$f":"IF(DJ40=\"\",\"\",IF(COUNTIF(DN40:DN43,DN40)=1,DN40,DN40+RANK(DO40,DO40:DO43,0)-1))","v":""},{"$f":"IF(CY40>0,CF38+RANK(DP40,DP40:DP43,1),)","v":0},null,{"$f":"IF(CB40=3,BS40,)","v":0},{"$f":"(SUMIF($AE$4:$AE$54,BS40,$BE$4:$BE$54)+SUMIF($AG$4:$AG$54,BS40,$BF$4:$BF$54))","v":0},{"$f":"(SUMIF($AE$4:$AE$54,BS40,$BG$4:$BG$54)+SUMIF($AG$4:$AG$54,BS40,$BH$4:$BH$54))","v":0},{"$f":"(SUMIF($AE$4:$AE$54,BS40,$BI$4:$BI$54)+SUMIF($AG$4:$AG$54,BS40,$BJ$4:$BJ$54))","v":0},{"$f":"IFERROR(DT40*3+DU40*1,0)","v":0},{"$f":"CA40","v":"E"},{"$f":"IF(DS40>0,RANK(DW40,DW40:DW43)+CF38+CZ38,)","v":0},{"$f":"IF(AND(DS40>0,COUNTIF(DY40:DY43,DY40)>1),SUMIFS($AH$4:$AH$54,$AE$4:$AE$54,$BS40,$K$4:$K$54,3)+SUMIFS($AJ$4:$AJ$54,$AG$4:$AG$54,$BS40,$K$4:$K$54,3)-SUMIFS($AJ$4:$AJ$54,$AE$4:$AE$54,$BS40,$K$4:$K$54,3)-SUMIFS($AH$4:$AH$54,$AG$4:$AG$54,$BS40,$K$4:$K$54,3),)","v":0},{"$f":"IF(AND(DS40>0,COUNTIF(DY40:DY43,DY40)>1),DY40+RANK(DZ40,DZ40:DZ43)-1,DY40)","v":0},{"$f":"IF(AND(DS40>0,COUNTIF(EA40:EA43,EA40)>1),SUMIFS($AH$4:$AH$54,$AE$4:$AE$54,$BS40,$K$4:$K$54,3)+SUMIFS($AJ$4:$AJ$54,$AG$4:$AG$54,$BS40,$K$4:$K$54,3),)","v":0},{"$f":"IF(AND(DS40>0,COUNTIF(EA40:EA43,EA40)>1),EA40+RANK(EB40,EB40:EB43)-1,EA40)","v":0},{"$f":"IF(EC40=0,\"\",EC40)","v":""},{"$f":"IF(OR(ED40=\"\",COUNTIF(ED40:ED43,ED40)=1),\"\",$BY40)","v":""},{"$f":"IF(ED40=\"\",\"\",IF(COUNTIF(ED40:ED43,ED40)=1,ED40,ED40+RANK(EE40,EE40:EE43,0)-1))","v":""},{"$f":"IF(OR(EF40=\"\",COUNTIF(EF40:EF43,EF40)=1),\"\",$BW40)","v":""},{"$f":"IF(ED40=\"\",\"\",IF(COUNTIF(EF40:EF43,EF40)=1,EF40,EF40+RANK(EG40,EG40:EG43,0)-1))","v":""},{"$f":"IF(OR(EH40=\"\",COUNTIF(EH40:EH43,EH40)=1),\"\",$BT40)","v":""},{"$f":"IF(ED40=\"\",\"\",IF(COUNTIF(EH40:EH43,EH40)=1,EH40,EH40+RANK(EI40,EI40:EI43,0)-1))","v":""},{"$f":"IF(DS40>0,CF38+CZ38+RANK(EJ40,EJ40:EJ43,1),)","v":0},null,{"$f":"IF(CB40=4,BS40,)","v":0},{"$f":"(SUMIF($AE$4:$AE$54,$BS40,$BK$4:$BK$54)+SUMIF($AG$4:$AG$54,$BS40,$BL$4:$BL$54))","v":0},{"$f":"(SUMIF($AE$4:$AE$54,$BS40,$BM$4:$BM$54)+SUMIF($AG$4:$AG$54,$BS40,$BN$4:$BN$54))","v":0},{"$f":"(SUMIF($AE$4:$AE$54,$BS40,$BO$4:$BO$54)+SUMIF($AG$4:$AG$54,$BS40,$BP$4:$BP$54))","v":0},{"$f":"IFERROR(EN40*3+EO40*1,0)","v":0},{"$f":"$CA40","v":"E"},{"$f":"IF(EM40>0,RANK(EQ40,EQ40:EQ43)+CF38+CZ38+DT38,)","v":0},{"$f":"IF(AND(EM40>0,COUNTIF(ES40:ES43,ES40)>1),SUMIFS($AH$4:$AH$54,$AE$4:$AE$54,$BS40,$K$4:$K$54,4)+SUMIFS($AJ$4:$AJ$54,$AG$4:$AG$54,$BS40,$K$4:$K$54,4)-SUMIFS($AJ$4:$AJ$54,$AE$4:$AE$54,$BS40,$K$4:$K$54,4)-SUMIFS($AH$4:$AH$54,$AG$4:$AG$54,$BS40,$K$4:$K$54,4),)","v":0},{"$f":"IF(AND(EM40>0,COUNTIF($ES$4:$ES$7,ES40)>1),ES40+RANK(ET40,$ET$4:$ET$7)-1,ES40)","v":0},{"$f":"IF(AND(EM40>0,COUNTIF(EU40:EU43,EU40)>1),SUMIFS($AH$4:$AH$54,$AE$4:$AE$54,$BS40,$K$4:$K$54,4)+SUMIFS($AJ$4:$AJ$54,$AG$4:$AG$54,$BS40,$K$4:$K$54,4),)","v":0},{"$f":"IF(AND(EM40>0,COUNTIF(EU40:EU43,EU40)>1),EU40+RANK(EV40,EV40:EV43)-1,EU40)","v":0},{"$f":"IF(EW40=0,\"\",EW40)","v":""},{"$f":"IF(OR(EX40=\"\",COUNTIF(EX40:EX43,EX40)=1),\"\",$BY40)","v":""},{"$f":"IF(EX40=\"\",\"\",IF(COUNTIF(EX40:EX43,EX40)=1,EX40,EX40+RANK(EY40,EY40:EY43,0)-1))","v":""},{"$f":"IF(OR(EZ40=\"\",COUNTIF(EZ40:EZ43,EZ40)=1),\"\",$BW40)","v":""},{"$f":"IF(EX40=\"\",\"\",IF(COUNTIF(EZ40:EZ43,EZ40)=1,EZ40,EZ40+RANK(FA40,FA40:FA43,0)-1))","v":""},{"$f":"IF(OR(FB40=\"\",COUNTIF(FB40:FB43,FB40)=1),\"\",$BT40)","v":""},{"$f":"IF(EX40=\"\",\"\",IF(COUNTIF(FB40:FB43,FB40)=1,FB40,FB40+RANK(FC40,FC40:FC43,0)-1))","v":""},{"$f":"IF(EM40>0,CF38+CZ38+DT38+RANK(FD40,FD40:FD43,1),)","v":0},null,{"$f":"IFERROR(VLOOKUP(FI40,CE39:CW43,19,FALSE),IFERROR(VLOOKUP(FI40,CY39:DQ43,19,FALSE),IFERROR(VLOOKUP(FI40,DS39:EK43,19,FALSE),VLOOKUP(FI40,EM39:FE43,19,FALSE))))","v":1},{"$f":"RANK(FG40,FG40:FG43,1)+COUNTIF(FG40:FG40,FG40)-1","v":1},{"$f":"BS40","v":"Polen"},null,null,null,null,null,null,null,null,null,null,null,null,null,null,null,null,null,null,null,null,null,null,null,null,null,37]
[null,null,"2021-06-14","Spanien","-","Sverige",null,"-",null,{"$f":"IF(OR(ISBLANK(G41),ISBLANK(I41)),\"\",IF(G41>I41,1,IF(G41<I41,2,\"X\")))","v":""},{"$f":"IF(VLOOKUP(D41,BS39:CB43,10,FALSE)=VLOOKUP(F41,BS39:CB43,10,FALSE),VLOOKUP(D41,BS39:CB43,10,FALSE),\"-\")","v":1},null,2,{"$f":"VLOOKUP(M41,FH40:FI43,2,FALSE)","v":"Slovakien"},{"$f":"VLOOKUP($N41,$BS$40:$BZ$43,2,FALSE)","v":0},{"$f":"VLOOKUP($N41,$BS$40:$BZ$43,3,FALSE)","v":0},{"$f":"VLOOKUP($N41,$BS$40:$BZ$43,4,FALSE)","v":0},{"$f":"VLOOKUP($N41,$BS$40:$BZ$43,5,FALSE)","v":0},{"$f":"VLOOKUP($N41,$BS$40:$BZ$43,6,FALSE)","v":0},{"$f":"VLOOKUP($N41,$BS$40:$BZ$43,7,FALSE)","v":0},{"$f":"VLOOKUP($N41,$BS$40:$BZ$43,8,FALSE)","v":0},null,null,null,null,null,null,null,null,"2021-06-14","Spanien","-","Sverige","","-","","",null,0,0,0,0,0,0,0,0,0,0,0,0,0,0,0,0,0,0,0,0,0,0,0,0,0,0,0,0,0,0,null,null,"Slovakien",{"$f":"(SUMIF(AE$4:AE$54,BS41,AM$4:AM$54)+SUMIF(AG$4:AG$54,BS41,AN$4:AN$54))","v":0},{"$f":"(SUMIF(AE$4:AE$54,BS41,AO$4:AO$54)+SUMIF(AG$4:AG$54,BS41,AP$4:AP$54))","v":0},{"$f":"(SUMIF(AE$4:AE$54,BS41,AQ$4:AQ$54)+SUMIF(AG$4:AG$54,BS41,AR$4:AR$54))","v":0},{"$f":"SUMIF($AE$4:$AE$54,BS41,$AH$4:$AH$54)+SUMIF($AG$4:$AG$54,BS41,$AJ$4:$AJ$54)","v":0},{"$f":"SUMIF($AE$4:$AE$54,BS41,$AJ$4:$AJ$54)+SUMIF($AG$4:$AG$54,BS41,$AH$4:$AH$54)","v":0},{"$f":"BW41-BX41","v":0},{"$f":"IFERROR(BT41*3+BU41*1,0)","v":0},"E",{"$f":"RANK(BZ41,BZ40:BZ43)","v":1},{"$f":"SUMPRODUCT((BZ40:BZ43=BZ41)*(BY40:BY43>BY41))","v":0},null,{"$f":"IF(CB41=1,BS41,)","v":"Slovakien"},{"$f":"(SUMIF($AE$4:$AE$54,$BS41,$AS$4:$AS$54)+SUMIF($AG$4:$AG$54,$BS41,$AT$4:$AT$54))","v":0},{"$f":"(SUMIF($AE$4:$AE$54,$BS41,$AU$4:$AU$54)+SUMIF($AG$4:$AG$54,$BS41,$AV$4:$AV$54))","v":0},{"$f":"(SUMIF($AE$4:$AE$54,$BS41,$AW$4:$AW$54)+SUMIF($AG$4:$AG$54,$BS41,$AX$4:$AX$54))","v":0},{"$f":"IFERROR(CF41*3+CG41*1,0)","v":0},{"$f":"CA41","v":"E"},{"$f":"IF(CE41>0,RANK(CI41,CI40:CI43),)","v":1},{"$f":"IF(AND(CE41>0,COUNTIF(CK40:CK43,CK41)>1),SUMIFS($AH$4:$AH$54,$AE$4:$AE$54,BS41,$K$4:$K$54,1)+SUMIFS($AJ$4:$AJ$54,$AG$4:$AG$54,BS41,$K$4:$K$54,1)-SUMIFS($AJ$4:$AJ$54,$AE$4:$AE$54,BS41,$K$4:$K$54,1)-SUMIFS($AH$4:$AH$54,$AG$4:$AG$54,BS41,$K$4:$K$54,1),)","v":0},{"$f":"IF(AND(CE41>0,COUNTIF(CK40:CK43,CK41)>1),CK41+RANK(CL41,CL40:CL43)-1,CK41)","v":1},{"$f":"IF(AND(CE41>0,COUNTIF(CM40:CM43,CM41)>1),SUMIFS($AH$4:$AH$54,$AE$4:$AE$54,BS41,$K$4:$K$54,1)+SUMIFS($AJ$4:$AJ$54,$AG$4:$AG$54,BS41,$K$4:$K$54,1),)","v":0},{"$f":"IF(AND(CE41>0,COUNTIF(CM40:CM43,CM41)>1),CM41+RANK(CN41,CN40:CN43)-1,CM41)","v":1},{"$f":"IF(CO41=0,\"\",CO41)","v":1},{"$f":"IF(OR(CP41=\"\",COUNTIF(CP40:CP43,CP41)=1),\"\",$BY41)","v":0},{"$f":"IF(CP41=\"\",\"\",IF(COUNTIF(CP40:CP43,CP41)=1,CP41,CP41+RANK(CQ41,CQ40:CQ43,0)-1))","v":1},{"$f":"IF(OR(CR41=\"\",COUNTIF(CR40:CR43,CR41)=1),\"\",$BW41)","v":0},{"$f":"IF(CP41=\"\",\"\",IF(COUNTIF(CR40:CR43,CR41)=1,CR41,CR41+RANK(CS41,CS40:CS43,0)-1))","v":1},{"$f":"IF(OR(CT41=\"\",COUNTIF(CT40:CT43,CT41)=1),\"\",$BT41)","v":0},{"$f":"IF(CP41=\"\",\"\",IF(COUNTIF(CT40:CT43,CT41)=1,CT41,CT41+RANK(CU41,CU40:CU43,0)-1))","v":1},{"$f":"IF(CE41>0,BL38+RANK(CV41,CV40:CV43,1),)","v":1},null,{"$f":"IF(CB41=2,BS41,)","v":0},{"$f":"(SUMIF($AE$4:$AE$54,$BS41,$AY$4:$AY$54)+SUMIF($AG$4:$AG$54,$BS41,$AZ$4:$AZ$54))","v":0},{"$f":"(SUMIF($AE$4:$AE$54,$BS41,$BA$4:$BA$54)+SUMIF($AG$4:$AG$54,$BS41,$BB$4:$BB$54))","v":0},{"$f":"(SUMIF($AE$4:$AE$54,$BS41,$BC$4:$BC$54)+SUMIF($AG$4:$AG$54,$BS41,$BD$4:$BD$54))","v":0},{"$f":"IFERROR(CZ41*3+DA41*1,0)","v":0},{"$f":"$CA41","v":"E"},{"$f":"IF(CY41>0,RANK(DC41,DC40:DC43)+CF38,)","v":0},{"$f":"IF(AND(CY41>0,COUNTIF(DE40:DE43,DE41)>1),SUMIFS($AH$4:$AH$54,$AE$4:$AE$54,BS41,$K$4:$K$54,2)+SUMIFS($AJ$4:$AJ$54,$AG$4:$AG$54,BS41,$K$4:$K$54,2)-SUMIFS($AJ$4:$AJ$54,$AE$4:$AE$54,BS41,$K$4:$K$54,2)-SUMIFS($AH$4:$AH$54,$AG$4:$AG$54,BS41,$K$4:$K$54,2),)","v":0},{"$f":"IF(AND(CY41>0,COUNTIF(DE40:DE43,DE41)>1),DE41+RANK(DF41,DF40:DF43)-1,DE41)","v":0},{"$f":"IF(AND(CY41>0,COUNTIF(DG40:DG43,DG41)>1),SUMIFS($AH$4:$AH$54,$AE$4:$AE$54,BS41,$K$4:$K$54,2)+SUMIFS($AJ$4:$AJ$54,$AG$4:$AG$54,BS41,$K$4:$K$54,2),)","v":0},{"$f":"IF(AND(CY41>0,COUNTIF(DG40:DG43,DG41)>1),DG41+RANK(DH41,DH40:DH43)-1,DG41)","v":0},{"$f":"IF(DI41=0,\"\",DI41)","v":""},{"$f":"IF(OR(DJ41=\"\",COUNTIF(DJ40:DJ43,DJ41)=1),\"\",$BY41)","v":""},{"$f":"IF(DJ41=\"\",\"\",IF(COUNTIF(DJ40:DJ43,DJ41)=1,DJ41,DJ41+RANK(DK41,DK40:DK43,0)-1))","v":""},{"$f":"IF(OR(DL41=\"\",COUNTIF(DL40:DL43,DL41)=1),\"\",$BW41)","v":""},{"$f":"IF(DJ41=\"\",\"\",IF(COUNTIF(DL40:DL43,DL41)=1,DL41,DL41+RANK(DM41,DM40:DM43,0)-1))","v":""},{"$f":"IF(OR(DN41=\"\",COUNTIF(DN40:DN43,DN41)=1),\"\",$BT41)","v":""},{"$f":"IF(DJ41=\"\",\"\",IF(COUNTIF(DN40:DN43,DN41)=1,DN41,DN41+RANK(DO41,DO40:DO43,0)-1))","v":""},{"$f":"IF(CY41>0,CF38+RANK(DP41,DP40:DP43,1),)","v":0},null,{"$f":"IF(CB41=3,BS41,)","v":0},{"$f":"(SUMIF(AE$4:AE$54,BS41,BE$4:BE$54)+SUMIF(AG$4:AG$54,BS41,BF$4:BF$54))","v":0},{"$f":"(SUMIF(AE$4:AE$54,BS41,BG$4:BG$54)+SUMIF(AG$4:AG$54,BS41,BH$4:BH$54))","v":0},{"$f":"(SUMIF(AE$4:AE$54,BS41,BI$4:BI$54)+SUMIF(AG$4:AG$54,BS41,BJ$4:BJ$54))","v":0},{"$f":"IFERROR(DT41*3+DU41*1,0)","v":0},{"$f":"CA41","v":"E"},{"$f":"IF(DS41>0,RANK(DW41,DW40:DW43)+CF38+CZ38,)","v":0},{"$f":"IF(AND(DS41>0,COUNTIF(DY40:DY43,DY41)>1),SUMIFS($AH$4:$AH$54,$AE$4:$AE$54,BS41,$K$4:$K$54,3)+SUMIFS($AJ$4:$AJ$54,$AG$4:$AG$54,BS41,$K$4:$K$54,3)-SUMIFS($AJ$4:$AJ$54,$AE$4:$AE$54,BS41,$K$4:$K$54,3)-SUMIFS($AH$4:$AH$54,$AG$4:$AG$54,BS41,$K$4:$K$54,3),)","v":0},{"$f":"IF(AND(DS41>0,COUNTIF(DY40:DY43,DY41)>1),DY41+RANK(DZ41,DZ40:DZ43)-1,DY41)","v":0},{"$f":"IF(AND(DS41>0,COUNTIF(EA40:EA43,EA41)>1),SUMIFS($AH$4:$AH$54,$AE$4:$AE$54,BS41,$K$4:$K$54,3)+SUMIFS($AJ$4:$AJ$54,$AG$4:$AG$54,BS41,$K$4:$K$54,3),)","v":0},{"$f":"IF(AND(DS41>0,COUNTIF(EA40:EA43,EA41)>1),EA41+RANK(EB41,EB40:EB43)-1,EA41)","v":0},{"$f":"IF(EC41=0,\"\",EC41)","v":""},{"$f":"IF(OR(ED41=\"\",COUNTIF(ED40:ED43,ED41)=1),\"\",$BY41)","v":""},{"$f":"IF(ED41=\"\",\"\",IF(COUNTIF(ED40:ED43,ED41)=1,ED41,ED41+RANK(EE41,EE40:EE43,0)-1))","v":""},{"$f":"IF(OR(EF41=\"\",COUNTIF(EF40:EF43,EF41)=1),\"\",$BW41)","v":""},{"$f":"IF(ED41=\"\",\"\",IF(COUNTIF(EF40:EF43,EF41)=1,EF41,EF41+RANK(EG41,EG40:EG43,0)-1))","v":""},{"$f":"IF(OR(EH41=\"\",COUNTIF(EH40:EH43,EH41)=1),\"\",$BT41)","v":""},{"$f":"IF(ED41=\"\",\"\",IF(COUNTIF(EH40:EH43,EH41)=1,EH41,EH41+RANK(EI41,EI40:EI43,0)-1))","v":""},{"$f":"IF(DS41>0,CF38+CZ38+RANK(EJ41,EJ40:EJ43,1),)","v":0},null,{"$f":"IF(CB41=4,BS41,)","v":0},{"$f":"(SUMIF($AE$4:$AE$54,$BS41,$BK$4:$BK$54)+SUMIF($AG$4:$AG$54,$BS41,$BL$4:$BL$54))","v":0},{"$f":"(SUMIF($AE$4:$AE$54,$BS41,$BM$4:$BM$54)+SUMIF($AG$4:$AG$54,$BS41,$BN$4:$BN$54))","v":0},{"$f":"(SUMIF($AE$4:$AE$54,$BS41,$BO$4:$BO$54)+SUMIF($AG$4:$AG$54,$BS41,$BP$4:$BP$54))","v":0},{"$f":"IFERROR(EN41*3+EO41*1,0)","v":0},{"$f":"$CA41","v":"E"},{"$f":"IF(EM41>0,RANK(EQ41,EQ40:EQ43)+CF38+CZ38+DT38,)","v":0},{"$f":"IF(AND(EM41>0,COUNTIF(ES40:ES43,ES41)>1),SUMIFS($AH$4:$AH$54,$AE$4:$AE$54,BS41,$K$4:$K$54,4)+SUMIFS($AJ$4:$AJ$54,$AG$4:$AG$54,BS41,$K$4:$K$54,4)-SUMIFS($AJ$4:$AJ$54,$AE$4:$AE$54,BS41,$K$4:$K$54,4)-SUMIFS($AH$4:$AH$54,$AG$4:$AG$54,BS41,$K$4:$K$54,4),)","v":0},{"$f":"IF(AND(EM41>0,COUNTIF($ES$4:$ES$7,ES41)>1),ES41+RANK(ET41,$ET$4:$ET$7)-1,ES41)","v":0},{"$f":"IF(AND(EM41>0,COUNTIF(EU40:EU43,EU41)>1),SUMIFS($AH$4:$AH$54,$AE$4:$AE$54,BS41,$K$4:$K$54,4)+SUMIFS($AJ$4:$AJ$54,$AG$4:$AG$54,BS41,$K$4:$K$54,4),)","v":0},{"$f":"IF(AND(EM41>0,COUNTIF(EU40:EU43,EU41)>1),EU41+RANK(EV41,EV40:EV43)-1,EU41)","v":0},{"$f":"IF(EW41=0,\"\",EW41)","v":""},{"$f":"IF(OR(EX41=\"\",COUNTIF(EX40:EX43,EX41)=1),\"\",$BY41)","v":""},{"$f":"IF(EX41=\"\",\"\",IF(COUNTIF(EX40:EX43,EX41)=1,EX41,EX41+RANK(EY41,EY40:EY43,0)-1))","v":""},{"$f":"IF(OR(EZ41=\"\",COUNTIF(EZ40:EZ43,EZ41)=1),\"\",$BW41)","v":""},{"$f":"IF(EX41=\"\",\"\",IF(COUNTIF(EZ40:EZ43,EZ41)=1,EZ41,EZ41+RANK(FA41,FA40:FA43,0)-1))","v":""},{"$f":"IF(OR(FB41=\"\",COUNTIF(FB40:FB43,FB41)=1),\"\",$BT41)","v":""},{"$f":"IF(EX41=\"\",\"\",IF(COUNTIF(FB40:FB43,FB41)=1,FB41,FB41+RANK(FC41,FC40:FC43,0)-1))","v":""},{"$f":"IF(EM41>0,CF38+CZ38+DT38+RANK(FD41,FD40:FD43,1),)","v":0},null,{"$f":"IFERROR(VLOOKUP(FI41,CE39:CW43,19,FALSE),IFERROR(VLOOKUP(FI41,CY39:DQ43,19,FALSE),IFERROR(VLOOKUP(FI41,DS39:EK43,19,FALSE),VLOOKUP(FI41,EM39:FE43,19,FALSE))))","v":1},{"$f":"RANK(FG41,FG40:FG43,1)+COUNTIF(FG40:FG41,FG41)-1","v":2},{"$f":"BS41","v":"Slovakien"},null,null,null,null,null,null,null,null,null,null,null,null,null,null,null,null,null,null,null,null,null,null,null,null,null,38]
[null,null,"2021-06-18","Sverige","-","Slovakien",null,"-",null,"",{"$f":"IF(VLOOKUP(D42,BS39:CB43,10,FALSE)=VLOOKUP(F42,BS39:CB43,10,FALSE),VLOOKUP(D42,BS39:CB43,10,FALSE),\"-\")","v":1},null,3,{"$f":"VLOOKUP(M42,FH40:FI43,2,FALSE)","v":"Spanien"},{"$f":"VLOOKUP($N42,$BS$40:$BZ$43,2,FALSE)","v":0},{"$f":"VLOOKUP($N42,$BS$40:$BZ$43,3,FALSE)","v":0},{"$f":"VLOOKUP($N42,$BS$40:$BZ$43,4,FALSE)","v":0},{"$f":"VLOOKUP($N42,$BS$40:$BZ$43,5,FALSE)","v":0},{"$f":"VLOOKUP($N42,$BS$40:$BZ$43,6,FALSE)","v":0},{"$f":"VLOOKUP($N42,$BS$40:$BZ$43,7,FALSE)","v":0},{"$f":"VLOOKUP($N42,$BS$40:$BZ$43,8,FALSE)","v":0},null,null,null,null,null,null,null,null,"2021-06-18","Sverige","-","Slovakien","","-","","",null,0,0,0,0,0,0,0,0,0,0,0,0,0,0,0,0,0,0,0,0,0,0,0,0,0,0,0,0,0,0,null,null,"Spanien",{"$f":"(SUMIF(AE$4:AE$54,BS42,AM$4:AM$54)+SUMIF(AG$4:AG$54,BS42,AN$4:AN$54))","v":0},{"$f":"(SUMIF(AE$4:AE$54,BS42,AO$4:AO$54)+SUMIF(AG$4:AG$54,BS42,AP$4:AP$54))","v":0},{"$f":"(SUMIF(AE$4:AE$54,BS42,AQ$4:AQ$54)+SUMIF(AG$4:AG$54,BS42,AR$4:AR$54))","v":0},{"$f":"SUMIF($AE$4:$AE$54,BS42,$AH$4:$AH$54)+SUMIF($AG$4:$AG$54,BS42,$AJ$4:$AJ$54)","v":0},{"$f":"SUMIF($AE$4:$AE$54,BS42,$AJ$4:$AJ$54)+SUMIF($AG$4:$AG$54,BS42,$AH$4:$AH$54)","v":0},{"$f":"BW42-BX42","v":0},{"$f":"IFERROR(BT42*3+BU42*1,0)","v":0},"E",{"$f":"RANK(BZ42,BZ40:BZ43)","v":1},{"$f":"SUMPRODUCT((BZ40:BZ43=BZ42)*(BY40:BY43>BY42))","v":0},null,{"$f":"IF(CB42=1,BS42,)","v":"Spanien"},0,0,0,0,"E",{"$f":"IF(CE42>0,RANK(CI42,CI40:CI43),)","v":1},{"$f":"IF(AND(CE42>0,COUNTIF(CK40:CK43,CK42)>1),SUMIFS($AH$4:$AH$54,$AE$4:$AE$54,BS42,$K$4:$K$54,1)+SUMIFS($AJ$4:$AJ$54,$AG$4:$AG$54,BS42,$K$4:$K$54,1)-SUMIFS($AJ$4:$AJ$54,$AE$4:$AE$54,BS42,$K$4:$K$54,1)-SUMIFS($AH$4:$AH$54,$AG$4:$AG$54,BS42,$K$4:$K$54,1),)","v":0},{"$f":"IF(AND(CE42>0,COUNTIF(CK40:CK43,CK42)>1),CK42+RANK(CL42,CL40:CL43)-1,CK42)","v":1},{"$f":"IF(AND(CE42>0,COUNTIF(CM40:CM43,CM42)>1),SUMIFS($AH$4:$AH$54,$AE$4:$AE$54,BS42,$K$4:$K$54,1)+SUMIFS($AJ$4:$AJ$54,$AG$4:$AG$54,BS42,$K$4:$K$54,1),)","v":0},{"$f":"IF(AND(CE42>0,COUNTIF(CM40:CM43,CM42)>1),CM42+RANK(CN42,CN40:CN43)-1,CM42)","v":1},1,{"$f":"IF(OR(CP42=\"\",COUNTIF(CP40:CP43,CP42)=1),\"\",$BY42)","v":0},{"$f":"IF(CP42=\"\",\"\",IF(COUNTIF(CP40:CP43,CP42)=1,CP42,CP42+RANK(CQ42,CQ40:CQ43,0)-1))","v":1},{"$f":"IF(OR(CR42=\"\",COUNTIF(CR40:CR43,CR42)=1),\"\",$BW42)","v":0},{"$f":"IF(CP42=\"\",\"\",IF(COUNTIF(CR40:CR43,CR42)=1,CR42,CR42+RANK(CS42,CS40:CS43,0)-1))","v":1},{"$f":"IF(OR(CT42=\"\",COUNTIF(CT40:CT43,CT42)=1),\"\",$BT42)","v":0},{"$f":"IF(CP42=\"\",\"\",IF(COUNTIF(CT40:CT43,CT42)=1,CT42,CT42+RANK(CU42,CU40:CU43,0)-1))","v":1},{"$f":"IF(CE42>0,BL38+RANK(CV42,CV40:CV43,1),)","v":1},null,{"$f":"IF(CB42=2,BS42,)","v":0},{"$f":"(SUMIF($AE$4:$AE$54,$BS42,$AY$4:$AY$54)+SUMIF($AG$4:$AG$54,$BS42,$AZ$4:$AZ$54))","v":0},{"$f":"(SUMIF($AE$4:$AE$54,$BS42,$BA$4:$BA$54)+SUMIF($AG$4:$AG$54,$BS42,$BB$4:$BB$54))","v":0},{"$f":"(SUMIF($AE$4:$AE$54,$BS42,$BC$4:$BC$54)+SUMIF($AG$4:$AG$54,$BS42,$BD$4:$BD$54))","v":0},{"$f":"IFERROR(CZ42*3+DA42*1,0)","v":0},{"$f":"$CA42","v":"E"},{"$f":"IF(CY42>0,RANK(DC42,DC40:DC43)+CF38,)","v":0},{"$f":"IF(AND(CY42>0,COUNTIF(DE40:DE43,DE42)>1),SUMIFS($AH$4:$AH$54,$AE$4:$AE$54,BS42,$K$4:$K$54,2)+SUMIFS($AJ$4:$AJ$54,$AG$4:$AG$54,BS42,$K$4:$K$54,2)-SUMIFS($AJ$4:$AJ$54,$AE$4:$AE$54,BS42,$K$4:$K$54,2)-SUMIFS($AH$4:$AH$54,$AG$4:$AG$54,BS42,$K$4:$K$54,2),)","v":0},{"$f":"IF(AND(CY42>0,COUNTIF(DE40:DE43,DE42)>1),DE42+RANK(DF42,DF40:DF43)-1,DE42)","v":0},{"$f":"IF(AND(CY42>0,COUNTIF(DG40:DG43,DG42)>1),SUMIFS($AH$4:$AH$54,$AE$4:$AE$54,BS42,$K$4:$K$54,2)+SUMIFS($AJ$4:$AJ$54,$AG$4:$AG$54,BS42,$K$4:$K$54,2),)","v":0},{"$f":"IF(AND(CY42>0,COUNTIF(DG40:DG43,DG42)>1),DG42+RANK(DH42,DH40:DH43)-1,DG42)","v":0},"",{"$f":"IF(OR(DJ42=\"\",COUNTIF(DJ40:DJ43,DJ42)=1),\"\",$BY42)","v":""},{"$f":"IF(DJ42=\"\",\"\",IF(COUNTIF(DJ40:DJ43,DJ42)=1,DJ42,DJ42+RANK(DK42,DK40:DK43,0)-1))","v":""},{"$f":"IF(OR(DL42=\"\",COUNTIF(DL40:DL43,DL42)=1),\"\",$BW42)","v":""},{"$f":"IF(DJ42=\"\",\"\",IF(COUNTIF(DL40:DL43,DL42)=1,DL42,DL42+RANK(DM42,DM40:DM43,0)-1))","v":""},{"$f":"IF(OR(DN42=\"\",COUNTIF(DN40:DN43,DN42)=1),\"\",$BT42)","v":""},{"$f":"IF(DJ42=\"\",\"\",IF(COUNTIF(DN40:DN43,DN42)=1,DN42,DN42+RANK(DO42,DO40:DO43,0)-1))","v":""},{"$f":"IF(CY42>0,CF38+RANK(DP42,DP40:DP43,1),)","v":0},null,{"$f":"IF(CB42=3,BS42,)","v":0},{"$f":"(SUMIF(AE$4:AE$54,BS42,BE$4:BE$54)+SUMIF(AG$4:AG$54,BS42,BF$4:BF$54))","v":0},{"$f":"(SUMIF(AE$4:AE$54,BS42,BG$4:BG$54)+SUMIF(AG$4:AG$54,BS42,BH$4:BH$54))","v":0},{"$f":"(SUMIF(AE$4:AE$54,BS42,BI$4:BI$54)+SUMIF(AG$4:AG$54,BS42,BJ$4:BJ$54))","v":0},0,{"$f":"CA42","v":"E"},{"$f":"IF(DS42>0,RANK(DW42,DW40:DW43)+CF38+CZ38,)","v":0},{"$f":"IF(AND(DS42>0,COUNTIF(DY40:DY43,DY42)>1),SUMIFS($AH$4:$AH$54,$AE$4:$AE$54,BS42,$K$4:$K$54,3)+SUMIFS($AJ$4:$AJ$54,$AG$4:$AG$54,BS42,$K$4:$K$54,3)-SUMIFS($AJ$4:$AJ$54,$AE$4:$AE$54,BS42,$K$4:$K$54,3)-SUMIFS($AH$4:$AH$54,$AG$4:$AG$54,BS42,$K$4:$K$54,3),)","v":0},{"$f":"IF(AND(DS42>0,COUNTIF(DY40:DY43,DY42)>1),DY42+RANK(DZ42,DZ40:DZ43)-1,DY42)","v":0},{"$f":"IF(AND(DS42>0,COUNTIF(EA40:EA43,EA42)>1),SUMIFS($AH$4:$AH$54,$AE$4:$AE$54,BS42,$K$4:$K$54,3)+SUMIFS($AJ$4:$AJ$54,$AG$4:$AG$54,BS42,$K$4:$K$54,3),)","v":0},{"$f":"IF(AND(DS42>0,COUNTIF(EA40:EA43,EA42)>1),EA42+RANK(EB42,EB40:EB43)-1,EA42)","v":0},"",{"$f":"IF(OR(ED42=\"\",COUNTIF(ED40:ED43,ED42)=1),\"\",$BY42)","v":""},{"$f":"IF(ED42=\"\",\"\",IF(COUNTIF(ED40:ED43,ED42)=1,ED42,ED42+RANK(EE42,EE40:EE43,0)-1))","v":""},{"$f":"IF(OR(EF42=\"\",COUNTIF(EF40:EF43,EF42)=1),\"\",$BW42)","v":""},{"$f":"IF(ED42=\"\",\"\",IF(COUNTIF(EF40:EF43,EF42)=1,EF42,EF42+RANK(EG42,EG40:EG43,0)-1))","v":""},{"$f":"IF(OR(EH42=\"\",COUNTIF(EH40:EH43,EH42)=1),\"\",$BT42)","v":""},{"$f":"IF(ED42=\"\",\"\",IF(COUNTIF(EH40:EH43,EH42)=1,EH42,EH42+RANK(EI42,EI40:EI43,0)-1))","v":""},{"$f":"IF(DS42>0,CF38+CZ38+RANK(EJ42,EJ40:EJ43,1),)","v":0},null,{"$f":"IF(CB42=4,BS42,)","v":0},0,0,0,0,"E",{"$f":"IF(EM42>0,RANK(EQ42,EQ40:EQ43)+CF38+CZ38+DT38,)","v":0},{"$f":"IF(AND(EM42>0,COUNTIF(ES40:ES43,ES42)>1),SUMIFS($AH$4:$AH$54,$AE$4:$AE$54,BS42,$K$4:$K$54,4)+SUMIFS($AJ$4:$AJ$54,$AG$4:$AG$54,BS42,$K$4:$K$54,4)-SUMIFS($AJ$4:$AJ$54,$AE$4:$AE$54,BS42,$K$4:$K$54,4)-SUMIFS($AH$4:$AH$54,$AG$4:$AG$54,BS42,$K$4:$K$54,4),)","v":0},0,{"$f":"IF(AND(EM42>0,COUNTIF(EU40:EU43,EU42)>1),SUMIFS($AH$4:$AH$54,$AE$4:$AE$54,BS42,$K$4:$K$54,4)+SUMIFS($AJ$4:$AJ$54,$AG$4:$AG$54,BS42,$K$4:$K$54,4),)","v":0},{"$f":"IF(AND(EM42>0,COUNTIF(EU40:EU43,EU42)>1),EU42+RANK(EV42,EV40:EV43)-1,EU42)","v":0},"",{"$f":"IF(OR(EX42=\"\",COUNTIF(EX40:EX43,EX42)=1),\"\",$BY42)","v":""},{"$f":"IF(EX42=\"\",\"\",IF(COUNTIF(EX40:EX43,EX42)=1,EX42,EX42+RANK(EY42,EY40:EY43,0)-1))","v":""},{"$f":"IF(OR(EZ42=\"\",COUNTIF(EZ40:EZ43,EZ42)=1),\"\",$BW42)","v":""},{"$f":"IF(EX42=\"\",\"\",IF(COUNTIF(EZ40:EZ43,EZ42)=1,EZ42,EZ42+RANK(FA42,FA40:FA43,0)-1))","v":""},{"$f":"IF(OR(FB42=\"\",COUNTIF(FB40:FB43,FB42)=1),\"\",$BT42)","v":""},{"$f":"IF(EX42=\"\",\"\",IF(COUNTIF(FB40:FB43,FB42)=1,FB42,FB42+RANK(FC42,FC40:FC43,0)-1))","v":""},{"$f":"IF(EM42>0,CF38+CZ38+DT38+RANK(FD42,FD40:FD43,1),)","v":0},null,{"$f":"IFERROR(VLOOKUP(FI42,CE39:CW43,19,FALSE),IFERROR(VLOOKUP(FI42,CY39:DQ43,19,FALSE),IFERROR(VLOOKUP(FI42,DS39:EK43,19,FALSE),VLOOKUP(FI42,EM39:FE43,19,FALSE))))","v":1},{"$f":"RANK(FG42,FG40:FG43,1)+COUNTIF(FG40:FG42,FG42)-1","v":3},{"$f":"BS42","v":"Spanien"},null,null,null,null,null,null,null,null,null,null,null,null,null,null,null,null,null,null,null,null,null,null,null,null,null,39]
[null,null,"2021-06-19","Spanien","-","Polen",null,"-",null,"",{"$f":"IF(VLOOKUP(D43,BS39:CB43,10,FALSE)=VLOOKUP(F43,BS39:CB43,10,FALSE),VLOOKUP(D43,BS39:CB43,10,FALSE),\"-\")","v":1},null,4,{"$f":"VLOOKUP(M43,FH40:FI43,2,FALSE)","v":"Sverige"},{"$f":"VLOOKUP($N43,$BS$40:$BZ$43,2,FALSE)","v":0},{"$f":"VLOOKUP($N43,$BS$40:$BZ$43,3,FALSE)","v":0},{"$f":"VLOOKUP($N43,$BS$40:$BZ$43,4,FALSE)","v":0},{"$f":"VLOOKUP($N43,$BS$40:$BZ$43,5,FALSE)","v":0},{"$f":"VLOOKUP($N43,$BS$40:$BZ$43,6,FALSE)","v":0},{"$f":"VLOOKUP($N43,$BS$40:$BZ$43,7,FALSE)","v":0},{"$f":"VLOOKUP($N43,$BS$40:$BZ$43,8,FALSE)","v":0},null,null,null,null,null,null,null,null,"2021-06-19","Spanien","-","Polen","","-","","",null,0,0,0,0,0,0,0,0,0,0,0,0,0,0,0,0,0,0,0,0,0,0,0,0,0,0,0,0,0,0,null,null,"Sverige",{"$f":"(SUMIF(AE$4:AE$54,BS43,AM$4:AM$54)+SUMIF(AG$4:AG$54,BS43,AN$4:AN$54))","v":0},{"$f":"(SUMIF(AE$4:AE$54,BS43,AO$4:AO$54)+SUMIF(AG$4:AG$54,BS43,AP$4:AP$54))","v":0},{"$f":"(SUMIF(AE$4:AE$54,BS43,AQ$4:AQ$54)+SUMIF(AG$4:AG$54,BS43,AR$4:AR$54))","v":0},{"$f":"SUMIF($AE$4:$AE$54,BS43,$AH$4:$AH$54)+SUMIF($AG$4:$AG$54,BS43,$AJ$4:$AJ$54)","v":0},{"$f":"SUMIF($AE$4:$AE$54,BS43,$AJ$4:$AJ$54)+SUMIF($AG$4:$AG$54,BS43,$AH$4:$AH$54)","v":0},{"$f":"BW43-BX43","v":0},{"$f":"IFERROR(BT43*3+BU43*1,0)","v":0},"E",{"$f":"RANK(BZ43,BZ40:BZ43)","v":1},{"$f":"SUMPRODUCT((BZ40:BZ43=BZ43)*(BY40:BY43>BY43))","v":0},null,{"$f":"IF(CB43=1,BS43,)","v":"Sverige"},0,0,0,0,"E",{"$f":"IF(CE43>0,RANK(CI43,CI40:CI43),)","v":1},{"$f":"IF(AND(CE43>0,COUNTIF(CK40:CK43,CK43)>1),SUMIFS($AH$4:$AH$54,$AE$4:$AE$54,BS43,$K$4:$K$54,1)+SUMIFS($AJ$4:$AJ$54,$AG$4:$AG$54,BS43,$K$4:$K$54,1)-SUMIFS($AJ$4:$AJ$54,$AE$4:$AE$54,BS43,$K$4:$K$54,1)-SUMIFS($AH$4:$AH$54,$AG$4:$AG$54,BS43,$K$4:$K$54,1),)","v":0},{"$f":"IF(AND(CE43>0,COUNTIF(CK40:CK43,CK43)>1),CK43+RANK(CL43,CL40:CL43)-1,CK43)","v":1},{"$f":"IF(AND(CE43>0,COUNTIF(CM40:CM43,CM43)>1),SUMIFS($AH$4:$AH$54,$AE$4:$AE$54,BS43,$K$4:$K$54,1)+SUMIFS($AJ$4:$AJ$54,$AG$4:$AG$54,BS43,$K$4:$K$54,1),)","v":0},{"$f":"IF(AND(CE43>0,COUNTIF(CM40:CM43,CM43)>1),CM43+RANK(CN43,CN40:CN43)-1,CM43)","v":1},1,{"$f":"IF(OR(CP43=\"\",COUNTIF(CP40:CP43,CP43)=1),\"\",$BY43)","v":0},{"$f":"IF(CP43=\"\",\"\",IF(COUNTIF(CP40:CP43,CP43)=1,CP43,CP43+RANK(CQ43,CQ40:CQ43,0)-1))","v":1},{"$f":"IF(OR(CR43=\"\",COUNTIF(CR40:CR43,CR43)=1),\"\",$BW43)","v":0},{"$f":"IF(CP43=\"\",\"\",IF(COUNTIF(CR40:CR43,CR43)=1,CR43,CR43+RANK(CS43,CS40:CS43,0)-1))","v":1},{"$f":"IF(OR(CT43=\"\",COUNTIF(CT40:CT43,CT43)=1),\"\",$BT43)","v":0},{"$f":"IF(CP43=\"\",\"\",IF(COUNTIF(CT40:CT43,CT43)=1,CT43,CT43+RANK(CU43,CU40:CU43,0)-1))","v":1},{"$f":"IF(CE43>0,BL38+RANK(CV43,CV40:CV43,1),)","v":1},null,{"$f":"IF(CB43=2,BS43,)","v":0},0,0,0,0,"E",{"$f":"IF(CY43>0,RANK(DC43,DC40:DC43)+CF38,)","v":0},{"$f":"IF(AND(CY43>0,COUNTIF(DE40:DE43,DE43)>1),SUMIFS($AH$4:$AH$54,$AE$4:$AE$54,BS43,$K$4:$K$54,2)+SUMIFS($AJ$4:$AJ$54,$AG$4:$AG$54,BS43,$K$4:$K$54,2)-SUMIFS($AJ$4:$AJ$54,$AE$4:$AE$54,BS43,$K$4:$K$54,2)-SUMIFS($AH$4:$AH$54,$AG$4:$AG$54,BS43,$K$4:$K$54,2),)","v":0},{"$f":"IF(AND(CY43>0,COUNTIF(DE40:DE43,DE43)>1),DE43+RANK(DF43,DF40:DF43)-1,DE43)","v":0},{"$f":"IF(AND(CY43>0,COUNTIF(DG40:DG43,DG43)>1),SUMIFS($AH$4:$AH$54,$AE$4:$AE$54,BS43,$K$4:$K$54,2)+SUMIFS($AJ$4:$AJ$54,$AG$4:$AG$54,BS43,$K$4:$K$54,2),)","v":0},{"$f":"IF(AND(CY43>0,COUNTIF(DG40:DG43,DG43)>1),DG43+RANK(DH43,DH40:DH43)-1,DG43)","v":0},"",{"$f":"IF(OR(DJ43=\"\",COUNTIF(DJ40:DJ43,DJ43)=1),\"\",$BY43)","v":""},{"$f":"IF(DJ43=\"\",\"\",IF(COUNTIF(DJ40:DJ43,DJ43)=1,DJ43,DJ43+RANK(DK43,DK40:DK43,0)-1))","v":""},{"$f":"IF(OR(DL43=\"\",COUNTIF(DL40:DL43,DL43)=1),\"\",$BW43)","v":""},{"$f":"IF(DJ43=\"\",\"\",IF(COUNTIF(DL40:DL43,DL43)=1,DL43,DL43+RANK(DM43,DM40:DM43,0)-1))","v":""},{"$f":"IF(OR(DN43=\"\",COUNTIF(DN40:DN43,DN43)=1),\"\",$BT43)","v":""},{"$f":"IF(DJ43=\"\",\"\",IF(COUNTIF(DN40:DN43,DN43)=1,DN43,DN43+RANK(DO43,DO40:DO43,0)-1))","v":""},{"$f":"IF(CY43>0,CF38+RANK(DP43,DP40:DP43,1),)","v":0},null,{"$f":"IF(CB43=3,BS43,)","v":0},{"$f":"(SUMIF(AE$4:AE$54,BS43,BE$4:BE$54)+SUMIF(AG$4:AG$54,BS43,BF$4:BF$54))","v":0},{"$f":"(SUMIF(AE$4:AE$54,BS43,BG$4:BG$54)+SUMIF(AG$4:AG$54,BS43,BH$4:BH$54))","v":0},{"$f":"(SUMIF(AE$4:AE$54,BS43,BI$4:BI$54)+SUMIF(AG$4:AG$54,BS43,BJ$4:BJ$54))","v":0},0,{"$f":"CA43","v":"E"},{"$f":"IF(DS43>0,RANK(DW43,DW40:DW43)+CF38+CZ38,)","v":0},{"$f":"IF(AND(DS43>0,COUNTIF(DY40:DY43,DY43)>1),SUMIFS($AH$4:$AH$54,$AE$4:$AE$54,BS43,$K$4:$K$54,3)+SUMIFS($AJ$4:$AJ$54,$AG$4:$AG$54,BS43,$K$4:$K$54,3)-SUMIFS($AJ$4:$AJ$54,$AE$4:$AE$54,BS43,$K$4:$K$54,3)-SUMIFS($AH$4:$AH$54,$AG$4:$AG$54,BS43,$K$4:$K$54,3),)","v":0},{"$f":"IF(AND(DS43>0,COUNTIF(DY40:DY43,DY43)>1),DY43+RANK(DZ43,DZ40:DZ43)-1,DY43)","v":0},{"$f":"IF(AND(DS43>0,COUNTIF(EA40:EA43,EA43)>1),SUMIFS($AH$4:$AH$54,$AE$4:$AE$54,BS43,$K$4:$K$54,3)+SUMIFS($AJ$4:$AJ$54,$AG$4:$AG$54,BS43,$K$4:$K$54,3),)","v":0},{"$f":"IF(AND(DS43>0,COUNTIF(EA40:EA43,EA43)>1),EA43+RANK(EB43,EB40:EB43)-1,EA43)","v":0},"",{"$f":"IF(OR(ED43=\"\",COUNTIF(ED40:ED43,ED43)=1),\"\",$BY43)","v":""},{"$f":"IF(ED43=\"\",\"\",IF(COUNTIF(ED40:ED43,ED43)=1,ED43,ED43+RANK(EE43,EE40:EE43,0)-1))","v":""},{"$f":"IF(OR(EF43=\"\",COUNTIF(EF40:EF43,EF43)=1),\"\",$BW43)","v":""},{"$f":"IF(ED43=\"\",\"\",IF(COUNTIF(EF40:EF43,EF43)=1,EF43,EF43+RANK(EG43,EG40:EG43,0)-1))","v":""},{"$f":"IF(OR(EH43=\"\",COUNTIF(EH40:EH43,EH43)=1),\"\",$BT43)","v":""},{"$f":"IF(ED43=\"\",\"\",IF(COUNTIF(EH40:EH43,EH43)=1,EH43,EH43+RANK(EI43,EI40:EI43,0)-1))","v":""},{"$f":"IF(DS43>0,CF38+CZ38+RANK(EJ43,EJ40:EJ43,1),)","v":0},null,{"$f":"IF(CB43=4,BS43,)","v":0},0,0,0,0,"E",{"$f":"IF(EM43>0,RANK(EQ43,EQ40:EQ43)+CF38+CZ38+DT38,)","v":0},{"$f":"IF(AND(EM43>0,COUNTIF(ES40:ES43,ES43)>1),SUMIFS($AH$4:$AH$54,$AE$4:$AE$54,BS43,$K$4:$K$54,4)+SUMIFS($AJ$4:$AJ$54,$AG$4:$AG$54,BS43,$K$4:$K$54,4)-SUMIFS($AJ$4:$AJ$54,$AE$4:$AE$54,BS43,$K$4:$K$54,4)-SUMIFS($AH$4:$AH$54,$AG$4:$AG$54,BS43,$K$4:$K$54,4),)","v":0},0,{"$f":"IF(AND(EM43>0,COUNTIF(EU40:EU43,EU43)>1),SUMIFS($AH$4:$AH$54,$AE$4:$AE$54,BS43,$K$4:$K$54,4)+SUMIFS($AJ$4:$AJ$54,$AG$4:$AG$54,BS43,$K$4:$K$54,4),)","v":0},{"$f":"IF(AND(EM43>0,COUNTIF(EU40:EU43,EU43)>1),EU43+RANK(EV43,EV40:EV43)-1,EU43)","v":0},"",{"$f":"IF(OR(EX43=\"\",COUNTIF(EX40:EX43,EX43)=1),\"\",$BY43)","v":""},{"$f":"IF(EX43=\"\",\"\",IF(COUNTIF(EX40:EX43,EX43)=1,EX43,EX43+RANK(EY43,EY40:EY43,0)-1))","v":""},{"$f":"IF(OR(EZ43=\"\",COUNTIF(EZ40:EZ43,EZ43)=1),\"\",$BW43)","v":""},{"$f":"IF(EX43=\"\",\"\",IF(COUNTIF(EZ40:EZ43,EZ43)=1,EZ43,EZ43+RANK(FA43,FA40:FA43,0)-1))","v":""},{"$f":"IF(OR(FB43=\"\",COUNTIF(FB40:FB43,FB43)=1),\"\",$BT43)","v":""},{"$f":"IF(EX43=\"\",\"\",IF(COUNTIF(FB40:FB43,FB43)=1,FB43,FB43+RANK(FC43,FC40:FC43,0)-1))","v":""},{"$f":"IF(EM43>0,CF38+CZ38+DT38+RANK(FD43,FD40:FD43,1),)","v":0},null,{"$f":"IFERROR(VLOOKUP(FI43,CE39:CW43,19,FALSE),IFERROR(VLOOKUP(FI43,CY39:DQ43,19,FALSE),IFERROR(VLOOKUP(FI43,DS39:EK43,19,FALSE),VLOOKUP(FI43,EM39:FE43,19,FALSE))))","v":1},{"$f":"RANK(FG43,FG40:FG43,1)+COUNTIF(FG40:FG43,FG43)-1","v":4},{"$f":"BS43","v":"Sverige"},null,null,null,null,null,null,null,null,null,null,null,null,null,null,null,null,null,null,null,null,null,null,null,null,null,40]
[null,null,"2021-06-23","Sverige","-","Polen",null,"-",null,"",{"$f":"IF(VLOOKUP(D44,BS39:CB43,10,FALSE)=VLOOKUP(F44,BS39:CB43,10,FALSE),VLOOKUP(D44,BS39:CB43,10,FALSE),\"-\")","v":1},null,null,{"$f":"IF(COUNTBLANK(G40:G45)+COUNTBLANK(I40:I45)=0,\"Resultat OK\",\"Fyll i resultat\")","v":"Fyll i resultat"},null,null,null,null,null,null,null,null,null,null,null,null,null,null,null,"2021-06-23","Sverige","-","Polen","","-","","",null,0,0,0,0,0,0,0,0,0,0,0,0,0,0,0,0,0,0,0,0,0,0,0,0,0,0,0,0,0,0,null,null,null,null,null,null,null,null,null,null,null,null,null,null,null,null,null,null,null,null,null,null,null,null,null,null,null,null,null,null,null,null,null,null,null,null,null,null,null,null,null,null,null,null,null,null,null,null,null,null,null,null,null,null,null,null,null,null,null,null,null,null,null,null,null,null,null,null,null,null,null,null,null,null,null,null,null,null,null,null,null,null,null,null,null,null,null,null,null,null,null,null,null,null,null,null,null,null,null,null,null,null,null,null,null,null,null,null,null,null,null,null,null,null,null,null,null,null,null,null,null,null,41]
[null,null,"2021-06-23","Slovakien","-","Spanien",null,"-",null,"",{"$f":"IF(VLOOKUP(D45,BS39:CB43,10,FALSE)=VLOOKUP(F45,BS39:CB43,10,FALSE),VLOOKUP(D45,BS39:CB43,10,FALSE),\"-\")","v":1},null,null,null,null,null,null,null,null,null,null,null,null,null,null,null,null,null,null,"2021-06-23","Slovakien","-","Spanien","","-","","",null,0,0,0,0,0,0,0,0,0,0,0,0,0,0,0,0,0,0,0,0,0,0,0,0,0,0,0,0,0,0,null,null,null,null,null,null,null,null,null,null,null,null,null,null,null,null,null,null,null,null,null,null,null,null,null,null,null,null,null,null,null,null,null,null,null,null,null,null,null,null,null,null,null,null,null,null,null,null,null,null,null,null,null,null,null,null,null,null,null,null,null,null,null,null,null,null,null,null,null,null,null,null,null,null,null,null,null,null,null,null,null,null,null,null,null,null,null,null,null,null,null,null,null,null,null,null,null,null,null,null,null,null,null,null,null,null,null,null,null,null,null,null,null,null,null,null,null,null,null,null,null,null,42]
[null,null,null,null,null,null,null,null,null,null,null,null,null,null,null,null,null,null,null,null,null,null,null,null,null,null,null,null,null,null,null,null,null,null,null,null,null,null,null,null,null,null,null,null,null,null,null,null,null,null,null,null,null,null,null,null,null,null,null,null,null,null,null,null,null,null,null,null,null,null,null,null,null,null,null,null,null,null,null,null,null,null,null,null,null,null,null,null,null,null,null,null,null,null,null,null,null,null,null,null,null,null,null,null,null,null,null,null,null,null,null,null,null,null,null,null,null,null,null,null,null,null,null,null,null,null,null,null,null,null,null,null,null,null,null,null,null,null,null,null,null,null,null,null,null,null,null,null,null,null,null,null,null,null,null,null,null,null,null,null,null,null,null,null,null,null,null,null,null,null,null,null,null,null,null,null,null,null,null,null,null,null,null,null,null,null,null,null,null,null,43]
[null,null,"Grupp F",null,null,null,null,null,null,null,null,null,null,null,null,null,null,null,null,null,null,null,null,null,null,null,null,null,null,"Grupp F",null,null,null,null,null,null,null,null,null,null,null,null,null,null,null,null,null,null,null,null,null,null,null,null,null,null,null,null,null,null,null,null,null,null,null,null,null,null,null,null,"Rank 0",null,null,null,null,null,null,null,null,null,null,null,"Rank 1",{"$f":"COUNTIF(CB49:CB52,1)","v":4},null,null,null,null,null,null,null,null,null,null,null,null,null,null,null,null,null,null,"Rank 2",{"$f":"COUNTIF(CB49:CB52,2)","v":0},null,null,null,null,null,null,null,null,null,null,null,null,null,null,null,null,null,null,"Rank 3",{"$f":"COUNTIF(CB49:CB52,3)","v":0},null,null,null,null,null,null,null,null,null,null,null,null,null,null,null,null,null,null,"Rank 4",{"$f":"COUNTIF(CB49:CB52,4)","v":0},null,null,null,null,null,null,null,null,null,null,null,null,null,null,null,null,null,null,null,null,null,null,null,null,null,null,null,null,null,null,null,null,null,null,null,null,null,null,null,null,null,null,null,null,null,null,44]
[null,null,"Datum","Match",null,null,"Resultat",null,null,"Tecken",null,null,null,"Lag","V","O","F","GM","IM","+/-","P",null,null,null,null,null,null,null,null,"Datum","Match",null,null,"Resultat",null,null,"Tecken","Poäng","V1","V2","O1","O2","F1","F2","V1","V2","O1","O2","F1","F2","V1","V2","O1","O2","F1","F2","V1","V2","O1","O2","F1","F2","V1","V2","O1","O2","F1","F2",null,null,"Lag","V","O","F","GM","IM","+/-","P","Grupp","Rank P","Rank +/-",null,"Lag","V","O","F","P","Grupp","Rank P","+/-","+/- rank","GM","GM rank","Rank internal","+/- all","+/- rank all","GM all","GM rank all","V all","V rank all","Rank all",null,"Lag","V","O","F","P","Grupp","Rank P","+/-","+/- rank","GM","GM rank","Rank internal","+/- all","+/- rank all","GM all","GM rank all","V all","V rank all","Rank all",null,"Lag","V","O","F","P","Grupp","Rank P","+/-","+/- rank","GM","GM rank","Rank internal","+/- all","+/- rank all","GM all","GM rank all","V all","V rank all","Rank all",null,"Lag","V","O","F","P","Grupp","Rank P","+/-","+/- rank","GM","GM rank","Rank internal","+/- all","+/- rank all","GM all","GM rank all","V all","V rank all","Rank all",null,"Rank","Rank Ties",null,null,null,null,null,null,null,null,null,null,null,null,null,null,null,null,null,null,null,null,null,null,null,null,null,null,45]
[null,null,"2021-06-15","Ungern","-","Portugal",null,"-",null,{"$f":"IF(OR(ISBLANK(G49),ISBLANK(I49)),\"\",IF(G49>I49,1,IF(G49<I49,2,\"X\")))","v":""},{"$f":"IF(VLOOKUP(D49,BS48:CB52,10,FALSE)=VLOOKUP(F49,BS48:CB52,10,FALSE),VLOOKUP(D49,BS48:CB52,10,FALSE),\"-\")","v":1},null,1,{"$f":"VLOOKUP(M49,FH49:FI52,2,FALSE)","v":"Frankrike"},{"$f":"VLOOKUP($N49,$BS$49:$BZ$52,2,FALSE)","v":0},{"$f":"VLOOKUP($N49,$BS$49:$BZ$52,3,FALSE)","v":0},{"$f":"VLOOKUP($N49,$BS$49:$BZ$52,4,FALSE)","v":0},{"$f":"VLOOKUP($N49,$BS$49:$BZ$52,5,FALSE)","v":0},{"$f":"VLOOKUP($N49,$BS$49:$BZ$52,6,FALSE)","v":0},{"$f":"VLOOKUP($N49,$BS$49:$BZ$52,7,FALSE)","v":0},{"$f":"VLOOKUP($N49,$BS$49:$BZ$52,8,FALSE)","v":0},null,null,null,null,null,null,null,null,{"$f":"C49","v":"2021-06-15"},"Ungern","-","Portugal",{"$f":"IF(G49=\"\",\"\",G49)","v":""},"-",{"$f":"IF(I49=\"\",\"\",I49)","v":""},{"$f":"J49","v":""},null,{"$f":"IF(AH49>AJ49,1,0)","v":0},{"$f":"IF(AJ49>AH49,1,0)","v":0},{"$f":"IF(AND(AH49=AJ49,AH49<>\"\"),1,0)","v":0},{"$f":"IF(AND(AH49=AJ49,AH49<>\"\"),1,0)","v":0},{"$f":"IF(AH49<AJ49,1,0)","v":0},{"$f":"IF(AJ49<AH49,1,)","v":0},{"$f":"IF(ISERROR(VLOOKUP(AE49,CE:CE,1,FALSE)),0,1)*IF(ISERROR(VLOOKUP(AG49,CE:CE,1,FALSE)),0,1)*AM49","v":0},{"$f":"IF(ISERROR(VLOOKUP(AE49,CE:CE,1,FALSE)),0,1)*IF(ISERROR(VLOOKUP(AG49,CE:CE,1,FALSE)),0,1)*AN49","v":0},{"$f":"IF(ISERROR(VLOOKUP(AE49,CE:CE,1,FALSE)),0,1)*IF(ISERROR(VLOOKUP(AG49,CE:CE,1,FALSE)),0,1)*AO49","v":0},{"$f":"IF(ISERROR(VLOOKUP(AE49,CE:CE,1,FALSE)),0,1)*IF(ISERROR(VLOOKUP(AG49,CE:CE,1,FALSE)),0,1)*AP49","v":0},{"$f":"IF(ISERROR(VLOOKUP(AE49,CE:CE,1,FALSE)),0,1)*IF(ISERROR(VLOOKUP(AG49,CE:CE,1,FALSE)),0,1)*AQ49","v":0},{"$f":"IF(ISERROR(VLOOKUP(AE49,CE:CE,1,FALSE)),0,1)*IF(ISERROR(VLOOKUP(AG49,CE:CE,1,FALSE)),0,1)*AR49","v":0},{"$f":"IF(ISERROR(VLOOKUP(AE49,CY:CY,1,FALSE)),0,1)*IF(ISERROR(VLOOKUP(AG49,CY:CY,1,FALSE)),0,1)*AM49","v":0},{"$f":"IF(ISERROR(VLOOKUP(AE49,CY:CY,1,FALSE)),0,1)*IF(ISERROR(VLOOKUP(AG49,CY:CY,1,FALSE)),0,1)*AN49","v":0},{"$f":"IF(ISERROR(VLOOKUP(AE49,CY:CY,1,FALSE)),0,1)*IF(ISERROR(VLOOKUP(AG49,CY:CY,1,FALSE)),0,1)*AO49","v":0},{"$f":"IF(ISERROR(VLOOKUP(AE49,CY:CY,1,FALSE)),0,1)*IF(ISERROR(VLOOKUP(AG49,CY:CY,1,FALSE)),0,1)*AP49","v":0},{"$f":"IF(ISERROR(VLOOKUP(AE49,CY:CY,1,FALSE)),0,1)*IF(ISERROR(VLOOKUP(AG49,CY:CY,1,FALSE)),0,1)*AQ49","v":0},{"$f":"IF(ISERROR(VLOOKUP(AE49,CY:CY,1,FALSE)),0,1)*IF(ISERROR(VLOOKUP(AG49,CY:CY,1,FALSE)),0,1)*AR49","v":0},{"$f":"IF(ISERROR(VLOOKUP(AE49,DS:DS,1,FALSE)),0,1)*IF(ISERROR(VLOOKUP(AG49,DS:DS,1,FALSE)),0,1)*AM49","v":0},{"$f":"IF(ISERROR(VLOOKUP(AE49,DS:DS,1,FALSE)),0,1)*IF(ISERROR(VLOOKUP(AG49,DS:DS,1,FALSE)),0,1)*AN49","v":0},{"$f":"IF(ISERROR(VLOOKUP(AE49,DS:DS,1,FALSE)),0,1)*IF(ISERROR(VLOOKUP(AG49,DS:DS,1,FALSE)),0,1)*AO49","v":0},{"$f":"IF(ISERROR(VLOOKUP(AE49,DS:DS,1,FALSE)),0,1)*IF(ISERROR(VLOOKUP(AG49,DS:DS,1,FALSE)),0,1)*AP49","v":0},{"$f":"IF(ISERROR(VLOOKUP(AE49,DS:DS,1,FALSE)),0,1)*IF(ISERROR(VLOOKUP(AG49,DS:DS,1,FALSE)),0,1)*AQ49","v":0},{"$f":"IF(ISERROR(VLOOKUP(AE49,DS:DS,1,FALSE)),0,1)*IF(ISERROR(VLOOKUP(AG49,DS:DS,1,FALSE)),0,1)*AR49","v":0},{"$f":"IF(ISERROR(VLOOKUP(AE49,EM:EM,1,FALSE)),0,1)*IF(ISERROR(VLOOKUP(AG49,EM:EM,1,FALSE)),0,1)*AM49","v":0},{"$f":"IF(ISERROR(VLOOKUP(AE49,EM:EM,1,FALSE)),0,1)*IF(ISERROR(VLOOKUP(AG49,EM:EM,1,FALSE)),0,1)*AN49","v":0},{"$f":"IF(ISERROR(VLOOKUP(AE49,EM:EM,1,FALSE)),0,1)*IF(ISERROR(VLOOKUP(AG49,EM:EM,1,FALSE)),0,1)*AO49","v":0},{"$f":"IF(ISERROR(VLOOKUP(AE49,EM:EM,1,FALSE)),0,1)*IF(ISERROR(VLOOKUP(AG49,EM:EM,1,FALSE)),0,1)*AP49","v":0},{"$f":"IF(ISERROR(VLOOKUP(AE49,EM:EM,1,FALSE)),0,1)*IF(ISERROR(VLOOKUP(AG49,EM:EM,1,FALSE)),0,1)*AQ49","v":0},{"$f":"IF(ISERROR(VLOOKUP(AE49,EM:EM,1,FALSE)),0,1)*IF(ISERROR(VLOOKUP(AG49,EM:EM,1,FALSE)),0,1)*AR49","v":0},null,null,"Frankrike",{"$f":"(SUMIF(AE$4:AE$54,BS49,AM$4:AM$54)+SUMIF(AG$4:AG$54,BS49,AN$4:AN$54))","v":0},{"$f":"(SUMIF(AE$4:AE$54,BS49,AO$4:AO$54)+SUMIF(AG$4:AG$54,BS49,AP$4:AP$54))","v":0},{"$f":"(SUMIF(AE$4:AE$54,BS49,AQ$4:AQ$54)+SUMIF(AG$4:AG$54,BS49,AR$4:AR$54))","v":0},{"$f":"SUMIF($AE$4:$AE$54,BS49,$AH$4:$AH$54)+SUMIF($AG$4:$AG$54,BS49,$AJ$4:$AJ$54)","v":0},{"$f":"SUMIF($AE$4:$AE$54,BS49,$AJ$4:$AJ$54)+SUMIF($AG$4:$AG$54,BS49,$AH$4:$AH$54)","v":0},{"$f":"BW49-BX49","v":0},{"$f":"IFERROR(BT49*3+BU49*1,0)","v":0},"F",{"$f":"RANK(BZ49,BZ49:BZ52)","v":1},{"$f":"SUMPRODUCT((BZ49:BZ52=BZ49)*(BY49:BY52>BY49))","v":0},null,{"$f":"IF(CB49=1,BS49,)","v":"Frankrike"},{"$f":"(SUMIF($AE$4:$AE$54,$BS49,$AS$4:$AS$54)+SUMIF($AG$4:$AG$54,$BS49,$AT$4:$AT$54))","v":0},{"$f":"(SUMIF($AE$4:$AE$54,$BS49,$AU$4:$AU$54)+SUMIF($AG$4:$AG$54,$BS49,$AV$4:$AV$54))","v":0},{"$f":"(SUMIF($AE$4:$AE$54,$BS49,$AW$4:$AW$54)+SUMIF($AG$4:$AG$54,$BS49,$AX$4:$AX$54))","v":0},{"$f":"IFERROR(CF49*3+CG49*1,0)","v":0},{"$f":"CA49","v":"F"},{"$f":"IF(CE49>0,RANK(CI49,CI49:CI52),)","v":1},{"$f":"IF(AND(CE49>0,COUNTIF(CK49:CK52,CK49)>1),SUMIFS($AH$4:$AH$54,$AE$4:$AE$54,$BS49,$K$4:$K$54,1)+SUMIFS($AJ$4:$AJ$54,$AG$4:$AG$54,$BS49,$K$4:$K$54,1)-SUMIFS($AJ$4:$AJ$54,$AE$4:$AE$54,$BS49,$K$4:$K$54,1)-SUMIFS($AH$4:$AH$54,$AG$4:$AG$54,$BS49,$K$4:$K$54,1),)","v":0},{"$f":"IF(AND(CE49>0,COUNTIF(CK49:CK52,CK49)>1),CK49+RANK(CL49,CL49:CL52)-1,CK49)","v":1},{"$f":"IF(AND(CE49>0,COUNTIF(CM49:CM52,CM49)>1),SUMIFS($AH$4:$AH$54,$AE$4:$AE$54,$BS49,$K$4:$K$54,1)+SUMIFS($AJ$4:$AJ$54,$AG$4:$AG$54,$BS49,$K$4:$K$54,1),)","v":0},{"$f":"IF(AND(CE49>0,COUNTIF(CM49:CM52,CM49)>1),CM49+RANK(CN49,CN49:CN52)-1,CM49)","v":1},{"$f":"IF(CO49=0,\"\",CO49)","v":1},{"$f":"IF(OR(CP49=\"\",COUNTIF(CP49:CP52,CP49)=1),\"\",$BY49)","v":0},{"$f":"IF(CP49=\"\",\"\",IF(COUNTIF(CP49:CP52,CP49)=1,CP49,CP49+RANK(CQ49,CQ49:CQ52,0)-1))","v":1},{"$f":"IF(OR(CR49=\"\",COUNTIF(CR49:CR52,CR49)=1),\"\",$BW49)","v":0},{"$f":"IF(CP49=\"\",\"\",IF(COUNTIF(CR49:CR52,CR49)=1,CR49,CR49+RANK(CS49,CS49:CS52,0)-1))","v":1},{"$f":"IF(OR(CT49=\"\",COUNTIF(CT49:CT52,CT49)=1),\"\",$BT49)","v":0},{"$f":"IF(CP49=\"\",\"\",IF(COUNTIF(CT49:CT52,CT49)=1,CT49,CT49+RANK(CU49,CU49:CU52,0)-1))","v":1},{"$f":"IF(CE49>0,BL47+RANK(CV49,CV49:CV52,1),)","v":1},null,{"$f":"IF(CB49=2,BS49,)","v":0},{"$f":"(SUMIF($AE$4:$AE$54,$BS49,$AY$4:$AY$54)+SUMIF($AG$4:$AG$54,$BS49,$AZ$4:$AZ$54))","v":0},{"$f":"(SUMIF($AE$4:$AE$54,$BS49,$BA$4:$BA$54)+SUMIF($AG$4:$AG$54,$BS49,$BB$4:$BB$54))","v":0},{"$f":"(SUMIF($AE$4:$AE$54,$BS49,$BC$4:$BC$54)+SUMIF($AG$4:$AG$54,$BS49,$BD$4:$BD$54))","v":0},{"$f":"IFERROR(CZ49*3+DA49*1,0)","v":0},{"$f":"$CA49","v":"F"},{"$f":"IF(CY49>0,RANK(DC49,DC49:DC52)+CF47,)","v":0},{"$f":"IF(AND(CY49>0,COUNTIF(DE49:DE52,DE49)>1),SUMIFS($AH$4:$AH$54,$AE$4:$AE$54,$BS49,$K$4:$K$54,2)+SUMIFS($AJ$4:$AJ$54,$AG$4:$AG$54,$BS49,$K$4:$K$54,2)-SUMIFS($AJ$4:$AJ$54,$AE$4:$AE$54,$BS49,$K$4:$K$54,2)-SUMIFS($AH$4:$AH$54,$AG$4:$AG$54,$BS49,$K$4:$K$54,2),)","v":0},{"$f":"IF(AND(CY49>0,COUNTIF(DE49:DE52,DE49)>1),DE49+RANK(DF49,DF49:DF52)-1,DE49)","v":0},{"$f":"IF(AND(CY49>0,COUNTIF(DG49:DG52,DG49)>1),SUMIFS($AH$4:$AH$54,$AE$4:$AE$54,$BS49,$K$4:$K$54,2)+SUMIFS($AJ$4:$AJ$54,$AG$4:$AG$54,$BS49,$K$4:$K$54,2),)","v":0},{"$f":"IF(AND(CY49>0,COUNTIF(DG49:DG52,DG49)>1),DG49+RANK(DH49,DH49:DH52)-1,DG49)","v":0},{"$f":"IF(DI49=0,\"\",DI49)","v":""},{"$f":"IF(OR(DJ49=\"\",COUNTIF(DJ49:DJ52,DJ49)=1),\"\",$BY49)","v":""},{"$f":"IF(DJ49=\"\",\"\",IF(COUNTIF(DJ49:DJ52,DJ49)=1,DJ49,DJ49+RANK(DK49,DK49:DK52,0)-1))","v":""},{"$f":"IF(OR(DL49=\"\",COUNTIF(DL49:DL52,DL49)=1),\"\",$BW49)","v":""},{"$f":"IF(DJ49=\"\",\"\",IF(COUNTIF(DL49:DL52,DL49)=1,DL49,DL49+RANK(DM49,DM49:DM52,0)-1))","v":""},{"$f":"IF(OR(DN49=\"\",COUNTIF(DN49:DN52,DN49)=1),\"\",$BT49)","v":""},{"$f":"IF(DJ49=\"\",\"\",IF(COUNTIF(DN49:DN52,DN49)=1,DN49,DN49+RANK(DO49,DO49:DO52,0)-1))","v":""},{"$f":"IF(CY49>0,CF47+RANK(DP49,DP49:DP52,1),)","v":0},null,{"$f":"IF(CB49=3,BS49,)","v":0},{"$f":"(SUMIF($AE$4:$AE$54,BS49,$BE$4:$BE$54)+SUMIF($AG$4:$AG$54,BS49,$BF$4:$BF$54))","v":0},{"$f":"(SUMIF($AE$4:$AE$54,BS49,$BG$4:$BG$54)+SUMIF($AG$4:$AG$54,BS49,$BH$4:$BH$54))","v":0},{"$f":"(SUMIF($AE$4:$AE$54,BS49,$BI$4:$BI$54)+SUMIF($AG$4:$AG$54,BS49,$BJ$4:$BJ$54))","v":0},{"$f":"IFERROR(DT49*3+DU49*1,0)","v":0},{"$f":"CA49","v":"F"},{"$f":"IF(DS49>0,RANK(DW49,DW49:DW52)+CF47+CZ47,)","v":0},{"$f":"IF(AND(DS49>0,COUNTIF(DY49:DY52,DY49)>1),SUMIFS($AH$4:$AH$54,$AE$4:$AE$54,$BS49,$K$4:$K$54,3)+SUMIFS($AJ$4:$AJ$54,$AG$4:$AG$54,$BS49,$K$4:$K$54,3)-SUMIFS($AJ$4:$AJ$54,$AE$4:$AE$54,$BS49,$K$4:$K$54,3)-SUMIFS($AH$4:$AH$54,$AG$4:$AG$54,$BS49,$K$4:$K$54,3),)","v":0},{"$f":"IF(AND(DS49>0,COUNTIF(DY49:DY52,DY49)>1),DY49+RANK(DZ49,DZ49:DZ52)-1,DY49)","v":0},{"$f":"IF(AND(DS49>0,COUNTIF(EA49:EA52,EA49)>1),SUMIFS($AH$4:$AH$54,$AE$4:$AE$54,$BS49,$K$4:$K$54,3)+SUMIFS($AJ$4:$AJ$54,$AG$4:$AG$54,$BS49,$K$4:$K$54,3),)","v":0},{"$f":"IF(AND(DS49>0,COUNTIF(EA49:EA52,EA49)>1),EA49+RANK(EB49,EB49:EB52)-1,EA49)","v":0},{"$f":"IF(EC49=0,\"\",EC49)","v":""},{"$f":"IF(OR(ED49=\"\",COUNTIF(ED49:ED52,ED49)=1),\"\",$BY49)","v":""},{"$f":"IF(ED49=\"\",\"\",IF(COUNTIF(ED49:ED52,ED49)=1,ED49,ED49+RANK(EE49,EE49:EE52,0)-1))","v":""},{"$f":"IF(OR(EF49=\"\",COUNTIF(EF49:EF52,EF49)=1),\"\",$BW49)","v":""},{"$f":"IF(ED49=\"\",\"\",IF(COUNTIF(EF49:EF52,EF49)=1,EF49,EF49+RANK(EG49,EG49:EG52,0)-1))","v":""},{"$f":"IF(OR(EH49=\"\",COUNTIF(EH49:EH52,EH49)=1),\"\",$BT49)","v":""},{"$f":"IF(ED49=\"\",\"\",IF(COUNTIF(EH49:EH52,EH49)=1,EH49,EH49+RANK(EI49,EI49:EI52,0)-1))","v":""},{"$f":"IF(DS49>0,CF47+CZ47+RANK(EJ49,EJ49:EJ52,1),)","v":0},null,{"$f":"IF(CB49=4,BS49,)","v":0},{"$f":"(SUMIF($AE$4:$AE$54,$BS49,$BK$4:$BK$54)+SUMIF($AG$4:$AG$54,$BS49,$BL$4:$BL$54))","v":0},{"$f":"(SUMIF($AE$4:$AE$54,$BS49,$BM$4:$BM$54)+SUMIF($AG$4:$AG$54,$BS49,$BN$4:$BN$54))","v":0},{"$f":"(SUMIF($AE$4:$AE$54,$BS49,$BO$4:$BO$54)+SUMIF($AG$4:$AG$54,$BS49,$BP$4:$BP$54))","v":0},{"$f":"IFERROR(EN49*3+EO49*1,0)","v":0},{"$f":"$CA49","v":"F"},{"$f":"IF(EM49>0,RANK(EQ49,EQ49:EQ52)+CF47+CZ47+DT47,)","v":0},{"$f":"IF(AND(EM49>0,COUNTIF(ES49:ES52,ES49)>1),SUMIFS($AH$4:$AH$54,$AE$4:$AE$54,$BS49,$K$4:$K$54,4)+SUMIFS($AJ$4:$AJ$54,$AG$4:$AG$54,$BS49,$K$4:$K$54,4)-SUMIFS($AJ$4:$AJ$54,$AE$4:$AE$54,$BS49,$K$4:$K$54,4)-SUMIFS($AH$4:$AH$54,$AG$4:$AG$54,$BS49,$K$4:$K$54,4),)","v":0},{"$f":"IF(AND(EM49>0,COUNTIF($ES$4:$ES$7,ES49)>1),ES49+RANK(ET49,$ET$4:$ET$7)-1,ES49)","v":0},{"$f":"IF(AND(EM49>0,COUNTIF(EU49:EU52,EU49)>1),SUMIFS($AH$4:$AH$54,$AE$4:$AE$54,$BS49,$K$4:$K$54,4)+SUMIFS($AJ$4:$AJ$54,$AG$4:$AG$54,$BS49,$K$4:$K$54,4),)","v":0},{"$f":"IF(AND(EM49>0,COUNTIF(EU49:EU52,EU49)>1),EU49+RANK(EV49,EV49:EV52)-1,EU49)","v":0},{"$f":"IF(EW49=0,\"\",EW49)","v":""},{"$f":"IF(OR(EX49=\"\",COUNTIF(EX49:EX52,EX49)=1),\"\",$BY49)","v":""},{"$f":"IF(EX49=\"\",\"\",IF(COUNTIF(EX49:EX52,EX49)=1,EX49,EX49+RANK(EY49,EY49:EY52,0)-1))","v":""},{"$f":"IF(OR(EZ49=\"\",COUNTIF(EZ49:EZ52,EZ49)=1),\"\",$BW49)","v":""},{"$f":"IF(EX49=\"\",\"\",IF(COUNTIF(EZ49:EZ52,EZ49)=1,EZ49,EZ49+RANK(FA49,FA49:FA52,0)-1))","v":""},{"$f":"IF(OR(FB49=\"\",COUNTIF(FB49:FB52,FB49)=1),\"\",$BT49)","v":""},{"$f":"IF(EX49=\"\",\"\",IF(COUNTIF(FB49:FB52,FB49)=1,FB49,FB49+RANK(FC49,FC49:FC52,0)-1))","v":""},{"$f":"IF(EM49>0,CF47+CZ47+DT47+RANK(FD49,FD49:FD52,1),)","v":0},null,{"$f":"IFERROR(VLOOKUP(FI49,CE48:CW52,19,FALSE),IFERROR(VLOOKUP(FI49,CY48:DQ52,19,FALSE),IFERROR(VLOOKUP(FI49,DS48:EK52,19,FALSE),VLOOKUP(FI49,EM48:FE52,19,FALSE))))","v":1},{"$f":"RANK(FG49,FG49:FG52,1)+COUNTIF(FG49:FG49,FG49)-1","v":1},{"$f":"BS49","v":"Frankrike"},null,null,null,null,null,null,null,null,null,null,null,null,null,null,null,null,null,null,null,null,null,null,null,null,null,46]
[null,null,"2021-06-15","Frankrike","-","Tyskland",null,"-",null,{"$f":"IF(OR(ISBLANK(G50),ISBLANK(I50)),\"\",IF(G50>I50,1,IF(G50<I50,2,\"X\")))","v":""},{"$f":"IF(VLOOKUP(D50,BS48:CB52,10,FALSE)=VLOOKUP(F50,BS48:CB52,10,FALSE),VLOOKUP(D50,BS48:CB52,10,FALSE),\"-\")","v":1},null,2,{"$f":"VLOOKUP(M50,FH49:FI52,2,FALSE)","v":"Tyskland"},{"$f":"VLOOKUP($N50,$BS$49:$BZ$52,2,FALSE)","v":0},{"$f":"VLOOKUP($N50,$BS$49:$BZ$52,3,FALSE)","v":0},{"$f":"VLOOKUP($N50,$BS$49:$BZ$52,4,FALSE)","v":0},{"$f":"VLOOKUP($N50,$BS$49:$BZ$52,5,FALSE)","v":0},{"$f":"VLOOKUP($N50,$BS$49:$BZ$52,6,FALSE)","v":0},{"$f":"VLOOKUP($N50,$BS$49:$BZ$52,7,FALSE)","v":0},{"$f":"VLOOKUP($N50,$BS$49:$BZ$52,8,FALSE)","v":0},null,null,null,null,null,null,null,null,"2021-06-15","Frankrike","-","Tyskland","","-","","",null,0,0,0,0,0,0,0,0,0,0,0,0,0,0,0,0,0,0,0,0,0,0,0,0,0,0,0,0,0,0,null,null,"Tyskland",{"$f":"(SUMIF(AE$4:AE$54,BS50,AM$4:AM$54)+SUMIF(AG$4:AG$54,BS50,AN$4:AN$54))","v":0},{"$f":"(SUMIF(AE$4:AE$54,BS50,AO$4:AO$54)+SUMIF(AG$4:AG$54,BS50,AP$4:AP$54))","v":0},{"$f":"(SUMIF(AE$4:AE$54,BS50,AQ$4:AQ$54)+SUMIF(AG$4:AG$54,BS50,AR$4:AR$54))","v":0},{"$f":"SUMIF($AE$4:$AE$54,BS50,$AH$4:$AH$54)+SUMIF($AG$4:$AG$54,BS50,$AJ$4:$AJ$54)","v":0},{"$f":"SUMIF($AE$4:$AE$54,BS50,$AJ$4:$AJ$54)+SUMIF($AG$4:$AG$54,BS50,$AH$4:$AH$54)","v":0},{"$f":"BW50-BX50","v":0},{"$f":"IFERROR(BT50*3+BU50*1,0)","v":0},"F",{"$f":"RANK(BZ50,BZ49:BZ52)","v":1},{"$f":"SUMPRODUCT((BZ49:BZ52=BZ50)*(BY49:BY52>BY50))","v":0},null,{"$f":"IF(CB50=1,BS50,)","v":"Tyskland"},{"$f":"(SUMIF($AE$4:$AE$54,$BS50,$AS$4:$AS$54)+SUMIF($AG$4:$AG$54,$BS50,$AT$4:$AT$54))","v":0},{"$f":"(SUMIF($AE$4:$AE$54,$BS50,$AU$4:$AU$54)+SUMIF($AG$4:$AG$54,$BS50,$AV$4:$AV$54))","v":0},{"$f":"(SUMIF($AE$4:$AE$54,$BS50,$AW$4:$AW$54)+SUMIF($AG$4:$AG$54,$BS50,$AX$4:$AX$54))","v":0},{"$f":"IFERROR(CF50*3+CG50*1,0)","v":0},{"$f":"CA50","v":"F"},{"$f":"IF(CE50>0,RANK(CI50,CI49:CI52),)","v":1},{"$f":"IF(AND(CE50>0,COUNTIF(CK49:CK52,CK50)>1),SUMIFS($AH$4:$AH$54,$AE$4:$AE$54,BS50,$K$4:$K$54,1)+SUMIFS($AJ$4:$AJ$54,$AG$4:$AG$54,BS50,$K$4:$K$54,1)-SUMIFS($AJ$4:$AJ$54,$AE$4:$AE$54,BS50,$K$4:$K$54,1)-SUMIFS($AH$4:$AH$54,$AG$4:$AG$54,BS50,$K$4:$K$54,1),)","v":0},{"$f":"IF(AND(CE50>0,COUNTIF(CK49:CK52,CK50)>1),CK50+RANK(CL50,CL49:CL52)-1,CK50)","v":1},{"$f":"IF(AND(CE50>0,COUNTIF(CM49:CM52,CM50)>1),SUMIFS($AH$4:$AH$54,$AE$4:$AE$54,BS50,$K$4:$K$54,1)+SUMIFS($AJ$4:$AJ$54,$AG$4:$AG$54,BS50,$K$4:$K$54,1),)","v":0},{"$f":"IF(AND(CE50>0,COUNTIF(CM49:CM52,CM50)>1),CM50+RANK(CN50,CN49:CN52)-1,CM50)","v":1},{"$f":"IF(CO50=0,\"\",CO50)","v":1},{"$f":"IF(OR(CP50=\"\",COUNTIF(CP49:CP52,CP50)=1),\"\",$BY50)","v":0},{"$f":"IF(CP50=\"\",\"\",IF(COUNTIF(CP49:CP52,CP50)=1,CP50,CP50+RANK(CQ50,CQ49:CQ52,0)-1))","v":1},{"$f":"IF(OR(CR50=\"\",COUNTIF(CR49:CR52,CR50)=1),\"\",$BW50)","v":0},{"$f":"IF(CP50=\"\",\"\",IF(COUNTIF(CR49:CR52,CR50)=1,CR50,CR50+RANK(CS50,CS49:CS52,0)-1))","v":1},{"$f":"IF(OR(CT50=\"\",COUNTIF(CT49:CT52,CT50)=1),\"\",$BT50)","v":0},{"$f":"IF(CP50=\"\",\"\",IF(COUNTIF(CT49:CT52,CT50)=1,CT50,CT50+RANK(CU50,CU49:CU52,0)-1))","v":1},{"$f":"IF(CE50>0,BL47+RANK(CV50,CV49:CV52,1),)","v":1},null,{"$f":"IF(CB50=2,BS50,)","v":0},{"$f":"(SUMIF($AE$4:$AE$54,$BS50,$AY$4:$AY$54)+SUMIF($AG$4:$AG$54,$BS50,$AZ$4:$AZ$54))","v":0},{"$f":"(SUMIF($AE$4:$AE$54,$BS50,$BA$4:$BA$54)+SUMIF($AG$4:$AG$54,$BS50,$BB$4:$BB$54))","v":0},{"$f":"(SUMIF($AE$4:$AE$54,$BS50,$BC$4:$BC$54)+SUMIF($AG$4:$AG$54,$BS50,$BD$4:$BD$54))","v":0},{"$f":"IFERROR(CZ50*3+DA50*1,0)","v":0},{"$f":"$CA50","v":"F"},{"$f":"IF(CY50>0,RANK(DC50,DC49:DC52)+CF47,)","v":0},{"$f":"IF(AND(CY50>0,COUNTIF(DE49:DE52,DE50)>1),SUMIFS($AH$4:$AH$54,$AE$4:$AE$54,BS50,$K$4:$K$54,2)+SUMIFS($AJ$4:$AJ$54,$AG$4:$AG$54,BS50,$K$4:$K$54,2)-SUMIFS($AJ$4:$AJ$54,$AE$4:$AE$54,BS50,$K$4:$K$54,2)-SUMIFS($AH$4:$AH$54,$AG$4:$AG$54,BS50,$K$4:$K$54,2),)","v":0},{"$f":"IF(AND(CY50>0,COUNTIF(DE49:DE52,DE50)>1),DE50+RANK(DF50,DF49:DF52)-1,DE50)","v":0},{"$f":"IF(AND(CY50>0,COUNTIF(DG49:DG52,DG50)>1),SUMIFS($AH$4:$AH$54,$AE$4:$AE$54,BS50,$K$4:$K$54,2)+SUMIFS($AJ$4:$AJ$54,$AG$4:$AG$54,BS50,$K$4:$K$54,2),)","v":0},{"$f":"IF(AND(CY50>0,COUNTIF(DG49:DG52,DG50)>1),DG50+RANK(DH50,DH49:DH52)-1,DG50)","v":0},{"$f":"IF(DI50=0,\"\",DI50)","v":""},{"$f":"IF(OR(DJ50=\"\",COUNTIF(DJ49:DJ52,DJ50)=1),\"\",$BY50)","v":""},{"$f":"IF(DJ50=\"\",\"\",IF(COUNTIF(DJ49:DJ52,DJ50)=1,DJ50,DJ50+RANK(DK50,DK49:DK52,0)-1))","v":""},{"$f":"IF(OR(DL50=\"\",COUNTIF(DL49:DL52,DL50)=1),\"\",$BW50)","v":""},{"$f":"IF(DJ50=\"\",\"\",IF(COUNTIF(DL49:DL52,DL50)=1,DL50,DL50+RANK(DM50,DM49:DM52,0)-1))","v":""},{"$f":"IF(OR(DN50=\"\",COUNTIF(DN49:DN52,DN50)=1),\"\",$BT50)","v":""},{"$f":"IF(DJ50=\"\",\"\",IF(COUNTIF(DN49:DN52,DN50)=1,DN50,DN50+RANK(DO50,DO49:DO52,0)-1))","v":""},{"$f":"IF(CY50>0,CF47+RANK(DP50,DP49:DP52,1),)","v":0},null,{"$f":"IF(CB50=3,BS50,)","v":0},{"$f":"(SUMIF(AE$4:AE$54,BS50,BE$4:BE$54)+SUMIF(AG$4:AG$54,BS50,BF$4:BF$54))","v":0},{"$f":"(SUMIF(AE$4:AE$54,BS50,BG$4:BG$54)+SUMIF(AG$4:AG$54,BS50,BH$4:BH$54))","v":0},{"$f":"(SUMIF(AE$4:AE$54,BS50,BI$4:BI$54)+SUMIF(AG$4:AG$54,BS50,BJ$4:BJ$54))","v":0},{"$f":"IFERROR(DT50*3+DU50*1,0)","v":0},{"$f":"CA50","v":"F"},{"$f":"IF(DS50>0,RANK(DW50,DW49:DW52)+CF47+CZ47,)","v":0},{"$f":"IF(AND(DS50>0,COUNTIF(DY49:DY52,DY50)>1),SUMIFS($AH$4:$AH$54,$AE$4:$AE$54,BS50,$K$4:$K$54,3)+SUMIFS($AJ$4:$AJ$54,$AG$4:$AG$54,BS50,$K$4:$K$54,3)-SUMIFS($AJ$4:$AJ$54,$AE$4:$AE$54,BS50,$K$4:$K$54,3)-SUMIFS($AH$4:$AH$54,$AG$4:$AG$54,BS50,$K$4:$K$54,3),)","v":0},{"$f":"IF(AND(DS50>0,COUNTIF(DY49:DY52,DY50)>1),DY50+RANK(DZ50,DZ49:DZ52)-1,DY50)","v":0},{"$f":"IF(AND(DS50>0,COUNTIF(EA49:EA52,EA50)>1),SUMIFS($AH$4:$AH$54,$AE$4:$AE$54,BS50,$K$4:$K$54,3)+SUMIFS($AJ$4:$AJ$54,$AG$4:$AG$54,BS50,$K$4:$K$54,3),)","v":0},{"$f":"IF(AND(DS50>0,COUNTIF(EA49:EA52,EA50)>1),EA50+RANK(EB50,EB49:EB52)-1,EA50)","v":0},{"$f":"IF(EC50=0,\"\",EC50)","v":""},{"$f":"IF(OR(ED50=\"\",COUNTIF(ED49:ED52,ED50)=1),\"\",$BY50)","v":""},{"$f":"IF(ED50=\"\",\"\",IF(COUNTIF(ED49:ED52,ED50)=1,ED50,ED50+RANK(EE50,EE49:EE52,0)-1))","v":""},{"$f":"IF(OR(EF50=\"\",COUNTIF(EF49:EF52,EF50)=1),\"\",$BW50)","v":""},{"$f":"IF(ED50=\"\",\"\",IF(COUNTIF(EF49:EF52,EF50)=1,EF50,EF50+RANK(EG50,EG49:EG52,0)-1))","v":""},{"$f":"IF(OR(EH50=\"\",COUNTIF(EH49:EH52,EH50)=1),\"\",$BT50)","v":""},{"$f":"IF(ED50=\"\",\"\",IF(COUNTIF(EH49:EH52,EH50)=1,EH50,EH50+RANK(EI50,EI49:EI52,0)-1))","v":""},{"$f":"IF(DS50>0,CF47+CZ47+RANK(EJ50,EJ49:EJ52,1),)","v":0},null,{"$f":"IF(CB50=4,BS50,)","v":0},{"$f":"(SUMIF($AE$4:$AE$54,$BS50,$BK$4:$BK$54)+SUMIF($AG$4:$AG$54,$BS50,$BL$4:$BL$54))","v":0},{"$f":"(SUMIF($AE$4:$AE$54,$BS50,$BM$4:$BM$54)+SUMIF($AG$4:$AG$54,$BS50,$BN$4:$BN$54))","v":0},{"$f":"(SUMIF($AE$4:$AE$54,$BS50,$BO$4:$BO$54)+SUMIF($AG$4:$AG$54,$BS50,$BP$4:$BP$54))","v":0},{"$f":"IFERROR(EN50*3+EO50*1,0)","v":0},{"$f":"$CA50","v":"F"},{"$f":"IF(EM50>0,RANK(EQ50,EQ49:EQ52)+CF47+CZ47+DT47,)","v":0},{"$f":"IF(AND(EM50>0,COUNTIF(ES49:ES52,ES50)>1),SUMIFS($AH$4:$AH$54,$AE$4:$AE$54,BS50,$K$4:$K$54,4)+SUMIFS($AJ$4:$AJ$54,$AG$4:$AG$54,BS50,$K$4:$K$54,4)-SUMIFS($AJ$4:$AJ$54,$AE$4:$AE$54,BS50,$K$4:$K$54,4)-SUMIFS($AH$4:$AH$54,$AG$4:$AG$54,BS50,$K$4:$K$54,4),)","v":0},{"$f":"IF(AND(EM50>0,COUNTIF($ES$4:$ES$7,ES50)>1),ES50+RANK(ET50,$ET$4:$ET$7)-1,ES50)","v":0},{"$f":"IF(AND(EM50>0,COUNTIF(EU49:EU52,EU50)>1),SUMIFS($AH$4:$AH$54,$AE$4:$AE$54,BS50,$K$4:$K$54,4)+SUMIFS($AJ$4:$AJ$54,$AG$4:$AG$54,BS50,$K$4:$K$54,4),)","v":0},{"$f":"IF(AND(EM50>0,COUNTIF(EU49:EU52,EU50)>1),EU50+RANK(EV50,EV49:EV52)-1,EU50)","v":0},{"$f":"IF(EW50=0,\"\",EW50)","v":""},{"$f":"IF(OR(EX50=\"\",COUNTIF(EX49:EX52,EX50)=1),\"\",$BY50)","v":""},{"$f":"IF(EX50=\"\",\"\",IF(COUNTIF(EX49:EX52,EX50)=1,EX50,EX50+RANK(EY50,EY49:EY52,0)-1))","v":""},{"$f":"IF(OR(EZ50=\"\",COUNTIF(EZ49:EZ52,EZ50)=1),\"\",$BW50)","v":""},{"$f":"IF(EX50=\"\",\"\",IF(COUNTIF(EZ49:EZ52,EZ50)=1,EZ50,EZ50+RANK(FA50,FA49:FA52,0)-1))","v":""},{"$f":"IF(OR(FB50=\"\",COUNTIF(FB49:FB52,FB50)=1),\"\",$BT50)","v":""},{"$f":"IF(EX50=\"\",\"\",IF(COUNTIF(FB49:FB52,FB50)=1,FB50,FB50+RANK(FC50,FC49:FC52,0)-1))","v":""},{"$f":"IF(EM50>0,CF47+CZ47+DT47+RANK(FD50,FD49:FD52,1),)","v":0},null,{"$f":"IFERROR(VLOOKUP(FI50,CE48:CW52,19,FALSE),IFERROR(VLOOKUP(FI50,CY48:DQ52,19,FALSE),IFERROR(VLOOKUP(FI50,DS48:EK52,19,FALSE),VLOOKUP(FI50,EM48:FE52,19,FALSE))))","v":1},{"$f":"RANK(FG50,FG49:FG52,1)+COUNTIF(FG49:FG50,FG50)-1","v":2},{"$f":"BS50","v":"Tyskland"},null,null,null,null,null,null,null,null,null,null,null,null,null,null,null,null,null,null,null,null,null,null,null,null,null,47]
[null,null,"2021-06-19","Ungern","-","Frankrike",null,"-",null,"",{"$f":"IF(VLOOKUP(D51,BS48:CB52,10,FALSE)=VLOOKUP(F51,BS48:CB52,10,FALSE),VLOOKUP(D51,BS48:CB52,10,FALSE),\"-\")","v":1},null,3,{"$f":"VLOOKUP(M51,FH49:FI52,2,FALSE)","v":"Ungern"},{"$f":"VLOOKUP($N51,$BS$49:$BZ$52,2,FALSE)","v":0},{"$f":"VLOOKUP($N51,$BS$49:$BZ$52,3,FALSE)","v":0},{"$f":"VLOOKUP($N51,$BS$49:$BZ$52,4,FALSE)","v":0},{"$f":"VLOOKUP($N51,$BS$49:$BZ$52,5,FALSE)","v":0},{"$f":"VLOOKUP($N51,$BS$49:$BZ$52,6,FALSE)","v":0},{"$f":"VLOOKUP($N51,$BS$49:$BZ$52,7,FALSE)","v":0},{"$f":"VLOOKUP($N51,$BS$49:$BZ$52,8,FALSE)","v":0},null,null,null,null,null,null,null,null,"2021-06-19","Ungern","-","Frankrike","","-","","",null,0,0,0,0,0,0,0,0,0,0,0,0,0,0,0,0,0,0,0,0,0,0,0,0,0,0,0,0,0,0,null,null,"Ungern",{"$f":"(SUMIF(AE$4:AE$54,BS51,AM$4:AM$54)+SUMIF(AG$4:AG$54,BS51,AN$4:AN$54))","v":0},{"$f":"(SUMIF(AE$4:AE$54,BS51,AO$4:AO$54)+SUMIF(AG$4:AG$54,BS51,AP$4:AP$54))","v":0},{"$f":"(SUMIF(AE$4:AE$54,BS51,AQ$4:AQ$54)+SUMIF(AG$4:AG$54,BS51,AR$4:AR$54))","v":0},{"$f":"SUMIF($AE$4:$AE$54,BS51,$AH$4:$AH$54)+SUMIF($AG$4:$AG$54,BS51,$AJ$4:$AJ$54)","v":0},{"$f":"SUMIF($AE$4:$AE$54,BS51,$AJ$4:$AJ$54)+SUMIF($AG$4:$AG$54,BS51,$AH$4:$AH$54)","v":0},{"$f":"BW51-BX51","v":0},{"$f":"IFERROR(BT51*3+BU51*1,0)","v":0},"F",{"$f":"RANK(BZ51,BZ49:BZ52)","v":1},{"$f":"SUMPRODUCT((BZ49:BZ52=BZ51)*(BY49:BY52>BY51))","v":0},null,{"$f":"IF(CB51=1,BS51,)","v":"Ungern"},0,0,0,0,"F",{"$f":"IF(CE51>0,RANK(CI51,CI49:CI52),)","v":1},{"$f":"IF(AND(CE51>0,COUNTIF(CK49:CK52,CK51)>1),SUMIFS($AH$4:$AH$54,$AE$4:$AE$54,BS51,$K$4:$K$54,1)+SUMIFS($AJ$4:$AJ$54,$AG$4:$AG$54,BS51,$K$4:$K$54,1)-SUMIFS($AJ$4:$AJ$54,$AE$4:$AE$54,BS51,$K$4:$K$54,1)-SUMIFS($AH$4:$AH$54,$AG$4:$AG$54,BS51,$K$4:$K$54,1),)","v":0},{"$f":"IF(AND(CE51>0,COUNTIF(CK49:CK52,CK51)>1),CK51+RANK(CL51,CL49:CL52)-1,CK51)","v":1},{"$f":"IF(AND(CE51>0,COUNTIF(CM49:CM52,CM51)>1),SUMIFS($AH$4:$AH$54,$AE$4:$AE$54,BS51,$K$4:$K$54,1)+SUMIFS($AJ$4:$AJ$54,$AG$4:$AG$54,BS51,$K$4:$K$54,1),)","v":0},{"$f":"IF(AND(CE51>0,COUNTIF(CM49:CM52,CM51)>1),CM51+RANK(CN51,CN49:CN52)-1,CM51)","v":1},1,{"$f":"IF(OR(CP51=\"\",COUNTIF(CP49:CP52,CP51)=1),\"\",$BY51)","v":0},{"$f":"IF(CP51=\"\",\"\",IF(COUNTIF(CP49:CP52,CP51)=1,CP51,CP51+RANK(CQ51,CQ49:CQ52,0)-1))","v":1},{"$f":"IF(OR(CR51=\"\",COUNTIF(CR49:CR52,CR51)=1),\"\",$BW51)","v":0},{"$f":"IF(CP51=\"\",\"\",IF(COUNTIF(CR49:CR52,CR51)=1,CR51,CR51+RANK(CS51,CS49:CS52,0)-1))","v":1},{"$f":"IF(OR(CT51=\"\",COUNTIF(CT49:CT52,CT51)=1),\"\",$BT51)","v":0},{"$f":"IF(CP51=\"\",\"\",IF(COUNTIF(CT49:CT52,CT51)=1,CT51,CT51+RANK(CU51,CU49:CU52,0)-1))","v":1},{"$f":"IF(CE51>0,BL47+RANK(CV51,CV49:CV52,1),)","v":1},null,{"$f":"IF(CB51=2,BS51,)","v":0},0,0,0,0,"F",{"$f":"IF(CY51>0,RANK(DC51,DC49:DC52)+CF47,)","v":0},{"$f":"IF(AND(CY51>0,COUNTIF(DE49:DE52,DE51)>1),SUMIFS($AH$4:$AH$54,$AE$4:$AE$54,BS51,$K$4:$K$54,2)+SUMIFS($AJ$4:$AJ$54,$AG$4:$AG$54,BS51,$K$4:$K$54,2)-SUMIFS($AJ$4:$AJ$54,$AE$4:$AE$54,BS51,$K$4:$K$54,2)-SUMIFS($AH$4:$AH$54,$AG$4:$AG$54,BS51,$K$4:$K$54,2),)","v":0},{"$f":"IF(AND(CY51>0,COUNTIF(DE49:DE52,DE51)>1),DE51+RANK(DF51,DF49:DF52)-1,DE51)","v":0},{"$f":"IF(AND(CY51>0,COUNTIF(DG49:DG52,DG51)>1),SUMIFS($AH$4:$AH$54,$AE$4:$AE$54,BS51,$K$4:$K$54,2)+SUMIFS($AJ$4:$AJ$54,$AG$4:$AG$54,BS51,$K$4:$K$54,2),)","v":0},{"$f":"IF(AND(CY51>0,COUNTIF(DG49:DG52,DG51)>1),DG51+RANK(DH51,DH49:DH52)-1,DG51)","v":0},"",{"$f":"IF(OR(DJ51=\"\",COUNTIF(DJ49:DJ52,DJ51)=1),\"\",$BY51)","v":""},{"$f":"IF(DJ51=\"\",\"\",IF(COUNTIF(DJ49:DJ52,DJ51)=1,DJ51,DJ51+RANK(DK51,DK49:DK52,0)-1))","v":""},{"$f":"IF(OR(DL51=\"\",COUNTIF(DL49:DL52,DL51)=1),\"\",$BW51)","v":""},{"$f":"IF(DJ51=\"\",\"\",IF(COUNTIF(DL49:DL52,DL51)=1,DL51,DL51+RANK(DM51,DM49:DM52,0)-1))","v":""},{"$f":"IF(OR(DN51=\"\",COUNTIF(DN49:DN52,DN51)=1),\"\",$BT51)","v":""},{"$f":"IF(DJ51=\"\",\"\",IF(COUNTIF(DN49:DN52,DN51)=1,DN51,DN51+RANK(DO51,DO49:DO52,0)-1))","v":""},{"$f":"IF(CY51>0,CF47+RANK(DP51,DP49:DP52,1),)","v":0},null,{"$f":"IF(CB51=3,BS51,)","v":0},{"$f":"(SUMIF(AE$4:AE$54,BS51,BE$4:BE$54)+SUMIF(AG$4:AG$54,BS51,BF$4:BF$54))","v":0},{"$f":"(SUMIF(AE$4:AE$54,BS51,BG$4:BG$54)+SUMIF(AG$4:AG$54,BS51,BH$4:BH$54))","v":0},{"$f":"(SUMIF(AE$4:AE$54,BS51,BI$4:BI$54)+SUMIF(AG$4:AG$54,BS51,BJ$4:BJ$54))","v":0},0,{"$f":"CA51","v":"F"},{"$f":"IF(DS51>0,RANK(DW51,DW49:DW52)+CF47+CZ47,)","v":0},{"$f":"IF(AND(DS51>0,COUNTIF(DY49:DY52,DY51)>1),SUMIFS($AH$4:$AH$54,$AE$4:$AE$54,BS51,$K$4:$K$54,3)+SUMIFS($AJ$4:$AJ$54,$AG$4:$AG$54,BS51,$K$4:$K$54,3)-SUMIFS($AJ$4:$AJ$54,$AE$4:$AE$54,BS51,$K$4:$K$54,3)-SUMIFS($AH$4:$AH$54,$AG$4:$AG$54,BS51,$K$4:$K$54,3),)","v":0},{"$f":"IF(AND(DS51>0,COUNTIF(DY49:DY52,DY51)>1),DY51+RANK(DZ51,DZ49:DZ52)-1,DY51)","v":0},{"$f":"IF(AND(DS51>0,COUNTIF(EA49:EA52,EA51)>1),SUMIFS($AH$4:$AH$54,$AE$4:$AE$54,BS51,$K$4:$K$54,3)+SUMIFS($AJ$4:$AJ$54,$AG$4:$AG$54,BS51,$K$4:$K$54,3),)","v":0},{"$f":"IF(AND(DS51>0,COUNTIF(EA49:EA52,EA51)>1),EA51+RANK(EB51,EB49:EB52)-1,EA51)","v":0},"",{"$f":"IF(OR(ED51=\"\",COUNTIF(ED49:ED52,ED51)=1),\"\",$BY51)","v":""},{"$f":"IF(ED51=\"\",\"\",IF(COUNTIF(ED49:ED52,ED51)=1,ED51,ED51+RANK(EE51,EE49:EE52,0)-1))","v":""},{"$f":"IF(OR(EF51=\"\",COUNTIF(EF49:EF52,EF51)=1),\"\",$BW51)","v":""},{"$f":"IF(ED51=\"\",\"\",IF(COUNTIF(EF49:EF52,EF51)=1,EF51,EF51+RANK(EG51,EG49:EG52,0)-1))","v":""},{"$f":"IF(OR(EH51=\"\",COUNTIF(EH49:EH52,EH51)=1),\"\",$BT51)","v":""},{"$f":"IF(ED51=\"\",\"\",IF(COUNTIF(EH49:EH52,EH51)=1,EH51,EH51+RANK(EI51,EI49:EI52,0)-1))","v":""},{"$f":"IF(DS51>0,CF47+CZ47+RANK(EJ51,EJ49:EJ52,1),)","v":0},null,{"$f":"IF(CB51=4,BS51,)","v":0},0,0,0,0,"F",{"$f":"IF(EM51>0,RANK(EQ51,EQ49:EQ52)+CF47+CZ47+DT47,)","v":0},{"$f":"IF(AND(EM51>0,COUNTIF(ES49:ES52,ES51)>1),SUMIFS($AH$4:$AH$54,$AE$4:$AE$54,BS51,$K$4:$K$54,4)+SUMIFS($AJ$4:$AJ$54,$AG$4:$AG$54,BS51,$K$4:$K$54,4)-SUMIFS($AJ$4:$AJ$54,$AE$4:$AE$54,BS51,$K$4:$K$54,4)-SUMIFS($AH$4:$AH$54,$AG$4:$AG$54,BS51,$K$4:$K$54,4),)","v":0},0,{"$f":"IF(AND(EM51>0,COUNTIF(EU49:EU52,EU51)>1),SUMIFS($AH$4:$AH$54,$AE$4:$AE$54,BS51,$K$4:$K$54,4)+SUMIFS($AJ$4:$AJ$54,$AG$4:$AG$54,BS51,$K$4:$K$54,4),)","v":0},{"$f":"IF(AND(EM51>0,COUNTIF(EU49:EU52,EU51)>1),EU51+RANK(EV51,EV49:EV52)-1,EU51)","v":0},"",{"$f":"IF(OR(EX51=\"\",COUNTIF(EX49:EX52,EX51)=1),\"\",$BY51)","v":""},{"$f":"IF(EX51=\"\",\"\",IF(COUNTIF(EX49:EX52,EX51)=1,EX51,EX51+RANK(EY51,EY49:EY52,0)-1))","v":""},{"$f":"IF(OR(EZ51=\"\",COUNTIF(EZ49:EZ52,EZ51)=1),\"\",$BW51)","v":""},{"$f":"IF(EX51=\"\",\"\",IF(COUNTIF(EZ49:EZ52,EZ51)=1,EZ51,EZ51+RANK(FA51,FA49:FA52,0)-1))","v":""},{"$f":"IF(OR(FB51=\"\",COUNTIF(FB49:FB52,FB51)=1),\"\",$BT51)","v":""},{"$f":"IF(EX51=\"\",\"\",IF(COUNTIF(FB49:FB52,FB51)=1,FB51,FB51+RANK(FC51,FC49:FC52,0)-1))","v":""},{"$f":"IF(EM51>0,CF47+CZ47+DT47+RANK(FD51,FD49:FD52,1),)","v":0},null,{"$f":"IFERROR(VLOOKUP(FI51,CE48:CW52,19,FALSE),IFERROR(VLOOKUP(FI51,CY48:DQ52,19,FALSE),IFERROR(VLOOKUP(FI51,DS48:EK52,19,FALSE),VLOOKUP(FI51,EM48:FE52,19,FALSE))))","v":1},{"$f":"RANK(FG51,FG49:FG52,1)+COUNTIF(FG49:FG51,FG51)-1","v":3},{"$f":"BS51","v":"Ungern"},null,null,null,null,null,null,null,null,null,null,null,null,null,null,null,null,null,null,null,null,null,null,null,null,null,48]
[null,null,"2021-06-19","Portugal","-","Tyskland",null,"-",null,"",{"$f":"IF(VLOOKUP(D52,BS48:CB52,10,FALSE)=VLOOKUP(F52,BS48:CB52,10,FALSE),VLOOKUP(D52,BS48:CB52,10,FALSE),\"-\")","v":1},null,4,{"$f":"VLOOKUP(M52,FH49:FI52,2,FALSE)","v":"Portugal"},{"$f":"VLOOKUP($N52,$BS$49:$BZ$52,2,FALSE)","v":0},{"$f":"VLOOKUP($N52,$BS$49:$BZ$52,3,FALSE)","v":0},{"$f":"VLOOKUP($N52,$BS$49:$BZ$52,4,FALSE)","v":0},{"$f":"VLOOKUP($N52,$BS$49:$BZ$52,5,FALSE)","v":0},{"$f":"VLOOKUP($N52,$BS$49:$BZ$52,6,FALSE)","v":0},{"$f":"VLOOKUP($N52,$BS$49:$BZ$52,7,FALSE)","v":0},{"$f":"VLOOKUP($N52,$BS$49:$BZ$52,8,FALSE)","v":0},null,null,null,null,null,null,null,null,"2021-06-19","Portugal","-","Tyskland","","-","","",null,0,0,0,0,0,0,0,0,0,0,0,0,0,0,0,0,0,0,0,0,0,0,0,0,0,0,0,0,0,0,null,null,"Portugal",{"$f":"(SUMIF(AE$4:AE$54,BS52,AM$4:AM$54)+SUMIF(AG$4:AG$54,BS52,AN$4:AN$54))","v":0},{"$f":"(SUMIF(AE$4:AE$54,BS52,AO$4:AO$54)+SUMIF(AG$4:AG$54,BS52,AP$4:AP$54))","v":0},{"$f":"(SUMIF(AE$4:AE$54,BS52,AQ$4:AQ$54)+SUMIF(AG$4:AG$54,BS52,AR$4:AR$54))","v":0},{"$f":"SUMIF($AE$4:$AE$54,BS52,$AH$4:$AH$54)+SUMIF($AG$4:$AG$54,BS52,$AJ$4:$AJ$54)","v":0},{"$f":"SUMIF($AE$4:$AE$54,BS52,$AJ$4:$AJ$54)+SUMIF($AG$4:$AG$54,BS52,$AH$4:$AH$54)","v":0},{"$f":"BW52-BX52","v":0},{"$f":"IFERROR(BT52*3+BU52*1,0)","v":0},"F",{"$f":"RANK(BZ52,BZ49:BZ52)","v":1},{"$f":"SUMPRODUCT((BZ49:BZ52=BZ52)*(BY49:BY52>BY52))","v":0},null,{"$f":"IF(CB52=1,BS52,)","v":"Portugal"},0,0,0,0,"F",{"$f":"IF(CE52>0,RANK(CI52,CI49:CI52),)","v":1},{"$f":"IF(AND(CE52>0,COUNTIF(CK49:CK52,CK52)>1),SUMIFS($AH$4:$AH$54,$AE$4:$AE$54,BS52,$K$4:$K$54,1)+SUMIFS($AJ$4:$AJ$54,$AG$4:$AG$54,BS52,$K$4:$K$54,1)-SUMIFS($AJ$4:$AJ$54,$AE$4:$AE$54,BS52,$K$4:$K$54,1)-SUMIFS($AH$4:$AH$54,$AG$4:$AG$54,BS52,$K$4:$K$54,1),)","v":0},{"$f":"IF(AND(CE52>0,COUNTIF(CK49:CK52,CK52)>1),CK52+RANK(CL52,CL49:CL52)-1,CK52)","v":1},{"$f":"IF(AND(CE52>0,COUNTIF(CM49:CM52,CM52)>1),SUMIFS($AH$4:$AH$54,$AE$4:$AE$54,BS52,$K$4:$K$54,1)+SUMIFS($AJ$4:$AJ$54,$AG$4:$AG$54,BS52,$K$4:$K$54,1),)","v":0},{"$f":"IF(AND(CE52>0,COUNTIF(CM49:CM52,CM52)>1),CM52+RANK(CN52,CN49:CN52)-1,CM52)","v":1},1,{"$f":"IF(OR(CP52=\"\",COUNTIF(CP49:CP52,CP52)=1),\"\",$BY52)","v":0},{"$f":"IF(CP52=\"\",\"\",IF(COUNTIF(CP49:CP52,CP52)=1,CP52,CP52+RANK(CQ52,CQ49:CQ52,0)-1))","v":1},{"$f":"IF(OR(CR52=\"\",COUNTIF(CR49:CR52,CR52)=1),\"\",$BW52)","v":0},{"$f":"IF(CP52=\"\",\"\",IF(COUNTIF(CR49:CR52,CR52)=1,CR52,CR52+RANK(CS52,CS49:CS52,0)-1))","v":1},{"$f":"IF(OR(CT52=\"\",COUNTIF(CT49:CT52,CT52)=1),\"\",$BT52)","v":0},{"$f":"IF(CP52=\"\",\"\",IF(COUNTIF(CT49:CT52,CT52)=1,CT52,CT52+RANK(CU52,CU49:CU52,0)-1))","v":1},{"$f":"IF(CE52>0,BL47+RANK(CV52,CV49:CV52,1),)","v":1},null,{"$f":"IF(CB52=2,BS52,)","v":0},0,0,0,0,"F",{"$f":"IF(CY52>0,RANK(DC52,DC49:DC52)+CF47,)","v":0},{"$f":"IF(AND(CY52>0,COUNTIF(DE49:DE52,DE52)>1),SUMIFS($AH$4:$AH$54,$AE$4:$AE$54,BS52,$K$4:$K$54,2)+SUMIFS($AJ$4:$AJ$54,$AG$4:$AG$54,BS52,$K$4:$K$54,2)-SUMIFS($AJ$4:$AJ$54,$AE$4:$AE$54,BS52,$K$4:$K$54,2)-SUMIFS($AH$4:$AH$54,$AG$4:$AG$54,BS52,$K$4:$K$54,2),)","v":0},{"$f":"IF(AND(CY52>0,COUNTIF(DE49:DE52,DE52)>1),DE52+RANK(DF52,DF49:DF52)-1,DE52)","v":0},{"$f":"IF(AND(CY52>0,COUNTIF(DG49:DG52,DG52)>1),SUMIFS($AH$4:$AH$54,$AE$4:$AE$54,BS52,$K$4:$K$54,2)+SUMIFS($AJ$4:$AJ$54,$AG$4:$AG$54,BS52,$K$4:$K$54,2),)","v":0},{"$f":"IF(AND(CY52>0,COUNTIF(DG49:DG52,DG52)>1),DG52+RANK(DH52,DH49:DH52)-1,DG52)","v":0},"",{"$f":"IF(OR(DJ52=\"\",COUNTIF(DJ49:DJ52,DJ52)=1),\"\",$BY52)","v":""},{"$f":"IF(DJ52=\"\",\"\",IF(COUNTIF(DJ49:DJ52,DJ52)=1,DJ52,DJ52+RANK(DK52,DK49:DK52,0)-1))","v":""},{"$f":"IF(OR(DL52=\"\",COUNTIF(DL49:DL52,DL52)=1),\"\",$BW52)","v":""},{"$f":"IF(DJ52=\"\",\"\",IF(COUNTIF(DL49:DL52,DL52)=1,DL52,DL52+RANK(DM52,DM49:DM52,0)-1))","v":""},{"$f":"IF(OR(DN52=\"\",COUNTIF(DN49:DN52,DN52)=1),\"\",$BT52)","v":""},{"$f":"IF(DJ52=\"\",\"\",IF(COUNTIF(DN49:DN52,DN52)=1,DN52,DN52+RANK(DO52,DO49:DO52,0)-1))","v":""},{"$f":"IF(CY52>0,CF47+RANK(DP52,DP49:DP52,1),)","v":0},null,{"$f":"IF(CB52=3,BS52,)","v":0},{"$f":"(SUMIF(AE$4:AE$54,BS52,BE$4:BE$54)+SUMIF(AG$4:AG$54,BS52,BF$4:BF$54))","v":0},{"$f":"(SUMIF(AE$4:AE$54,BS52,BG$4:BG$54)+SUMIF(AG$4:AG$54,BS52,BH$4:BH$54))","v":0},{"$f":"(SUMIF(AE$4:AE$54,BS52,BI$4:BI$54)+SUMIF(AG$4:AG$54,BS52,BJ$4:BJ$54))","v":0},0,{"$f":"CA52","v":"F"},{"$f":"IF(DS52>0,RANK(DW52,DW49:DW52)+CF47+CZ47,)","v":0},{"$f":"IF(AND(DS52>0,COUNTIF(DY49:DY52,DY52)>1),SUMIFS($AH$4:$AH$54,$AE$4:$AE$54,BS52,$K$4:$K$54,3)+SUMIFS($AJ$4:$AJ$54,$AG$4:$AG$54,BS52,$K$4:$K$54,3)-SUMIFS($AJ$4:$AJ$54,$AE$4:$AE$54,BS52,$K$4:$K$54,3)-SUMIFS($AH$4:$AH$54,$AG$4:$AG$54,BS52,$K$4:$K$54,3),)","v":0},{"$f":"IF(AND(DS52>0,COUNTIF(DY49:DY52,DY52)>1),DY52+RANK(DZ52,DZ49:DZ52)-1,DY52)","v":0},{"$f":"IF(AND(DS52>0,COUNTIF(EA49:EA52,EA52)>1),SUMIFS($AH$4:$AH$54,$AE$4:$AE$54,BS52,$K$4:$K$54,3)+SUMIFS($AJ$4:$AJ$54,$AG$4:$AG$54,BS52,$K$4:$K$54,3),)","v":0},{"$f":"IF(AND(DS52>0,COUNTIF(EA49:EA52,EA52)>1),EA52+RANK(EB52,EB49:EB52)-1,EA52)","v":0},"",{"$f":"IF(OR(ED52=\"\",COUNTIF(ED49:ED52,ED52)=1),\"\",$BY52)","v":""},{"$f":"IF(ED52=\"\",\"\",IF(COUNTIF(ED49:ED52,ED52)=1,ED52,ED52+RANK(EE52,EE49:EE52,0)-1))","v":""},{"$f":"IF(OR(EF52=\"\",COUNTIF(EF49:EF52,EF52)=1),\"\",$BW52)","v":""},{"$f":"IF(ED52=\"\",\"\",IF(COUNTIF(EF49:EF52,EF52)=1,EF52,EF52+RANK(EG52,EG49:EG52,0)-1))","v":""},{"$f":"IF(OR(EH52=\"\",COUNTIF(EH49:EH52,EH52)=1),\"\",$BT52)","v":""},{"$f":"IF(ED52=\"\",\"\",IF(COUNTIF(EH49:EH52,EH52)=1,EH52,EH52+RANK(EI52,EI49:EI52,0)-1))","v":""},{"$f":"IF(DS52>0,CF47+CZ47+RANK(EJ52,EJ49:EJ52,1),)","v":0},null,{"$f":"IF(CB52=4,BS52,)","v":0},0,0,0,0,"F",{"$f":"IF(EM52>0,RANK(EQ52,EQ49:EQ52)+CF47+CZ47+DT47,)","v":0},{"$f":"IF(AND(EM52>0,COUNTIF(ES49:ES52,ES52)>1),SUMIFS($AH$4:$AH$54,$AE$4:$AE$54,BS52,$K$4:$K$54,4)+SUMIFS($AJ$4:$AJ$54,$AG$4:$AG$54,BS52,$K$4:$K$54,4)-SUMIFS($AJ$4:$AJ$54,$AE$4:$AE$54,BS52,$K$4:$K$54,4)-SUMIFS($AH$4:$AH$54,$AG$4:$AG$54,BS52,$K$4:$K$54,4),)","v":0},0,{"$f":"IF(AND(EM52>0,COUNTIF(EU49:EU52,EU52)>1),SUMIFS($AH$4:$AH$54,$AE$4:$AE$54,BS52,$K$4:$K$54,4)+SUMIFS($AJ$4:$AJ$54,$AG$4:$AG$54,BS52,$K$4:$K$54,4),)","v":0},{"$f":"IF(AND(EM52>0,COUNTIF(EU49:EU52,EU52)>1),EU52+RANK(EV52,EV49:EV52)-1,EU52)","v":0},"",{"$f":"IF(OR(EX52=\"\",COUNTIF(EX49:EX52,EX52)=1),\"\",$BY52)","v":""},{"$f":"IF(EX52=\"\",\"\",IF(COUNTIF(EX49:EX52,EX52)=1,EX52,EX52+RANK(EY52,EY49:EY52,0)-1))","v":""},{"$f":"IF(OR(EZ52=\"\",COUNTIF(EZ49:EZ52,EZ52)=1),\"\",$BW52)","v":""},{"$f":"IF(EX52=\"\",\"\",IF(COUNTIF(EZ49:EZ52,EZ52)=1,EZ52,EZ52+RANK(FA52,FA49:FA52,0)-1))","v":""},{"$f":"IF(OR(FB52=\"\",COUNTIF(FB49:FB52,FB52)=1),\"\",$BT52)","v":""},{"$f":"IF(EX52=\"\",\"\",IF(COUNTIF(FB50:FB53,FB52)=1,FB52,FB52+RANK(FC52,FC50:FC53,0)-1))","v":""},{"$f":"IF(EM52>0,CF47+CZ47+DT47+RANK(FD52,FD49:FD52,1),)","v":0},null,{"$f":"IFERROR(VLOOKUP(FI52,CE48:CW52,19,FALSE),IFERROR(VLOOKUP(FI52,CY48:DQ52,19,FALSE),IFERROR(VLOOKUP(FI52,DS48:EK52,19,FALSE),VLOOKUP(FI52,EM48:FE52,19,FALSE))))","v":1},{"$f":"RANK(FG52,FG49:FG52,1)+COUNTIF(FG49:FG52,FG52)-1","v":4},{"$f":"BS52","v":"Portugal"},null,null,null,null,null,null,null,null,null,null,null,null,null,null,null,null,null,null,null,null,null,null,null,null,null,49]
[null,null,"2021-06-23","Tyskland","-","Ungern",null,"-",null,"",{"$f":"IF(VLOOKUP(D53,BS48:CB52,10,FALSE)=VLOOKUP(F53,BS48:CB52,10,FALSE),VLOOKUP(D53,BS48:CB52,10,FALSE),\"-\")","v":1},null,null,{"$f":"IF(COUNTBLANK(G49:G54)+COUNTBLANK(I49:I54)=0,\"Resultat OK\",\"Fyll i resultat\")","v":"Fyll i resultat"},null,null,null,null,null,null,null,null,null,null,null,null,null,null,null,"2021-06-23","Tyskland","-","Ungern","","-","","",null,0,0,0,0,0,0,0,0,0,0,0,0,0,0,0,0,0,0,0,0,0,0,0,0,0,0,0,0,0,0,null,null,null,null,null,null,null,null,null,null,null,null,null,null,null,null,null,null,null,null,null,null,null,null,null,null,null,null,null,null,null,null,null,null,null,null,null,null,null,null,null,null,null,null,null,null,null,null,null,null,null,null,null,null,null,null,null,null,null,null,null,null,null,null,null,null,null,null,null,null,null,null,null,null,null,null,null,null,null,null,null,null,null,null,null,null,null,null,null,null,null,null,null,null,null,null,null,null,null,null,null,null,null,null,null,null,null,null,null,null,null,null,null,null,null,null,null,null,null,null,null,null,50]
[null,null,"2021-06-23","Portugal","-","Frankrike",null,"-",null,"",{"$f":"IF(VLOOKUP(D54,BS48:CB52,10,FALSE)=VLOOKUP(F54,BS48:CB52,10,FALSE),VLOOKUP(D54,BS48:CB52,10,FALSE),\"-\")","v":1},null,null,null,null,null,null,null,null,null,null,null,null,null,null,null,null,null,null,"2021-06-23","Portugal","-","Frankrike","","-","","",null,0,0,0,0,0,0,0,0,0,0,0,0,0,0,0,0,0,0,0,0,0,0,0,0,0,0,0,0,0,0,null,null,null,null,null,null,null,null,null,null,null,null,null,null,null,null,null,null,null,null,null,null,null,null,null,null,null,null,null,null,null,null,null,null,null,null,null,null,null,null,null,null,null,null,null,null,null,null,null,null,null,null,null,null,null,null,null,null,null,null,null,null,null,null,null,null,null,null,null,null,null,null,null,null,null,null,null,null,null,null,null,null,null,null,null,null,null,null,null,null,null,null,null,null,null,null,null,null,null,null,null,null,null,null,null,null,null,null,null,null,null,null,null,null,null,null,null,null,null,null,null,null,51]
[null,null,null,null,null,null,null,null,null,null,null,null,null,null,null,null,null,null,null,null,null,null,null,null,null,null,null,null,null,null,null,null,null,null,null,null,null,null,null,null,null,null,null,null,null,null,null,null,null,null,null,null,null,null,null,null,null,null,null,null,null,null,null,null,null,null,null,null,null,null,null,null,null,null,null,null,null,null,null,null,null,null,null,null,null,null,null,null,null,null,null,null,null,null,null,null,null,null,null,null,null,null,null,null,null,null,null,null,null,null,null,null,null,null,null,null,null,null,null,null,null,null,null,null,null,null,null,null,null,null,null,null,null,null,null,null,null,null,null,null,null,null,null,null,null,null,null,null,null,null,null,null,null,null,null,null,null,null,null,null,null,null,null,null,null,null,null,null,null,null,null,null,null,null,null,null,null,null,null,null,null,null,null,null,null,null,null,null,null,null,52]
[null,null,"Åttondelsfinaler",null,null,null,null,null,null,null,null,null,null,null,null,null,null,null,null,null,null,null,null,null,null,null,null,null,null,"Åttondelsfinaler",null,null,null,null,null,null,null,null,null,null,null,null,null,null,null,null,null,null,null,null,null,null,null,null,null,null,null,null,null,null,null,null,null,null,null,null,null,null,null,null,null,null,null,null,null,null,null,null,null,null,null,null,null,null,null,null,null,null,null,null,null,null,null,null,null,null,null,null,null,null,null,null,null,null,null,null,null,null,null,null,null,null,null,null,null,null,null,null,null,null,null,null,null,null,null,null,null,null,null,null,null,null,null,null,null,null,null,null,null,null,null,null,null,null,null,null,null,null,null,null,null,null,null,null,null,null,null,null,null,null,null,null,null,null,null,null,null,null,null,null,null,null,null,null,null,null,null,null,null,null,null,null,null,null,null,null,null,null,null,null,53]
[null,"#","Datum","Match",null,null,"Resultat",null,null,"Tecken",null,null,null,"Vinnare åttondelsfinaler",null,"Notera!",null,null,null,null,null,null,null,null,null,null,null,null,null,"Datum","Match",null,null,"Resultat",null,null,"Tecken","Poäng",null,null,null,null,null,null,"Åttondelsfinaler",null,null,null,null,"List",null,null,null,null,null,null,null,null,null,null,null,null,null,null,null,null,null,null,null,null,null,null,null,null,null,null,null,null,null,null,null,null,null,null,null,null,null,null,null,null,null,null,null,null,null,null,null,null,null,null,null,null,null,null,null,null,null,null,null,null,null,null,null,null,null,null,null,null,null,null,null,null,null,null,null,null,null,null,null,null,null,null,null,null,null,null,null,null,null,null,null,null,null,null,null,null,null,null,null,null,null,null,null,null,null,null,null,null,null,null,null,null,null,null,null,null,null,null,null,null,null,null,null,null,null,null,null,null,null,null,null,null,null,null,null,null,null,null,null,null,54]
[null,1,"2021-06-26",{"$f":"IF($N$8=\"Resultat OK\",$N$5,\"Tvåa grupp A\")","v":"Schweiz"},"-",{"$f":"IF($N$17=\"Resultat OK\",$N$14,\"Tvåa grupp B\")","v":"Tvåa grupp B"},null,"-",null,{"$f":"IF(OR(ISBLANK(G58),ISBLANK(I58)),\"\",IF(G58>I58,1,IF(G58<I58,2,\"X\")))","v":""},null,null,null,null,null,"Tipset kan ej ta hänsyn till antal gula/röda kort i turneringen, vilket kan påverka vilka lag som går vidare till åttondelsfinal. Skulle detta ske kan du som rättar manuellt skriva i rätt lag på rätt plats i åttondelsfinalerna (cell D58-D65 & F58-F65)\n\nFör att återställa, klicka på gröna knappen till höger",null,null,null,null,null,null,null,null,null,null,null,null,null,{"$f":"C58","v":"2021-06-26"},"Schweiz","-","Tvåa grupp B",{"$f":"IF(G58=\"\",\"\",G58)","v":""},"-",{"$f":"IF(I58=\"\",\"\",I58)","v":""},{"$f":"J58","v":""},null,null,null,null,null,null,null,"Mitt tips","Resultat & tabell","Utfall","Poäng",null,{"$f":"D58","v":"Schweiz"},{"$f":"F58","v":"Tvåa grupp B"},null,null,null,null,null,null,null,null,null,null,null,null,null,null,null,null,null,null,null,null,null,null,null,null,null,null,null,null,null,null,null,null,null,null,null,null,null,null,null,null,null,null,null,null,null,null,null,null,null,null,null,null,null,null,null,null,null,null,null,null,null,null,null,null,null,null,null,null,null,null,null,null,null,null,null,null,null,null,null,null,null,null,null,null,null,null,null,null,null,null,null,null,null,null,null,null,null,null,null,null,null,null,null,null,null,null,null,null,null,null,null,null,null,null,null,null,null,null,null,null,null,null,null,null,null,null,null,null,null,null,null,null,null,null,null,null,null,null,null,55]
[null,2,"2021-06-26",{"$f":"IF($N$8=\"Resultat OK\",$N$4,\"Etta grupp A\")","v":"Italien"},"-",{"$f":"IF($N$26=\"Resultat OK\",$N$23,\"Tvåa grupp C\")","v":"Tvåa grupp C"},null,"-",null,{"$f":"IF(OR(ISBLANK(G59),ISBLANK(I59)),\"\",IF(G59>I59,1,IF(G59<I59,2,\"X\")))","v":""},null,null,null,null,null,null,null,null,null,null,null,null,null,null,null,null,null,null,null,"2021-06-26","Italien","-","Tvåa grupp C","","-","","",null,null,null,null,null,null,null,{"$f":"D58","v":"Schweiz"},{"$f":"IF(OR('Resultat & Tabell'!G58=\"\",'Resultat & Tabell'!I58=\"\"),\"\",'Resultat & Tabell'!D58)","v":""},{"$f":"IF(ISERROR(VLOOKUP(AS59,$AT$59:$AT$74,1,FALSE)),0,1)","v":0},{"$f":"2*AU59","v":0},null,"Italien","Tvåa grupp C",null,null,null,null,null,null,null,null,null,null,null,null,null,null,null,"#","Datum","Match",null,null,"Resultat",null,null,"Tecken",null,null,null,null,null,null,null,null,null,null,null,null,null,null,null,null,null,null,null,null,null,null,null,null,null,null,null,null,null,null,null,null,null,null,null,null,null,null,null,null,null,null,null,null,null,null,null,null,null,null,null,null,null,null,null,null,null,null,null,null,null,null,null,null,null,null,null,null,null,null,null,null,null,null,null,null,null,null,null,null,null,null,null,null,null,null,null,null,null,null,null,null,null,null,null,null,null,null,null,null,null,null,null,null,null,null,null,null,null,null,null,null,null,null,null,56]
[null,3,"2021-06-27",{"$f":"IF($N$26=\"Resultat OK\",$N$22,\"Etta grupp C\")","v":"Etta grupp C"},"-",{"$f":"IF($FL$12=\"Resultat OK\",HLOOKUP(\"C\",$GE$2:$GE$17,$FY$2),\"Trea D/E/F\")","v":"Trea D/E/F"},null,"-",null,"",null,null,null,null,null,null,null,null,null,null,null,null,null,null,null,null,null,null,null,"2021-06-27","Etta grupp C","-","Trea D/E/F","","-","","",null,null,null,null,null,null,null,"Italien",{"$f":"IF(OR('Resultat & Tabell'!G59=\"\",'Resultat & Tabell'!I59=\"\"),\"\",'Resultat & Tabell'!D59)","v":""},{"$f":"IF(ISERROR(VLOOKUP(AS60,$AT$59:$AT$74,1,FALSE)),0,1)","v":0},0,null,"Etta grupp C","Trea D/E/F",null,null,null,null,null,null,null,null,null,null,null,null,null,null,null,1,"2021-06-26",{"$f":"IF($N$8=\"Resultat OK\",$N$5,\"Tvåa grupp A\")","v":"Schweiz"},"-",{"$f":"IF($N$17=\"Resultat OK\",$N$14,\"Tvåa grupp B\")","v":"Tvåa grupp B"},1,"-",1,{"$f":"IF(OR(ISBLANK(BT60),ISBLANK(BV60)),\"\",IF(BT60>BV60,1,IF(BT60<BV60,2,\"X\")))","v":"X"},null,null,null,null,null,null,null,null,null,null,null,null,null,null,null,null,null,null,null,null,null,null,null,null,null,null,null,null,null,null,null,null,null,null,null,null,null,null,null,null,null,null,null,null,null,null,null,null,null,null,null,null,null,null,null,null,null,null,null,null,null,null,null,null,null,null,null,null,null,null,null,null,null,null,null,null,null,null,null,null,null,null,null,null,null,null,null,null,null,null,null,null,null,null,null,null,null,null,null,null,null,null,null,null,null,null,null,null,null,null,null,null,null,null,null,57]
[null,4,"2021-06-27",{"$f":"IF($N$17=\"Resultat OK\",$N$13,\"Etta grupp B\")","v":"Etta grupp B"},"-",{"$f":"IF($FL$12=\"Resultat OK\",HLOOKUP(\"B\",$GD$2:$GD$17,$FY$2),\"Trea A/D/E/F\")","v":"Trea A/D/E/F"},null,"-",null,"",null,null,null,null,null,null,null,null,null,null,null,null,null,null,null,null,null,null,null,"2021-06-27","Etta grupp B","-","Trea A/D/E/F","","-","","",null,null,null,null,null,null,null,"Etta grupp C",{"$f":"IF(OR('Resultat & Tabell'!G60=\"\",'Resultat & Tabell'!I60=\"\"),\"\",'Resultat & Tabell'!D60)","v":""},0,0,null,"Etta grupp B","Trea A/D/E/F",null,null,null,null,null,null,null,null,null,null,null,null,null,null,null,2,"2021-06-26",{"$f":"IF($N$8=\"Resultat OK\",$N$4,\"Etta grupp A\")","v":"Italien"},"-",{"$f":"IF($N$26=\"Resultat OK\",$N$23,\"Tvåa grupp C\")","v":"Tvåa grupp C"},1,"-",2,{"$f":"IF(OR(ISBLANK(BT61),ISBLANK(BV61)),\"\",IF(BT61>BV61,1,IF(BT61<BV61,2,\"X\")))","v":2},null,null,null,null,null,null,null,null,null,null,null,null,null,null,null,null,null,null,null,null,null,null,null,null,null,null,null,null,null,null,null,null,null,null,null,null,null,null,null,null,null,null,null,null,null,null,null,null,null,null,null,null,null,null,null,null,null,null,null,null,null,null,null,null,null,null,null,null,null,null,null,null,null,null,null,null,null,null,null,null,null,null,null,null,null,null,null,null,null,null,null,null,null,null,null,null,null,null,null,null,null,null,null,null,null,null,null,null,null,null,null,null,null,null,null,58]
[null,5,"2021-06-28",{"$f":"IF($N$35=\"Resultat OK\",$N$32,\"Tvåa grupp D\")","v":"Tvåa grupp D"},"-",{"$f":"IF($N$44=\"Resultat OK\",$N$41,\"Tvåa grupp E\")","v":"Tvåa grupp E"},null,"-",null,"",null,null,null,null,null,null,null,null,null,null,null,null,null,null,null,null,null,null,null,"2021-06-28","Tvåa grupp D","-","Tvåa grupp E","","-","","",null,null,null,null,null,null,null,"Etta grupp B",{"$f":"IF(OR('Resultat & Tabell'!G61=\"\",'Resultat & Tabell'!I61=\"\"),\"\",'Resultat & Tabell'!D61)","v":""},0,0,null,"Tvåa grupp D","Tvåa grupp E",null,null,null,null,null,null,null,null,null,null,null,null,null,null,null,3,"2021-06-27",{"$f":"IF($N$26=\"Resultat OK\",$N$22,\"Etta grupp C\")","v":"Etta grupp C"},"-",{"$f":"IF($FL$12=\"Resultat OK\",HLOOKUP(\"C\",$GE$2:$GE$17,$FY$2),\"Trea D/E/F\")","v":"Trea D/E/F"},null,"-",null,"",null,null,null,null,null,null,null,null,null,null,null,null,null,null,null,null,null,null,null,null,null,null,null,null,null,null,null,null,null,null,null,null,null,null,null,null,null,null,null,null,null,null,null,null,null,null,null,null,null,null,null,null,null,null,null,null,null,null,null,null,null,null,null,null,null,null,null,null,null,null,null,null,null,null,null,null,null,null,null,null,null,null,null,null,null,null,null,null,null,null,null,null,null,null,null,null,null,null,null,null,null,null,null,null,null,null,null,null,null,null,null,null,null,null,null,59]
[null,6,"2021-06-28",{"$f":"IF($N$53=\"Resultat OK\",$N$49,\"Etta grupp F\")","v":"Etta grupp F"},"-",{"$f":"IF($FL$12=\"Resultat OK\",HLOOKUP(\"F\",$GG$2:$GG$17,$FY$2),\"Trea A/B/C\")","v":"Trea A/B/C"},null,"-",null,"",null,null,null,null,null,null,null,null,null,null,null,null,null,null,null,null,null,null,null,"2021-06-28","Etta grupp F","-","Trea A/B/C","","-","","",null,null,null,null,null,null,null,"Tvåa grupp D",{"$f":"IF(OR('Resultat & Tabell'!G62=\"\",'Resultat & Tabell'!I62=\"\"),\"\",'Resultat & Tabell'!D62)","v":""},0,0,null,"Etta grupp F","Trea A/B/C",null,null,null,null,null,null,null,null,null,null,null,null,null,null,null,4,"2021-06-27",{"$f":"IF($N$17=\"Resultat OK\",$N$13,\"Etta grupp B\")","v":"Etta grupp B"},"-",{"$f":"IF($FL$12=\"Resultat OK\",HLOOKUP(\"B\",$GD$2:$GD$17,$FY$2),\"Trea A/D/E/F\")","v":"Trea A/D/E/F"},null,"-",null,"",null,null,null,null,null,null,null,null,null,null,null,null,null,null,null,null,null,null,null,null,null,null,null,null,null,null,null,null,null,null,null,null,null,null,null,null,null,null,null,null,null,null,null,null,null,null,null,null,null,null,null,null,null,null,null,null,null,null,null,null,null,null,null,null,null,null,null,null,null,null,null,null,null,null,null,null,null,null,null,null,null,null,null,null,null,null,null,null,null,null,null,null,null,null,null,null,null,null,null,null,null,null,null,null,null,null,null,null,null,null,null,null,null,null,null,60]
[null,7,"2021-06-29",{"$f":"IF($N$35=\"Resultat OK\",$N$31,\"Etta grupp D\")","v":"Etta grupp D"},"-",{"$f":"IF($N$53=\"Resultat OK\",$N$50,\"Tvåa grupp F\")","v":"Tvåa grupp F"},null,"-",null,{"$f":"IF(OR(ISBLANK(G64),ISBLANK(I64)),\"\",IF(G64>I64,1,IF(G64<I64,2,\"X\")))","v":""},null,null,null,null,null,null,null,null,null,null,null,null,null,null,null,null,null,null,null,"2021-06-29","Etta grupp D","-","Tvåa grupp F","","-","","",null,null,null,null,null,null,null,"Etta grupp F",{"$f":"IF(OR('Resultat & Tabell'!G63=\"\",'Resultat & Tabell'!I63=\"\"),\"\",'Resultat & Tabell'!D63)","v":""},0,0,null,"Etta grupp D","Tvåa grupp F",null,null,null,null,null,null,null,null,null,null,null,null,null,null,null,5,"2021-06-28",{"$f":"IF($N$35=\"Resultat OK\",$N$32,\"Tvåa grupp D\")","v":"Tvåa grupp D"},"-",{"$f":"IF($N$44=\"Resultat OK\",$N$41,\"Tvåa grupp E\")","v":"Tvåa grupp E"},null,"-",null,"",null,null,null,null,null,null,null,null,null,null,null,null,null,null,null,null,null,null,null,null,null,null,null,null,null,null,null,null,null,null,null,null,null,null,null,null,null,null,null,null,null,null,null,null,null,null,null,null,null,null,null,null,null,null,null,null,null,null,null,null,null,null,null,null,null,null,null,null,null,null,null,null,null,null,null,null,null,null,null,null,null,null,null,null,null,null,null,null,null,null,null,null,null,null,null,null,null,null,null,null,null,null,null,null,null,null,null,null,null,null,null,null,null,null,null,61]
[null,8,"2021-06-29",{"$f":"IF($N$44=\"Resultat OK\",$N$40,\"Etta grupp E\")","v":"Etta grupp E"},"-",{"$f":"IF($FL$12=\"Resultat OK\",HLOOKUP(\"E\",$GF$2:$GF$17,$FY$2),\"Trea A/B/C/D\")","v":"Trea A/B/C/D"},null,"-",null,"",null,null,null,null,null,null,null,null,null,null,null,null,null,null,null,null,null,null,null,"2021-06-29","Etta grupp E","-","Trea A/B/C/D","","-","","",null,null,null,null,null,null,null,"Etta grupp D",{"$f":"IF(OR('Resultat & Tabell'!G64=\"\",'Resultat & Tabell'!I64=\"\"),\"\",'Resultat & Tabell'!D64)","v":""},0,0,null,"Etta grupp E","Trea A/B/C/D",null,null,null,null,null,null,null,null,null,null,null,null,null,null,null,6,"2021-06-28",{"$f":"IF($N$53=\"Resultat OK\",$N$49,\"Etta grupp F\")","v":"Etta grupp F"},"-",{"$f":"IF($FL$12=\"Resultat OK\",HLOOKUP(\"F\",$GG$2:$GG$17,$FY$2),\"Trea A/B/C\")","v":"Trea A/B/C"},null,"-",null,"",null,null,null,null,null,null,null,null,null,null,null,null,null,null,null,null,null,null,null,null,null,null,null,null,null,null,null,null,null,null,null,null,null,null,null,null,null,null,null,null,null,null,null,null,null,null,null,null,null,null,null,null,null,null,null,null,null,null,null,null,null,null,null,null,null,null,null,null,null,null,null,null,null,null,null,null,null,null,null,null,null,null,null,null,null,null,null,null,null,null,null,null,null,null,null,null,null,null,null,null,null,null,null,null,null,null,null,null,null,null,null,null,null,null,null,62]
[null,null,null,null,null,null,null,null,null,null,null,null,null,null,null,null,null,null,null,null,null,null,null,null,null,null,null,null,null,null,null,null,null,null,null,null,null,null,null,null,null,null,null,null,"Etta grupp E",{"$f":"IF(OR('Resultat & Tabell'!G65=\"\",'Resultat & Tabell'!I65=\"\"),\"\",'Resultat & Tabell'!D65)","v":""},0,0,null,null,null,null,null,null,null,null,null,null,null,null,null,null,null,null,null,null,7,"2021-06-29",{"$f":"IF($N$35=\"Resultat OK\",$N$31,\"Etta grupp D\")","v":"Etta grupp D"},"-",{"$f":"IF($N$53=\"Resultat OK\",$N$50,\"Tvåa grupp F\")","v":"Tvåa grupp F"},null,"-",null,{"$f":"IF(OR(ISBLANK(BT66),ISBLANK(BV66)),\"\",IF(BT66>BV66,1,IF(BT66<BV66,2,\"X\")))","v":""},null,null,null,null,null,null,null,null,null,null,null,null,null,null,null,null,null,null,null,null,null,null,null,null,null,null,null,null,null,null,null,null,null,null,null,null,null,null,null,null,null,null,null,null,null,null,null,null,null,null,null,null,null,null,null,null,null,null,null,null,null,null,null,null,null,null,null,null,null,null,null,null,null,null,null,null,null,null,null,null,null,null,null,null,null,null,null,null,null,null,null,null,null,null,null,null,null,null,null,null,null,null,null,null,null,null,null,null,null,null,null,null,null,null,null,63]
[null,null,"Kvartsfinaler",null,null,null,null,null,null,null,null,null,null,null,null,null,null,null,null,null,null,null,null,null,null,null,null,null,null,"Kvartsfinaler",null,null,null,null,null,null,null,null,null,null,null,null,null,null,{"$f":"F58","v":"Tvåa grupp B"},{"$f":"IF(OR('Resultat & Tabell'!G58=\"\",'Resultat & Tabell'!I58=\"\"),\"\",'Resultat & Tabell'!F58)","v":""},0,0,null,null,null,null,null,null,null,null,null,null,null,null,null,null,null,null,null,null,8,"2021-06-29",{"$f":"IF($N$44=\"Resultat OK\",$N$40,\"Etta grupp E\")","v":"Etta grupp E"},"-",{"$f":"IF($FL$12=\"Resultat OK\",HLOOKUP(\"E\",$GF$2:$GF$17,$FY$2),\"Trea A/B/C/D\")","v":"Trea A/B/C/D"},null,"-",null,{"$f":"IF(OR(ISBLANK(BT67),ISBLANK(BV67)),\"\",IF(BT67>BV67,1,IF(BT67<BV67,2,\"X\")))","v":""},null,null,null,null,null,null,null,null,null,null,null,null,null,null,null,null,null,null,null,null,null,null,null,null,null,null,null,null,null,null,null,null,null,null,null,null,null,null,null,null,null,null,null,null,null,null,null,null,null,null,null,null,null,null,null,null,null,null,null,null,null,null,null,null,null,null,null,null,null,null,null,null,null,null,null,null,null,null,null,null,null,null,null,null,null,null,null,null,null,null,null,null,null,null,null,null,null,null,null,null,null,null,null,null,null,null,null,null,null,null,null,null,null,null,null,64]
[null,"#","Datum","Match",null,null,"Resultat",null,null,"Tecken",null,null,null,"Vinnare kvartsfinaler",null,null,null,null,null,null,null,null,null,null,null,null,null,null,null,"Datum","Match",null,null,"Resultat",null,null,"Tecken","Poäng",null,null,null,null,null,null,"Tvåa grupp C",{"$f":"IF(OR('Resultat & Tabell'!G59=\"\",'Resultat & Tabell'!I59=\"\"),\"\",'Resultat & Tabell'!F59)","v":""},0,0,null,null,null,null,null,null,null,null,null,null,null,null,null,null,null,null,null,null,null,null,null,null,null,null,null,null,null,null,null,null,null,null,null,null,null,null,null,null,null,null,null,null,null,null,null,null,null,null,null,null,null,null,null,null,null,null,null,null,null,null,null,null,null,null,null,null,null,null,null,null,null,null,null,null,null,null,null,null,null,null,null,null,null,null,null,null,null,null,null,null,null,null,null,null,null,null,null,null,null,null,null,null,null,null,null,null,null,null,null,null,null,null,null,null,null,null,null,null,null,null,null,null,null,null,null,null,null,null,null,null,null,null,null,null,null,null,null,null,null,null,null,null,65]
[null,1,"2021-07-02",{"$f":"IF(OR(N63=\"\",N63=\"Fyll i vinnare oavgjort\"),\"Vinnare åttondel 6\",N63)","v":"Vinnare åttondel 6"},"-",{"$f":"IF(OR(N62=\"\",N62=\"Fyll i vinnare oavgjort\"),\"Vinnare åttondel 5\",N62)","v":"Vinnare åttondel 5"},null,"-",null,{"$f":"IF(OR(ISBLANK(G69),ISBLANK(I69)),\"\",IF(G69>I69,1,IF(G69<I69,2,\"X\")))","v":""},null,null,null,null,null,null,null,null,null,null,null,null,null,null,null,null,null,null,null,{"$f":"C69","v":"2021-07-02"},{"$f":"D69","v":"Vinnare åttondel 6"},{"$f":"E69","v":"-"},"Vinnare åttondel 5",{"$f":"IF(G69=\"\",\"\",G69)","v":""},"-",{"$f":"IF(I69=\"\",\"\",I69)","v":""},{"$f":"J69","v":""},null,null,null,null,null,null,null,"Trea D/E/F",{"$f":"IF(OR('Resultat & Tabell'!G60=\"\",'Resultat & Tabell'!I60=\"\"),\"\",'Resultat & Tabell'!F60)","v":""},0,0,null,{"$f":"D69","v":"Vinnare åttondel 6"},{"$f":"F69","v":"Vinnare åttondel 5"},null,null,null,null,null,null,null,null,null,null,null,null,null,null,null,null,null,null,null,null,null,null,null,null,null,null,null,null,null,null,null,null,null,null,null,null,null,null,null,null,null,null,null,null,null,null,null,null,null,null,null,null,null,null,null,null,null,null,null,null,null,null,null,null,null,null,null,null,null,null,null,null,null,null,null,null,null,null,null,null,null,null,null,null,null,null,null,null,null,null,null,null,null,null,null,null,null,null,null,null,null,null,null,null,null,null,null,null,null,null,null,null,null,null,null,null,null,null,null,null,null,null,null,null,null,null,null,null,null,null,null,null,null,null,null,null,null,null,null,66]
[null,2,"2021-07-02",{"$f":"IF(OR(N61=\"\",N61=\"Fyll i vinnare oavgjort\"),\"Vinnare åttondel 4\",N61)","v":"Vinnare åttondel 4"},"-",{"$f":"IF(OR(N59=\"\",N59=\"Fyll i vinnare oavgjort\"),\"Vinnare åttondel 2\",N59)","v":"Vinnare åttondel 2"},null,"-",null,"",null,null,null,null,null,null,null,null,null,null,null,null,null,null,null,null,null,null,null,"2021-07-02","Vinnare åttondel 4","-","Vinnare åttondel 2",{"$f":"IF(G70=\"\",\"\",G70)","v":""},"-",{"$f":"IF(I70=\"\",\"\",I70)","v":""},{"$f":"J70","v":""},null,null,null,null,null,null,null,"Trea A/D/E/F",{"$f":"IF(OR('Resultat & Tabell'!G61=\"\",'Resultat & Tabell'!I61=\"\"),\"\",'Resultat & Tabell'!F61)","v":""},0,0,null,{"$f":"D70","v":"Vinnare åttondel 4"},{"$f":"F70","v":"Vinnare åttondel 2"},null,null,null,null,null,null,null,null,null,null,null,null,null,null,null,null,null,null,null,null,null,null,null,null,null,null,null,null,null,null,null,null,null,null,null,null,null,null,null,null,null,null,null,null,null,null,null,null,null,null,null,null,null,null,null,null,null,null,null,null,null,null,null,null,null,null,null,null,null,null,null,null,null,null,null,null,null,null,null,null,null,null,null,null,null,null,null,null,null,null,null,null,null,null,null,null,null,null,null,null,null,null,null,null,null,null,null,null,null,null,null,null,null,null,null,null,null,null,null,null,null,null,null,null,null,null,null,null,null,null,null,null,null,null,null,null,null,null,null,67]
[null,3,"2021-07-03",{"$f":"IF(OR(N60=\"\",N60=\"Fyll i vinnare oavgjort\"),\"Vinnare åttondel 3\",N60)","v":"Vinnare åttondel 3"},"-",{"$f":"IF(OR(N58=\"\",N58=\"Fyll i vinnare oavgjort\"),\"Vinnare åttondel 1\",N58)","v":"Vinnare åttondel 1"},null,"-",null,"",null,null,null,null,null,null,null,null,null,null,null,null,null,null,null,null,null,null,null,"2021-07-03","Vinnare åttondel 3","-","Vinnare åttondel 1",{"$f":"IF(G71=\"\",\"\",G71)","v":""},"-",{"$f":"IF(I71=\"\",\"\",I71)","v":""},{"$f":"J71","v":""},null,null,null,null,null,null,null,"Tvåa grupp E",{"$f":"IF(OR('Resultat & Tabell'!G62=\"\",'Resultat & Tabell'!I62=\"\"),\"\",'Resultat & Tabell'!F62)","v":""},0,0,null,{"$f":"D71","v":"Vinnare åttondel 3"},{"$f":"F71","v":"Vinnare åttondel 1"},null,null,null,null,null,null,null,null,null,null,null,null,null,null,null,null,null,null,null,null,null,null,null,null,null,null,null,null,null,null,null,null,null,null,null,null,null,null,null,null,null,null,null,null,null,null,null,null,null,null,null,null,null,null,null,null,null,null,null,null,null,null,null,null,null,null,null,null,null,null,null,null,null,null,null,null,null,null,null,null,null,null,null,null,null,null,null,null,null,null,null,null,null,null,null,null,null,null,null,null,null,null,null,null,null,null,null,null,null,null,null,null,null,null,null,null,null,null,null,null,null,null,null,null,null,null,null,null,null,null,null,null,null,null,null,null,null,null,null,68]
[null,4,"2021-07-03",{"$f":"IF(OR(N65=\"\",N65=\"Fyll i vinnare oavgjort\"),\"Vinnare åttondel 8\",N65)","v":"Vinnare åttondel 8"},"-",{"$f":"IF(OR(N64=\"\",N64=\"Fyll i vinnare oavgjort\"),\"Vinnare åttondel 7\",N64)","v":"Vinnare åttondel 7"},null,"-",null,"",null,null,null,null,null,null,null,null,null,null,null,null,null,null,null,null,null,null,null,"2021-07-03","Vinnare åttondel 8","-","Vinnare åttondel 7",{"$f":"IF(G72=\"\",\"\",G72)","v":""},"-",{"$f":"IF(I72=\"\",\"\",I72)","v":""},{"$f":"J72","v":""},null,null,null,null,null,null,null,"Trea A/B/C",{"$f":"IF(OR('Resultat & Tabell'!G63=\"\",'Resultat & Tabell'!I63=\"\"),\"\",'Resultat & Tabell'!F63)","v":""},0,0,null,{"$f":"D72","v":"Vinnare åttondel 8"},{"$f":"F72","v":"Vinnare åttondel 7"},null,null,null,null,null,null,null,null,null,null,null,null,null,null,null,null,null,null,null,null,null,null,null,null,null,null,null,null,null,null,null,null,null,null,null,null,null,null,null,null,null,null,null,null,null,null,null,null,null,null,null,null,null,null,null,null,null,null,null,null,null,null,null,null,null,null,null,null,null,null,null,null,null,null,null,null,null,null,null,null,null,null,null,null,null,null,null,null,null,null,null,null,null,null,null,null,null,null,null,null,null,null,null,null,null,null,null,null,null,null,null,null,null,null,null,null,null,null,null,null,null,null,null,null,null,null,null,null,null,null,null,null,null,null,null,null,null,null,null,69]
[null,null,null,null,null,null,null,null,null,null,null,null,null,null,null,null,null,null,null,null,null,null,null,null,null,null,null,null,null,null,null,null,null,null,null,null,null,null,null,null,null,null,null,null,"Tvåa grupp F",{"$f":"IF(OR('Resultat & Tabell'!G64=\"\",'Resultat & Tabell'!I64=\"\"),\"\",'Resultat & Tabell'!F64)","v":""},0,0,null,null,null,null,null,null,null,null,null,null,null,null,null,null,null,null,null,null,null,null,null,null,null,null,null,null,null,null,null,null,null,null,null,null,null,null,null,null,null,null,null,null,null,null,null,null,null,null,null,null,null,null,null,null,null,null,null,null,null,null,null,null,null,null,null,null,null,null,null,null,null,null,null,null,null,null,null,null,null,null,null,null,null,null,null,null,null,null,null,null,null,null,null,null,null,null,null,null,null,null,null,null,null,null,null,null,null,null,null,null,null,null,null,null,null,null,null,null,null,null,null,null,null,null,null,null,null,null,null,null,null,null,null,null,null,null,null,null,null,null,null,null,70]
[null,null,"Semifinaler",null,null,null,null,null,null,null,null,null,null,null,null,null,null,null,null,null,null,null,null,null,null,null,null,null,null,"Semifinaler",null,null,null,null,null,null,null,null,null,null,null,null,null,null,"Trea A/B/C/D",{"$f":"IF(OR('Resultat & Tabell'!G65=\"\",'Resultat & Tabell'!I65=\"\"),\"\",'Resultat & Tabell'!F65)","v":""},0,0,null,null,null,null,null,null,null,null,null,null,null,null,null,null,null,null,null,null,null,null,null,null,null,null,null,null,null,null,null,null,null,null,null,null,null,null,null,null,null,null,null,null,null,null,null,null,null,null,null,null,null,null,null,null,null,null,null,null,null,null,null,null,null,null,null,null,null,null,null,null,null,null,null,null,null,null,null,null,null,null,null,null,null,null,null,null,null,null,null,null,null,null,null,null,null,null,null,null,null,null,null,null,null,null,null,null,null,null,null,null,null,null,null,null,null,null,null,null,null,null,null,null,null,null,null,null,null,null,null,null,null,null,null,null,null,null,null,null,null,null,null,null,71]
[null,"#","Datum","Match",null,null,"Resultat",null,null,"Tecken",null,null,null,"Vinnare semifinaler",null,null,null,null,null,null,null,null,null,null,null,null,null,null,null,"Datum","Match",null,null,"Resultat",null,null,"Tecken","Poäng",null,null,null,null,null,null,null,null,"SUMMA",{"$f":"SUM(AV59:AV74)","v":0},null,null,null,null,null,null,null,null,null,null,null,null,null,null,null,null,null,null,null,null,null,null,null,null,null,null,null,null,null,null,null,null,null,null,null,null,null,null,null,null,null,null,null,null,null,null,null,null,null,null,null,null,null,null,null,null,null,null,null,null,null,null,null,null,null,null,null,null,null,null,null,null,null,null,null,null,null,null,null,null,null,null,null,null,null,null,null,null,null,null,null,null,null,null,null,null,null,null,null,null,null,null,null,null,null,null,null,null,null,null,null,null,null,null,null,null,null,null,null,null,null,null,null,null,null,null,null,null,null,null,null,null,null,null,null,null,null,null,null,null,null,null,72]
[null,1,"2021-07-06",{"$f":"IF(OR(N70=\"\",N70=\"Fyll i vinnare oavgjort\"),\"Vinnare kvartsfinal 2\",N70)","v":"Vinnare kvartsfinal 2"},"-",{"$f":"IF(OR(N69=\"\",N69=\"Fyll i vinnare oavgjort\"),\"Vinnare kvartsfinal 1\",N69)","v":"Vinnare kvartsfinal 1"},null,"-",null,{"$f":"IF(OR(ISBLANK(G76),ISBLANK(I76)),\"\",IF(G76>I76,1,IF(G76<I76,2,\"X\")))","v":""},null,null,null,null,null,null,null,null,null,null,null,null,null,null,null,null,null,null,null,{"$f":"C76","v":"2021-07-06"},"Vinnare kvartsfinal 2","-","Vinnare kvartsfinal 1",{"$f":"IF(G76=\"\",\"\",G76)","v":""},"-",{"$f":"IF(I76=\"\",\"\",I76)","v":""},{"$f":"J76","v":""},null,null,null,null,null,null,null,"Kvartsfinaler",null,null,null,null,{"$f":"D76","v":"Vinnare kvartsfinal 2"},{"$f":"F76","v":"Vinnare kvartsfinal 1"},null,null,null,null,null,null,null,null,null,null,null,null,null,null,null,null,null,null,null,null,null,null,null,null,null,null,null,null,null,null,null,null,null,null,null,null,null,null,null,null,null,null,null,null,null,null,null,null,null,null,null,null,null,null,null,null,null,null,null,null,null,null,null,null,null,null,null,null,null,null,null,null,null,null,null,null,null,null,null,null,null,null,null,null,null,null,null,null,null,null,null,null,null,null,null,null,null,null,null,null,null,null,null,null,null,null,null,null,null,null,null,null,null,null,null,null,null,null,null,null,null,null,null,null,null,null,null,null,null,null,null,null,null,null,null,null,null,null,null,73]
[null,2,"2021-07-07",{"$f":"IF(OR(N72=\"\",N72=\"Fyll i vinnare oavgjort\"),\"Vinnare kvartsfinal 4\",N72)","v":"Vinnare kvartsfinal 4"},"-",{"$f":"IF(OR(N71=\"\",N71=\"Fyll i vinnare oavgjort\"),\"Vinnare kvartsfinal 3\",N71)","v":"Vinnare kvartsfinal 3"},null,"-",null,"",null,null,null,null,null,null,null,null,null,null,null,null,null,null,null,null,null,null,null,"2021-07-07","Vinnare kvartsfinal 4","-","Vinnare kvartsfinal 3",{"$f":"IF(G77=\"\",\"\",G77)","v":""},"-",{"$f":"IF(I77=\"\",\"\",I77)","v":""},{"$f":"J77","v":""},null,null,null,null,null,null,null,"Mitt tips","Resultat & tabell","Utfall","Poäng",null,{"$f":"D77","v":"Vinnare kvartsfinal 4"},{"$f":"F77","v":"Vinnare kvartsfinal 3"},null,null,null,null,null,null,null,null,null,null,null,null,null,null,null,null,null,null,null,null,null,null,null,null,null,null,null,null,null,null,null,null,null,null,null,null,null,null,null,null,null,null,null,null,null,null,null,null,null,null,null,null,null,null,null,null,null,null,null,null,null,null,null,null,null,null,null,null,null,null,null,null,null,null,null,null,null,null,null,null,null,null,null,null,null,null,null,null,null,null,null,null,null,null,null,null,null,null,null,null,null,null,null,null,null,null,null,null,null,null,null,null,null,null,null,null,null,null,null,null,null,null,null,null,null,null,null,null,null,null,null,null,null,null,null,null,null,null,null,74]
[null,null,null,null,null,null,null,null,null,null,null,null,null,null,null,null,null,null,null,null,null,null,null,null,null,null,null,null,null,null,null,null,null,null,null,null,null,null,null,null,null,null,null,null,{"$f":"D69","v":"Vinnare åttondel 6"},{"$f":"IF(OR('Resultat & Tabell'!G69=\"\",'Resultat & Tabell'!I69=\"\"),\"\",'Resultat & Tabell'!D69)","v":""},{"$f":"IF(ISERROR(VLOOKUP(AS78,$AT$78:$AT$85,1,FALSE)),0,1)","v":0},{"$f":"4*AU78","v":0},null,null,null,null,null,null,null,null,null,null,null,null,null,null,null,null,null,null,null,null,null,null,null,null,null,null,null,null,null,null,null,null,null,null,null,null,null,null,null,null,null,null,null,null,null,null,null,null,null,null,null,null,null,null,null,null,null,null,null,null,null,null,null,null,null,null,null,null,null,null,null,null,null,null,null,null,null,null,null,null,null,null,null,null,null,null,null,null,null,null,null,null,null,null,null,null,null,null,null,null,null,null,null,null,null,null,null,null,null,null,null,null,null,null,null,null,null,null,null,null,null,null,null,null,null,null,null,null,null,null,null,null,null,null,null,null,null,null,null,null,null,null,75]
[null,null,"Final",null,null,null,null,null,null,null,null,null,null,null,null,null,null,null,null,null,null,null,null,null,null,null,null,null,null,"Final",null,null,null,null,null,null,null,null,null,null,null,null,null,null,{"$f":"D70","v":"Vinnare åttondel 4"},{"$f":"IF(OR('Resultat & Tabell'!G70=\"\",'Resultat & Tabell'!I70=\"\"),\"\",'Resultat & Tabell'!D70)","v":""},{"$f":"IF(ISERROR(VLOOKUP(AS79,$AT$78:$AT$85,1,FALSE)),0,1)","v":0},{"$f":"4*AU79","v":0},null,null,null,null,null,null,null,null,null,null,null,null,null,null,null,null,null,null,null,null,null,null,null,null,null,null,null,null,null,null,null,null,null,null,null,null,null,null,null,null,null,null,null,null,null,null,null,null,null,null,null,null,null,null,null,null,null,null,null,null,null,null,null,null,null,null,null,null,null,null,null,null,null,null,null,null,null,null,null,null,null,null,null,null,null,null,null,null,null,null,null,null,null,null,null,null,null,null,null,null,null,null,null,null,null,null,null,null,null,null,null,null,null,null,null,null,null,null,null,null,null,null,null,null,null,null,null,null,null,null,null,null,null,null,null,null,null,null,null,null,null,null,76]
[null,null,"Datum","Match",null,null,"Resultat",null,null,"Tecken",null,null,null,null,null,null,null,null,null,null,null,null,null,null,null,null,null,null,null,"Datum","Match",null,null,"Resultat",null,null,"Tecken","Poäng",null,null,null,null,null,null,{"$f":"D71","v":"Vinnare åttondel 3"},{"$f":"IF(OR('Resultat & Tabell'!G71=\"\",'Resultat & Tabell'!I71=\"\"),\"\",'Resultat & Tabell'!D71)","v":""},0,0,null,null,null,null,null,null,null,null,null,null,null,null,null,null,null,null,null,null,null,null,null,null,null,null,null,null,null,null,null,null,null,null,null,null,null,null,null,null,null,null,null,null,null,null,null,null,null,null,null,null,null,null,null,null,null,null,null,null,null,null,null,null,null,null,null,null,null,null,null,null,null,null,null,null,null,null,null,null,null,null,null,null,null,null,null,null,null,null,null,null,null,null,null,null,null,null,null,null,null,null,null,null,null,null,null,null,null,null,null,null,null,null,null,null,null,null,null,null,null,null,null,null,null,null,null,null,null,null,null,null,null,null,null,null,null,null,null,null,null,null,null,null,77]
[null,null,"2021-07-11",{"$f":"IF(OR(N76=\"\",N76=\"Fyll i vinnare oavgjort\"),\"Vinnare semifinal 1\",N76)","v":"Vinnare semifinal 1"},"-",{"$f":"IF(OR(N77=\"\",N77=\"Fyll i vinnare oavgjort\"),\"Vinnare semifinal 2\",N77)","v":"Vinnare semifinal 2"},null,"-",null,{"$f":"IF(OR(ISBLANK(G81),ISBLANK(I81)),\"\",IF(G81>I81,1,IF(G81<I81,2,\"X\")))","v":""},null,null,null,null,null,null,null,null,null,null,null,null,null,null,null,null,null,null,null,{"$f":"C81","v":"2021-07-11"},"Vinnare semifinal 1","-","Vinnare semifinal 2",{"$f":"IF(G81=\"\",\"\",G81)","v":""},"-",{"$f":"IF(I81=\"\",\"\",I81)","v":""},{"$f":"J81","v":""},null,null,null,null,null,null,null,{"$f":"D72","v":"Vinnare åttondel 8"},{"$f":"IF(OR('Resultat & Tabell'!G72=\"\",'Resultat & Tabell'!I72=\"\"),\"\",'Resultat & Tabell'!D72)","v":""},0,0,null,{"$f":"D81","v":"Vinnare semifinal 1"},{"$f":"F81","v":"Vinnare semifinal 2"},null,null,null,null,null,null,null,null,null,null,null,null,null,null,null,null,null,null,null,null,null,null,null,null,null,null,null,null,null,null,null,null,null,null,null,null,null,null,null,null,null,null,null,null,null,null,null,null,null,null,null,null,null,null,null,null,null,null,null,null,null,null,null,null,null,null,null,null,null,null,null,null,null,null,null,null,null,null,null,null,null,null,null,null,null,null,null,null,null,null,null,null,null,null,null,null,null,null,null,null,null,null,null,null,null,null,null,null,null,null,null,null,null,null,null,null,null,null,null,null,null,null,null,null,null,null,null,null,null,null,null,null,null,null,null,null,null,null,null,78]
[null,null,null,null,null,null,null,null,null,null,null,null,null,null,null,null,null,null,null,null,null,null,null,null,null,null,null,null,null,null,null,null,null,null,null,null,null,null,null,null,null,null,null,null,{"$f":"F69","v":"Vinnare åttondel 5"},{"$f":"IF(OR('Resultat & Tabell'!G69=\"\",'Resultat & Tabell'!I69=\"\"),\"\",'Resultat & Tabell'!F69)","v":""},0,0,null,null,null,null,null,null,null,null,null,null,null,null,null,null,null,null,null,null,null,null,null,null,null,null,null,null,null,null,null,null,null,null,null,null,null,null,null,null,null,null,null,null,null,null,null,null,null,null,null,null,null,null,null,null,null,null,null,null,null,null,null,null,null,null,null,null,null,null,null,null,null,null,null,null,null,null,null,null,null,null,null,null,null,null,null,null,null,null,null,null,null,null,null,null,null,null,null,null,null,null,null,null,null,null,null,null,null,null,null,null,null,null,null,null,null,null,null,null,null,null,null,null,null,null,null,null,null,null,null,null,null,null,null,null,null,null,null,null,null,null,null,null,79]
[null,null,null,null,null,null,null,null,null,null,null,null,null,null,null,null,null,null,null,null,null,null,null,null,null,null,null,null,null,null,null,null,null,null,null,null,null,null,null,null,null,null,null,null,{"$f":"F70","v":"Vinnare åttondel 2"},{"$f":"IF(OR('Resultat & Tabell'!G70=\"\",'Resultat & Tabell'!I70=\"\"),\"\",'Resultat & Tabell'!F70)","v":""},0,0,null,null,null,null,null,null,null,null,null,null,null,null,null,null,null,null,null,null,null,null,null,null,null,null,null,null,null,null,null,null,null,null,null,null,null,null,null,null,null,null,null,null,null,null,null,null,null,null,null,null,null,null,null,null,null,null,null,null,null,null,null,null,null,null,null,null,null,null,null,null,null,null,null,null,null,null,null,null,null,null,null,null,null,null,null,null,null,null,null,null,null,null,null,null,null,null,null,null,null,null,null,null,null,null,null,null,null,null,null,null,null,null,null,null,null,null,null,null,null,null,null,null,null,null,null,null,null,null,null,null,null,null,null,null,null,null,null,null,null,null,null,null,80]
[null,null,null,null,null,null,null,null,null,null,null,null,null,null,null,null,null,null,null,null,null,null,null,null,null,null,null,null,null,null,null,null,null,null,null,null,null,null,null,null,null,null,null,null,{"$f":"F71","v":"Vinnare åttondel 1"},{"$f":"IF(OR('Resultat & Tabell'!G71=\"\",'Resultat & Tabell'!I71=\"\"),\"\",'Resultat & Tabell'!F71)","v":""},0,0,null,null,null,null,null,null,null,null,null,null,null,null,null,null,null,null,null,null,null,null,null,null,null,null,null,null,null,null,null,null,null,null,null,null,null,null,null,null,null,null,null,null,null,null,null,null,null,null,null,null,null,null,null,null,null,null,null,null,null,null,null,null,null,null,null,null,null,null,null,null,null,null,null,null,null,null,null,null,null,null,null,null,null,null,null,null,null,null,null,null,null,null,null,null,null,null,null,null,null,null,null,null,null,null,null,null,null,null,null,null,null,null,null,null,null,null,null,null,null,null,null,null,null,null,null,null,null,null,null,null,null,null,null,null,null,null,null,null,null,null,null,null,81]
[null,null,null,null,null,null,null,null,null,null,null,null,null,null,null,null,null,null,null,null,null,null,null,null,null,null,null,null,null,null,null,null,null,null,null,null,null,null,null,null,null,null,null,null,{"$f":"F72","v":"Vinnare åttondel 7"},{"$f":"IF(OR('Resultat & Tabell'!G72=\"\",'Resultat & Tabell'!I72=\"\"),\"\",'Resultat & Tabell'!F72)","v":""},0,0,null,null,null,null,null,null,null,null,null,null,null,null,null,null,null,null,null,null,null,null,null,null,null,null,null,null,null,null,null,null,null,null,null,null,null,null,null,null,null,null,null,null,null,null,null,null,null,null,null,null,null,null,null,null,null,null,null,null,null,null,null,null,null,null,null,null,null,null,null,null,null,null,null,null,null,null,null,null,null,null,null,null,null,null,null,null,null,null,null,null,null,null,null,null,null,null,null,null,null,null,null,null,null,null,null,null,null,null,null,null,null,null,null,null,null,null,null,null,null,null,null,null,null,null,null,null,null,null,null,null,null,null,null,null,null,null,null,null,null,null,null,null,82]
[null,null,null,null,null,null,null,null,null,null,null,null,null,null,null,null,null,null,null,null,null,null,null,null,null,null,null,null,null,null,null,null,null,null,null,null,null,null,null,null,null,null,null,null,null,null,"SUMMA",{"$f":"SUM(AV78:AV85)","v":0},null,null,null,null,null,null,null,null,null,null,null,null,null,null,null,null,null,null,null,null,null,null,null,null,null,null,null,null,null,null,null,null,null,null,null,null,null,null,null,null,null,null,null,null,null,null,null,null,null,null,null,null,null,null,null,null,null,null,null,null,null,null,null,null,null,null,null,null,null,null,null,null,null,null,null,null,null,null,null,null,null,null,null,null,null,null,null,null,null,null,null,null,null,null,null,null,null,null,null,null,null,null,null,null,null,null,null,null,null,null,null,null,null,null,null,null,null,null,null,null,null,null,null,null,null,null,null,null,null,null,null,null,null,null,null,null,null,null,null,null,null,null,83]
[null,null,null,null,null,null,null,null,null,null,null,null,null,null,null,null,null,null,null,null,null,null,null,null,null,null,null,null,null,null,null,null,null,null,null,null,null,null,null,null,null,null,null,null,"Semifinaler",null,null,null,null,null,null,null,null,null,null,null,null,null,null,null,null,null,null,null,null,null,null,null,null,null,null,null,null,null,null,null,null,null,null,null,null,null,null,null,null,null,null,null,null,null,null,null,null,null,null,null,null,null,null,null,null,null,null,null,null,null,null,null,null,null,null,null,null,null,null,null,null,null,null,null,null,null,null,null,null,null,null,null,null,null,null,null,null,null,null,null,null,null,null,null,null,null,null,null,null,null,null,null,null,null,null,null,null,null,null,null,null,null,null,null,null,null,null,null,null,null,null,null,null,null,null,null,null,null,null,null,null,null,null,null,null,null,null,null,null,null,null,null,null,null,84]
[null,null,null,null,null,null,null,null,null,null,null,null,null,null,null,null,null,null,null,null,null,null,null,null,null,null,null,null,null,null,null,null,null,null,null,null,null,null,null,null,null,null,null,null,"Mitt tips","Resultat & tabell","Utfall","Poäng",null,null,null,null,null,null,null,null,null,null,null,null,null,null,null,null,null,null,null,null,null,null,null,null,null,null,null,null,null,null,null,null,null,null,null,null,null,null,null,null,null,null,null,null,null,null,null,null,null,null,null,null,null,null,null,null,null,null,null,null,null,null,null,null,null,null,null,null,null,null,null,null,null,null,null,null,null,null,null,null,null,null,null,null,null,null,null,null,null,null,null,null,null,null,null,null,null,null,null,null,null,null,null,null,null,null,null,null,null,null,null,null,null,null,null,null,null,null,null,null,null,null,null,null,null,null,null,null,null,null,null,null,null,null,null,null,null,null,null,null,null,null,85]
[null,null,null,null,null,null,null,null,null,null,null,null,null,null,null,null,null,null,null,null,null,null,null,null,null,null,null,null,null,null,null,null,null,null,null,null,null,null,null,null,null,null,null,null,{"$f":"D76","v":"Vinnare kvartsfinal 2"},{"$f":"IF(OR('Resultat & Tabell'!G76=\"\",'Resultat & Tabell'!I76=\"\"),\"\",'Resultat & Tabell'!D76)","v":""},{"$f":"IF(ISERROR(VLOOKUP(AS89,$AT$89:$AT$92,1,FALSE)),0,1)","v":0},{"$f":"6*AU89","v":0},null,null,null,null,null,null,null,null,null,null,null,null,null,null,null,null,null,null,null,null,null,null,null,null,null,null,null,null,null,null,null,null,null,null,null,null,null,null,null,null,null,null,null,null,null,null,null,null,null,null,null,null,null,null,null,null,null,null,null,null,null,null,null,null,null,null,null,null,null,null,null,null,null,null,null,null,null,null,null,null,null,null,null,null,null,null,null,null,null,null,null,null,null,null,null,null,null,null,null,null,null,null,null,null,null,null,null,null,null,null,null,null,null,null,null,null,null,null,null,null,null,null,null,null,null,null,null,null,null,null,null,null,null,null,null,null,null,null,null,null,null,null,86]
[null,null,null,null,null,null,null,null,null,null,null,null,null,null,null,null,null,null,null,null,null,null,null,null,null,null,null,null,null,null,null,null,null,null,null,null,null,null,null,null,null,null,null,null,{"$f":"D77","v":"Vinnare kvartsfinal 4"},{"$f":"IF(OR('Resultat & Tabell'!G77=\"\",'Resultat & Tabell'!I77=\"\"),\"\",'Resultat & Tabell'!D77)","v":""},{"$f":"IF(ISERROR(VLOOKUP(AS90,$AT$89:$AT$92,1,FALSE)),0,1)","v":0},{"$f":"6*AU90","v":0},null,null,null,null,null,null,null,null,null,null,null,null,null,null,null,null,null,null,null,null,null,null,null,null,null,null,null,null,null,null,null,null,null,null,null,null,null,null,null,null,null,null,null,null,null,null,null,null,null,null,null,null,null,null,null,null,null,null,null,null,null,null,null,null,null,null,null,null,null,null,null,null,null,null,null,null,null,null,null,null,null,null,null,null,null,null,null,null,null,null,null,null,null,null,null,null,null,null,null,null,null,null,null,null,null,null,null,null,null,null,null,null,null,null,null,null,null,null,null,null,null,null,null,null,null,null,null,null,null,null,null,null,null,null,null,null,null,null,null,null,null,null,87]
[null,null,null,null,null,null,null,null,null,null,null,null,null,null,null,null,null,null,null,null,null,null,null,null,null,null,null,null,null,null,null,null,null,null,null,null,null,null,null,null,null,null,null,null,{"$f":"F76","v":"Vinnare kvartsfinal 1"},{"$f":"IF(OR('Resultat & Tabell'!G76=\"\",'Resultat & Tabell'!I76=\"\"),\"\",'Resultat & Tabell'!F76)","v":""},0,0,null,null,null,null,null,null,null,null,null,null,null,null,null,null,null,null,null,null,null,null,null,null,null,null,null,null,null,null,null,null,null,null,null,null,null,null,null,null,null,null,null,null,null,null,null,null,null,null,null,null,null,null,null,null,null,null,null,null,null,null,null,null,null,null,null,null,null,null,null,null,null,null,null,null,null,null,null,null,null,null,null,null,null,null,null,null,null,null,null,null,null,null,null,null,null,null,null,null,null,null,null,null,null,null,null,null,null,null,null,null,null,null,null,null,null,null,null,null,null,null,null,null,null,null,null,null,null,null,null,null,null,null,null,null,null,null,null,null,null,null,null,null,88]
[null,null,null,null,null,null,null,null,null,null,null,null,null,null,null,null,null,null,null,null,null,null,null,null,null,null,null,null,null,null,null,null,null,null,null,null,null,null,null,null,null,null,null,null,{"$f":"F77","v":"Vinnare kvartsfinal 3"},{"$f":"IF(OR('Resultat & Tabell'!G77=\"\",'Resultat & Tabell'!I77=\"\"),\"\",'Resultat & Tabell'!F77)","v":""},0,0,null,null,null,null,null,null,null,null,null,null,null,null,null,null,null,null,null,null,null,null,null,null,null,null,null,null,null,null,null,null,null,null,null,null,null,null,null,null,null,null,null,null,null,null,null,null,null,null,null,null,null,null,null,null,null,null,null,null,null,null,null,null,null,null,null,null,null,null,null,null,null,null,null,null,null,null,null,null,null,null,null,null,null,null,null,null,null,null,null,null,null,null,null,null,null,null,null,null,null,null,null,null,null,null,null,null,null,null,null,null,null,null,null,null,null,null,null,null,null,null,null,null,null,null,null,null,null,null,null,null,null,null,null,null,null,null,null,null,null,null,null,null,89]
[null,null,null,null,null,null,null,null,null,null,null,null,null,null,null,null,null,null,null,null,null,null,null,null,null,null,null,null,null,null,null,null,null,null,null,null,null,null,null,null,null,null,null,null,null,null,"SUMMA",{"$f":"SUM(AV89:AV92)","v":0},null,null,null,null,null,null,null,null,null,null,null,null,null,null,null,null,null,null,null,null,null,null,null,null,null,null,null,null,null,null,null,null,null,null,null,null,null,null,null,null,null,null,null,null,null,null,null,null,null,null,null,null,null,null,null,null,null,null,null,null,null,null,null,null,null,null,null,null,null,null,null,null,null,null,null,null,null,null,null,null,null,null,null,null,null,null,null,null,null,null,null,null,null,null,null,null,null,null,null,null,null,null,null,null,null,null,null,null,null,null,null,null,null,null,null,null,null,null,null,null,null,null,null,null,null,null,null,null,null,null,null,null,null,null,null,null,null,null,null,null,null,null,90]
[null,null,null,null,null,null,null,null,null,null,null,null,null,null,null,null,null,null,null,null,null,null,null,null,null,null,null,null,null,null,null,null,null,null,null,null,null,null,null,null,null,null,null,null,"Final",null,null,null,null,null,null,null,null,null,null,null,null,null,null,null,null,null,null,null,null,null,null,null,null,null,null,null,null,null,null,null,null,null,null,null,null,null,null,null,null,null,null,null,null,null,null,null,null,null,null,null,null,null,null,null,null,null,null,null,null,null,null,null,null,null,null,null,null,null,null,null,null,null,null,null,null,null,null,null,null,null,null,null,null,null,null,null,null,null,null,null,null,null,null,null,null,null,null,null,null,null,null,null,null,null,null,null,null,null,null,null,null,null,null,null,null,null,null,null,null,null,null,null,null,null,null,null,null,null,null,null,null,null,null,null,null,null,null,null,null,null,null,null,null,null,91]
[null,null,null,null,null,null,null,null,null,null,null,null,null,null,null,null,null,null,null,null,null,null,null,null,null,null,null,null,null,null,null,null,null,null,null,null,null,null,null,null,null,null,null,null,"Mitt tips","Resultat & tabell","Utfall","Poäng",null,null,null,null,null,null,null,null,null,null,null,null,null,null,null,null,null,null,null,null,null,null,null,null,null,null,null,null,null,null,null,null,null,null,null,null,null,null,null,null,null,null,null,null,null,null,null,null,null,null,null,null,null,null,null,null,null,null,null,null,null,null,null,null,null,null,null,null,null,null,null,null,null,null,null,null,null,null,null,null,null,null,null,null,null,null,null,null,null,null,null,null,null,null,null,null,null,null,null,null,null,null,null,null,null,null,null,null,null,null,null,null,null,null,null,null,null,null,null,null,null,null,null,null,null,null,null,null,null,null,null,null,null,null,null,null,null,null,null,null,null,null,92]
[null,null,null,null,null,null,null,null,null,null,null,null,null,null,null,null,null,null,null,null,null,null,null,null,null,null,null,null,null,null,null,null,null,null,null,null,null,null,null,null,null,null,null,null,{"$f":"D81","v":"Vinnare semifinal 1"},{"$f":"IF(OR('Resultat & Tabell'!G81=\"\",'Resultat & Tabell'!I81=\"\"),\"\",'Resultat & Tabell'!D81)","v":""},{"$f":"IF(ISERROR(VLOOKUP(AS96,$AT$96:$AT$97,1,FALSE)),0,1)","v":0},{"$f":"8*AU96","v":0},null,null,null,null,null,null,null,null,null,null,null,null,null,null,null,null,null,null,null,null,null,null,null,null,null,null,null,null,null,null,null,null,null,null,null,null,null,null,null,null,null,null,null,null,null,null,null,null,null,null,null,null,null,null,null,null,null,null,null,null,null,null,null,null,null,null,null,null,null,null,null,null,null,null,null,null,null,null,null,null,null,null,null,null,null,null,null,null,null,null,null,null,null,null,null,null,null,null,null,null,null,null,null,null,null,null,null,null,null,null,null,null,null,null,null,null,null,null,null,null,null,null,null,null,null,null,null,null,null,null,null,null,null,null,null,null,null,null,null,null,null,null,93]
[null,null,null,null,null,null,null,null,null,null,null,null,null,null,null,null,null,null,null,null,null,null,null,null,null,null,null,null,null,null,null,null,null,null,null,null,null,null,null,null,null,null,null,null,{"$f":"F81","v":"Vinnare semifinal 2"},{"$f":"IF(OR('Resultat & Tabell'!G81=\"\",'Resultat & Tabell'!I81=\"\"),\"\",'Resultat & Tabell'!F81)","v":""},{"$f":"IF(ISERROR(VLOOKUP(AS97,$AT$96:$AT$97,1,FALSE)),0,1)","v":0},{"$f":"8*AU97","v":0},null,null,null,null,null,null,null,null,null,null,null,null,null,null,null,null,null,null,null,null,null,null,null,null,null,null,null,null,null,null,null,null,null,null,null,null,null,null,null,null,null,null,null,null,null,null,null,null,null,null,null,null,null,null,null,null,null,null,null,null,null,null,null,null,null,null,null,null,null,null,null,null,null,null,null,null,null,null,null,null,null,null,null,null,null,null,null,null,null,null,null,null,null,null,null,null,null,null,null,null,null,null,null,null,null,null,null,null,null,null,null,null,null,null,null,null,null,null,null,null,null,null,null,null,null,null,null,null,null,null,null,null,null,null,null,null,null,null,null,null,null,null,94]
[null,null,null,null,null,null,null,null,null,null,null,null,null,null,null,null,null,null,null,null,null,null,null,null,null,null,null,null,null,null,null,null,null,null,null,null,null,null,null,null,null,null,null,null,null,null,"SUMMA",{"$f":"SUM(AV96:AV97)","v":0},null,null,null,null,null,null,null,null,null,null,null,null,null,null,null,null,null,null,null,null,null,null,null,null,null,null,null,null,null,null,null,null,null,null,null,null,null,null,null,null,null,null,null,null,null,null,null,null,null,null,null,null,null,null,null,null,null,null,null,null,null,null,null,null,null,null,null,null,null,null,null,null,null,null,null,null,null,null,null,null,null,null,null,null,null,null,null,null,null,null,null,null,null,null,null,null,null,null,null,null,null,null,null,null,null,null,null,null,null,null,null,null,null,null,null,null,null,null,null,null,null,null,null,null,null,null,null,null,null,null,null,null,null,null,null,null,null,null,null,null,null,null,95]
[null,null,null,null,null,null,null,null,null,null,null,null,null,null,null,null,null,null,null,null,null,null,null,null,null,null,null,null,null,null,null,null,null,null,null,null,null,null,null,null,null,null,null,null,null,null,null,null,null,null,null,null,null,null,null,null,null,null,null,null,null,null,null,null,null,null,null,null,null,null,null,null,null,null,null,null,null,null,null,null,null,null,null,null,null,null,null,null,null,null,null,null,null,null,null,null,null,null,null,null,null,null,null,null,null,null,null,null,null,null,null,null,null,null,null,null,null,null,null,null,null,null,null,null,null,null,null,null,null,null,null,null,null,null,null,null,null,null,null,null,null,null,null,null,null,null,null,null,null,null,null,null,null,null,null,null,null,null,null,null,null,null,null,null,null,null,null,null,null,null,null,null,null,null,null,null,null,null,null,null,null,null,null,null,null,null,null,null,null,null,96]
[null,null,null,null,null,null,null,null,null,null,null,null,null,null,null,null,null,null,null,null,null,null,null,null,null,null,null,null,null,null,null,null,null,null,null,null,null,null,null,null,null,null,null,null,null,null,null,null,null,null,null,null,null,null,null,null,null,null,null,null,null,null,null,null,null,null,null,null,null,null,null,null,null,null,null,null,null,null,null,null,null,null,null,null,null,null,null,null,null,null,null,null,null,null,null,null,null,null,null,null,null,null,null,null,null,null,null,null,null,null,null,null,null,null,null,null,null,null,null,null,null,null,null,null,null,null,null,null,null,null,null,null,null,null,null,null,null,null,null,null,null,null,null,null,null,null,null,null,null,null,null,null,null,null,null,null,null,null,null,null,null,null,null,null,null,null,null,null,null,null,null,null,null,null,null,null,null,null,null,null,null,null,null,null,null,null,null,null,null,null,97]
[null,null,null,null,null,null,null,null,null,null,null,null,null,null,null,null,null,null,null,null,null,null,null,null,null,null,null,null,null,null,null,null,null,null,null,null,null,null,null,null,null,null,null,null,null,null,null,null,null,null,null,null,null,null,null,null,null,null,null,null,null,null,null,null,null,null,null,null,null,null,null,null,null,null,null,null,null,null,null,null,null,null,null,null,null,null,null,null,null,null,null,null,null,null,null,null,null,null,null,null,null,null,null,null,null,null,null,null,null,null,null,null,null,null,null,null,null,null,null,null,null,null,null,null,null,null,null,null,null,null,null,null,null,null,null,null,null,null,null,null,null,null,null,null,null,null,null,null,null,null,null,null,null,null,null,null,null,null,null,null,null,null,null,null,null,null,null,null,null,null,null,null,null,null,null,null,null,null,null,null,null,null,null,null,null,null,null,null,null,null,98]
[null,null,null,null,null,null,null,null,null,null,null,null,null,null,null,null,null,null,null,null,null,null,null,null,null,null,null,null,null,null,null,null,null,null,null,null,null,null,null,null,null,null,null,null,null,null,null,null,null,null,null,null,null,null,null,null,null,null,null,null,null,null,null,null,null,null,null,null,null,null,null,null,null,null,null,null,null,null,null,null,null,null,null,null,null,null,null,null,null,null,null,null,null,null,null,null,null,null,null,null,null,null,null,null,null,null,null,null,null,null,null,null,null,null,null,null,null,null,null,null,null,null,null,null,null,null,null,null,null,null,null,null,null,null,null,null,null,null,null,null,null,null,null,null,null,null,null,null,null,null,null,null,null,null,null,null,null,null,null,null,null,null,null,null,null,null,null,null,null,null,null,null,null,null,null,null,null,null,null,null,null,null,null,null,null,null,null,null,null,null,99]
[null,null,null,null,null,null,null,null,null,null,null,null,null,null,null,null,null,null,null,null,null,null,null,null,null,null,null,null,null,null,null,null,null,null,null,null,null,null,null,null,null,null,null,null,null,null,null,null,null,null,null,null,null,null,null,null,null,null,null,null,null,null,null,null,null,null,null,null,null,null,null,null,null,null,null,null,null,null,null,null,null,null,null,null,null,null,null,null,null,null,null,null,null,null,null,null,null,null,null,null,null,null,null,null,null,null,null,null,null,null,null,null,null,null,null,null,null,null,null,null,null,null,null,null,null,null,null,null,null,null,null,null,null,null,null,null,null,null,null,null,null,null,null,null,null,null,null,null,null,null,null,null,null,null,null,null,null,null,null,null,null,null,null,null,null,null,null,null,null,null,null,null,null,null,null,null,null,null,null,null,null,null,null,null,null,null,null,null,null,null,100]

{"sheet":"Mitt tips","index":2,"n_rows":98,"n_cols":190,"rows_kept":98,"cut":false,"hidden":false,"merged":[[62,11,62,12],[63,11,63,12],[64,11,64,12],[67,11,67,12],[68,11,68,12],[57,11,57,12],[58,11,58,12],[59,11,59,12],[60,11,60,12],[61,11,61,12],[79,33,79,35],[57,15,57,18],[67,15,67,18],[68,15,68,18],[74,15,74,18],[67,30,67,32],[79,30,79,32],[67,33,67,35],[74,30,74,32],[74,33,74,35],[80,15,80,18],[75,15,75,18],[79,15,79,18],[67,3,67,5],[67,6,67,8],[79,3,79,5],[79,6,79,8],[74,3,74,5],[74,6,74,8],[69,11,69,12],[70,11,70,12],[71,11,71,12],[74,11,74,12],[75,11,75,12],[76,11,76,12],[47,3,47,5],[47,6,47,8],[47,30,47,32],[47,33,47,35],[56,3,56,5],[56,6,56,8],[56,30,56,32],[56,33,56,35],[56,15,56,18],[56,11,56,12],[29,3,29,5],[29,6,29,8],[29,30,29,32],[29,33,29,35],[38,3,38,5],[38,6,38,8],[38,30,38,32],[38,33,38,35],[20,3,20,5],[20,6,20,8],[20,30,20,32],[20,33,20,35],[27,29,27,30],[2,3,2,5],[2,6,2,8],[2,30,2,32],[2,33,2,35],[11,3,11,5],[11,6,11,8],[11,30,11,32],[11,33,11,35],[2,23,2,26],[3,23,3,26],[4,23,4,26],[5,23,5,26],[6,23,6,26]]}
[]
[null,null,"Grupp A",null,null,null,null,null,null,null,null,null,null,null,null,null,null,null,null,null,null,null,"Bonusfrågor",null,null,null,null,null,null,"Grupp A",null,null,null,null,null,null,null,null,"Rank 0",null,null,null,null,null,"Rank 1",null,null,null,null,null,"Rank 3",null,null,null,null,null,"Rank 3",null,null,null,null,null,"Rank 4",null,null,null,null,null,null,null,"Rank 0",null,null,null,null,null,null,null,null,null,null,null,"Rank 1",{"$f":"COUNTIF(CB4:CB7,1)","v":4},null,null,null,null,null,null,null,null,null,null,null,null,null,null,null,null,null,null,"Rank 2",{"$f":"COUNTIF(CB4:CB7,2)","v":0},null,null,null,null,null,null,null,null,null,null,null,null,null,null,null,null,null,null,"Rank 3",{"$f":"COUNTIF(CB4:CB7,3)","v":0},null,null,null,null,null,null,null,null,null,null,null,null,null,null,null,null,null,null,"Rank 4",{"$f":"COUNTIF(CB4:CB7,4)","v":0},null,null,null,null,null,null,null,null,null,null,null,null,null,null,null,null,null,null,null,null,null,null,"3rd places",null,null,null,null,null,null,null,null,null,null,null,null,"Check row:",{"$f":"MAX(GH3:GH18)","v":2},"Combo",null,null,null,"B","C","E","F","Valid"]
[null,null,"Datum","Match",null,null,"Resultat",null,null,"Tecken","Poäng",null,null,"Lag","V","O","F","GM","IM","+/-","P",null,"Kategori","Land eller spelare",null,null,null,"Poäng",null,"Datum","Match",null,null,"Resultat",null,null,"Tecken","Poäng","V1","V2","O1","O2","F1","F2","V1","V2","O1","O2","F1","F2","V1","V2","O1","O2","F1","F2","V1","V2","O1","O2","F1","F2","V1","V2","O1","O2","F1","F2",null,null,"Lag","V","O","F","GM","IM","+/-","P","Grupp","Rank P","Rank +/-",null,"Lag","V","O","F","P","Grupp","Rank P","+/-","+/- rank","GM","GM rank","Rank internal","+/- all","+/- rank all","GM all","GM rank all","V all","V rank all","Rank all",null,"Lag","V","O","F","P","Grupp","Rank P","+/-","+/- rank","GM","GM rank","Rank internal","+/- all","+/- rank all","GM all","GM rank all","V all","V rank all","Rank all",null,"Lag","V","O","F","P","Grupp","Rank P","+/-","+/- rank","GM","GM rank","Rank internal","+/- all","+/- rank all","GM all","GM rank all","V all","V rank all","Rank all",null,"Lag","V","O","F","P","Grupp","Rank P","+/-","+/- rank","GM","GM rank","Rank internal","+/- all","+/- rank all","GM all","GM rank all","V all","V rank all","Rank all",null,"Rank","Rank Ties",null,null,"Grupp","Lag","Rank ties","Rank total","Rank mål","Rank +/-","Rank poäng","Poäng","+/-","GM","Grupp","Team through",null,2,"ABCD","A","B","C","D",{"$f":"VLOOKUP(\"A\",FK3:FL9,2,FALSE)","v":"Turkiet"},{"$f":"VLOOKUP(\"D\",FK3:FL9,2,FALSE)","v":"England"},{"$f":"VLOOKUP(\"B\",FK3:FL9,2,FALSE)","v":"Finland"},{"$f":"VLOOKUP(\"C\",FK3:FL9,2,FALSE)","v":"Nord Makedonien"},{"$f":"IFERROR(IF(AND(VLOOKUP(FZ3,FV4:FV9,1,FALSE)=FZ3,VLOOKUP(GA3,FV4:FV9,1,FALSE)=GA3,VLOOKUP(GB3,FV4:FV9,1,FALSE)=GB3,VLOOKUP(GC3,FV4:FV9,1,FALSE)=GC3),FX3,\"\"),\"\")","v":2}]
[null,null,"2021-06-11","Turkiet","-","Italien",null,"-",null,{"$f":"IF(OR(ISBLANK(G4),ISBLANK(I4)),\"\",IF(G4>I4,1,IF(G4<I4,2,\"X\")))","v":""},{"$f":"IF(OR('Resultat & Tabell'!G4=\"\",'Resultat & Tabell'!I4=\"\",G4=\"\",I4=\"\"),0,IF(G4='Resultat & Tabell'!G4,2,0)+IF(I4='Resultat & Tabell'!I4,2,0)+IF(J4='Resultat & Tabell'!J4,3,0))","v":0},{"$f":"IF(VLOOKUP(D4,BS3:CB7,10,FALSE)=VLOOKUP(F4,BS3:CB7,10,FALSE),VLOOKUP(D4,BS3:CB7,10,FALSE),\"-\")","v":1},1,{"$f":"VLOOKUP(M4,FH4:FI7,2,FALSE)","v":"Italien"},{"$f":"VLOOKUP(N4,BS4:BZ7,2,FALSE)","v":0},{"$f":"VLOOKUP(N4,BS4:BZ7,3,FALSE)","v":0},{"$f":"VLOOKUP(N4,BS4:BZ7,4,FALSE)","v":0},{"$f":"VLOOKUP(N4,BS4:BZ7,5,FALSE)","v":0},{"$f":"VLOOKUP(N4,BS4:BZ7,6,FALSE)","v":0},{"$f":"VLOOKUP(N4,BS4:BZ7,7,FALSE)","v":0},{"$f":"VLOOKUP(N4,BS4:BZ7,8,FALSE)","v":0},null,"Europamästare",null,null,null,null,{"$f":"IF(AND('Resultat & Tabell'!X4:X4<>\"\",X4='Resultat & Tabell'!X4:X4),20,0)","v":0},null,{"$f":"C4","v":"2021-06-11"},{"$f":"D4","v":"Turkiet"},{"$f":"E4","v":"-"},{"$f":"F4","v":"Italien"},{"$f":"IF(G4=\"\",\"\",G4)","v":""},"-",{"$f":"IF(I4=\"\",\"\",I4)","v":""},{"$f":"J4","v":""},null,{"$f":"IF(AH4>AJ4,1,0)","v":0},{"$f":"IF(AJ4>AH4,1,0)","v":0},{"$f":"IF(AND(AH4=AJ4,AH4<>\"\"),1,0)","v":0},{"$f":"IF(AND(AH4=AJ4,AH4<>\"\"),1,0)","v":0},{"$f":"IF(AH4<AJ4,1,0)","v":0},{"$f":"IF(AJ4<AH4,1,)","v":0},{"$f":"IF(ISERROR(VLOOKUP(AE4,CE:CE,1,FALSE)),0,1)*IF(ISERROR(VLOOKUP(AG4,CE:CE,1,FALSE)),0,1)*AM4","v":0},{"$f":"IF(ISERROR(VLOOKUP(AE4,CE:CE,1,FALSE)),0,1)*IF(ISERROR(VLOOKUP(AG4,CE:CE,1,FALSE)),0,1)*AN4","v":0},{"$f":"IF(ISERROR(VLOOKUP(AE4,CE:CE,1,FALSE)),0,1)*IF(ISERROR(VLOOKUP(AG4,CE:CE,1,FALSE)),0,1)*AO4","v":0},{"$f":"IF(ISERROR(VLOOKUP(AE4,CE:CE,1,FALSE)),0,1)*IF(ISERROR(VLOOKUP(AG4,CE:CE,1,FALSE)),0,1)*AP4","v":0},{"$f":"IF(ISERROR(VLOOKUP(AE4,CE:CE,1,FALSE)),0,1)*IF(ISERROR(VLOOKUP(AG4,CE:CE,1,FALSE)),0,1)*AQ4","v":0},{"$f":"IF(ISERROR(VLOOKUP(AE4,CE:CE,1,FALSE)),0,1)*IF(ISERROR(VLOOKUP(AG4,CE:CE,1,FALSE)),0,1)*AR4","v":0},{"$f":"IF(ISERROR(VLOOKUP(AE4,CY:CY,1,FALSE)),0,1)*IF(ISERROR(VLOOKUP(AG4,CY:CY,1,FALSE)),0,1)*AM4","v":0},{"$f":"IF(ISERROR(VLOOKUP(AE4,CY:CY,1,FALSE)),0,1)*IF(ISERROR(VLOOKUP(AG4,CY:CY,1,FALSE)),0,1)*AN4","v":0},{"$f":"IF(ISERROR(VLOOKUP(AE4,CY:CY,1,FALSE)),0,1)*IF(ISERROR(VLOOKUP(AG4,CY:CY,1,FALSE)),0,1)*AO4","v":0},{"$f":"IF(ISERROR(VLOOKUP(AE4,CY:CY,1,FALSE)),0,1)*IF(ISERROR(VLOOKUP(AG4,CY:CY,1,FALSE)),0,1)*AP4","v":0},{"$f":"IF(ISERROR(VLOOKUP(AE4,CY:CY,1,FALSE)),0,1)*IF(ISERROR(VLOOKUP(AG4,CY:CY,1,FALSE)),0,1)*AQ4","v":0},{"$f":"IF(ISERROR(VLOOKUP(AE4,CY:CY,1,FALSE)),0,1)*IF(ISERROR(VLOOKUP(AG4,CY:CY,1,FALSE)),0,1)*AR4","v":0},{"$f":"IF(ISERROR(VLOOKUP(AE4,DS:DS,1,FALSE)),0,1)*IF(ISERROR(VLOOKUP(AG4,DS:DS,1,FALSE)),0,1)*AM4","v":0},{"$f":"IF(ISERROR(VLOOKUP(AE4,DS:DS,1,FALSE)),0,1)*IF(ISERROR(VLOOKUP(AG4,DS:DS,1,FALSE)),0,1)*AN4","v":0},{"$f":"IF(ISERROR(VLOOKUP(AE4,DS:DS,1,FALSE)),0,1)*IF(ISERROR(VLOOKUP(AG4,DS:DS,1,FALSE)),0,1)*AO4","v":0},{"$f":"IF(ISERROR(VLOOKUP(AE4,DS:DS,1,FALSE)),0,1)*IF(ISERROR(VLOOKUP(AG4,DS:DS,1,FALSE)),0,1)*AP4","v":0},{"$f":"IF(ISERROR(VLOOKUP(AE4,DS:DS,1,FALSE)),0,1)*IF(ISERROR(VLOOKUP(AG4,DS:DS,1,FALSE)),0,1)*AQ4","v":0},{"$f":"IF(ISERROR(VLOOKUP(AE4,DS:DS,1,FALSE)),0,1)*IF(ISERROR(VLOOKUP(AG4,DS:DS,1,FALSE)),0,1)*AR4","v":0},{"$f":"IF(ISERROR(VLOOKUP(AE4,EM:EM,1,FALSE)),0,1)*IF(ISERROR(VLOOKUP(AG4,EM:EM,1,FALSE)),0,1)*AM4","v":0},{"$f":"IF(ISERROR(VLOOKUP(AE4,EM:EM,1,FALSE)),0,1)*IF(ISERROR(VLOOKUP(AG4,EM:EM,1,FALSE)),0,1)*AN4","v":0},{"$f":"IF(ISERROR(VLOOKUP(AE4,EM:EM,1,FALSE)),0,1)*IF(ISERROR(VLOOKUP(AG4,EM:EM,1,FALSE)),0,1)*AO4","v":0},{"$f":"IF(ISERROR(VLOOKUP(AE4,EM:EM,1,FALSE)),0,1)*IF(ISERROR(VLOOKUP(AG4,EM:EM,1,FALSE)),0,1)*AP4","v":0},{"$f":"IF(ISERROR(VLOOKUP(AE4,EM:EM,1,FALSE)),0,1)*IF(ISERROR(VLOOKUP(AG4,EM:EM,1,FALSE)),0,1)*AQ4","v":0},{"$f":"IF(ISERROR(VLOOKUP(AE4,EM:EM,1,FALSE)),0,1)*IF(ISERROR(VLOOKUP(AG4,EM:EM,1,FALSE)),0,1)*AR4","v":0},null,null,"Italien",{"$f":"(SUMIF(AE4:AE54,BS4,AM4:AM54)+SUMIF(AG4:AG54,BS4,AN4:AN54))","v":0},{"$f":"(SUMIF(AE4:AE54,BS4,AO4:AO54)+SUMIF(AG4:AG54,BS4,AP4:AP54))","v":0},{"$f":"(SUMIF(AE4:AE54,BS4,AQ4:AQ54)+SUMIF(AG4:AG54,BS4,AR4:AR54))","v":0},{"$f":"SUMIF(AE4:AE54,BS4,AH4:AH54)+SUMIF(AG4:AG54,BS4,AJ4:AJ54)","v":0},{"$f":"SUMIF(AE4:AE54,BS4,AJ4:AJ54)+SUMIF(AG4:AG54,BS4,AH4:AH54)","v":0},{"$f":"BW4-BX4","v":0},{"$f":"IFERROR(BT4*3+BU4*1,0)","v":0},"A",{"$f":"RANK(BZ4,BZ4:BZ7)","v":1},{"$f":"SUMPRODUCT((BZ4:BZ7=BZ4)*(BY4:BY7>BY4))","v":0},null,{"$f":"IF(CB4=1,BS4,)","v":"Italien"},{"$f":"(SUMIF(AE4:AE54,BS4,AS4:AS54)+SUMIF(AG4:AG54,BS4,AT4:AT54))","v":0},{"$f":"(SUMIF(AE4:AE54,BS4,AU4:AU54)+SUMIF(AG4:AG54,BS4,AV4:AV54))","v":0},{"$f":"(SUMIF(AE4:AE54,BS4,AW4:AW54)+SUMIF(AG4:AG54,BS4,AX4:AX54))","v":0},{"$f":"IFERROR(CF4*3+CG4*1,0)","v":0},{"$f":"CA4","v":"A"},{"$f":"IF(CE4>0,RANK(CI4,CI4:CI7),)","v":1},{"$f":"IF(AND(CE4>0,COUNTIF(CK4:CK7,CK4)>1),SUMIFS($AH$4:$AH$54,$AE$4:$AE$54,$BS4,$L$4:$L$54,1)+SUMIFS($AJ$4:$AJ$54,$AG$4:$AG$54,$BS4,$L$4:$L$54,1)-SUMIFS($AJ$4:$AJ$54,$AE$4:$AE$54,$BS4,$L$4:$L$54,1)-SUMIFS($AH$4:$AH$54,$AG$4:$AG$54,$BS4,$L$4:$L$54,1),)","v":0},{"$f":"IF(AND(CE4>0,COUNTIF(CK4:CK7,CK4)>1),CK4+RANK(CL4,CL4:CL7)-1,CK4)","v":1},{"$f":"IF(AND(CE4>0,COUNTIF(CM4:CM7,CM4)>1),SUMIFS($AH$4:$AH$54,$AE$4:$AE$54,$BS4,$L$4:$L$54,1)+SUMIFS($AJ$4:$AJ$54,$AG$4:$AG$54,$BS4,$L$4:$L$54,1),)","v":0},{"$f":"IF(AND(CE4>0,COUNTIF(CM4:CM7,CM4)>1),CM4+RANK(CN4,CN4:CN7)-1,CM4)","v":1},{"$f":"IF(CO4=0,\"\",CO4)","v":1},{"$f":"IF(OR(CP4=\"\",COUNTIF(CP4:CP7,CP4)=1),\"\",$BY4)","v":0},{"$f":"IF(CP4=\"\",\"\",IF(COUNTIF(CP4:CP7,CP4)=1,CP4,CP4+RANK(CQ4,CQ4:CQ7,0)-1))","v":1},{"$f":"IF(OR(CR4=\"\",COUNTIF(CR4:CR7,CR4)=1),\"\",$BW4)","v":0},{"$f":"IF(CP4=\"\",\"\",IF(COUNTIF(CR4:CR7,CR4)=1,CR4,CR4+RANK(CS4,CS4:CS7,0)-1))","v":1},{"$f":"IF(OR(CT4=\"\",COUNTIF(CT4:CT7,CT4)=1),\"\",$BT4)","v":0},{"$f":"IF(CP4=\"\",\"\",IF(COUNTIF(CT4:CT7,CT4)=1,CT4,CT4+RANK(CU4,CU4:CU7,0)-1))","v":1},{"$f":"IF(CE4>0,BL2+RANK(CV4,CV4:CV7,1),)","v":1},null,{"$f":"IF(CB4=2,BS4,)","v":0},{"$f":"(SUMIF(AE4:AE54,BS4,AY4:AY54)+SUMIF(AG4:AG54,BS4,AZ4:AZ54))","v":0},{"$f":"(SUMIF(AE4:AE54,BS4,BA4:BA54)+SUMIF(AG4:AG54,BS4,BB4:BB54))","v":0},{"$f":"(SUMIF(AE4:AE54,BS4,BC4:BC54)+SUMIF(AG4:AG54,BS4,BD4:BD54))","v":0},{"$f":"IFERROR(CZ4*3+DA4*1,0)","v":0},{"$f":"CA4","v":"A"},{"$f":"IF(CY4>0,RANK(DC4,DC4:DC7)+CF2,)","v":0},{"$f":"IF(AND(CY4>0,COUNTIF(DE4:DE7,DE4)>1),SUMIFS($AH$4:$AH$54,$AE$4:$AE$54,$BS4,$L$4:$L$54,2)+SUMIFS($AJ$4:$AJ$54,$AG$4:$AG$54,$BS4,$L$4:$L$54,2)-SUMIFS($AJ$4:$AJ$54,$AE$4:$AE$54,$BS4,$L$4:$L$54,2)-SUMIFS($AH$4:$AH$54,$AG$4:$AG$54,$BS4,$L$4:$L$54,2),)","v":0},{"$f":"IF(AND(CY4>0,COUNTIF(DE4:DE7,DE4)>1),DE4+RANK(DF4,DF4:DF7)-1,DE4)","v":0},{"$f":"IF(AND(CY4>0,COUNTIF(DG4:DG7,DG4)>1),SUMIFS($AH$4:$AH$54,$AE$4:$AE$54,$BS4,$L$4:$L$54,2)+SUMIFS($AJ$4:$AJ$54,$AG$4:$AG$54,$BS4,$L$4:$L$54,2),)","v":0},{"$f":"IF(AND(CY4>0,COUNTIF(DG4:DG7,DG4)>1),DG4+RANK(DH4,DH4:DH7)-1,DG4)","v":0},{"$f":"IF(DI4=0,\"\",DI4)","v":""},{"$f":"IF(OR(DJ4=\"\",COUNTIF(DJ4:DJ7,DJ4)=1),\"\",$BY4)","v":""},{"$f":"IF(DJ4=\"\",\"\",IF(COUNTIF(DJ4:DJ7,DJ4)=1,DJ4,DJ4+RANK(DK4,DK4:DK7,0)-1))","v":""},{"$f":"IF(OR(DL4=\"\",COUNTIF(DL4:DL7,DL4)=1),\"\",$BW4)","v":""},{"$f":"IF(DJ4=\"\",\"\",IF(COUNTIF(DL4:DL7,DL4)=1,DL4,DL4+RANK(DM4,DM4:DM7,0)-1))","v":""},{"$f":"IF(OR(DN4=\"\",COUNTIF(DN4:DN7,DN4)=1),\"\",$BT4)","v":""},{"$f":"IF(DJ4=\"\",\"\",IF(COUNTIF(DN4:DN7,DN4)=1,DN4,DN4+RANK(DO4,DO4:DO7,0)-1))","v":""},{"$f":"IF(CY4>0,CF2+RANK(DP4,DP4:DP7,1),)","v":0},null,{"$f":"IF(CB4=3,BS4,)","v":0},{"$f":"(SUMIF(AE4:AE54,BS4,BE4:BE54)+SUMIF(AG4:AG54,BS4,BF4:BF54))","v":0},{"$f":"(SUMIF(AE4:AE54,BS4,BG4:BG54)+SUMIF(AG4:AG54,BS4,BH4:BH54))","v":0},{"$f":"(SUMIF(AE4:AE54,BS4,BI4:BI54)+SUMIF(AG4:AG54,BS4,BJ4:BJ54))","v":0},{"$f":"IFERROR(DT4*3+DU4*1,0)","v":0},{"$f":"CA4","v":"A"},{"$f":"IF(DS4>0,RANK(DW4,DW4:DW7)+CF2+CZ2,)","v":0},{"$f":"IF(AND(DS4>0,COUNTIF(DY4:DY7,DY4)>1),SUMIFS($AH$4:$AH$54,$AE$4:$AE$54,$BS4,$L$4:$L$54,3)+SUMIFS($AJ$4:$AJ$54,$AG$4:$AG$54,$BS4,$L$4:$L$54,3)-SUMIFS($AJ$4:$AJ$54,$AE$4:$AE$54,$BS4,$L$4:$L$54,3)-SUMIFS($AH$4:$AH$54,$AG$4:$AG$54,$BS4,$L$4:$L$54,3),)","v":0},{"$f":"IF(AND(DS4>0,COUNTIF(DY4:DY7,DY4)>1),DY4+RANK(DZ4,DZ4:DZ7)-1,DY4)","v":0},{"$f":"IF(AND(DS4>0,COUNTIF(EA4:EA7,EA4)>1),SUMIFS($AH$4:$AH$54,$AE$4:$AE$54,$BS4,$L$4:$L$54,3)+SUMIFS($AJ$4:$AJ$54,$AG$4:$AG$54,$BS4,$L$4:$L$54,3),)","v":0},{"$f":"IF(AND(DS4>0,COUNTIF(EA4:EA7,EA4)>1),EA4+RANK(EB4,EB4:EB7)-1,EA4)","v":0},{"$f":"IF(EC4=0,\"\",EC4)","v":""},{"$f":"IF(OR(ED4=\"\",COUNTIF(ED4:ED7,ED4)=1),\"\",$BY4)","v":""},{"$f":"IF(ED4=\"\",\"\",IF(COUNTIF(ED4:ED7,ED4)=1,ED4,ED4+RANK(EE4,EE4:EE7,0)-1))","v":""},{"$f":"IF(OR(EF4=\"\",COUNTIF(EF4:EF7,EF4)=1),\"\",$BW4)","v":""},{"$f":"IF(ED4=\"\",\"\",IF(COUNTIF(EF4:EF7,EF4)=1,EF4,EF4+RANK(EG4,EG4:EG7,0)-1))","v":""},{"$f":"IF(OR(EH4=\"\",COUNTIF(EH4:EH7,EH4)=1),\"\",$BT4)","v":""},{"$f":"IF(ED4=\"\",\"\",IF(COUNTIF(EH4:EH7,EH4)=1,EH4,EH4+RANK(EI4,EI4:EI7,0)-1))","v":""},{"$f":"IF(DS4>0,CF2+CZ2+RANK(EJ4,EJ4:EJ7,1),)","v":0},null,{"$f":"IF(CB4=4,BS4,)","v":0},{"$f":"(SUMIF(AE4:AE54,BS4,BK4:BK54)+SUMIF(AG4:AG54,BS4,BL4:BL54))","v":0},{"$f":"(SUMIF(AE4:AE54,BS4,BM4:BM54)+SUMIF(AG4:AG54,BS4,BN4:BN54))","v":0},{"$f":"(SUMIF(AE4:AE54,BS4,BO4:BO54)+SUMIF(AG4:AG54,BS4,BP4:BP54))","v":0},{"$f":"IFERROR(EN4*3+EO4*1,0)","v":0},{"$f":"CA4","v":"A"},{"$f":"IF(EM4>0,RANK(EQ4,EQ4:EQ7)+CF2+CZ2+DT2,)","v":0},{"$f":"IF(AND(EM4>0,COUNTIF(ES4:ES7,ES4)>1),SUMIFS($AH$4:$AH$54,$AE$4:$AE$54,$BS4,$L$4:$L$54,4)+SUMIFS($AJ$4:$AJ$54,$AG$4:$AG$54,$BS4,$L$4:$L$54,4)-SUMIFS($AJ$4:$AJ$54,$AE$4:$AE$54,$BS4,$L$4:$L$54,4)-SUMIFS($AH$4:$AH$54,$AG$4:$AG$54,$BS4,$L$4:$L$54,4),)","v":0},{"$f":"IF(AND(EM4>0,COUNTIF(ES4:ES7,ES4)>1),ES4+RANK(ET4,ET4:ET7)-1,ES4)","v":0},{"$f":"IF(AND(EM4>0,COUNTIF(EU4:EU7,EU4)>1),SUMIFS($AH$4:$AH$54,$AE$4:$AE$54,$BS4,$L$4:$L$54,4)+SUMIFS($AJ$4:$AJ$54,$AG$4:$AG$54,$BS4,$L$4:$L$54,4),)","v":0},{"$f":"IF(AND(EM4>0,COUNTIF(EU4:EU7,EU4)>1),EU4+RANK(EV4,EV4:EV7)-1,EU4)","v":0},{"$f":"IF(EW4=0,\"\",EW4)","v":""},{"$f":"IF(OR(EX4=\"\",COUNTIF(EX4:EX7,EX4)=1),\"\",$BY4)","v":""},{"$f":"IF(EX4=\"\",\"\",IF(COUNTIF(EX4:EX7,EX4)=1,EX4,EX4+RANK(EY4,EY4:EY7,0)-1))","v":""},{"$f":"IF(OR(EZ4=\"\",COUNTIF(EZ4:EZ7,EZ4)=1),\"\",$BW4)","v":""},{"$f":"IF(EX4=\"\",\"\",IF(COUNTIF(EZ4:EZ7,EZ4)=1,EZ4,EZ4+RANK(FA4,FA4:FA7,0)-1))","v":""},{"$f":"IF(OR(FB4=\"\",COUNTIF(FB4:FB7,FB4)=1),\"\",$BT4)","v":""},{"$f":"IF(EX4=\"\",\"\",IF(COUNTIF(FB4:FB7,FB4)=1,FB4,FB4+RANK(FC4,FC4:FC7,0)-1))","v":""},{"$f":"IF(EM4>0,CF2+CZ2+DT2+RANK(FD4,FD4:FD7,1),)","v":0},null,{"$f":"IFERROR(VLOOKUP(FI4,CE3:CW7,19,FALSE),IFERROR(VLOOKUP(FI4,CY3:DQ7,19,FALSE),IFERROR(VLOOKUP(FI4,DS3:EK7,19,FALSE),VLOOKUP(FI4,EM3:FE7,19,FALSE))))","v":1},{"$f":"RANK(FG4,FG4:FG7,1)+COUNTIF(FG4:FG4,FG4)-1","v":1},{"$f":"BS4","v":"Italien"},null,"A",{"$f":"N6","v":"Turkiet"},{"$f":"RANK(FN4,FN4:FN9,1)+COUNTIF(FN4:FN4,FN4)-1","v":1},{"$f":"FQ4+FP4+FO4","v":1},{"$f":"SUMPRODUCT((FR4:FR9=FR4)*(FS4:FS9=FS4)*(FT4:FT9>FT4))","v":0},{"$f":"SUMPRODUCT((FR4:FR9=FR4)*(FS4:FS9>FS4))","v":0},{"$f":"RANK(FR4,FR4:FR9)","v":1},{"$f":"U6","v":0},{"$f":"T6","v":0},{"$f":"R6","v":0},"A",{"$f":"IF(FM4<5,FU4,)","v":"A"},null,3,"ABCE","A","B","C","E",{"$f":"VLOOKUP(\"A\",FK3:FL9,2,FALSE)","v":"Turkiet"},{"$f":"VLOOKUP(\"E\",FK3:FL9,2,FALSE)","v":"Spanien"},{"$f":"VLOOKUP(\"B\",FK3:FL9,2,FALSE)","v":"Finland"},{"$f":"VLOOKUP(\"C\",FK3:FL9,2,FALSE)","v":"Nord Makedonien"},{"$f":"IFERROR(IF(AND(VLOOKUP(FZ4,FV4:FV9,1,FALSE)=FZ4,VLOOKUP(GA4,FV4:FV9,1,FALSE)=GA4,VLOOKUP(GB4,FV4:FV9,1,FALSE)=GB4,VLOOKUP(GC4,FV4:FV9,1,FALSE)=GC4),FX4,\"\"),\"\")","v":""}]
[null,null,"2021-06-12","Wales","-","Schweiz",null,"-",null,{"$f":"IF(OR(ISBLANK(G5),ISBLANK(I5)),\"\",IF(G5>I5,1,IF(G5<I5,2,\"X\")))","v":""},{"$f":"IF(OR('Resultat & Tabell'!G5=\"\",'Resultat & Tabell'!I5=\"\",G5=\"\",I5=\"\"),0,IF(G5='Resultat & Tabell'!G5,2,0)+IF(I5='Resultat & Tabell'!I5,2,0)+IF(J5='Resultat & Tabell'!J5,3,0))","v":0},{"$f":"IF(VLOOKUP(D5,BS3:CB7,10,FALSE)=VLOOKUP(F5,BS3:CB7,10,FALSE),VLOOKUP(D5,BS3:CB7,10,FALSE),\"-\")","v":1},2,{"$f":"VLOOKUP(M5,FH4:FI7,2,FALSE)","v":"Schweiz"},{"$f":"VLOOKUP(N5,BS4:BZ7,2,FALSE)","v":0},{"$f":"VLOOKUP(N5,BS4:BZ7,3,FALSE)","v":0},{"$f":"VLOOKUP(N5,BS4:BZ7,4,FALSE)","v":0},{"$f":"VLOOKUP(N5,BS4:BZ7,5,FALSE)","v":0},{"$f":"VLOOKUP(N5,BS4:BZ7,6,FALSE)","v":0},{"$f":"VLOOKUP(N5,BS4:BZ7,7,FALSE)","v":0},{"$f":"VLOOKUP(N5,BS4:BZ7,8,FALSE)","v":0},null,"Skyttekung",null,null,null,null,{"$f":"IF(AND('Resultat & Tabell'!X5:X5<>\"\",X5='Resultat & Tabell'!X5:X5),20,0)","v":0},null,{"$f":"C5","v":"2021-06-12"},"Wales","-","Schweiz",{"$f":"IF(G5=\"\",\"\",G5)","v":""},"-","","",null,{"$f":"IF(AH5>AJ5,1,0)","v":0},{"$f":"IF(AJ5>AH5,1,0)","v":0},{"$f":"IF(AND(AH5=AJ5,AH5<>\"\"),1,0)","v":0},{"$f":"IF(AND(AH5=AJ5,AH5<>\"\"),1,0)","v":0},{"$f":"IF(AH5<AJ5,1,0)","v":0},{"$f":"IF(AJ5<AH5,1,)","v":0},0,0,0,0,0,0,0,0,0,0,0,0,0,0,0,0,0,0,0,0,0,0,0,0,null,null,"Schweiz",{"$f":"(SUMIF(AE4:AE54,BS5,AM4:AM54)+SUMIF(AG4:AG54,BS5,AN4:AN54))","v":0},{"$f":"(SUMIF(AE4:AE54,BS5,AO4:AO54)+SUMIF(AG4:AG54,BS5,AP4:AP54))","v":0},{"$f":"(SUMIF(AE4:AE54,BS5,AQ4:AQ54)+SUMIF(AG4:AG54,BS5,AR4:AR54))","v":0},{"$f":"SUMIF(AE4:AE54,BS5,AH4:AH54)+SUMIF(AG4:AG54,BS5,AJ4:AJ54)","v":0},{"$f":"SUMIF(AE4:AE54,BS5,AJ4:AJ54)+SUMIF(AG4:AG54,BS5,AH4:AH54)","v":0},{"$f":"BW5-BX5","v":0},{"$f":"IFERROR(BT5*3+BU5*1,0)","v":0},"A",{"$f":"RANK(BZ5,BZ4:BZ7)","v":1},{"$f":"SUMPRODUCT((BZ4:BZ7=BZ5)*(BY4:BY7>BY5))","v":0},null,{"$f":"IF(CB5=1,BS5,)","v":"Schweiz"},{"$f":"(SUMIF(AE4:AE54,BS5,AS4:AS54)+SUMIF(AG4:AG54,BS5,AT4:AT54))","v":0},{"$f":"(SUMIF(AE4:AE54,BS5,AU4:AU54)+SUMIF(AG4:AG54,BS5,AV4:AV54))","v":0},{"$f":"(SUMIF(AE4:AE54,BS5,AW4:AW54)+SUMIF(AG4:AG54,BS5,AX4:AX54))","v":0},{"$f":"IFERROR(CF5*3+CG5*1,0)","v":0},{"$f":"CA5","v":"A"},{"$f":"IF(CE5>0,RANK(CI5,CI4:CI7),)","v":1},{"$f":"IF(AND(CE5>0,COUNTIF(CK4:CK7,CK5)>1),SUMIFS($AH$4:$AH$54,$AE$4:$AE$54,BS5,$L$4:$L$54,1)+SUMIFS($AJ$4:$AJ$54,$AG$4:$AG$54,BS5,$L$4:$L$54,1)-SUMIFS($AJ$4:$AJ$54,$AE$4:$AE$54,BS5,$L$4:$L$54,1)-SUMIFS($AH$4:$AH$54,$AG$4:$AG$54,BS5,$L$4:$L$54,1),)","v":0},{"$f":"IF(AND(CE5>0,COUNTIF(CK4:CK7,CK5)>1),CK5+RANK(CL5,CL4:CL7)-1,CK5)","v":1},{"$f":"IF(AND(CE5>0,COUNTIF(CM4:CM7,CM5)>1),SUMIFS($AH$4:$AH$54,$AE$4:$AE$54,BS5,$L$4:$L$54,1)+SUMIFS($AJ$4:$AJ$54,$AG$4:$AG$54,BS5,$L$4:$L$54,1),)","v":0},{"$f":"IF(AND(CE5>0,COUNTIF(CM4:CM7,CM5)>1),CM5+RANK(CN5,CN4:CN7)-1,CM5)","v":1},{"$f":"IF(CO5=0,\"\",CO5)","v":1},{"$f":"IF(OR(CP5=\"\",COUNTIF(CP4:CP7,CP5)=1),\"\",$BY5)","v":0},{"$f":"IF(CP5=\"\",\"\",IF(COUNTIF(CP4:CP7,CP5)=1,CP5,CP5+RANK(CQ5,CQ4:CQ7,0)-1))","v":1},{"$f":"IF(OR(CR5=\"\",COUNTIF(CR4:CR7,CR5)=1),\"\",$BW5)","v":0},{"$f":"IF(CP5=\"\",\"\",IF(COUNTIF(CR4:CR7,CR5)=1,CR5,CR5+RANK(CS5,CS4:CS7,0)-1))","v":1},{"$f":"IF(OR(CT5=\"\",COUNTIF(CT4:CT7,CT5)=1),\"\",$BT5)","v":0},{"$f":"IF(CP5=\"\",\"\",IF(COUNTIF(CT4:CT7,CT5)=1,CT5,CT5+RANK(CU5,CU4:CU7,0)-1))","v":1},{"$f":"IF(CE5>0,BL2+RANK(CV5,CV4:CV7,1),)","v":1},null,{"$f":"IF(CB5=2,BS5,)","v":0},{"$f":"(SUMIF(AE4:AE54,BS5,AY4:AY54)+SUMIF(AG4:AG54,BS5,AZ4:AZ54))","v":0},{"$f":"(SUMIF(AE4:AE54,BS5,BA4:BA54)+SUMIF(AG4:AG54,BS5,BB4:BB54))","v":0},{"$f":"(SUMIF(AE4:AE54,BS5,BC4:BC54)+SUMIF(AG4:AG54,BS5,BD4:BD54))","v":0},{"$f":"IFERROR(CZ5*3+DA5*1,0)","v":0},{"$f":"CA5","v":"A"},{"$f":"IF(CY5>0,RANK(DC5,DC4:DC7)+CF2,)","v":0},{"$f":"IF(AND(CY5>0,COUNTIF(DE4:DE7,DE5)>1),SUMIFS($AH$4:$AH$54,$AE$4:$AE$54,BS5,$L$4:$L$54,2)+SUMIFS($AJ$4:$AJ$54,$AG$4:$AG$54,BS5,$L$4:$L$54,2)-SUMIFS($AJ$4:$AJ$54,$AE$4:$AE$54,BS5,$L$4:$L$54,2)-SUMIFS($AH$4:$AH$54,$AG$4:$AG$54,BS5,$L$4:$L$54,2),)","v":0},{"$f":"IF(AND(CY5>0,COUNTIF(DE4:DE7,DE5)>1),DE5+RANK(DF5,DF4:DF7)-1,DE5)","v":0},{"$f":"IF(AND(CY5>0,COUNTIF(DG4:DG7,DG5)>1),SUMIFS($AH$4:$AH$54,$AE$4:$AE$54,BS5,$L$4:$L$54,2)+SUMIFS($AJ$4:$AJ$54,$AG$4:$AG$54,BS5,$L$4:$L$54,2),)","v":0},{"$f":"IF(AND(CY5>0,COUNTIF(DG4:DG7,DG5)>1),DG5+RANK(DH5,DH4:DH7)-1,DG5)","v":0},{"$f":"IF(DI5=0,\"\",DI5)","v":""},{"$f":"IF(OR(DJ5=\"\",COUNTIF(DJ4:DJ7,DJ5)=1),\"\",$BY5)","v":""},{"$f":"IF(DJ5=\"\",\"\",IF(COUNTIF(DJ4:DJ7,DJ5)=1,DJ5,DJ5+RANK(DK5,DK4:DK7,0)-1))","v":""},{"$f":"IF(OR(DL5=\"\",COUNTIF(DL4:DL7,DL5)=1),\"\",$BW5)","v":""},{"$f":"IF(DJ5=\"\",\"\",IF(COUNTIF(DL4:DL7,DL5)=1,DL5,DL5+RANK(DM5,DM4:DM7,0)-1))","v":""},{"$f":"IF(OR(DN5=\"\",COUNTIF(DN4:DN7,DN5)=1),\"\",$BT5)","v":""},{"$f":"IF(DJ5=\"\",\"\",IF(COUNTIF(DN4:DN7,DN5)=1,DN5,DN5+RANK(DO5,DO4:DO7,0)-1))","v":""},{"$f":"IF(CY5>0,CF2+RANK(DP5,DP4:DP7,1),)","v":0},null,{"$f":"IF(CB5=3,BS5,)","v":0},{"$f":"(SUMIF(AE4:AE54,BS5,BE4:BE54)+SUMIF(AG4:AG54,BS5,BF4:BF54))","v":0},{"$f":"(SUMIF(AE4:AE54,BS5,BG4:BG54)+SUMIF(AG4:AG54,BS5,BH4:BH54))","v":0},{"$f":"(SUMIF(AE4:AE54,BS5,BI4:BI54)+SUMIF(AG4:AG54,BS5,BJ4:BJ54))","v":0},{"$f":"IFERROR(DT5*3+DU5*1,0)","v":0},{"$f":"CA5","v":"A"},{"$f":"IF(DS5>0,RANK(DW5,DW4:DW7)+CF2+CZ2,)","v":0},{"$f":"IF(AND(DS5>0,COUNTIF(DY4:DY7,DY5)>1),SUMIFS($AH$4:$AH$54,$AE$4:$AE$54,BS5,$L$4:$L$54,3)+SUMIFS($AJ$4:$AJ$54,$AG$4:$AG$54,BS5,$L$4:$L$54,3)-SUMIFS($AJ$4:$AJ$54,$AE$4:$AE$54,BS5,$L$4:$L$54,3)-SUMIFS($AH$4:$AH$54,$AG$4:$AG$54,BS5,$L$4:$L$54,3),)","v":0},{"$f":"IF(AND(DS5>0,COUNTIF(DY4:DY7,DY5)>1),DY5+RANK(DZ5,DZ4:DZ7)-1,DY5)","v":0},{"$f":"IF(AND(DS5>0,COUNTIF(EA4:EA7,EA5)>1),SUMIFS($AH$4:$AH$54,$AE$4:$AE$54,BS5,$L$4:$L$54,3)+SUMIFS($AJ$4:$AJ$54,$AG$4:$AG$54,BS5,$L$4:$L$54,3),)","v":0},{"$f":"IF(AND(DS5>0,COUNTIF(EA4:EA7,EA5)>1),EA5+RANK(EB5,EB4:EB7)-1,EA5)","v":0},{"$f":"IF(EC5=0,\"\",EC5)","v":""},{"$f":"IF(OR(ED5=\"\",COUNTIF(ED4:ED7,ED5)=1),\"\",$BY5)","v":""},{"$f":"IF(ED5=\"\",\"\",IF(COUNTIF(ED4:ED7,ED5)=1,ED5,ED5+RANK(EE5,EE4:EE7,0)-1))","v":""},{"$f":"IF(OR(EF5=\"\",COUNTIF(EF4:EF7,EF5)=1),\"\",$BW5)","v":""},{"$f":"IF(ED5=\"\",\"\",IF(COUNTIF(EF4:EF7,EF5)=1,EF5,EF5+RANK(EG5,EG4:EG7,0)-1))","v":""},{"$f":"IF(OR(EH5=\"\",COUNTIF(EH4:EH7,EH5)=1),\"\",$BT5)","v":""},{"$f":"IF(ED5=\"\",\"\",IF(COUNTIF(EH4:EH7,EH5)=1,EH5,EH5+RANK(EI5,EI4:EI7,0)-1))","v":""},{"$f":"IF(DS5>0,CF2+CZ2+RANK(EJ5,EJ4:EJ7,1),)","v":0},null,{"$f":"IF(CB5=4,BS5,)","v":0},{"$f":"(SUMIF(AE4:AE54,BS5,BK4:BK54)+SUMIF(AG4:AG54,BS5,BL4:BL54))","v":0},{"$f":"(SUMIF(AE4:AE54,BS5,BM4:BM54)+SUMIF(AG4:AG54,BS5,BN4:BN54))","v":0},{"$f":"(SUMIF(AE4:AE54,BS5,BO4:BO54)+SUMIF(AG4:AG54,BS5,BP4:BP54))","v":0},{"$f":"IFERROR(EN5*3+EO5*1,0)","v":0},{"$f":"CA5","v":"A"},{"$f":"IF(EM5>0,RANK(EQ5,EQ4:EQ7)+CF2+CZ2+DT2,)","v":0},{"$f":"IF(AND(EM5>0,COUNTIF(ES4:ES7,ES5)>1),SUMIFS($AH$4:$AH$54,$AE$4:$AE$54,BS5,$L$4:$L$54,4)+SUMIFS($AJ$4:$AJ$54,$AG$4:$AG$54,BS5,$L$4:$L$54,4)-SUMIFS($AJ$4:$AJ$54,$AE$4:$AE$54,BS5,$L$4:$L$54,4)-SUMIFS($AH$4:$AH$54,$AG$4:$AG$54,BS5,$L$4:$L$54,4),)","v":0},{"$f":"IF(AND(EM5>0,COUNTIF(ES4:ES7,ES5)>1),ES5+RANK(ET5,ET4:ET7)-1,ES5)","v":0},{"$f":"IF(AND(EM5>0,COUNTIF(EU4:EU7,EU5)>1),SUMIFS($AH$4:$AH$54,$AE$4:$AE$54,BS5,$L$4:$L$54,4)+SUMIFS($AJ$4:$AJ$54,$AG$4:$AG$54,BS5,$L$4:$L$54,4),)","v":0},{"$f":"IF(AND(EM5>0,COUNTIF(EU4:EU7,EU5)>1),EU5+RANK(EV5,EV4:EV7)-1,EU5)","v":0},{"$f":"IF(EW5=0,\"\",EW5)","v":""},{"$f":"IF(OR(EX5=\"\",COUNTIF(EX4:EX7,EX5)=1),\"\",$BY5)","v":""},{"$f":"IF(EX5=\"\",\"\",IF(COUNTIF(EX4:EX7,EX5)=1,EX5,EX5+RANK(EY5,EY4:EY7,0)-1))","v":""},{"$f":"IF(OR(EZ5=\"\",COUNTIF(EZ4:EZ7,EZ5)=1),\"\",$BW5)","v":""},{"$f":"IF(EX5=\"\",\"\",IF(COUNTIF(EZ4:EZ7,EZ5)=1,EZ5,EZ5+RANK(FA5,FA4:FA7,0)-1))","v":""},{"$f":"IF(OR(FB5=\"\",COUNTIF(FB4:FB7,FB5)=1),\"\",$BT5)","v":""},{"$f":"IF(EX5=\"\",\"\",IF(COUNTIF(FB4:FB7,FB5)=1,FB5,FB5+RANK(FC5,FC4:FC7,0)-1))","v":""},{"$f":"IF(EM5>0,CF2+CZ2+DT2+RANK(FD5,FD4:FD7,1),)","v":0},null,{"$f":"IFERROR(VLOOKUP(FI5,CE3:CW7,19,FALSE),IFERROR(VLOOKUP(FI5,CY3:DQ7,19,FALSE),IFERROR(VLOOKUP(FI5,DS3:EK7,19,FALSE),VLOOKUP(FI5,EM3:FE7,19,FALSE))))","v":1},{"$f":"RANK(FG5,FG4:FG7,1)+COUNTIF(FG4:FG5,FG5)-1","v":2},{"$f":"BS5","v":"Schweiz"},null,"B",{"$f":"N15","v":"Finland"},{"$f":"RANK(FN5,FN4:FN9,1)+COUNTIF(FN4:FN5,FN5)-1","v":2},{"$f":"FQ5+FP5+FO5","v":1},{"$f":"SUMPRODUCT((FR4:FR9=FR5)*(FS4:FS9=FS5)*(FT4:FT9>FT5))","v":0},{"$f":"SUMPRODUCT((FR4:FR9=FR5)*(FS4:FS9>FS5))","v":0},{"$f":"RANK(FR5,FR4:FR9)","v":1},{"$f":"U15","v":0},{"$f":"T15","v":0},{"$f":"R15","v":0},"B",{"$f":"IF(FM5<5,FU5,)","v":"B"},null,4,"ABCF","A","B","C","F",{"$f":"VLOOKUP(\"A\",FK3:FL9,2,FALSE)","v":"Turkiet"},{"$f":"VLOOKUP(\"F\",FK3:FL9,2,FALSE)","v":"Ungern"},{"$f":"VLOOKUP(\"B\",FK3:FL9,2,FALSE)","v":"Finland"},{"$f":"VLOOKUP(\"C\",FK3:FL9,2,FALSE)","v":"Nord Makedonien"},{"$f":"IFERROR(IF(AND(VLOOKUP(FZ5,FV4:FV9,1,FALSE)=FZ5,VLOOKUP(GA5,FV4:FV9,1,FALSE)=GA5,VLOOKUP(GB5,FV4:FV9,1,FALSE)=GB5,VLOOKUP(GC5,FV4:FV9,1,FALSE)=GC5),FX5,\"\"),\"\")","v":""}]
[null,null,"2021-06-16","Turkiet","-","Wales",null,"-",null,"",{"$f":"IF(OR('Resultat & Tabell'!G6=\"\",'Resultat & Tabell'!I6=\"\",G6=\"\",I6=\"\"),0,IF(G6='Resultat & Tabell'!G6,2,0)+IF(I6='Resultat & Tabell'!I6,2,0)+IF(J6='Resultat & Tabell'!J6,3,0))","v":0},{"$f":"IF(VLOOKUP(D6,BS3:CB7,10,FALSE)=VLOOKUP(F6,BS3:CB7,10,FALSE),VLOOKUP(D6,BS3:CB7,10,FALSE),\"-\")","v":1},3,{"$f":"VLOOKUP(M6,FH4:FI7,2,FALSE)","v":"Turkiet"},{"$f":"VLOOKUP(N6,BS4:BZ7,2,FALSE)","v":0},{"$f":"VLOOKUP(N6,BS4:BZ7,3,FALSE)","v":0},{"$f":"VLOOKUP(N6,BS4:BZ7,4,FALSE)","v":0},{"$f":"VLOOKUP(N6,BS4:BZ7,5,FALSE)","v":0},{"$f":"VLOOKUP(N6,BS4:BZ7,6,FALSE)","v":0},{"$f":"VLOOKUP(N6,BS4:BZ7,7,FALSE)","v":0},{"$f":"VLOOKUP(N6,BS4:BZ7,8,FALSE)","v":0},null,"Bonusfråga 1",null,null,null,null,{"$f":"IF(AND('Resultat & Tabell'!X6:X6<>\"\",X6='Resultat & Tabell'!X6:X6),20,0)","v":0},null,"2021-06-16","Turkiet","-","Wales","","-","","",null,0,0,0,0,0,0,0,0,0,0,0,0,0,0,0,0,0,0,0,0,0,0,0,0,0,0,0,0,0,0,null,null,"Turkiet",{"$f":"(SUMIF(AE4:AE54,BS6,AM4:AM54)+SUMIF(AG4:AG54,BS6,AN4:AN54))","v":0},{"$f":"(SUMIF(AE4:AE54,BS6,AO4:AO54)+SUMIF(AG4:AG54,BS6,AP4:AP54))","v":0},{"$f":"(SUMIF(AE4:AE54,BS6,AQ4:AQ54)+SUMIF(AG4:AG54,BS6,AR4:AR54))","v":0},{"$f":"SUMIF(AE4:AE54,BS6,AH4:AH54)+SUMIF(AG4:AG54,BS6,AJ4:AJ54)","v":0},{"$f":"SUMIF(AE4:AE54,BS6,AJ4:AJ54)+SUMIF(AG4:AG54,BS6,AH4:AH54)","v":0},0,0,"A",{"$f":"RANK(BZ6,BZ4:BZ7)","v":1},{"$f":"SUMPRODUCT((BZ4:BZ7=BZ6)*(BY4:BY7>BY6))","v":0},null,{"$f":"IF(CB6=1,BS6,)","v":"Turkiet"},{"$f":"(SUMIF(AE4:AE54,BS6,AS4:AS54)+SUMIF(AG4:AG54,BS6,AT4:AT54))","v":0},{"$f":"(SUMIF(AE4:AE54,BS6,AU4:AU54)+SUMIF(AG4:AG54,BS6,AV4:AV54))","v":0},{"$f":"(SUMIF(AE4:AE54,BS6,AW4:AW54)+SUMIF(AG4:AG54,BS6,AX4:AX54))","v":0},0,{"$f":"CA6","v":"A"},{"$f":"IF(CE6>0,RANK(CI6,CI4:CI7),)","v":1},{"$f":"IF(AND(CE6>0,COUNTIF(CK4:CK7,CK6)>1),SUMIFS($AH$4:$AH$54,$AE$4:$AE$54,BS6,$L$4:$L$54,1)+SUMIFS($AJ$4:$AJ$54,$AG$4:$AG$54,BS6,$L$4:$L$54,1)-SUMIFS($AJ$4:$AJ$54,$AE$4:$AE$54,BS6,$L$4:$L$54,1)-SUMIFS($AH$4:$AH$54,$AG$4:$AG$54,BS6,$L$4:$L$54,1),)","v":0},{"$f":"IF(AND(CE6>0,COUNTIF(CK4:CK7,CK6)>1),CK6+RANK(CL6,CL4:CL7)-1,CK6)","v":1},{"$f":"IF(AND(CE6>0,COUNTIF(CM4:CM7,CM6)>1),SUMIFS($AH$4:$AH$54,$AE$4:$AE$54,BS6,$L$4:$L$54,1)+SUMIFS($AJ$4:$AJ$54,$AG$4:$AG$54,BS6,$L$4:$L$54,1),)","v":0},{"$f":"IF(AND(CE6>0,COUNTIF(CM4:CM7,CM6)>1),CM6+RANK(CN6,CN4:CN7)-1,CM6)","v":1},1,{"$f":"IF(OR(CP6=\"\",COUNTIF(CP4:CP7,CP6)=1),\"\",$BY6)","v":0},{"$f":"IF(CP6=\"\",\"\",IF(COUNTIF(CP4:CP7,CP6)=1,CP6,CP6+RANK(CQ6,CQ4:CQ7,0)-1))","v":1},{"$f":"IF(OR(CR6=\"\",COUNTIF(CR4:CR7,CR6)=1),\"\",$BW6)","v":0},{"$f":"IF(CP6=\"\",\"\",IF(COUNTIF(CR4:CR7,CR6)=1,CR6,CR6+RANK(CS6,CS4:CS7,0)-1))","v":1},{"$f":"IF(OR(CT6=\"\",COUNTIF(CT4:CT7,CT6)=1),\"\",$BT6)","v":0},{"$f":"IF(CP6=\"\",\"\",IF(COUNTIF(CT4:CT7,CT6)=1,CT6,CT6+RANK(CU6,CU4:CU7,0)-1))","v":1},{"$f":"IF(CE6>0,BL2+RANK(CV6,CV4:CV7,1),)","v":1},null,{"$f":"IF(CB6=2,BS6,)","v":0},{"$f":"(SUMIF(AE4:AE54,BS6,AY4:AY54)+SUMIF(AG4:AG54,BS6,AZ4:AZ54))","v":0},{"$f":"(SUMIF(AE4:AE54,BS6,BA4:BA54)+SUMIF(AG4:AG54,BS6,BB4:BB54))","v":0},{"$f":"(SUMIF(AE4:AE54,BS6,BC4:BC54)+SUMIF(AG4:AG54,BS6,BD4:BD54))","v":0},0,{"$f":"CA6","v":"A"},{"$f":"IF(CY6>0,RANK(DC6,DC4:DC7)+CF2,)","v":0},{"$f":"IF(AND(CY6>0,COUNTIF(DE4:DE7,DE6)>1),SUMIFS($AH$4:$AH$54,$AE$4:$AE$54,BS6,$L$4:$L$54,2)+SUMIFS($AJ$4:$AJ$54,$AG$4:$AG$54,BS6,$L$4:$L$54,2)-SUMIFS($AJ$4:$AJ$54,$AE$4:$AE$54,BS6,$L$4:$L$54,2)-SUMIFS($AH$4:$AH$54,$AG$4:$AG$54,BS6,$L$4:$L$54,2),)","v":0},{"$f":"IF(AND(CY6>0,COUNTIF(DE4:DE7,DE6)>1),DE6+RANK(DF6,DF4:DF7)-1,DE6)","v":0},{"$f":"IF(AND(CY6>0,COUNTIF(DG4:DG7,DG6)>1),SUMIFS($AH$4:$AH$54,$AE$4:$AE$54,BS6,$L$4:$L$54,2)+SUMIFS($AJ$4:$AJ$54,$AG$4:$AG$54,BS6,$L$4:$L$54,2),)","v":0},{"$f":"IF(AND(CY6>0,COUNTIF(DG4:DG7,DG6)>1),DG6+RANK(DH6,DH4:DH7)-1,DG6)","v":0},"",{"$f":"IF(OR(DJ6=\"\",COUNTIF(DJ4:DJ7,DJ6)=1),\"\",$BY6)","v":""},{"$f":"IF(DJ6=\"\",\"\",IF(COUNTIF(DJ4:DJ7,DJ6)=1,DJ6,DJ6+RANK(DK6,DK4:DK7,0)-1))","v":""},{"$f":"IF(OR(DL6=\"\",COUNTIF(DL4:DL7,DL6)=1),\"\",$BW6)","v":""},{"$f":"IF(DJ6=\"\",\"\",IF(COUNTIF(DL4:DL7,DL6)=1,DL6,DL6+RANK(DM6,DM4:DM7,0)-1))","v":""},{"$f":"IF(OR(DN6=\"\",COUNTIF(DN4:DN7,DN6)=1),\"\",$BT6)","v":""},{"$f":"IF(DJ6=\"\",\"\",IF(COUNTIF(DN4:DN7,DN6)=1,DN6,DN6+RANK(DO6,DO4:DO7,0)-1))","v":""},{"$f":"IF(CY6>0,CF2+RANK(DP6,DP4:DP7,1),)","v":0},null,{"$f":"IF(CB6=3,BS6,)","v":0},{"$f":"(SUMIF(AE4:AE54,BS6,BE4:BE54)+SUMIF(AG4:AG54,BS6,BF4:BF54))","v":0},{"$f":"(SUMIF(AE4:AE54,BS6,BG4:BG54)+SUMIF(AG4:AG54,BS6,BH4:BH54))","v":0},{"$f":"(SUMIF(AE4:AE54,BS6,BI4:BI54)+SUMIF(AG4:AG54,BS6,BJ4:BJ54))","v":0},0,{"$f":"CA6","v":"A"},{"$f":"IF(DS6>0,RANK(DW6,DW4:DW7)+CF2+CZ2,)","v":0},{"$f":"IF(AND(DS6>0,COUNTIF(DY4:DY7,DY6)>1),SUMIFS($AH$4:$AH$54,$AE$4:$AE$54,BS6,$L$4:$L$54,3)+SUMIFS($AJ$4:$AJ$54,$AG$4:$AG$54,BS6,$L$4:$L$54,3)-SUMIFS($AJ$4:$AJ$54,$AE$4:$AE$54,BS6,$L$4:$L$54,3)-SUMIFS($AH$4:$AH$54,$AG$4:$AG$54,BS6,$L$4:$L$54,3),)","v":0},{"$f":"IF(AND(DS6>0,COUNTIF(DY4:DY7,DY6)>1),DY6+RANK(DZ6,DZ4:DZ7)-1,DY6)","v":0},{"$f":"IF(AND(DS6>0,COUNTIF(EA4:EA7,EA6)>1),SUMIFS($AH$4:$AH$54,$AE$4:$AE$54,BS6,$L$4:$L$54,3)+SUMIFS($AJ$4:$AJ$54,$AG$4:$AG$54,BS6,$L$4:$L$54,3),)","v":0},{"$f":"IF(AND(DS6>0,COUNTIF(EA4:EA7,EA6)>1),EA6+RANK(EB6,EB4:EB7)-1,EA6)","v":0},"",{"$f":"IF(OR(ED6=\"\",COUNTIF(ED4:ED7,ED6)=1),\"\",$BY6)","v":""},{"$f":"IF(ED6=\"\",\"\",IF(COUNTIF(ED4:ED7,ED6)=1,ED6,ED6+RANK(EE6,EE4:EE7,0)-1))","v":""},{"$f":"IF(OR(EF6=\"\",COUNTIF(EF4:EF7,EF6)=1),\"\",$BW6)","v":""},{"$f":"IF(ED6=\"\",\"\",IF(COUNTIF(EF4:EF7,EF6)=1,EF6,EF6+RANK(EG6,EG4:EG7,0)-1))","v":""},{"$f":"IF(OR(EH6=\"\",COUNTIF(EH4:EH7,EH6)=1),\"\",$BT6)","v":""},{"$f":"IF(ED6=\"\",\"\",IF(COUNTIF(EH4:EH7,EH6)=1,EH6,EH6+RANK(EI6,EI4:EI7,0)-1))","v":""},{"$f":"IF(DS6>0,CF2+CZ2+RANK(EJ6,EJ4:EJ7,1),)","v":0},null,{"$f":"IF(CB6=4,BS6,)","v":0},{"$f":"(SUMIF(AE4:AE54,BS6,BK4:BK54)+SUMIF(AG4:AG54,BS6,BL4:BL54))","v":0},{"$f":"(SUMIF(AE4:AE54,BS6,BM4:BM54)+SUMIF(AG4:AG54,BS6,BN4:BN54))","v":0},{"$f":"(SUMIF(AE4:AE54,BS6,BO4:BO54)+SUMIF(AG4:AG54,BS6,BP4:BP54))","v":0},0,{"$f":"CA6","v":"A"},{"$f":"IF(EM6>0,RANK(EQ6,EQ4:EQ7)+CF2+CZ2+DT2,)","v":0},{"$f":"IF(AND(EM6>0,COUNTIF(ES4:ES7,ES6)>1),SUMIFS($AH$4:$AH$54,$AE$4:$AE$54,BS6,$L$4:$L$54,4)+SUMIFS($AJ$4:$AJ$54,$AG$4:$AG$54,BS6,$L$4:$L$54,4)-SUMIFS($AJ$4:$AJ$54,$AE$4:$AE$54,BS6,$L$4:$L$54,4)-SUMIFS($AH$4:$AH$54,$AG$4:$AG$54,BS6,$L$4:$L$54,4),)","v":0},{"$f":"IF(AND(EM6>0,COUNTIF(ES4:ES7,ES6)>1),ES6+RANK(ET6,ET4:ET7)-1,ES6)","v":0},{"$f":"IF(AND(EM6>0,COUNTIF(EU4:EU7,EU6)>1),SUMIFS($AH$4:$AH$54,$AE$4:$AE$54,BS6,$L$4:$L$54,4)+SUMIFS($AJ$4:$AJ$54,$AG$4:$AG$54,BS6,$L$4:$L$54,4),)","v":0},{"$f":"IF(AND(EM6>0,COUNTIF(EU4:EU7,EU6)>1),EU6+RANK(EV6,EV4:EV7)-1,EU6)","v":0},"",{"$f":"IF(OR(EX6=\"\",COUNTIF(EX4:EX7,EX6)=1),\"\",$BY6)","v":""},{"$f":"IF(EX6=\"\",\"\",IF(COUNTIF(EX4:EX7,EX6)=1,EX6,EX6+RANK(EY6,EY4:EY7,0)-1))","v":""},{"$f":"IF(OR(EZ6=\"\",COUNTIF(EZ4:EZ7,EZ6)=1),\"\",$BW6)","v":""},{"$f":"IF(EX6=\"\",\"\",IF(COUNTIF(EZ4:EZ7,EZ6)=1,EZ6,EZ6+RANK(FA6,FA4:FA7,0)-1))","v":""},{"$f":"IF(OR(FB6=\"\",COUNTIF(FB4:FB7,FB6)=1),\"\",$BT6)","v":""},{"$f":"IF(EX6=\"\",\"\",IF(COUNTIF(FB4:FB7,FB6)=1,FB6,FB6+RANK(FC6,FC4:FC7,0)-1))","v":""},{"$f":"IF(EM6>0,CF2+CZ2+DT2+RANK(FD6,FD4:FD7,1),)","v":0},null,{"$f":"IFERROR(VLOOKUP(FI6,CE3:CW7,19,FALSE),IFERROR(VLOOKUP(FI6,CY3:DQ7,19,FALSE),IFERROR(VLOOKUP(FI6,DS3:EK7,19,FALSE),VLOOKUP(FI6,EM3:FE7,19,FALSE))))","v":1},{"$f":"RANK(FG6,FG4:FG7,1)+COUNTIF(FG4:FG6,FG6)-1","v":3},{"$f":"BS6","v":"Turkiet"},null,"C",{"$f":"N24","v":"Nord Makedonien"},{"$f":"RANK(FN6,FN4:FN9,1)+COUNTIF(FN4:FN6,FN6)-1","v":3},1,{"$f":"SUMPRODUCT((FR4:FR9=FR6)*(FS4:FS9=FS6)*(FT4:FT9>FT6))","v":0},{"$f":"SUMPRODUCT((FR4:FR9=FR6)*(FS4:FS9>FS6))","v":0},{"$f":"RANK(FR6,FR4:FR9)","v":1},{"$f":"U24","v":0},{"$f":"T24","v":0},{"$f":"R24","v":0},"C","C",null,5,"ABDE","A","B","D","E",{"$f":"VLOOKUP(\"D\",FK3:FL9,2,FALSE)","v":"England"},{"$f":"VLOOKUP(\"E\",FK3:FL9,2,FALSE)","v":"Spanien"},{"$f":"VLOOKUP(\"A\",FK3:FL9,2,FALSE)","v":"Turkiet"},{"$f":"VLOOKUP(\"B\",FK3:FL9,2,FALSE)","v":"Finland"},{"$f":"IFERROR(IF(AND(VLOOKUP(FZ6,FV4:FV9,1,FALSE)=FZ6,VLOOKUP(GA6,FV4:FV9,1,FALSE)=GA6,VLOOKUP(GB6,FV4:FV9,1,FALSE)=GB6,VLOOKUP(GC6,FV4:FV9,1,FALSE)=GC6),FX6,\"\"),\"\")","v":""}]
[null,null,"2021-06-16","Italien","-","Schweiz",null,"-",null,"",{"$f":"IF(OR('Resultat & Tabell'!G7=\"\",'Resultat & Tabell'!I7=\"\",G7=\"\",I7=\"\"),0,IF(G7='Resultat & Tabell'!G7,2,0)+IF(I7='Resultat & Tabell'!I7,2,0)+IF(J7='Resultat & Tabell'!J7,3,0))","v":0},{"$f":"IF(VLOOKUP(D7,BS3:CB7,10,FALSE)=VLOOKUP(F7,BS3:CB7,10,FALSE),VLOOKUP(D7,BS3:CB7,10,FALSE),\"-\")","v":1},4,{"$f":"VLOOKUP(M7,FH4:FI7,2,FALSE)","v":"Wales"},{"$f":"VLOOKUP(N7,BS4:BZ7,2,FALSE)","v":0},{"$f":"VLOOKUP(N7,BS4:BZ7,3,FALSE)","v":0},{"$f":"VLOOKUP(N7,BS4:BZ7,4,FALSE)","v":0},{"$f":"VLOOKUP(N7,BS4:BZ7,5,FALSE)","v":0},{"$f":"VLOOKUP(N7,BS4:BZ7,6,FALSE)","v":0},{"$f":"VLOOKUP(N7,BS4:BZ7,7,FALSE)","v":0},{"$f":"VLOOKUP(N7,BS4:BZ7,8,FALSE)","v":0},null,"Bonusfråga 2",null,null,null,null,{"$f":"IF(AND('Resultat & Tabell'!X7:X7<>\"\",X7='Resultat & Tabell'!X7:X7),20,0)","v":0},null,"2021-06-16","Italien","-","Schweiz","","-","","",null,0,0,0,0,0,0,0,0,0,0,0,0,0,0,0,0,0,0,0,0,0,0,0,0,0,0,0,0,0,0,null,null,"Wales",{"$f":"(SUMIF(AE4:AE54,BS7,AM4:AM54)+SUMIF(AG4:AG54,BS7,AN4:AN54))","v":0},{"$f":"(SUMIF(AE4:AE54,BS7,AO4:AO54)+SUMIF(AG4:AG54,BS7,AP4:AP54))","v":0},{"$f":"(SUMIF(AE4:AE54,BS7,AQ4:AQ54)+SUMIF(AG4:AG54,BS7,AR4:AR54))","v":0},{"$f":"SUMIF(AE4:AE54,BS7,AH4:AH54)+SUMIF(AG4:AG54,BS7,AJ4:AJ54)","v":0},{"$f":"SUMIF(AE4:AE54,BS7,AJ4:AJ54)+SUMIF(AG4:AG54,BS7,AH4:AH54)","v":0},0,0,"A",{"$f":"RANK(BZ7,BZ4:BZ7)","v":1},{"$f":"SUMPRODUCT((BZ4:BZ7=BZ7)*(BY4:BY7>BY7))","v":0},null,{"$f":"IF(CB7=1,BS7,)","v":"Wales"},{"$f":"(SUMIF(AE4:AE54,BS7,AS4:AS54)+SUMIF(AG4:AG54,BS7,AT4:AT54))","v":0},{"$f":"(SUMIF(AE4:AE54,BS7,AU4:AU54)+SUMIF(AG4:AG54,BS7,AV4:AV54))","v":0},{"$f":"(SUMIF(AE4:AE54,BS7,AW4:AW54)+SUMIF(AG4:AG54,BS7,AX4:AX54))","v":0},0,{"$f":"CA7","v":"A"},{"$f":"IF(CE7>0,RANK(CI7,CI4:CI7),)","v":1},{"$f":"IF(AND(CE7>0,COUNTIF(CK4:CK7,CK7)>1),SUMIFS($AH$4:$AH$54,$AE$4:$AE$54,BS7,$L$4:$L$54,1)+SUMIFS($AJ$4:$AJ$54,$AG$4:$AG$54,BS7,$L$4:$L$54,1)-SUMIFS($AJ$4:$AJ$54,$AE$4:$AE$54,BS7,$L$4:$L$54,1)-SUMIFS($AH$4:$AH$54,$AG$4:$AG$54,BS7,$L$4:$L$54,1),)","v":0},{"$f":"IF(AND(CE7>0,COUNTIF(CK4:CK7,CK7)>1),CK7+RANK(CL7,CL4:CL7)-1,CK7)","v":1},{"$f":"IF(AND(CE7>0,COUNTIF(CM4:CM7,CM7)>1),SUMIFS($AH$4:$AH$54,$AE$4:$AE$54,BS7,$L$4:$L$54,1)+SUMIFS($AJ$4:$AJ$54,$AG$4:$AG$54,BS7,$L$4:$L$54,1),)","v":0},{"$f":"IF(AND(CE7>0,COUNTIF(CM4:CM7,CM7)>1),CM7+RANK(CN7,CN4:CN7)-1,CM7)","v":1},1,{"$f":"IF(OR(CP7=\"\",COUNTIF(CP4:CP7,CP7)=1),\"\",$BY7)","v":0},{"$f":"IF(CP7=\"\",\"\",IF(COUNTIF(CP4:CP7,CP7)=1,CP7,CP7+RANK(CQ7,CQ4:CQ7,0)-1))","v":1},{"$f":"IF(OR(CR7=\"\",COUNTIF(CR4:CR7,CR7)=1),\"\",$BW7)","v":0},{"$f":"IF(CP7=\"\",\"\",IF(COUNTIF(CR4:CR7,CR7)=1,CR7,CR7+RANK(CS7,CS4:CS7,0)-1))","v":1},{"$f":"IF(OR(CT7=\"\",COUNTIF(CT4:CT7,CT7)=1),\"\",$BT7)","v":0},{"$f":"IF(CP7=\"\",\"\",IF(COUNTIF(CT4:CT7,CT7)=1,CT7,CT7+RANK(CU7,CU4:CU7,0)-1))","v":1},{"$f":"IF(CE7>0,BL2+RANK(CV7,CV4:CV7,1),)","v":1},null,{"$f":"IF(CB7=2,BS7,)","v":0},{"$f":"(SUMIF(AE4:AE54,BS7,AY4:AY54)+SUMIF(AG4:AG54,BS7,AZ4:AZ54))","v":0},{"$f":"(SUMIF(AE4:AE54,BS7,BA4:BA54)+SUMIF(AG4:AG54,BS7,BB4:BB54))","v":0},{"$f":"(SUMIF(AE4:AE54,BS7,BC4:BC54)+SUMIF(AG4:AG54,BS7,BD4:BD54))","v":0},0,{"$f":"CA7","v":"A"},{"$f":"IF(CY7>0,RANK(DC7,DC4:DC7)+CF2,)","v":0},{"$f":"IF(AND(CY7>0,COUNTIF(DE4:DE7,DE7)>1),SUMIFS($AH$4:$AH$54,$AE$4:$AE$54,BS7,$L$4:$L$54,2)+SUMIFS($AJ$4:$AJ$54,$AG$4:$AG$54,BS7,$L$4:$L$54,2)-SUMIFS($AJ$4:$AJ$54,$AE$4:$AE$54,BS7,$L$4:$L$54,2)-SUMIFS($AH$4:$AH$54,$AG$4:$AG$54,BS7,$L$4:$L$54,2),)","v":0},{"$f":"IF(AND(CY7>0,COUNTIF(DE4:DE7,DE7)>1),DE7+RANK(DF7,DF4:DF7)-1,DE7)","v":0},{"$f":"IF(AND(CY7>0,COUNTIF(DG4:DG7,DG7)>1),SUMIFS($AH$4:$AH$54,$AE$4:$AE$54,BS7,$L$4:$L$54,2)+SUMIFS($AJ$4:$AJ$54,$AG$4:$AG$54,BS7,$L$4:$L$54,2),)","v":0},{"$f":"IF(AND(CY7>0,COUNTIF(DG4:DG7,DG7)>1),DG7+RANK(DH7,DH4:DH7)-1,DG7)","v":0},"",{"$f":"IF(OR(DJ7=\"\",COUNTIF(DJ4:DJ7,DJ7)=1),\"\",$BY7)","v":""},{"$f":"IF(DJ7=\"\",\"\",IF(COUNTIF(DJ4:DJ7,DJ7)=1,DJ7,DJ7+RANK(DK7,DK4:DK7,0)-1))","v":""},{"$f":"IF(OR(DL7=\"\",COUNTIF(DL4:DL7,DL7)=1),\"\",$BW7)","v":""},{"$f":"IF(DJ7=\"\",\"\",IF(COUNTIF(DL4:DL7,DL7)=1,DL7,DL7+RANK(DM7,DM4:DM7,0)-1))","v":""},{"$f":"IF(OR(DN7=\"\",COUNTIF(DN4:DN7,DN7)=1),\"\",$BT7)","v":""},{"$f":"IF(DJ7=\"\",\"\",IF(COUNTIF(DN4:DN7,DN7)=1,DN7,DN7+RANK(DO7,DO4:DO7,0)-1))","v":""},{"$f":"IF(CY7>0,CF2+RANK(DP7,DP4:DP7,1),)","v":0},null,{"$f":"IF(CB7=3,BS7,)","v":0},{"$f":"(SUMIF(AE4:AE54,BS7,BE4:BE54)+SUMIF(AG4:AG54,BS7,BF4:BF54))","v":0},{"$f":"(SUMIF(AE4:AE54,BS7,BG4:BG54)+SUMIF(AG4:AG54,BS7,BH4:BH54))","v":0},{"$f":"(SUMIF(AE4:AE54,BS7,BI4:BI54)+SUMIF(AG4:AG54,BS7,BJ4:BJ54))","v":0},0,{"$f":"CA7","v":"A"},{"$f":"IF(DS7>0,RANK(DW7,DW4:DW7)+CF2+CZ2,)","v":0},{"$f":"IF(AND(DS7>0,COUNTIF(DY4:DY7,DY7)>1),SUMIFS($AH$4:$AH$54,$AE$4:$AE$54,BS7,$L$4:$L$54,3)+SUMIFS($AJ$4:$AJ$54,$AG$4:$AG$54,BS7,$L$4:$L$54,3)-SUMIFS($AJ$4:$AJ$54,$AE$4:$AE$54,BS7,$L$4:$L$54,3)-SUMIFS($AH$4:$AH$54,$AG$4:$AG$54,BS7,$L$4:$L$54,3),)","v":0},{"$f":"IF(AND(DS7>0,COUNTIF(DY4:DY7,DY7)>1),DY7+RANK(DZ7,DZ4:DZ7)-1,DY7)","v":0},{"$f":"IF(AND(DS7>0,COUNTIF(EA4:EA7,EA7)>1),SUMIFS($AH$4:$AH$54,$AE$4:$AE$54,BS7,$L$4:$L$54,3)+SUMIFS($AJ$4:$AJ$54,$AG$4:$AG$54,BS7,$L$4:$L$54,3),)","v":0},{"$f":"IF(AND(DS7>0,COUNTIF(EA4:EA7,EA7)>1),EA7+RANK(EB7,EB4:EB7)-1,EA7)","v":0},"",{"$f":"IF(OR(ED7=\"\",COUNTIF(ED4:ED7,ED7)=1),\"\",$BY7)","v":""},{"$f":"IF(ED7=\"\",\"\",IF(COUNTIF(ED4:ED7,ED7)=1,ED7,ED7+RANK(EE7,EE4:EE7,0)-1))","v":""},{"$f":"IF(OR(EF7=\"\",COUNTIF(EF4:EF7,EF7)=1),\"\",$BW7)","v":""},{"$f":"IF(ED7=\"\",\"\",IF(COUNTIF(EF4:EF7,EF7)=1,EF7,EF7+RANK(EG7,EG4:EG7,0)-1))","v":""},{"$f":"IF(OR(EH7=\"\",COUNTIF(EH4:EH7,EH7)=1),\"\",$BT7)","v":""},{"$f":"IF(ED7=\"\",\"\",IF(COUNTIF(EH4:EH7,EH7)=1,EH7,EH7+RANK(EI7,EI4:EI7,0)-1))","v":""},{"$f":"IF(DS7>0,CF2+CZ2+RANK(EJ7,EJ4:EJ7,1),)","v":0},null,{"$f":"IF(CB7=4,BS7,)","v":0},{"$f":"(SUMIF(AE4:AE54,BS7,BK4:BK54)+SUMIF(AG4:AG54,BS7,BL4:BL54))","v":0},{"$f":"(SUMIF(AE4:AE54,BS7,BM4:BM54)+SUMIF(AG4:AG54,BS7,BN4:BN54))","v":0},{"$f":"(SUMIF(AE4:AE54,BS7,BO4:BO54)+SUMIF(AG4:AG54,BS7,BP4:BP54))","v":0},0,{"$f":"CA7","v":"A"},{"$f":"IF(EM7>0,RANK(EQ7,EQ4:EQ7)+CF2+CZ2+DT2,)","v":0},{"$f":"IF(AND(EM7>0,COUNTIF(ES4:ES7,ES7)>1),SUMIFS($AH$4:$AH$54,$AE$4:$AE$54,BS7,$L$4:$L$54,4)+SUMIFS($AJ$4:$AJ$54,$AG$4:$AG$54,BS7,$L$4:$L$54,4)-SUMIFS($AJ$4:$AJ$54,$AE$4:$AE$54,BS7,$L$4:$L$54,4)-SUMIFS($AH$4:$AH$54,$AG$4:$AG$54,BS7,$L$4:$L$54,4),)","v":0},{"$f":"IF(AND(EM7>0,COUNTIF(ES4:ES7,ES7)>1),ES7+RANK(ET7,ET4:ET7)-1,ES7)","v":0},{"$f":"IF(AND(EM7>0,COUNTIF(EU4:EU7,EU7)>1),SUMIFS($AH$4:$AH$54,$AE$4:$AE$54,BS7,$L$4:$L$54,4)+SUMIFS($AJ$4:$AJ$54,$AG$4:$AG$54,BS7,$L$4:$L$54,4),)","v":0},{"$f":"IF(AND(EM7>0,COUNTIF(EU4:EU7,EU7)>1),EU7+RANK(EV7,EV4:EV7)-1,EU7)","v":0},"",{"$f":"IF(OR(EX7=\"\",COUNTIF(EX4:EX7,EX7)=1),\"\",$BY7)","v":""},{"$f":"IF(EX7=\"\",\"\",IF(COUNTIF(EX4:EX7,EX7)=1,EX7,EX7+RANK(EY7,EY4:EY7,0)-1))","v":""},{"$f":"IF(OR(EZ7=\"\",COUNTIF(EZ4:EZ7,EZ7)=1),\"\",$BW7)","v":""},{"$f":"IF(EX7=\"\",\"\",IF(COUNTIF(EZ4:EZ7,EZ7)=1,EZ7,EZ7+RANK(FA7,FA4:FA7,0)-1))","v":""},{"$f":"IF(OR(FB7=\"\",COUNTIF(FB4:FB7,FB7)=1),\"\",$BT7)","v":""},{"$f":"IF(EX7=\"\",\"\",IF(COUNTIF(FB4:FB7,FB7)=1,FB7,FB7+RANK(FC7,FC4:FC7,0)-1))","v":""},{"$f":"IF(EM7>0,CF2+CZ2+DT2+RANK(FD7,FD4:FD7,1),)","v":0},null,{"$f":"IFERROR(VLOOKUP(FI7,CE3:CW7,19,FALSE),IFERROR(VLOOKUP(FI7,CY3:DQ7,19,FALSE),IFERROR(VLOOKUP(FI7,DS3:EK7,19,FALSE),VLOOKUP(FI7,EM3:FE7,19,FALSE))))","v":1},{"$f":"RANK(FG7,FG4:FG7,1)+COUNTIF(FG4:FG7,FG7)-1","v":4},{"$f":"BS7","v":"Wales"},null,"D",{"$f":"N33","v":"England"},{"$f":"RANK(FN7,FN4:FN9,1)+COUNTIF(FN4:FN7,FN7)-1","v":4},1,{"$f":"SUMPRODUCT((FR4:FR9=FR7)*(FS4:FS9=FS7)*(FT4:FT9>FT7))","v":0},{"$f":"SUMPRODUCT((FR4:FR9=FR7)*(FS4:FS9>FS7))","v":0},{"$f":"RANK(FR7,FR4:FR9)","v":1},{"$f":"U33","v":0},{"$f":"T33","v":0},{"$f":"R33","v":0},"D","D",null,6,"ABDF","A","B","D","F",{"$f":"VLOOKUP(\"D\",FK3:FL9,2,FALSE)","v":"England"},{"$f":"VLOOKUP(\"F\",FK3:FL9,2,FALSE)","v":"Ungern"},{"$f":"VLOOKUP(\"A\",FK3:FL9,2,FALSE)","v":"Turkiet"},{"$f":"VLOOKUP(\"B\",FK3:FL9,2,FALSE)","v":"Finland"},{"$f":"IFERROR(IF(AND(VLOOKUP(FZ7,FV4:FV9,1,FALSE)=FZ7,VLOOKUP(GA7,FV4:FV9,1,FALSE)=GA7,VLOOKUP(GB7,FV4:FV9,1,FALSE)=GB7,VLOOKUP(GC7,FV4:FV9,1,FALSE)=GC7),FX7,\"\"),\"\")","v":""}]
[null,null,"2021-06-20","Italien","-","Wales",null,"-",null,"",{"$f":"IF(OR('Resultat & Tabell'!G8=\"\",'Resultat & Tabell'!I8=\"\",G8=\"\",I8=\"\"),0,IF(G8='Resultat & Tabell'!G8,2,0)+IF(I8='Resultat & Tabell'!I8,2,0)+IF(J8='Resultat & Tabell'!J8,3,0))","v":0},{"$f":"IF(VLOOKUP(D8,BS3:CB7,10,FALSE)=VLOOKUP(F8,BS3:CB7,10,FALSE),VLOOKUP(D8,BS3:CB7,10,FALSE),\"-\")","v":1},null,{"$f":"IF(COUNTBLANK(G4:G9)+COUNTBLANK(I4:I9)=0,\"Resultat OK\",\"Fyll i resultat\")","v":"Fyll i resultat"},null,null,null,null,null,null,null,null,null,null,null,null,null,null,null,"2021-06-20","Italien","-","Wales","","-","","",null,0,0,0,0,0,0,0,0,0,0,0,0,0,0,0,0,0,0,0,0,0,0,0,0,0,0,0,0,0,0,null,null,null,null,null,null,null,null,null,null,null,null,null,null,null,null,null,null,null,null,null,null,null,null,null,null,null,null,null,null,null,null,null,null,null,null,null,null,null,null,null,null,null,null,null,null,null,null,null,null,null,null,null,null,null,null,null,null,null,null,null,null,null,null,null,null,null,null,null,null,null,null,null,null,null,null,null,null,null,null,null,null,null,null,null,null,null,null,null,null,null,null,null,null,null,null,null,null,"E",{"$f":"N42","v":"Spanien"},{"$f":"RANK(FN8,FN4:FN9,1)+COUNTIF(FN4:FN8,FN8)-1","v":5},1,{"$f":"SUMPRODUCT((FR4:FR9=FR8)*(FS4:FS9=FS8)*(FT4:FT9>FT8))","v":0},{"$f":"SUMPRODUCT((FR4:FR9=FR8)*(FS4:FS9>FS8))","v":0},{"$f":"RANK(FR8,FR4:FR9)","v":1},{"$f":"U42","v":0},{"$f":"T42","v":0},{"$f":"R42","v":0},"E",0,null,7,"ABEF","A","B","E","F",{"$f":"VLOOKUP(\"E\",FK3:FL9,2,FALSE)","v":"Spanien"},{"$f":"VLOOKUP(\"F\",FK3:FL9,2,FALSE)","v":"Ungern"},{"$f":"VLOOKUP(\"B\",FK3:FL9,2,FALSE)","v":"Finland"},{"$f":"VLOOKUP(\"A\",FK3:FL9,2,FALSE)","v":"Turkiet"},{"$f":"IFERROR(IF(AND(VLOOKUP(FZ8,FV4:FV9,1,FALSE)=FZ8,VLOOKUP(GA8,FV4:FV9,1,FALSE)=GA8,VLOOKUP(GB8,FV4:FV9,1,FALSE)=GB8,VLOOKUP(GC8,FV4:FV9,1,FALSE)=GC8),FX8,\"\"),\"\")","v":""}]
[null,null,"2021-06-20","Schweiz","-","Turkiet",null,"-",null,"",{"$f":"IF(OR('Resultat & Tabell'!G9=\"\",'Resultat & Tabell'!I9=\"\",G9=\"\",I9=\"\"),0,IF(G9='Resultat & Tabell'!G9,2,0)+IF(I9='Resultat & Tabell'!I9,2,0)+IF(J9='Resultat & Tabell'!J9,3,0))","v":0},{"$f":"IF(VLOOKUP(D9,BS3:CB7,10,FALSE)=VLOOKUP(F9,BS3:CB7,10,FALSE),VLOOKUP(D9,BS3:CB7,10,FALSE),\"-\")","v":1},null,null,null,null,null,null,null,null,null,null,null,null,null,null,null,null,null,"2021-06-20","Schweiz","-","Turkiet","","-","","",null,0,0,0,0,0,0,0,0,0,0,0,0,0,0,0,0,0,0,0,0,0,0,0,0,0,0,0,0,0,0,null,null,null,null,null,null,null,null,null,null,null,null,null,null,null,null,null,null,null,null,null,null,null,null,null,null,null,null,null,null,null,null,null,null,null,null,null,null,null,null,null,null,null,null,null,null,null,null,null,null,null,null,null,null,null,null,null,null,null,null,null,null,null,null,null,null,null,null,null,null,null,null,null,null,null,null,null,null,null,null,null,null,null,null,null,null,null,null,null,null,null,null,null,null,null,null,null,null,"F",{"$f":"N51","v":"Ungern"},{"$f":"RANK(FN9,FN4:FN9,1)+COUNTIF(FN4:FN9,FN9)-1","v":6},1,{"$f":"SUMPRODUCT((FR4:FR9=FR9)*(FS4:FS9=FS9)*(FT4:FT9>FT9))","v":0},{"$f":"SUMPRODUCT((FR4:FR9=FR9)*(FS4:FS9>FS9))","v":0},{"$f":"RANK(FR9,FR4:FR9)","v":1},{"$f":"U51","v":0},{"$f":"T51","v":0},{"$f":"R51","v":0},"F",0,null,8,"ACDE","A","C","D","E",{"$f":"VLOOKUP(\"E\",FK3:FL9,2,FALSE)","v":"Spanien"},{"$f":"VLOOKUP(\"D\",FK3:FL9,2,FALSE)","v":"England"},{"$f":"VLOOKUP(\"C\",FK3:FL9,2,FALSE)","v":"Nord Makedonien"},{"$f":"VLOOKUP(\"A\",FK3:FL9,2,FALSE)","v":"Turkiet"},{"$f":"IFERROR(IF(AND(VLOOKUP(FZ9,FV4:FV9,1,FALSE)=FZ9,VLOOKUP(GA9,FV4:FV9,1,FALSE)=GA9,VLOOKUP(GB9,FV4:FV9,1,FALSE)=GB9,VLOOKUP(GC9,FV4:FV9,1,FALSE)=GC9),FX9,\"\"),\"\")","v":""}]
[null,null,null,null,null,null,null,null,null,null,null,null,null,null,null,null,null,null,null,null,null,null,null,null,null,null,null,null,null,null,null,null,null,null,null,null,null,null,null,null,null,null,null,null,null,null,null,null,null,null,null,null,null,null,null,null,null,null,null,null,null,null,null,null,null,null,null,null,null,null,null,null,null,null,null,null,null,null,null,null,null,null,null,null,null,null,null,null,null,null,null,null,null,null,null,null,null,null,null,null,null,null,null,null,null,null,null,null,null,null,null,null,null,null,null,null,null,null,null,null,null,null,null,null,null,null,null,null,null,null,null,null,null,null,null,null,null,null,null,null,null,null,null,null,null,null,null,null,null,null,null,null,null,null,null,null,null,null,null,null,null,null,null,null,null,null,null,null,null,null,null,null,null,null,null,null,null,null,null,9,"ACDF","A","C","D","F",{"$f":"VLOOKUP(\"F\",FK3:FL9,2,FALSE)","v":"Ungern"},{"$f":"VLOOKUP(\"D\",FK3:FL9,2,FALSE)","v":"England"},{"$f":"VLOOKUP(\"C\",FK3:FL9,2,FALSE)","v":"Nord Makedonien"},{"$f":"VLOOKUP(\"A\",FK3:FL9,2,FALSE)","v":"Turkiet"},{"$f":"IFERROR(IF(AND(VLOOKUP(FZ10,FV4:FV9,1,FALSE)=FZ10,VLOOKUP(GA10,FV4:FV9,1,FALSE)=GA10,VLOOKUP(GB10,FV4:FV9,1,FALSE)=GB10,VLOOKUP(GC10,FV4:FV9,1,FALSE)=GC10),FX10,\"\"),\"\")","v":""}]
[null,null,"Grupp B",null,null,null,null,null,null,null,null,null,null,null,null,null,null,null,null,null,null,null,"Totalpoäng",null,null,null,null,null,null,"Grupp B",null,null,null,null,null,null,null,null,null,null,null,null,null,null,null,null,null,null,null,null,null,null,null,null,null,null,null,null,null,null,null,null,null,null,null,null,null,null,null,null,"Rank 0",null,null,null,null,null,null,null,null,null,null,null,"Rank 1",{"$f":"COUNTIF(CB13:CB16,1)","v":4},null,null,null,null,null,null,null,null,null,null,null,null,null,null,null,null,null,null,"Rank 2",{"$f":"COUNTIF(CB13:CB16,2)","v":0},null,null,null,null,null,null,null,null,null,null,null,null,null,null,null,null,null,null,"Rank 3",{"$f":"COUNTIF(CB13:CB16,3)","v":0},null,null,null,null,null,null,null,null,null,null,null,null,null,null,null,null,null,null,"Rank 4",{"$f":"COUNTIF(CB13:CB16,4)","v":0},null,null,null,null,null,null,null,null,null,null,null,null,null,null,null,null,null,null,null,null,null,null,null,null,null,null,null,null,null,null,null,null,null,null,null,10,"ACEF","A","C","E","F",{"$f":"VLOOKUP(\"E\",FK3:FL9,2,FALSE)","v":"Spanien"},{"$f":"VLOOKUP(\"F\",FK3:FL9,2,FALSE)","v":"Ungern"},{"$f":"VLOOKUP(\"C\",FK3:FL9,2,FALSE)","v":"Nord Makedonien"},{"$f":"VLOOKUP(\"A\",FK3:FL9,2,FALSE)","v":"Turkiet"},{"$f":"IFERROR(IF(AND(VLOOKUP(FZ11,FV4:FV9,1,FALSE)=FZ11,VLOOKUP(GA11,FV4:FV9,1,FALSE)=GA11,VLOOKUP(GB11,FV4:FV9,1,FALSE)=GB11,VLOOKUP(GC11,FV4:FV9,1,FALSE)=GC11),FX11,\"\"),\"\")","v":""}]
[null,null,"Datum","Match",null,null,"Resultat",null,null,"Tecken","Poäng",null,null,"Lag","V","O","F","GM","IM","+/-","P",null,"Kategori","Poäng","Bonus","Totalt",null,null,null,"Datum","Match",null,null,"Resultat",null,null,"Tecken","Poäng","V1","V2","O1","O2","F1","F2","V1","V2","O1","O2","F1","F2","V1","V2","O1","O2","F1","F2","V1","V2","O1","O2","F1","F2","V1","V2","O1","O2","F1","F2",null,null,"Lag","V","O","F","GM","IM","+/-","P","Grupp","Rank P","Rank +/-",null,"Lag","V","O","F","P","Grupp","Rank P","+/-","+/- rank","GM","GM rank","Rank internal","+/- all","+/- rank all","GM all","GM rank all","V all","V rank all","Rank all",null,"Lag","V","O","F","P","Grupp","Rank P","+/-","+/- rank","GM","GM rank","Rank internal","+/- all","+/- rank all","GM all","GM rank all","V all","V rank all","Rank all",null,"Lag","V","O","F","P","Grupp","Rank P","+/-","+/- rank","GM","GM rank","Rank internal","+/- all","+/- rank all","GM all","GM rank all","V all","V rank all","Rank all",null,"Lag","V","O","F","P","Grupp","Rank P","+/-","+/- rank","GM","GM rank","Rank internal","+/- all","+/- rank all","GM all","GM rank all","V all","V rank all","Rank all",null,"Rank","Rank Ties",null,null,null,{"$f":"IF(COUNTBLANK(G4:G9)+COUNTBLANK(I4:I9)+COUNTBLANK(G22:G27)+COUNTBLANK(I22:I27)+COUNTBLANK(G31:G36)+COUNTBLANK(I31:I36)+COUNTBLANK(G40:G45)+COUNTBLANK(I40:I45)+COUNTBLANK(G49:G54)+COUNTBLANK(I49:I54)++COUNTBLANK(G13:G18)+COUNTBLANK(I13:I18)=0,\"Resultat OK\",\"Fyll i resultat\")","v":"Fyll i resultat"},null,null,null,null,null,null,null,null,null,null,null,11,"ADEF","A","D","E","F",{"$f":"VLOOKUP(\"E\",FK3:FL9,2,FALSE)","v":"Spanien"},{"$f":"VLOOKUP(\"F\",FK3:FL9,2,FALSE)","v":"Ungern"},{"$f":"VLOOKUP(\"D\",FK3:FL9,2,FALSE)","v":"England"},{"$f":"VLOOKUP(\"A\",FK3:FL9,2,FALSE)","v":"Turkiet"},{"$f":"IFERROR(IF(AND(VLOOKUP(FZ12,FV4:FV9,1,FALSE)=FZ12,VLOOKUP(GA12,FV4:FV9,1,FALSE)=GA12,VLOOKUP(GB12,FV4:FV9,1,FALSE)=GB12,VLOOKUP(GC12,FV4:FV9,1,FALSE)=GC12),FX12,\"\"),\"\")","v":""}]
[null,null,"2021-06-12","Danmark","-","Finland",null,"-",null,{"$f":"IF(OR(ISBLANK(G13),ISBLANK(I13)),\"\",IF(G13>I13,1,IF(G13<I13,2,\"X\")))","v":""},{"$f":"IF(OR('Resultat & Tabell'!G13=\"\",'Resultat & Tabell'!I13=\"\",G13=\"\",I13=\"\"),0,IF(G13='Resultat & Tabell'!G13,2,0)+IF(I13='Resultat & Tabell'!I13,2,0)+IF(J13='Resultat & Tabell'!J13,3,0))","v":0},{"$f":"IF(VLOOKUP(D13,BS12:CB16,10,FALSE)=VLOOKUP(F13,BS12:CB16,10,FALSE),VLOOKUP(D13,BS12:CB16,10,FALSE),\"-\")","v":1},1,{"$f":"VLOOKUP(M13,FH13:FI16,2,FALSE)","v":"Belgien"},{"$f":"VLOOKUP(N13,BS13:BZ16,2,FALSE)","v":0},{"$f":"VLOOKUP(N13,BS13:BZ16,3,FALSE)","v":0},{"$f":"VLOOKUP(N13,BS13:BZ16,4,FALSE)","v":0},{"$f":"VLOOKUP(N13,BS13:BZ16,5,FALSE)","v":0},{"$f":"VLOOKUP(N13,BS13:BZ16,6,FALSE)","v":0},{"$f":"VLOOKUP(N13,BS13:BZ16,7,FALSE)","v":0},{"$f":"VLOOKUP(N13,BS13:BZ16,8,FALSE)","v":0},null,"Gruppspel",{"$f":"SUM(K4:K9)+SUM(K13:K18)+SUM(K22:K27)+SUM(K31:K36)+SUM(K40:K45)+SUM(K49:K54)","v":0},0,{"$f":"SUM(X13:Y13)","v":0},null,null,null,{"$f":"C13","v":"2021-06-12"},{"$f":"D13","v":"Danmark"},{"$f":"E13","v":"-"},{"$f":"F13","v":"Finland"},{"$f":"IF(G13=\"\",\"\",G13)","v":""},"-",{"$f":"IF(I13=\"\",\"\",I13)","v":""},{"$f":"J13","v":""},null,{"$f":"IF(AH13>AJ13,1,0)","v":0},{"$f":"IF(AJ13>AH13,1,0)","v":0},{"$f":"IF(AND(AH13=AJ13,AH13<>\"\"),1,0)","v":0},{"$f":"IF(AND(AH13=AJ13,AH13<>\"\"),1,0)","v":0},{"$f":"IF(AH13<AJ13,1,0)","v":0},{"$f":"IF(AJ13<AH13,1,)","v":0},{"$f":"IF(ISERROR(VLOOKUP(AE13,CE:CE,1,FALSE)),0,1)*IF(ISERROR(VLOOKUP(AG13,CE:CE,1,FALSE)),0,1)*AM13","v":0},{"$f":"IF(ISERROR(VLOOKUP(AE13,CE:CE,1,FALSE)),0,1)*IF(ISERROR(VLOOKUP(AG13,CE:CE,1,FALSE)),0,1)*AN13","v":0},{"$f":"IF(ISERROR(VLOOKUP(AE13,CE:CE,1,FALSE)),0,1)*IF(ISERROR(VLOOKUP(AG13,CE:CE,1,FALSE)),0,1)*AO13","v":0},{"$f":"IF(ISERROR(VLOOKUP(AE13,CE:CE,1,FALSE)),0,1)*IF(ISERROR(VLOOKUP(AG13,CE:CE,1,FALSE)),0,1)*AP13","v":0},{"$f":"IF(ISERROR(VLOOKUP(AE13,CE:CE,1,FALSE)),0,1)*IF(ISERROR(VLOOKUP(AG13,CE:CE,1,FALSE)),0,1)*AQ13","v":0},{"$f":"IF(ISERROR(VLOOKUP(AE13,CE:CE,1,FALSE)),0,1)*IF(ISERROR(VLOOKUP(AG13,CE:CE,1,FALSE)),0,1)*AR13","v":0},{"$f":"IF(ISERROR(VLOOKUP(AE13,CY:CY,1,FALSE)),0,1)*IF(ISERROR(VLOOKUP(AG13,CY:CY,1,FALSE)),0,1)*AM13","v":0},{"$f":"IF(ISERROR(VLOOKUP(AE13,CY:CY,1,FALSE)),0,1)*IF(ISERROR(VLOOKUP(AG13,CY:CY,1,FALSE)),0,1)*AN13","v":0},{"$f":"IF(ISERROR(VLOOKUP(AE13,CY:CY,1,FALSE)),0,1)*IF(ISERROR(VLOOKUP(AG13,CY:CY,1,FALSE)),0,1)*AO13","v":0},{"$f":"IF(ISERROR(VLOOKUP(AE13,CY:CY,1,FALSE)),0,1)*IF(ISERROR(VLOOKUP(AG13,CY:CY,1,FALSE)),0,1)*AP13","v":0},{"$f":"IF(ISERROR(VLOOKUP(AE13,CY:CY,1,FALSE)),0,1)*IF(ISERROR(VLOOKUP(AG13,CY:CY,1,FALSE)),0,1)*AQ13","v":0},{"$f":"IF(ISERROR(VLOOKUP(AE13,CY:CY,1,FALSE)),0,1)*IF(ISERROR(VLOOKUP(AG13,CY:CY,1,FALSE)),0,1)*AR13","v":0},{"$f":"IF(ISERROR(VLOOKUP(AE13,DS:DS,1,FALSE)),0,1)*IF(ISERROR(VLOOKUP(AG13,DS:DS,1,FALSE)),0,1)*AM13","v":0},{"$f":"IF(ISERROR(VLOOKUP(AE13,DS:DS,1,FALSE)),0,1)*IF(ISERROR(VLOOKUP(AG13,DS:DS,1,FALSE)),0,1)*AN13","v":0},{"$f":"IF(ISERROR(VLOOKUP(AE13,DS:DS,1,FALSE)),0,1)*IF(ISERROR(VLOOKUP(AG13,DS:DS,1,FALSE)),0,1)*AO13","v":0},{"$f":"IF(ISERROR(VLOOKUP(AE13,DS:DS,1,FALSE)),0,1)*IF(ISERROR(VLOOKUP(AG13,DS:DS,1,FALSE)),0,1)*AP13","v":0},{"$f":"IF(ISERROR(VLOOKUP(AE13,DS:DS,1,FALSE)),0,1)*IF(ISERROR(VLOOKUP(AG13,DS:DS,1,FALSE)),0,1)*AQ13","v":0},{"$f":"IF(ISERROR(VLOOKUP(AE13,DS:DS,1,FALSE)),0,1)*IF(ISERROR(VLOOKUP(AG13,DS:DS,1,FALSE)),0,1)*AR13","v":0},{"$f":"IF(ISERROR(VLOOKUP(AE13,EM:EM,1,FALSE)),0,1)*IF(ISERROR(VLOOKUP(AG13,EM:EM,1,FALSE)),0,1)*AM13","v":0},{"$f":"IF(ISERROR(VLOOKUP(AE13,EM:EM,1,FALSE)),0,1)*IF(ISERROR(VLOOKUP(AG13,EM:EM,1,FALSE)),0,1)*AN13","v":0},{"$f":"IF(ISERROR(VLOOKUP(AE13,EM:EM,1,FALSE)),0,1)*IF(ISERROR(VLOOKUP(AG13,EM:EM,1,FALSE)),0,1)*AO13","v":0},{"$f":"IF(ISERROR(VLOOKUP(AE13,EM:EM,1,FALSE)),0,1)*IF(ISERROR(VLOOKUP(AG13,EM:EM,1,FALSE)),0,1)*AP13","v":0},{"$f":"IF(ISERROR(VLOOKUP(AE13,EM:EM,1,FALSE)),0,1)*IF(ISERROR(VLOOKUP(AG13,EM:EM,1,FALSE)),0,1)*AQ13","v":0},{"$f":"IF(ISERROR(VLOOKUP(AE13,EM:EM,1,FALSE)),0,1)*IF(ISERROR(VLOOKUP(AG13,EM:EM,1,FALSE)),0,1)*AR13","v":0},null,null,"Belgien",{"$f":"(SUMIF(AE4:AE54,BS13,AM4:AM54)+SUMIF(AG4:AG54,BS13,AN4:AN54))","v":0},{"$f":"(SUMIF(AE4:AE54,BS13,AO4:AO54)+SUMIF(AG4:AG54,BS13,AP4:AP54))","v":0},{"$f":"(SUMIF(AE4:AE54,BS13,AQ4:AQ54)+SUMIF(AG4:AG54,BS13,AR4:AR54))","v":0},{"$f":"SUMIF(AE4:AE54,BS13,AH4:AH54)+SUMIF(AG4:AG54,BS13,AJ4:AJ54)","v":0},{"$f":"SUMIF(AE4:AE54,BS13,AJ4:AJ54)+SUMIF(AG4:AG54,BS13,AH4:AH54)","v":0},{"$f":"BW13-BX13","v":0},{"$f":"IFERROR(BT13*3+BU13*1,0)","v":0},"B",{"$f":"RANK(BZ13,BZ13:BZ16)","v":1},{"$f":"SUMPRODUCT((BZ13:BZ16=BZ13)*(BY13:BY16>BY13))","v":0},null,{"$f":"IF(CB13=1,BS13,)","v":"Belgien"},{"$f":"(SUMIF(AE4:AE54,BS13,AS4:AS54)+SUMIF(AG4:AG54,BS13,AT4:AT54))","v":0},{"$f":"(SUMIF(AE4:AE54,BS13,AU4:AU54)+SUMIF(AG4:AG54,BS13,AV4:AV54))","v":0},{"$f":"(SUMIF(AE4:AE54,BS13,AW4:AW54)+SUMIF(AG4:AG54,BS13,AX4:AX54))","v":0},{"$f":"IFERROR(CF13*3+CG13*1,0)","v":0},{"$f":"CA13","v":"B"},{"$f":"IF(CE13>0,RANK(CI13,CI13:CI16),)","v":1},{"$f":"IF(AND(CE13>0,COUNTIF(CK13:CK16,CK13)>1),SUMIFS($AH$4:$AH$54,$AE$4:$AE$54,$BS13,$L$4:$L$54,1)+SUMIFS($AJ$4:$AJ$54,$AG$4:$AG$54,$BS13,$L$4:$L$54,1)-SUMIFS($AJ$4:$AJ$54,$AE$4:$AE$54,$BS13,$L$4:$L$54,1)-SUMIFS($AH$4:$AH$54,$AG$4:$AG$54,$BS13,$L$4:$L$54,1),)","v":0},{"$f":"IF(AND(CE13>0,COUNTIF(CK13:CK16,CK13)>1),CK13+RANK(CL13,CL13:CL16)-1,CK13)","v":1},{"$f":"IF(AND(CE13>0,COUNTIF(CM13:CM16,CM13)>1),SUMIFS($AH$4:$AH$54,$AE$4:$AE$54,$BS13,$L$4:$L$54,1)+SUMIFS($AJ$4:$AJ$54,$AG$4:$AG$54,$BS13,$L$4:$L$54,1),)","v":0},{"$f":"IF(AND(CE13>0,COUNTIF(CM13:CM16,CM13)>1),CM13+RANK(CN13,CN13:CN16)-1,CM13)","v":1},{"$f":"IF(CO13=0,\"\",CO13)","v":1},{"$f":"IF(OR(CP13=\"\",COUNTIF(CP13:CP16,CP13)=1),\"\",$BY13)","v":0},{"$f":"IF(CP13=\"\",\"\",IF(COUNTIF(CP13:CP16,CP13)=1,CP13,CP13+RANK(CQ13,CQ13:CQ16,0)-1))","v":1},{"$f":"IF(OR(CR13=\"\",COUNTIF(CR13:CR16,CR13)=1),\"\",$BW13)","v":0},{"$f":"IF(CP13=\"\",\"\",IF(COUNTIF(CR13:CR16,CR13)=1,CR13,CR13+RANK(CS13,CS13:CS16,0)-1))","v":1},{"$f":"IF(OR(CT13=\"\",COUNTIF(CT13:CT16,CT13)=1),\"\",$BT13)","v":0},{"$f":"IF(CP13=\"\",\"\",IF(COUNTIF(CT13:CT16,CT13)=1,CT13,CT13+RANK(CU13,CU13:CU16,0)-1))","v":1},{"$f":"IF(CE13>0,BL11+RANK(CV13,CV13:CV16,1),)","v":1},null,{"$f":"IF(CB13=2,BS13,)","v":0},{"$f":"(SUMIF(AE4:AE54,BS13,AY4:AY54)+SUMIF(AG4:AG54,BS13,AZ4:AZ54))","v":0},{"$f":"(SUMIF(AE4:AE54,BS13,BA4:BA54)+SUMIF(AG4:AG54,BS13,BB4:BB54))","v":0},{"$f":"(SUMIF(AE4:AE54,BS13,BC4:BC54)+SUMIF(AG4:AG54,BS13,BD4:BD54))","v":0},{"$f":"IFERROR(CZ13*3+DA13*1,0)","v":0},{"$f":"CA13","v":"B"},{"$f":"IF(CY13>0,RANK(DC13,DC13:DC16)+CF11,)","v":0},{"$f":"IF(AND(CY13>0,COUNTIF(DE13:DE16,DE13)>1),SUMIFS($AH$4:$AH$54,$AE$4:$AE$54,$BS13,$L$4:$L$54,2)+SUMIFS($AJ$4:$AJ$54,$AG$4:$AG$54,$BS13,$L$4:$L$54,2)-SUMIFS($AJ$4:$AJ$54,$AE$4:$AE$54,$BS13,$L$4:$L$54,2)-SUMIFS($AH$4:$AH$54,$AG$4:$AG$54,$BS13,$L$4:$L$54,2),)","v":0},{"$f":"IF(AND(CY13>0,COUNTIF(DE13:DE16,DE13)>1),DE13+RANK(DF13,DF13:DF16)-1,DE13)","v":0},{"$f":"IF(AND(CY13>0,COUNTIF(DG13:DG16,DG13)>1),SUMIFS($AH$4:$AH$54,$AE$4:$AE$54,$BS13,$L$4:$L$54,2)+SUMIFS($AJ$4:$AJ$54,$AG$4:$AG$54,$BS13,$L$4:$L$54,2),)","v":0},{"$f":"IF(AND(CY13>0,COUNTIF(DG13:DG16,DG13)>1),DG13+RANK(DH13,DH13:DH16)-1,DG13)","v":0},{"$f":"IF(DI13=0,\"\",DI13)","v":""},{"$f":"IF(OR(DJ13=\"\",COUNTIF(DJ13:DJ16,DJ13)=1),\"\",$BY13)","v":""},{"$f":"IF(DJ13=\"\",\"\",IF(COUNTIF(DJ13:DJ16,DJ13)=1,DJ13,DJ13+RANK(DK13,DK13:DK16,0)-1))","v":""},{"$f":"IF(OR(DL13=\"\",COUNTIF(DL13:DL16,DL13)=1),\"\",$BW13)","v":""},{"$f":"IF(DJ13=\"\",\"\",IF(COUNTIF(DL13:DL16,DL13)=1,DL13,DL13+RANK(DM13,DM13:DM16,0)-1))","v":""},{"$f":"IF(OR(DN13=\"\",COUNTIF(DN13:DN16,DN13)=1),\"\",$BT13)","v":""},{"$f":"IF(DJ13=\"\",\"\",IF(COUNTIF(DN13:DN16,DN13)=1,DN13,DN13+RANK(DO13,DO13:DO16,0)-1))","v":""},{"$f":"IF(CY13>0,CF11+RANK(DP13,DP13:DP16,1),)","v":0},null,{"$f":"IF(CB13=3,BS13,)","v":0},{"$f":"(SUMIF(AE4:AE54,BS13,BE4:BE54)+SUMIF(AG4:AG54,BS13,BF4:BF54))","v":0},{"$f":"(SUMIF(AE4:AE54,BS13,BG4:BG54)+SUMIF(AG4:AG54,BS13,BH4:BH54))","v":0},{"$f":"(SUMIF(AE4:AE54,BS13,BI4:BI54)+SUMIF(AG4:AG54,BS13,BJ4:BJ54))","v":0},{"$f":"IFERROR(DT13*3+DU13*1,0)","v":0},{"$f":"CA13","v":"B"},{"$f":"IF(DS13>0,RANK(DW13,DW13:DW16)+CF11+CZ11,)","v":0},{"$f":"IF(AND(DS13>0,COUNTIF(DY13:DY16,DY13)>1),SUMIFS($AH$4:$AH$54,$AE$4:$AE$54,$BS13,$L$4:$L$54,3)+SUMIFS($AJ$4:$AJ$54,$AG$4:$AG$54,$BS13,$L$4:$L$54,3)-SUMIFS($AJ$4:$AJ$54,$AE$4:$AE$54,$BS13,$L$4:$L$54,3)-SUMIFS($AH$4:$AH$54,$AG$4:$AG$54,$BS13,$L$4:$L$54,3),)","v":0},{"$f":"IF(AND(DS13>0,COUNTIF(DY13:DY16,DY13)>1),DY13+RANK(DZ13,DZ13:DZ16)-1,DY13)","v":0},{"$f":"IF(AND(DS13>0,COUNTIF(EA13:EA16,EA13)>1),SUMIFS($AH$4:$AH$54,$AE$4:$AE$54,$BS13,$L$4:$L$54,3)+SUMIFS($AJ$4:$AJ$54,$AG$4:$AG$54,$BS13,$L$4:$L$54,3),)","v":0},{"$f":"IF(AND(DS13>0,COUNTIF(EA13:EA16,EA13)>1),EA13+RANK(EB13,EB13:EB16)-1,EA13)","v":0},{"$f":"IF(EC13=0,\"\",EC13)","v":""},{"$f":"IF(OR(ED13=\"\",COUNTIF(ED13:ED16,ED13)=1),\"\",$BY13)","v":""},{"$f":"IF(ED13=\"\",\"\",IF(COUNTIF(ED13:ED16,ED13)=1,ED13,ED13+RANK(EE13,EE13:EE16,0)-1))","v":""},{"$f":"IF(OR(EF13=\"\",COUNTIF(EF13:EF16,EF13)=1),\"\",$BW13)","v":""},{"$f":"IF(ED13=\"\",\"\",IF(COUNTIF(EF13:EF16,EF13)=1,EF13,EF13+RANK(EG13,EG13:EG16,0)-1))","v":""},{"$f":"IF(OR(EH13=\"\",COUNTIF(EH13:EH16,EH13)=1),\"\",$BT13)","v":""},{"$f":"IF(ED13=\"\",\"\",IF(COUNTIF(EH13:EH16,EH13)=1,EH13,EH13+RANK(EI13,EI13:EI16,0)-1))","v":""},{"$f":"IF(DS13>0,CF11+CZ11+RANK(EJ13,EJ13:EJ16,1),)","v":0},null,{"$f":"IF(CB13=4,BS13,)","v":0},{"$f":"(SUMIF(AE4:AE54,BS13,BK4:BK54)+SUMIF(AG4:AG54,BS13,BL4:BL54))","v":0},{"$f":"(SUMIF(AE4:AE54,BS13,BM4:BM54)+SUMIF(AG4:AG54,BS13,BN4:BN54))","v":0},{"$f":"(SUMIF(AE4:AE54,BS13,BO4:BO54)+SUMIF(AG4:AG54,BS13,BP4:BP54))","v":0},{"$f":"IFERROR(EN13*3+EO13*1,0)","v":0},{"$f":"CA13","v":"B"},{"$f":"IF(EM13>0,RANK(EQ13,EQ13:EQ16)+CF11+CZ11+DT11,)","v":0},{"$f":"IF(AND(EM13>0,COUNTIF(ES13:ES16,ES13)>1),SUMIFS($AH$4:$AH$54,$AE$4:$AE$54,$BS13,$L$4:$L$54,4)+SUMIFS($AJ$4:$AJ$54,$AG$4:$AG$54,$BS13,$L$4:$L$54,4)-SUMIFS($AJ$4:$AJ$54,$AE$4:$AE$54,$BS13,$L$4:$L$54,4)-SUMIFS($AH$4:$AH$54,$AG$4:$AG$54,$BS13,$L$4:$L$54,4),)","v":0},{"$f":"IF(AND(EM13>0,COUNTIF(ES4:ES7,ES13)>1),ES13+RANK(ET13,ET4:ET7)-1,ES13)","v":0},{"$f":"IF(AND(EM13>0,COUNTIF(EU13:EU16,EU13)>1),SUMIFS($AH$4:$AH$54,$AE$4:$AE$54,$BS13,$L$4:$L$54,4)+SUMIFS($AJ$4:$AJ$54,$AG$4:$AG$54,$BS13,$L$4:$L$54,4),)","v":0},{"$f":"IF(AND(EM13>0,COUNTIF(EU13:EU16,EU13)>1),EU13+RANK(EV13,EV13:EV16)-1,EU13)","v":0},{"$f":"IF(EW13=0,\"\",EW13)","v":""},{"$f":"IF(OR(EX13=\"\",COUNTIF(EX13:EX16,EX13)=1),\"\",$BY13)","v":""},{"$f":"IF(EX13=\"\",\"\",IF(COUNTIF(EX13:EX16,EX13)=1,EX13,EX13+RANK(EY13,EY13:EY16,0)-1))","v":""},{"$f":"IF(OR(EZ13=\"\",COUNTIF(EZ13:EZ16,EZ13)=1),\"\",$BW13)","v":""},{"$f":"IF(EX13=\"\",\"\",IF(COUNTIF(EZ13:EZ16,EZ13)=1,EZ13,EZ13+RANK(FA13,FA13:FA16,0)-1))","v":""},{"$f":"IF(OR(FB13=\"\",COUNTIF(FB13:FB16,FB13)=1),\"\",$BT13)","v":""},{"$f":"IF(EX13=\"\",\"\",IF(COUNTIF(FB13:FB16,FB13)=1,FB13,FB13+RANK(FC13,FC13:FC16,0)-1))","v":""},{"$f":"IF(EM13>0,CF11+CZ11+DT11+RANK(FD13,FD13:FD16,1),)","v":0},null,{"$f":"IFERROR(VLOOKUP(FI13,CE12:CW16,19,FALSE),IFERROR(VLOOKUP(FI13,CY12:DQ16,19,FALSE),IFERROR(VLOOKUP(FI13,DS12:EK16,19,FALSE),VLOOKUP(FI13,EM12:FE16,19,FALSE))))","v":1},{"$f":"RANK(FG13,FG13:FG16,1)+COUNTIF(FG13:FG13,FG13)-1","v":1},{"$f":"BS13","v":"Belgien"},null,null,null,null,null,null,null,null,null,null,null,null,null,null,12,"BCDE","B","C","D","E",{"$f":"VLOOKUP(\"E\",FK3:FL9,2,FALSE)","v":"Spanien"},{"$f":"VLOOKUP(\"D\",FK3:FL9,2,FALSE)","v":"England"},{"$f":"VLOOKUP(\"B\",FK3:FL9,2,FALSE)","v":"Finland"},{"$f":"VLOOKUP(\"C\",FK3:FL9,2,FALSE)","v":"Nord Makedonien"},{"$f":"IFERROR(IF(AND(VLOOKUP(FZ13,FV4:FV9,1,FALSE)=FZ13,VLOOKUP(GA13,FV4:FV9,1,FALSE)=GA13,VLOOKUP(GB13,FV4:FV9,1,FALSE)=GB13,VLOOKUP(GC13,FV4:FV9,1,FALSE)=GC13),FX13,\"\"),\"\")","v":""}]
[null,null,"2021-06-12","Belgien","-","Ryssland",null,"-",null,{"$f":"IF(OR(ISBLANK(G14),ISBLANK(I14)),\"\",IF(G14>I14,1,IF(G14<I14,2,\"X\")))","v":""},{"$f":"IF(OR('Resultat & Tabell'!G14=\"\",'Resultat & Tabell'!I14=\"\",G14=\"\",I14=\"\"),0,IF(G14='Resultat & Tabell'!G14,2,0)+IF(I14='Resultat & Tabell'!I14,2,0)+IF(J14='Resultat & Tabell'!J14,3,0))","v":0},{"$f":"IF(VLOOKUP(D14,BS12:CB16,10,FALSE)=VLOOKUP(F14,BS12:CB16,10,FALSE),VLOOKUP(D14,BS12:CB16,10,FALSE),\"-\")","v":1},2,{"$f":"VLOOKUP(M14,FH13:FI16,2,FALSE)","v":"Danmark"},{"$f":"VLOOKUP(N14,BS13:BZ16,2,FALSE)","v":0},{"$f":"VLOOKUP(N14,BS13:BZ16,3,FALSE)","v":0},{"$f":"VLOOKUP(N14,BS13:BZ16,4,FALSE)","v":0},{"$f":"VLOOKUP(N14,BS13:BZ16,5,FALSE)","v":0},{"$f":"VLOOKUP(N14,BS13:BZ16,6,FALSE)","v":0},{"$f":"VLOOKUP(N14,BS13:BZ16,7,FALSE)","v":0},{"$f":"VLOOKUP(N14,BS13:BZ16,8,FALSE)","v":0},null,"Åttondelsfinaler",{"$f":"SUM(K58:K65)","v":0},{"$f":"P58","v":0},{"$f":"SUM(X14:Y14)","v":0},null,null,null,"2021-06-12","Belgien","-","Ryssland","","-","","",null,0,0,0,0,0,0,0,0,0,0,0,0,0,0,0,0,0,0,0,0,0,0,0,0,0,0,0,0,0,0,null,null,"Danmark",{"$f":"(SUMIF(AE4:AE54,BS14,AM4:AM54)+SUMIF(AG4:AG54,BS14,AN4:AN54))","v":0},{"$f":"(SUMIF(AE4:AE54,BS14,AO4:AO54)+SUMIF(AG4:AG54,BS14,AP4:AP54))","v":0},{"$f":"(SUMIF(AE4:AE54,BS14,AQ4:AQ54)+SUMIF(AG4:AG54,BS14,AR4:AR54))","v":0},{"$f":"SUMIF(AE4:AE54,BS14,AH4:AH54)+SUMIF(AG4:AG54,BS14,AJ4:AJ54)","v":0},{"$f":"SUMIF(AE4:AE54,BS14,AJ4:AJ54)+SUMIF(AG4:AG54,BS14,AH4:AH54)","v":0},{"$f":"BW14-BX14","v":0},{"$f":"IFERROR(BT14*3+BU14*1,0)","v":0},"B",{"$f":"RANK(BZ14,BZ13:BZ16)","v":1},{"$f":"SUMPRODUCT((BZ13:BZ16=BZ14)*(BY13:BY16>BY14))","v":0},null,{"$f":"IF(CB14=1,BS14,)","v":"Danmark"},{"$f":"(SUMIF(AE4:AE54,BS14,AS4:AS54)+SUMIF(AG4:AG54,BS14,AT4:AT54))","v":0},{"$f":"(SUMIF(AE4:AE54,BS14,AU4:AU54)+SUMIF(AG4:AG54,BS14,AV4:AV54))","v":0},{"$f":"(SUMIF(AE4:AE54,BS14,AW4:AW54)+SUMIF(AG4:AG54,BS14,AX4:AX54))","v":0},{"$f":"IFERROR(CF14*3+CG14*1,0)","v":0},{"$f":"CA14","v":"B"},{"$f":"IF(CE14>0,RANK(CI14,CI13:CI16),)","v":1},{"$f":"IF(AND(CE14>0,COUNTIF(CK13:CK16,CK14)>1),SUMIFS($AH$4:$AH$54,$AE$4:$AE$54,BS14,$L$4:$L$54,1)+SUMIFS($AJ$4:$AJ$54,$AG$4:$AG$54,BS14,$L$4:$L$54,1)-SUMIFS($AJ$4:$AJ$54,$AE$4:$AE$54,BS14,$L$4:$L$54,1)-SUMIFS($AH$4:$AH$54,$AG$4:$AG$54,BS14,$L$4:$L$54,1),)","v":0},{"$f":"IF(AND(CE14>0,COUNTIF(CK13:CK16,CK14)>1),CK14+RANK(CL14,CL13:CL16)-1,CK14)","v":1},{"$f":"IF(AND(CE14>0,COUNTIF(CM13:CM16,CM14)>1),SUMIFS($AH$4:$AH$54,$AE$4:$AE$54,BS14,$L$4:$L$54,1)+SUMIFS($AJ$4:$AJ$54,$AG$4:$AG$54,BS14,$L$4:$L$54,1),)","v":0},{"$f":"IF(AND(CE14>0,COUNTIF(CM13:CM16,CM14)>1),CM14+RANK(CN14,CN13:CN16)-1,CM14)","v":1},{"$f":"IF(CO14=0,\"\",CO14)","v":1},{"$f":"IF(OR(CP14=\"\",COUNTIF(CP13:CP16,CP14)=1),\"\",$BY14)","v":0},{"$f":"IF(CP14=\"\",\"\",IF(COUNTIF(CP13:CP16,CP14)=1,CP14,CP14+RANK(CQ14,CQ13:CQ16,0)-1))","v":1},{"$f":"IF(OR(CR14=\"\",COUNTIF(CR13:CR16,CR14)=1),\"\",$BW14)","v":0},{"$f":"IF(CP14=\"\",\"\",IF(COUNTIF(CR13:CR16,CR14)=1,CR14,CR14+RANK(CS14,CS13:CS16,0)-1))","v":1},{"$f":"IF(OR(CT14=\"\",COUNTIF(CT13:CT16,CT14)=1),\"\",$BT14)","v":0},{"$f":"IF(CP14=\"\",\"\",IF(COUNTIF(CT13:CT16,CT14)=1,CT14,CT14+RANK(CU14,CU13:CU16,0)-1))","v":1},{"$f":"IF(CE14>0,BL11+RANK(CV14,CV13:CV16,1),)","v":1},null,{"$f":"IF(CB14=2,BS14,)","v":0},{"$f":"(SUMIF(AE4:AE54,BS14,AY4:AY54)+SUMIF(AG4:AG54,BS14,AZ4:AZ54))","v":0},{"$f":"(SUMIF(AE4:AE54,BS14,BA4:BA54)+SUMIF(AG4:AG54,BS14,BB4:BB54))","v":0},{"$f":"(SUMIF(AE4:AE54,BS14,BC4:BC54)+SUMIF(AG4:AG54,BS14,BD4:BD54))","v":0},{"$f":"IFERROR(CZ14*3+DA14*1,0)","v":0},{"$f":"CA14","v":"B"},{"$f":"IF(CY14>0,RANK(DC14,DC13:DC16)+CF11,)","v":0},{"$f":"IF(AND(CY14>0,COUNTIF(DE13:DE16,DE14)>1),SUMIFS($AH$4:$AH$54,$AE$4:$AE$54,BS14,$L$4:$L$54,2)+SUMIFS($AJ$4:$AJ$54,$AG$4:$AG$54,BS14,$L$4:$L$54,2)-SUMIFS($AJ$4:$AJ$54,$AE$4:$AE$54,BS14,$L$4:$L$54,2)-SUMIFS($AH$4:$AH$54,$AG$4:$AG$54,BS14,$L$4:$L$54,2),)","v":0},{"$f":"IF(AND(CY14>0,COUNTIF(DE13:DE16,DE14)>1),DE14+RANK(DF14,DF13:DF16)-1,DE14)","v":0},{"$f":"IF(AND(CY14>0,COUNTIF(DG13:DG16,DG14)>1),SUMIFS($AH$4:$AH$54,$AE$4:$AE$54,BS14,$L$4:$L$54,2)+SUMIFS($AJ$4:$AJ$54,$AG$4:$AG$54,BS14,$L$4:$L$54,2),)","v":0},{"$f":"IF(AND(CY14>0,COUNTIF(DG13:DG16,DG14)>1),DG14+RANK(DH14,DH13:DH16)-1,DG14)","v":0},{"$f":"IF(DI14=0,\"\",DI14)","v":""},{"$f":"IF(OR(DJ14=\"\",COUNTIF(DJ13:DJ16,DJ14)=1),\"\",$BY14)","v":""},{"$f":"IF(DJ14=\"\",\"\",IF(COUNTIF(DJ13:DJ16,DJ14)=1,DJ14,DJ14+RANK(DK14,DK13:DK16,0)-1))","v":""},{"$f":"IF(OR(DL14=\"\",COUNTIF(DL13:DL16,DL14)=1),\"\",$BW14)","v":""},{"$f":"IF(DJ14=\"\",\"\",IF(COUNTIF(DL13:DL16,DL14)=1,DL14,DL14+RANK(DM14,DM13:DM16,0)-1))","v":""},{"$f":"IF(OR(DN14=\"\",COUNTIF(DN13:DN16,DN14)=1),\"\",$BT14)","v":""},{"$f":"IF(DJ14=\"\",\"\",IF(COUNTIF(DN13:DN16,DN14)=1,DN14,DN14+RANK(DO14,DO13:DO16,0)-1))","v":""},{"$f":"IF(CY14>0,CF11+RANK(DP14,DP13:DP16,1),)","v":0},null,{"$f":"IF(CB14=3,BS14,)","v":0},{"$f":"(SUMIF(AE4:AE54,BS14,BE4:BE54)+SUMIF(AG4:AG54,BS14,BF4:BF54))","v":0},{"$f":"(SUMIF(AE4:AE54,BS14,BG4:BG54)+SUMIF(AG4:AG54,BS14,BH4:BH54))","v":0},{"$f":"(SUMIF(AE4:AE54,BS14,BI4:BI54)+SUMIF(AG4:AG54,BS14,BJ4:BJ54))","v":0},{"$f":"IFERROR(DT14*3+DU14*1,0)","v":0},{"$f":"CA14","v":"B"},{"$f":"IF(DS14>0,RANK(DW14,DW13:DW16)+CF11+CZ11,)","v":0},{"$f":"IF(AND(DS14>0,COUNTIF(DY13:DY16,DY14)>1),SUMIFS($AH$4:$AH$54,$AE$4:$AE$54,BS14,$L$4:$L$54,3)+SUMIFS($AJ$4:$AJ$54,$AG$4:$AG$54,BS14,$L$4:$L$54,3)-SUMIFS($AJ$4:$AJ$54,$AE$4:$AE$54,BS14,$L$4:$L$54,3)-SUMIFS($AH$4:$AH$54,$AG$4:$AG$54,BS14,$L$4:$L$54,3),)","v":0},{"$f":"IF(AND(DS14>0,COUNTIF(DY13:DY16,DY14)>1),DY14+RANK(DZ14,DZ13:DZ16)-1,DY14)","v":0},{"$f":"IF(AND(DS14>0,COUNTIF(EA13:EA16,EA14)>1),SUMIFS($AH$4:$AH$54,$AE$4:$AE$54,BS14,$L$4:$L$54,3)+SUMIFS($AJ$4:$AJ$54,$AG$4:$AG$54,BS14,$L$4:$L$54,3),)","v":0},{"$f":"IF(AND(DS14>0,COUNTIF(EA13:EA16,EA14)>1),EA14+RANK(EB14,EB13:EB16)-1,EA14)","v":0},{"$f":"IF(EC14=0,\"\",EC14)","v":""},{"$f":"IF(OR(ED14=\"\",COUNTIF(ED13:ED16,ED14)=1),\"\",$BY14)","v":""},{"$f":"IF(ED14=\"\",\"\",IF(COUNTIF(ED13:ED16,ED14)=1,ED14,ED14+RANK(EE14,EE13:EE16,0)-1))","v":""},{"$f":"IF(OR(EF14=\"\",COUNTIF(EF13:EF16,EF14)=1),\"\",$BW14)","v":""},{"$f":"IF(ED14=\"\",\"\",IF(COUNTIF(EF13:EF16,EF14)=1,EF14,EF14+RANK(EG14,EG13:EG16,0)-1))","v":""},{"$f":"IF(OR(EH14=\"\",COUNTIF(EH13:EH16,EH14)=1),\"\",$BT14)","v":""},{"$f":"IF(ED14=\"\",\"\",IF(COUNTIF(EH13:EH16,EH14)=1,EH14,EH14+RANK(EI14,EI13:EI16,0)-1))","v":""},{"$f":"IF(DS14>0,CF11+CZ11+RANK(EJ14,EJ13:EJ16,1),)","v":0},null,{"$f":"IF(CB14=4,BS14,)","v":0},{"$f":"(SUMIF(AE4:AE54,BS14,BK4:BK54)+SUMIF(AG4:AG54,BS14,BL4:BL54))","v":0},{"$f":"(SUMIF(AE4:AE54,BS14,BM4:BM54)+SUMIF(AG4:AG54,BS14,BN4:BN54))","v":0},{"$f":"(SUMIF(AE4:AE54,BS14,BO4:BO54)+SUMIF(AG4:AG54,BS14,BP4:BP54))","v":0},{"$f":"IFERROR(EN14*3+EO14*1,0)","v":0},{"$f":"CA14","v":"B"},{"$f":"IF(EM14>0,RANK(EQ14,EQ13:EQ16)+CF11+CZ11+DT11,)","v":0},{"$f":"IF(AND(EM14>0,COUNTIF(ES13:ES16,ES14)>1),SUMIFS($AH$4:$AH$54,$AE$4:$AE$54,BS14,$L$4:$L$54,4)+SUMIFS($AJ$4:$AJ$54,$AG$4:$AG$54,BS14,$L$4:$L$54,4)-SUMIFS($AJ$4:$AJ$54,$AE$4:$AE$54,BS14,$L$4:$L$54,4)-SUMIFS($AH$4:$AH$54,$AG$4:$AG$54,BS14,$L$4:$L$54,4),)","v":0},{"$f":"IF(AND(EM14>0,COUNTIF(ES4:ES7,ES14)>1),ES14+RANK(ET14,ET4:ET7)-1,ES14)","v":0},{"$f":"IF(AND(EM14>0,COUNTIF(EU13:EU16,EU14)>1),SUMIFS($AH$4:$AH$54,$AE$4:$AE$54,BS14,$L$4:$L$54,4)+SUMIFS($AJ$4:$AJ$54,$AG$4:$AG$54,BS14,$L$4:$L$54,4),)","v":0},{"$f":"IF(AND(EM14>0,COUNTIF(EU13:EU16,EU14)>1),EU14+RANK(EV14,EV13:EV16)-1,EU14)","v":0},{"$f":"IF(EW14=0,\"\",EW14)","v":""},{"$f":"IF(OR(EX14=\"\",COUNTIF(EX13:EX16,EX14)=1),\"\",$BY14)","v":""},{"$f":"IF(EX14=\"\",\"\",IF(COUNTIF(EX13:EX16,EX14)=1,EX14,EX14+RANK(EY14,EY13:EY16,0)-1))","v":""},{"$f":"IF(OR(EZ14=\"\",COUNTIF(EZ13:EZ16,EZ14)=1),\"\",$BW14)","v":""},{"$f":"IF(EX14=\"\",\"\",IF(COUNTIF(EZ13:EZ16,EZ14)=1,EZ14,EZ14+RANK(FA14,FA13:FA16,0)-1))","v":""},{"$f":"IF(OR(FB14=\"\",COUNTIF(FB13:FB16,FB14)=1),\"\",$BT14)","v":""},{"$f":"IF(EX14=\"\",\"\",IF(COUNTIF(FB13:FB16,FB14)=1,FB14,FB14+RANK(FC14,FC13:FC16,0)-1))","v":""},{"$f":"IF(EM14>0,CF11+CZ11+DT11+RANK(FD14,FD13:FD16,1),)","v":0},null,{"$f":"IFERROR(VLOOKUP(FI14,CE12:CW16,19,FALSE),IFERROR(VLOOKUP(FI14,CY12:DQ16,19,FALSE),IFERROR(VLOOKUP(FI14,DS12:EK16,19,FALSE),VLOOKUP(FI14,EM12:FE16,19,FALSE))))","v":1},{"$f":"RANK(FG14,FG13:FG16,1)+COUNTIF(FG13:FG14,FG14)-1","v":2},{"$f":"BS14","v":"Danmark"},null,null,null,null,null,null,null,null,null,null,null,null,null,null,13,"BCDF","B","C","D","F",{"$f":"VLOOKUP(\"F\",FK3:FL9,2,FALSE)","v":"Ungern"},{"$f":"VLOOKUP(\"D\",FK3:FL9,2,FALSE)","v":"England"},{"$f":"VLOOKUP(\"C\",FK3:FL9,2,FALSE)","v":"Nord Makedonien"},{"$f":"VLOOKUP(\"B\",FK3:FL9,2,FALSE)","v":"Finland"},{"$f":"IFERROR(IF(AND(VLOOKUP(FZ14,FV4:FV9,1,FALSE)=FZ14,VLOOKUP(GA14,FV4:FV9,1,FALSE)=GA14,VLOOKUP(GB14,FV4:FV9,1,FALSE)=GB14,VLOOKUP(GC14,FV4:FV9,1,FALSE)=GC14),FX14,\"\"),\"\")","v":""}]
[null,null,"2021-06-16","Finland","-","Ryssland",null,"-",null,"",{"$f":"IF(OR('Resultat & Tabell'!G15=\"\",'Resultat & Tabell'!I15=\"\",G15=\"\",I15=\"\"),0,IF(G15='Resultat & Tabell'!G15,2,0)+IF(I15='Resultat & Tabell'!I15,2,0)+IF(J15='Resultat & Tabell'!J15,3,0))","v":0},{"$f":"IF(VLOOKUP(D15,BS12:CB16,10,FALSE)=VLOOKUP(F15,BS12:CB16,10,FALSE),VLOOKUP(D15,BS12:CB16,10,FALSE),\"-\")","v":1},3,{"$f":"VLOOKUP(M15,FH13:FI16,2,FALSE)","v":"Finland"},{"$f":"VLOOKUP(N15,BS13:BZ16,2,FALSE)","v":0},{"$f":"VLOOKUP(N15,BS13:BZ16,3,FALSE)","v":0},{"$f":"VLOOKUP(N15,BS13:BZ16,4,FALSE)","v":0},{"$f":"VLOOKUP(N15,BS13:BZ16,5,FALSE)","v":0},{"$f":"VLOOKUP(N15,BS13:BZ16,6,FALSE)","v":0},{"$f":"VLOOKUP(N15,BS13:BZ16,7,FALSE)","v":0},{"$f":"VLOOKUP(N15,BS13:BZ16,8,FALSE)","v":0},null,"Kvartsfinaler",{"$f":"SUM(K69:K72)","v":0},{"$f":"P69","v":0},{"$f":"SUM(X15:Y15)","v":0},null,null,null,"2021-06-16","Finland","-","Ryssland","","-","","",null,0,0,0,0,0,0,0,0,0,0,0,0,0,0,0,0,0,0,0,0,0,0,0,0,0,0,0,0,0,0,null,null,"Finland",{"$f":"(SUMIF(AE4:AE54,BS15,AM4:AM54)+SUMIF(AG4:AG54,BS15,AN4:AN54))","v":0},{"$f":"(SUMIF(AE4:AE54,BS15,AO4:AO54)+SUMIF(AG4:AG54,BS15,AP4:AP54))","v":0},{"$f":"(SUMIF(AE4:AE54,BS15,AQ4:AQ54)+SUMIF(AG4:AG54,BS15,AR4:AR54))","v":0},{"$f":"SUMIF(AE4:AE54,BS15,AH4:AH54)+SUMIF(AG4:AG54,BS15,AJ4:AJ54)","v":0},{"$f":"SUMIF(AE4:AE54,BS15,AJ4:AJ54)+SUMIF(AG4:AG54,BS15,AH4:AH54)","v":0},{"$f":"BW15-BX15","v":0},{"$f":"IFERROR(BT15*3+BU15*1,0)","v":0},"B",{"$f":"RANK(BZ15,BZ13:BZ16)","v":1},{"$f":"SUMPRODUCT((BZ13:BZ16=BZ15)*(BY13:BY16>BY15))","v":0},null,{"$f":"IF(CB15=1,BS15,)","v":"Finland"},{"$f":"(SUMIF(AE4:AE54,BS15,AS4:AS54)+SUMIF(AG4:AG54,BS15,AT4:AT54))","v":0},{"$f":"(SUMIF(AE4:AE54,BS15,AU4:AU54)+SUMIF(AG4:AG54,BS15,AV4:AV54))","v":0},{"$f":"(SUMIF(AE4:AE54,BS15,AW4:AW54)+SUMIF(AG4:AG54,BS15,AX4:AX54))","v":0},0,{"$f":"CA15","v":"B"},{"$f":"IF(CE15>0,RANK(CI15,CI13:CI16),)","v":1},{"$f":"IF(AND(CE15>0,COUNTIF(CK13:CK16,CK15)>1),SUMIFS($AH$4:$AH$54,$AE$4:$AE$54,BS15,$L$4:$L$54,1)+SUMIFS($AJ$4:$AJ$54,$AG$4:$AG$54,BS15,$L$4:$L$54,1)-SUMIFS($AJ$4:$AJ$54,$AE$4:$AE$54,BS15,$L$4:$L$54,1)-SUMIFS($AH$4:$AH$54,$AG$4:$AG$54,BS15,$L$4:$L$54,1),)","v":0},{"$f":"IF(AND(CE15>0,COUNTIF(CK13:CK16,CK15)>1),CK15+RANK(CL15,CL13:CL16)-1,CK15)","v":1},{"$f":"IF(AND(CE15>0,COUNTIF(CM13:CM16,CM15)>1),SUMIFS($AH$4:$AH$54,$AE$4:$AE$54,BS15,$L$4:$L$54,1)+SUMIFS($AJ$4:$AJ$54,$AG$4:$AG$54,BS15,$L$4:$L$54,1),)","v":0},{"$f":"IF(AND(CE15>0,COUNTIF(CM13:CM16,CM15)>1),CM15+RANK(CN15,CN13:CN16)-1,CM15)","v":1},1,{"$f":"IF(OR(CP15=\"\",COUNTIF(CP13:CP16,CP15)=1),\"\",$BY15)","v":0},{"$f":"IF(CP15=\"\",\"\",IF(COUNTIF(CP13:CP16,CP15)=1,CP15,CP15+RANK(CQ15,CQ13:CQ16,0)-1))","v":1},{"$f":"IF(OR(CR15=\"\",COUNTIF(CR13:CR16,CR15)=1),\"\",$BW15)","v":0},{"$f":"IF(CP15=\"\",\"\",IF(COUNTIF(CR13:CR16,CR15)=1,CR15,CR15+RANK(CS15,CS13:CS16,0)-1))","v":1},{"$f":"IF(OR(CT15=\"\",COUNTIF(CT13:CT16,CT15)=1),\"\",$BT15)","v":0},{"$f":"IF(CP15=\"\",\"\",IF(COUNTIF(CT13:CT16,CT15)=1,CT15,CT15+RANK(CU15,CU13:CU16,0)-1))","v":1},{"$f":"IF(CE15>0,BL11+RANK(CV15,CV13:CV16,1),)","v":1},null,{"$f":"IF(CB15=2,BS15,)","v":0},{"$f":"(SUMIF(AE4:AE54,BS15,AY4:AY54)+SUMIF(AG4:AG54,BS15,AZ4:AZ54))","v":0},{"$f":"(SUMIF(AE4:AE54,BS15,BA4:BA54)+SUMIF(AG4:AG54,BS15,BB4:BB54))","v":0},{"$f":"(SUMIF(AE4:AE54,BS15,BC4:BC54)+SUMIF(AG4:AG54,BS15,BD4:BD54))","v":0},0,{"$f":"CA15","v":"B"},{"$f":"IF(CY15>0,RANK(DC15,DC13:DC16)+CF11,)","v":0},{"$f":"IF(AND(CY15>0,COUNTIF(DE13:DE16,DE15)>1),SUMIFS($AH$4:$AH$54,$AE$4:$AE$54,BS15,$L$4:$L$54,2)+SUMIFS($AJ$4:$AJ$54,$AG$4:$AG$54,BS15,$L$4:$L$54,2)-SUMIFS($AJ$4:$AJ$54,$AE$4:$AE$54,BS15,$L$4:$L$54,2)-SUMIFS($AH$4:$AH$54,$AG$4:$AG$54,BS15,$L$4:$L$54,2),)","v":0},{"$f":"IF(AND(CY15>0,COUNTIF(DE13:DE16,DE15)>1),DE15+RANK(DF15,DF13:DF16)-1,DE15)","v":0},{"$f":"IF(AND(CY15>0,COUNTIF(DG13:DG16,DG15)>1),SUMIFS($AH$4:$AH$54,$AE$4:$AE$54,BS15,$L$4:$L$54,2)+SUMIFS($AJ$4:$AJ$54,$AG$4:$AG$54,BS15,$L$4:$L$54,2),)","v":0},{"$f":"IF(AND(CY15>0,COUNTIF(DG13:DG16,DG15)>1),DG15+RANK(DH15,DH13:DH16)-1,DG15)","v":0},"",{"$f":"IF(OR(DJ15=\"\",COUNTIF(DJ13:DJ16,DJ15)=1),\"\",$BY15)","v":""},{"$f":"IF(DJ15=\"\",\"\",IF(COUNTIF(DJ13:DJ16,DJ15)=1,DJ15,DJ15+RANK(DK15,DK13:DK16,0)-1))","v":""},{"$f":"IF(OR(DL15=\"\",COUNTIF(DL13:DL16,DL15)=1),\"\",$BW15)","v":""},{"$f":"IF(DJ15=\"\",\"\",IF(COUNTIF(DL13:DL16,DL15)=1,DL15,DL15+RANK(DM15,DM13:DM16,0)-1))","v":""},{"$f":"IF(OR(DN15=\"\",COUNTIF(DN13:DN16,DN15)=1),\"\",$BT15)","v":""},{"$f":"IF(DJ15=\"\",\"\",IF(COUNTIF(DN13:DN16,DN15)=1,DN15,DN15+RANK(DO15,DO13:DO16,0)-1))","v":""},{"$f":"IF(CY15>0,CF11+RANK(DP15,DP13:DP16,1),)","v":0},null,{"$f":"IF(CB15=3,BS15,)","v":0},{"$f":"(SUMIF(AE4:AE54,BS15,BE4:BE54)+SUMIF(AG4:AG54,BS15,BF4:BF54))","v":0},{"$f":"(SUMIF(AE4:AE54,BS15,BG4:BG54)+SUMIF(AG4:AG54,BS15,BH4:BH54))","v":0},{"$f":"(SUMIF(AE4:AE54,BS15,BI4:BI54)+SUMIF(AG4:AG54,BS15,BJ4:BJ54))","v":0},0,{"$f":"CA15","v":"B"},{"$f":"IF(DS15>0,RANK(DW15,DW13:DW16)+CF11+CZ11,)","v":0},{"$f":"IF(AND(DS15>0,COUNTIF(DY13:DY16,DY15)>1),SUMIFS($AH$4:$AH$54,$AE$4:$AE$54,BS15,$L$4:$L$54,3)+SUMIFS($AJ$4:$AJ$54,$AG$4:$AG$54,BS15,$L$4:$L$54,3)-SUMIFS($AJ$4:$AJ$54,$AE$4:$AE$54,BS15,$L$4:$L$54,3)-SUMIFS($AH$4:$AH$54,$AG$4:$AG$54,BS15,$L$4:$L$54,3),)","v":0},{"$f":"IF(AND(DS15>0,COUNTIF(DY13:DY16,DY15)>1),DY15+RANK(DZ15,DZ13:DZ16)-1,DY15)","v":0},{"$f":"IF(AND(DS15>0,COUNTIF(EA13:EA16,EA15)>1),SUMIFS($AH$4:$AH$54,$AE$4:$AE$54,BS15,$L$4:$L$54,3)+SUMIFS($AJ$4:$AJ$54,$AG$4:$AG$54,BS15,$L$4:$L$54,3),)","v":0},{"$f":"IF(AND(DS15>0,COUNTIF(EA13:EA16,EA15)>1),EA15+RANK(EB15,EB13:EB16)-1,EA15)","v":0},"",{"$f":"IF(OR(ED15=\"\",COUNTIF(ED13:ED16,ED15)=1),\"\",$BY15)","v":""},{"$f":"IF(ED15=\"\",\"\",IF(COUNTIF(ED13:ED16,ED15)=1,ED15,ED15+RANK(EE15,EE13:EE16,0)-1))","v":""},{"$f":"IF(OR(EF15=\"\",COUNTIF(EF13:EF16,EF15)=1),\"\",$BW15)","v":""},{"$f":"IF(ED15=\"\",\"\",IF(COUNTIF(EF13:EF16,EF15)=1,EF15,EF15+RANK(EG15,EG13:EG16,0)-1))","v":""},{"$f":"IF(OR(EH15=\"\",COUNTIF(EH13:EH16,EH15)=1),\"\",$BT15)","v":""},{"$f":"IF(ED15=\"\",\"\",IF(COUNTIF(EH13:EH16,EH15)=1,EH15,EH15+RANK(EI15,EI13:EI16,0)-1))","v":""},{"$f":"IF(DS15>0,CF11+CZ11+RANK(EJ15,EJ13:EJ16,1),)","v":0},null,{"$f":"IF(CB15=4,BS15,)","v":0},{"$f":"(SUMIF(AE4:AE54,BS15,BK4:BK54)+SUMIF(AG4:AG54,BS15,BL4:BL54))","v":0},{"$f":"(SUMIF(AE4:AE54,BS15,BM4:BM54)+SUMIF(AG4:AG54,BS15,BN4:BN54))","v":0},{"$f":"(SUMIF(AE4:AE54,BS15,BO4:BO54)+SUMIF(AG4:AG54,BS15,BP4:BP54))","v":0},0,{"$f":"CA15","v":"B"},{"$f":"IF(EM15>0,RANK(EQ15,EQ13:EQ16)+CF11+CZ11+DT11,)","v":0},{"$f":"IF(AND(EM15>0,COUNTIF(ES13:ES16,ES15)>1),SUMIFS($AH$4:$AH$54,$AE$4:$AE$54,BS15,$L$4:$L$54,4)+SUMIFS($AJ$4:$AJ$54,$AG$4:$AG$54,BS15,$L$4:$L$54,4)-SUMIFS($AJ$4:$AJ$54,$AE$4:$AE$54,BS15,$L$4:$L$54,4)-SUMIFS($AH$4:$AH$54,$AG$4:$AG$54,BS15,$L$4:$L$54,4),)","v":0},{"$f":"IF(AND(EM15>0,COUNTIF(ES4:ES7,ES15)>1),ES15+RANK(ET15,ET4:ET7)-1,ES15)","v":0},{"$f":"IF(AND(EM15>0,COUNTIF(EU13:EU16,EU15)>1),SUMIFS($AH$4:$AH$54,$AE$4:$AE$54,BS15,$L$4:$L$54,4)+SUMIFS($AJ$4:$AJ$54,$AG$4:$AG$54,BS15,$L$4:$L$54,4),)","v":0},{"$f":"IF(AND(EM15>0,COUNTIF(EU13:EU16,EU15)>1),EU15+RANK(EV15,EV13:EV16)-1,EU15)","v":0},"",{"$f":"IF(OR(EX15=\"\",COUNTIF(EX13:EX16,EX15)=1),\"\",$BY15)","v":""},{"$f":"IF(EX15=\"\",\"\",IF(COUNTIF(EX13:EX16,EX15)=1,EX15,EX15+RANK(EY15,EY13:EY16,0)-1))","v":""},{"$f":"IF(OR(EZ15=\"\",COUNTIF(EZ13:EZ16,EZ15)=1),\"\",$BW15)","v":""},{"$f":"IF(EX15=\"\",\"\",IF(COUNTIF(EZ13:EZ16,EZ15)=1,EZ15,EZ15+RANK(FA15,FA13:FA16,0)-1))","v":""},{"$f":"IF(OR(FB15=\"\",COUNTIF(FB13:FB16,FB15)=1),\"\",$BT15)","v":""},{"$f":"IF(EX15=\"\",\"\",IF(COUNTIF(FB13:FB16,FB15)=1,FB15,FB15+RANK(FC15,FC13:FC16,0)-1))","v":""},{"$f":"IF(EM15>0,CF11+CZ11+DT11+RANK(FD15,FD13:FD16,1),)","v":0},null,{"$f":"IFERROR(VLOOKUP(FI15,CE12:CW16,19,FALSE),IFERROR(VLOOKUP(FI15,CY12:DQ16,19,FALSE),IFERROR(VLOOKUP(FI15,DS12:EK16,19,FALSE),VLOOKUP(FI15,EM12:FE16,19,FALSE))))","v":1},{"$f":"RANK(FG15,FG13:FG16,1)+COUNTIF(FG13:FG15,FG15)-1","v":3},{"$f":"BS15","v":"Finland"},null,null,null,null,null,null,null,null,null,null,null,null,null,null,14,"BCEF","B","C","E","F",{"$f":"VLOOKUP(\"F\",FK3:FL9,2,FALSE)","v":"Ungern"},{"$f":"VLOOKUP(\"E\",FK3:FL9,2,FALSE)","v":"Spanien"},{"$f":"VLOOKUP(\"C\",FK3:FL9,2,FALSE)","v":"Nord Makedonien"},{"$f":"VLOOKUP(\"B\",FK3:FL9,2,FALSE)","v":"Finland"},{"$f":"IFERROR(IF(AND(VLOOKUP(FZ15,FV4:FV9,1,FALSE)=FZ15,VLOOKUP(GA15,FV4:FV9,1,FALSE)=GA15,VLOOKUP(GB15,FV4:FV9,1,FALSE)=GB15,VLOOKUP(GC15,FV4:FV9,1,FALSE)=GC15),FX15,\"\"),\"\")","v":""}]
[null,null,"2021-06-17","Danmark","-","Belgien",null,"-",null,"",{"$f":"IF(OR('Resultat & Tabell'!G16=\"\",'Resultat & Tabell'!I16=\"\",G16=\"\",I16=\"\"),0,IF(G16='Resultat & Tabell'!G16,2,0)+IF(I16='Resultat & Tabell'!I16,2,0)+IF(J16='Resultat & Tabell'!J16,3,0))","v":0},{"$f":"IF(VLOOKUP(D16,BS12:CB16,10,FALSE)=VLOOKUP(F16,BS12:CB16,10,FALSE),VLOOKUP(D16,BS12:CB16,10,FALSE),\"-\")","v":1},4,{"$f":"VLOOKUP(M16,FH13:FI16,2,FALSE)","v":"Ryssland"},{"$f":"VLOOKUP(N16,BS13:BZ16,2,FALSE)","v":0},{"$f":"VLOOKUP(N16,BS13:BZ16,3,FALSE)","v":0},{"$f":"VLOOKUP(N16,BS13:BZ16,4,FALSE)","v":0},{"$f":"VLOOKUP(N16,BS13:BZ16,5,FALSE)","v":0},{"$f":"VLOOKUP(N16,BS13:BZ16,6,FALSE)","v":0},{"$f":"VLOOKUP(N16,BS13:BZ16,7,FALSE)","v":0},{"$f":"VLOOKUP(N16,BS13:BZ16,8,FALSE)","v":0},null,"Semifinaler",{"$f":"SUM(K76:K77)","v":0},{"$f":"P76","v":0},0,null,null,null,"2021-06-17","Danmark","-","Belgien","","-","","",null,0,0,0,0,0,0,0,0,0,0,0,0,0,0,0,0,0,0,0,0,0,0,0,0,0,0,0,0,0,0,null,null,"Ryssland",{"$f":"(SUMIF(AE4:AE54,BS16,AM4:AM54)+SUMIF(AG4:AG54,BS16,AN4:AN54))","v":0},{"$f":"(SUMIF(AE4:AE54,BS16,AO4:AO54)+SUMIF(AG4:AG54,BS16,AP4:AP54))","v":0},{"$f":"(SUMIF(AE4:AE54,BS16,AQ4:AQ54)+SUMIF(AG4:AG54,BS16,AR4:AR54))","v":0},{"$f":"SUMIF(AE4:AE54,BS16,AH4:AH54)+SUMIF(AG4:AG54,BS16,AJ4:AJ54)","v":0},{"$f":"SUMIF(AE4:AE54,BS16,AJ4:AJ54)+SUMIF(AG4:AG54,BS16,AH4:AH54)","v":0},{"$f":"BW16-BX16","v":0},{"$f":"IFERROR(BT16*3+BU16*1,0)","v":0},"B",{"$f":"RANK(BZ16,BZ13:BZ16)","v":1},{"$f":"SUMPRODUCT((BZ13:BZ16=BZ16)*(BY13:BY16>BY16))","v":0},null,{"$f":"IF(CB16=1,BS16,)","v":"Ryssland"},{"$f":"(SUMIF(AE4:AE54,BS16,AS4:AS54)+SUMIF(AG4:AG54,BS16,AT4:AT54))","v":0},{"$f":"(SUMIF(AE4:AE54,BS16,AU4:AU54)+SUMIF(AG4:AG54,BS16,AV4:AV54))","v":0},{"$f":"(SUMIF(AE4:AE54,BS16,AW4:AW54)+SUMIF(AG4:AG54,BS16,AX4:AX54))","v":0},0,{"$f":"CA16","v":"B"},{"$f":"IF(CE16>0,RANK(CI16,CI13:CI16),)","v":1},{"$f":"IF(AND(CE16>0,COUNTIF(CK13:CK16,CK16)>1),SUMIFS($AH$4:$AH$54,$AE$4:$AE$54,BS16,$L$4:$L$54,1)+SUMIFS($AJ$4:$AJ$54,$AG$4:$AG$54,BS16,$L$4:$L$54,1)-SUMIFS($AJ$4:$AJ$54,$AE$4:$AE$54,BS16,$L$4:$L$54,1)-SUMIFS($AH$4:$AH$54,$AG$4:$AG$54,BS16,$L$4:$L$54,1),)","v":0},{"$f":"IF(AND(CE16>0,COUNTIF(CK13:CK16,CK16)>1),CK16+RANK(CL16,CL13:CL16)-1,CK16)","v":1},{"$f":"IF(AND(CE16>0,COUNTIF(CM13:CM16,CM16)>1),SUMIFS($AH$4:$AH$54,$AE$4:$AE$54,BS16,$L$4:$L$54,1)+SUMIFS($AJ$4:$AJ$54,$AG$4:$AG$54,BS16,$L$4:$L$54,1),)","v":0},{"$f":"IF(AND(CE16>0,COUNTIF(CM13:CM16,CM16)>1),CM16+RANK(CN16,CN13:CN16)-1,CM16)","v":1},1,{"$f":"IF(OR(CP16=\"\",COUNTIF(CP13:CP16,CP16)=1),\"\",$BY16)","v":0},{"$f":"IF(CP16=\"\",\"\",IF(COUNTIF(CP13:CP16,CP16)=1,CP16,CP16+RANK(CQ16,CQ13:CQ16,0)-1))","v":1},{"$f":"IF(OR(CR16=\"\",COUNTIF(CR13:CR16,CR16)=1),\"\",$BW16)","v":0},{"$f":"IF(CP16=\"\",\"\",IF(COUNTIF(CR13:CR16,CR16)=1,CR16,CR16+RANK(CS16,CS13:CS16,0)-1))","v":1},{"$f":"IF(OR(CT16=\"\",COUNTIF(CT13:CT16,CT16)=1),\"\",$BT16)","v":0},{"$f":"IF(CP16=\"\",\"\",IF(COUNTIF(CT13:CT16,CT16)=1,CT16,CT16+RANK(CU16,CU13:CU16,0)-1))","v":1},{"$f":"IF(CE16>0,BL11+RANK(CV16,CV13:CV16,1),)","v":1},null,{"$f":"IF(CB16=2,BS16,)","v":0},{"$f":"(SUMIF(AE4:AE54,BS16,AY4:AY54)+SUMIF(AG4:AG54,BS16,AZ4:AZ54))","v":0},{"$f":"(SUMIF(AE4:AE54,BS16,BA4:BA54)+SUMIF(AG4:AG54,BS16,BB4:BB54))","v":0},{"$f":"(SUMIF(AE4:AE54,BS16,BC4:BC54)+SUMIF(AG4:AG54,BS16,BD4:BD54))","v":0},0,{"$f":"CA16","v":"B"},{"$f":"IF(CY16>0,RANK(DC16,DC13:DC16)+CF11,)","v":0},{"$f":"IF(AND(CY16>0,COUNTIF(DE13:DE16,DE16)>1),SUMIFS($AH$4:$AH$54,$AE$4:$AE$54,BS16,$L$4:$L$54,2)+SUMIFS($AJ$4:$AJ$54,$AG$4:$AG$54,BS16,$L$4:$L$54,2)-SUMIFS($AJ$4:$AJ$54,$AE$4:$AE$54,BS16,$L$4:$L$54,2)-SUMIFS($AH$4:$AH$54,$AG$4:$AG$54,BS16,$L$4:$L$54,2),)","v":0},{"$f":"IF(AND(CY16>0,COUNTIF(DE13:DE16,DE16)>1),DE16+RANK(DF16,DF13:DF16)-1,DE16)","v":0},{"$f":"IF(AND(CY16>0,COUNTIF(DG13:DG16,DG16)>1),SUMIFS($AH$4:$AH$54,$AE$4:$AE$54,BS16,$L$4:$L$54,2)+SUMIFS($AJ$4:$AJ$54,$AG$4:$AG$54,BS16,$L$4:$L$54,2),)","v":0},{"$f":"IF(AND(CY16>0,COUNTIF(DG13:DG16,DG16)>1),DG16+RANK(DH16,DH13:DH16)-1,DG16)","v":0},"",{"$f":"IF(OR(DJ16=\"\",COUNTIF(DJ13:DJ16,DJ16)=1),\"\",$BY16)","v":""},{"$f":"IF(DJ16=\"\",\"\",IF(COUNTIF(DJ13:DJ16,DJ16)=1,DJ16,DJ16+RANK(DK16,DK13:DK16,0)-1))","v":""},{"$f":"IF(OR(DL16=\"\",COUNTIF(DL13:DL16,DL16)=1),\"\",$BW16)","v":""},{"$f":"IF(DJ16=\"\",\"\",IF(COUNTIF(DL14:DL17,DL16)=1,DL16,DL16+RANK(DM16,DM14:DM17,0)-1))","v":""},{"$f":"IF(OR(DN16=\"\",COUNTIF(DN13:DN16,DN16)=1),\"\",$BT16)","v":""},{"$f":"IF(DJ16=\"\",\"\",IF(COUNTIF(DN13:DN16,DN16)=1,DN16,DN16+RANK(DO16,DO13:DO16,0)-1))","v":""},{"$f":"IF(CY16>0,CF11+RANK(DP16,DP13:DP16,1),)","v":0},null,{"$f":"IF(CB16=3,BS16,)","v":0},{"$f":"(SUMIF(AE4:AE54,BS16,BE4:BE54)+SUMIF(AG4:AG54,BS16,BF4:BF54))","v":0},{"$f":"(SUMIF(AE4:AE54,BS16,BG4:BG54)+SUMIF(AG4:AG54,BS16,BH4:BH54))","v":0},{"$f":"(SUMIF(AE4:AE54,BS16,BI4:BI54)+SUMIF(AG4:AG54,BS16,BJ4:BJ54))","v":0},0,{"$f":"CA16","v":"B"},{"$f":"IF(DS16>0,RANK(DW16,DW13:DW16)+CF11+CZ11,)","v":0},{"$f":"IF(AND(DS16>0,COUNTIF(DY13:DY16,DY16)>1),SUMIFS($AH$4:$AH$54,$AE$4:$AE$54,BS16,$L$4:$L$54,3)+SUMIFS($AJ$4:$AJ$54,$AG$4:$AG$54,BS16,$L$4:$L$54,3)-SUMIFS($AJ$4:$AJ$54,$AE$4:$AE$54,BS16,$L$4:$L$54,3)-SUMIFS($AH$4:$AH$54,$AG$4:$AG$54,BS16,$L$4:$L$54,3),)","v":0},{"$f":"IF(AND(DS16>0,COUNTIF(DY13:DY16,DY16)>1),DY16+RANK(DZ16,DZ13:DZ16)-1,DY16)","v":0},{"$f":"IF(AND(DS16>0,COUNTIF(EA13:EA16,EA16)>1),SUMIFS($AH$4:$AH$54,$AE$4:$AE$54,BS16,$L$4:$L$54,3)+SUMIFS($AJ$4:$AJ$54,$AG$4:$AG$54,BS16,$L$4:$L$54,3),)","v":0},{"$f":"IF(AND(DS16>0,COUNTIF(EA13:EA16,EA16)>1),EA16+RANK(EB16,EB13:EB16)-1,EA16)","v":0},"",{"$f":"IF(OR(ED16=\"\",COUNTIF(ED13:ED16,ED16)=1),\"\",$BY16)","v":""},{"$f":"IF(ED16=\"\",\"\",IF(COUNTIF(ED13:ED16,ED16)=1,ED16,ED16+RANK(EE16,EE13:EE16,0)-1))","v":""},{"$f":"IF(OR(EF16=\"\",COUNTIF(EF13:EF16,EF16)=1),\"\",$BW16)","v":""},{"$f":"IF(ED16=\"\",\"\",IF(COUNTIF(EF13:EF16,EF16)=1,EF16,EF16+RANK(EG16,EG13:EG16,0)-1))","v":""},{"$f":"IF(OR(EH16=\"\",COUNTIF(EH13:EH16,EH16)=1),\"\",$BT16)","v":""},{"$f":"IF(ED16=\"\",\"\",IF(COUNTIF(EH13:EH16,EH16)=1,EH16,EH16+RANK(EI16,EI13:EI16,0)-1))","v":""},{"$f":"IF(DS16>0,CF11+CZ11+RANK(EJ16,EJ13:EJ16,1),)","v":0},null,{"$f":"IF(CB16=4,BS16,)","v":0},{"$f":"(SUMIF(AE4:AE54,BS16,BK4:BK54)+SUMIF(AG4:AG54,BS16,BL4:BL54))","v":0},{"$f":"(SUMIF(AE4:AE54,BS16,BM4:BM54)+SUMIF(AG4:AG54,BS16,BN4:BN54))","v":0},{"$f":"(SUMIF(AE4:AE54,BS16,BO4:BO54)+SUMIF(AG4:AG54,BS16,BP4:BP54))","v":0},0,{"$f":"CA16","v":"B"},{"$f":"IF(EM16>0,RANK(EQ16,EQ13:EQ16)+CF11+CZ11+DT11,)","v":0},{"$f":"IF(AND(EM16>0,COUNTIF(ES13:ES16,ES16)>1),SUMIFS($AH$4:$AH$54,$AE$4:$AE$54,BS16,$L$4:$L$54,4)+SUMIFS($AJ$4:$AJ$54,$AG$4:$AG$54,BS16,$L$4:$L$54,4)-SUMIFS($AJ$4:$AJ$54,$AE$4:$AE$54,BS16,$L$4:$L$54,4)-SUMIFS($AH$4:$AH$54,$AG$4:$AG$54,BS16,$L$4:$L$54,4),)","v":0},{"$f":"IF(AND(EM16>0,COUNTIF(ES4:ES7,ES16)>1),ES16+RANK(ET16,ET4:ET7)-1,ES16)","v":0},{"$f":"IF(AND(EM16>0,COUNTIF(EU13:EU16,EU16)>1),SUMIFS($AH$4:$AH$54,$AE$4:$AE$54,BS16,$L$4:$L$54,4)+SUMIFS($AJ$4:$AJ$54,$AG$4:$AG$54,BS16,$L$4:$L$54,4),)","v":0},{"$f":"IF(AND(EM16>0,COUNTIF(EU13:EU16,EU16)>1),EU16+RANK(EV16,EV13:EV16)-1,EU16)","v":0},"",{"$f":"IF(OR(EX16=\"\",COUNTIF(EX13:EX16,EX16)=1),\"\",$BY16)","v":""},{"$f":"IF(EX16=\"\",\"\",IF(COUNTIF(EX13:EX16,EX16)=1,EX16,EX16+RANK(EY16,EY13:EY16,0)-1))","v":""},{"$f":"IF(OR(EZ16=\"\",COUNTIF(EZ13:EZ16,EZ16)=1),\"\",$BW16)","v":""},{"$f":"IF(EX16=\"\",\"\",IF(COUNTIF(EZ13:EZ16,EZ16)=1,EZ16,EZ16+RANK(FA16,FA13:FA16,0)-1))","v":""},{"$f":"IF(OR(FB16=\"\",COUNTIF(FB13:FB16,FB16)=1),\"\",$BT16)","v":""},{"$f":"IF(EX16=\"\",\"\",IF(COUNTIF(FB13:FB16,FB16)=1,FB16,FB16+RANK(FC16,FC13:FC16,0)-1))","v":""},{"$f":"IF(EM16>0,CF11+CZ11+DT11+RANK(FD16,FD13:FD16,1),)","v":0},null,{"$f":"IFERROR(VLOOKUP(FI16,CE12:CW16,19,FALSE),IFERROR(VLOOKUP(FI16,CY12:DQ16,19,FALSE),IFERROR(VLOOKUP(FI16,DS12:EK16,19,FALSE),VLOOKUP(FI16,EM12:FE16,19,FALSE))))","v":1},{"$f":"RANK(FG16,FG13:FG16,1)+COUNTIF(FG13:FG16,FG16)-1","v":4},{"$f":"BS16","v":"Ryssland"},null,null,null,null,null,null,null,null,null,null,null,null,null,null,15,"BDEF","B","D","E","F",{"$f":"VLOOKUP(\"F\",FK3:FL9,2,FALSE)","v":"Ungern"},{"$f":"VLOOKUP(\"E\",FK3:FL9,2,FALSE)","v":"Spanien"},{"$f":"VLOOKUP(\"D\",FK3:FL9,2,FALSE)","v":"England"},{"$f":"VLOOKUP(\"B\",FK3:FL9,2,FALSE)","v":"Finland"},{"$f":"IFERROR(IF(AND(VLOOKUP(FZ16,FV4:FV9,1,FALSE)=FZ16,VLOOKUP(GA16,FV4:FV9,1,FALSE)=GA16,VLOOKUP(GB16,FV4:FV9,1,FALSE)=GB16,VLOOKUP(GC16,FV4:FV9,1,FALSE)=GC16),FX16,\"\"),\"\")","v":""}]
[null,null,"2021-06-21","Finland","-","Belgien",null,"-",null,"",{"$f":"IF(OR('Resultat & Tabell'!G17=\"\",'Resultat & Tabell'!I17=\"\",G17=\"\",I17=\"\"),0,IF(G17='Resultat & Tabell'!G17,2,0)+IF(I17='Resultat & Tabell'!I17,2,0)+IF(J17='Resultat & Tabell'!J17,3,0))","v":0},{"$f":"IF(VLOOKUP(D17,BS12:CB16,10,FALSE)=VLOOKUP(F17,BS12:CB16,10,FALSE),VLOOKUP(D17,BS12:CB16,10,FALSE),\"-\")","v":1},null,{"$f":"IF(COUNTBLANK(G13:G18)+COUNTBLANK(I13:I18)=0,\"Resultat OK\",\"Fyll i resultat\")","v":"Fyll i resultat"},null,null,null,null,null,null,null,null,"Final",{"$f":"K81","v":0},{"$f":"P81","v":0},0,null,null,null,"2021-06-21","Finland","-","Belgien","","-","","",null,0,0,0,0,0,0,0,0,0,0,0,0,0,0,0,0,0,0,0,0,0,0,0,0,0,0,0,0,0,0,null,null,null,null,null,null,null,null,null,null,null,null,null,null,null,null,null,null,null,null,null,null,null,null,null,null,null,null,null,null,null,null,null,null,null,null,null,null,null,null,null,null,null,null,null,null,null,null,null,null,null,null,null,null,null,null,null,null,null,null,null,null,null,null,null,null,null,null,null,null,null,null,null,null,null,null,null,null,null,null,null,null,null,null,null,null,null,null,null,null,null,null,null,null,null,null,null,null,null,null,null,null,null,null,null,null,null,null,null,null,null,16,"CDEF","C","D","E","F",{"$f":"VLOOKUP(\"F\",FK3:FL9,2,FALSE)","v":"Ungern"},{"$f":"VLOOKUP(\"E\",FK3:FL9,2,FALSE)","v":"Spanien"},{"$f":"VLOOKUP(\"D\",FK3:FL9,2,FALSE)","v":"England"},{"$f":"VLOOKUP(\"C\",FK3:FL9,2,FALSE)","v":"Nord Makedonien"},{"$f":"IFERROR(IF(AND(VLOOKUP(FZ17,FV4:FV9,1,FALSE)=FZ17,VLOOKUP(GA17,FV4:FV9,1,FALSE)=GA17,VLOOKUP(GB17,FV4:FV9,1,FALSE)=GB17,VLOOKUP(GC17,FV4:FV9,1,FALSE)=GC17),FX17,\"\"),\"\")","v":""}]
[null,null,"2021-06-21","Ryssland","-","Danmark",null,"-",null,"",{"$f":"IF(OR('Resultat & Tabell'!G18=\"\",'Resultat & Tabell'!I18=\"\",G18=\"\",I18=\"\"),0,IF(G18='Resultat & Tabell'!G18,2,0)+IF(I18='Resultat & Tabell'!I18,2,0)+IF(J18='Resultat & Tabell'!J18,3,0))","v":0},{"$f":"IF(VLOOKUP(D18,BS12:CB16,10,FALSE)=VLOOKUP(F18,BS12:CB16,10,FALSE),VLOOKUP(D18,BS12:CB16,10,FALSE),\"-\")","v":1},null,null,null,null,null,null,null,null,null,null,"Bonusfrågor",{"$f":"SUM(AB4:AB7)","v":0},0,0,null,null,null,"2021-06-21","Ryssland","-","Danmark","","-","","",null,0,0,0,0,0,0,0,0,0,0,0,0,0,0,0,0,0,0,0,0,0,0,0,0,0,0,0,0,0,0]
[null,null,null,null,null,null,null,null,null,null,null,null,null,null,null,null,null,null,null,null,null,null,"Summa",null,null,{"$f":"SUM(Z13:Z18)","v":0}]
[null,null,"Grupp C",null,null,null,null,null,null,null,null,null,null,null,null,null,null,null,null,null,null,null,null,null,null,null,null,null,null,"Grupp C",null,null,null,null,null,null,null,null,null,null,null,null,null,null,null,null,null,null,null,null,null,null,null,null,null,null,null,null,null,null,null,null,null,null,null,null,null,null,null,null,"Rank 0",null,null,null,null,null,null,null,null,null,null,null,"Rank 1",{"$f":"COUNTIF(CB22:CB25,1)","v":4},null,null,null,null,null,null,null,null,null,null,null,null,null,null,null,null,null,null,"Rank 2",{"$f":"COUNTIF(CB22:CB25,2)","v":0},null,null,null,null,null,null,null,null,null,null,null,null,null,null,null,null,null,null,"Rank 3",{"$f":"COUNTIF(CB22:CB25,3)","v":0},null,null,null,null,null,null,null,null,null,null,null,null,null,null,null,null,null,null,"Rank 4",{"$f":"COUNTIF(CB22:CB25,4)","v":0}]
[null,null,"Datum","Match",null,null,"Resultat",null,null,"Tecken","Poäng",null,null,"Lag","V","O","F","GM","IM","+/-","P",null,null,null,null,null,null,null,null,"Datum","Match",null,null,"Resultat",null,null,"Tecken","Poäng","V1","V2","O1","O2","F1","F2","V1","V2","O1","O2","F1","F2","V1","V2","O1","O2","F1","F2","V1","V2","O1","O2","F1","F2","V1","V2","O1","O2","F1","F2",null,null,"Lag","V","O","F","GM","IM","+/-","P","Grupp","Rank P","Rank +/-",null,"Lag","V","O","F","P","Grupp","Rank P","+/-","+/- rank","GM","GM rank","Rank internal","+/- all","+/- rank all","GM all","GM rank all","V all","V rank all","Rank all",null,"Lag","V","O","F","P","Grupp","Rank P","+/-","+/- rank","GM","GM rank","Rank internal","+/- all","+/- rank all","GM all","GM rank all","V all","V rank all","Rank all",null,"Lag","V","O","F","P","Grupp","Rank P","+/-","+/- rank","GM","GM rank","Rank internal","+/- all","+/- rank all","GM all","GM rank all","V all","V rank all","Rank all",null,"Lag","V","O","F","P","Grupp","Rank P","+/-","+/- rank","GM","GM rank","Rank internal","+/- all","+/- rank all","GM all","GM rank all","V all","V rank all","Rank all",null,"Rank","Rank Ties"]
[null,null,"2021-06-13","Österrike","-","Nord Makedonien",null,"-",null,{"$f":"IF(OR(ISBLANK(G22),ISBLANK(I22)),\"\",IF(G22>I22,1,IF(G22<I22,2,\"X\")))","v":""},{"$f":"IF(OR('Resultat & Tabell'!G22=\"\",'Resultat & Tabell'!I22=\"\",G22=\"\",I22=\"\"),0,IF(G22='Resultat & Tabell'!G22,2,0)+IF(I22='Resultat & Tabell'!I22,2,0)+IF(J22='Resultat & Tabell'!J22,3,0))","v":0},{"$f":"IF(VLOOKUP(D22,BS21:CB25,10,FALSE)=VLOOKUP(F22,BS21:CB25,10,FALSE),VLOOKUP(D22,BS21:CB25,10,FALSE),\"-\")","v":1},1,{"$f":"VLOOKUP(M22,FH22:FI25,2,FALSE)","v":"Österrike"},{"$f":"VLOOKUP(N22,BS22:BZ25,2,FALSE)","v":0},{"$f":"VLOOKUP(N22,BS22:BZ25,3,FALSE)","v":0},{"$f":"VLOOKUP(N22,BS22:BZ25,4,FALSE)","v":0},{"$f":"VLOOKUP(N22,BS22:BZ25,5,FALSE)","v":0},{"$f":"VLOOKUP(N22,BS22:BZ25,6,FALSE)","v":0},{"$f":"VLOOKUP(N22,BS22:BZ25,7,FALSE)","v":0},{"$f":"VLOOKUP(N22,BS22:BZ25,8,FALSE)","v":0},null,null,null,null,null,null,null,null,{"$f":"C22","v":"2021-06-13"},{"$f":"D22","v":"Österrike"},{"$f":"E22","v":"-"},{"$f":"F22","v":"Nord Makedonien"},{"$f":"IF(G22=\"\",\"\",G22)","v":""},"-",{"$f":"IF(I22=\"\",\"\",I22)","v":""},{"$f":"J22","v":""},null,{"$f":"IF(AH22>AJ22,1,0)","v":0},{"$f":"IF(AJ22>AH22,1,0)","v":0},{"$f":"IF(AND(AH22=AJ22,AH22<>\"\"),1,0)","v":0},{"$f":"IF(AND(AH22=AJ22,AH22<>\"\"),1,0)","v":0},{"$f":"IF(AH22<AJ22,1,0)","v":0},{"$f":"IF(AJ22<AH22,1,)","v":0},{"$f":"IF(ISERROR(VLOOKUP(AE22,CE:CE,1,FALSE)),0,1)*IF(ISERROR(VLOOKUP(AG22,CE:CE,1,FALSE)),0,1)*AM22","v":0},{"$f":"IF(ISERROR(VLOOKUP(AE22,CE:CE,1,FALSE)),0,1)*IF(ISERROR(VLOOKUP(AG22,CE:CE,1,FALSE)),0,1)*AN22","v":0},{"$f":"IF(ISERROR(VLOOKUP(AE22,CE:CE,1,FALSE)),0,1)*IF(ISERROR(VLOOKUP(AG22,CE:CE,1,FALSE)),0,1)*AO22","v":0},{"$f":"IF(ISERROR(VLOOKUP(AE22,CE:CE,1,FALSE)),0,1)*IF(ISERROR(VLOOKUP(AG22,CE:CE,1,FALSE)),0,1)*AP22","v":0},{"$f":"IF(ISERROR(VLOOKUP(AE22,CE:CE,1,FALSE)),0,1)*IF(ISERROR(VLOOKUP(AG22,CE:CE,1,FALSE)),0,1)*AQ22","v":0},{"$f":"IF(ISERROR(VLOOKUP(AE22,CE:CE,1,FALSE)),0,1)*IF(ISERROR(VLOOKUP(AG22,CE:CE,1,FALSE)),0,1)*AR22","v":0},{"$f":"IF(ISERROR(VLOOKUP(AE22,CY:CY,1,FALSE)),0,1)*IF(ISERROR(VLOOKUP(AG22,CY:CY,1,FALSE)),0,1)*AM22","v":0},{"$f":"IF(ISERROR(VLOOKUP(AE22,CY:CY,1,FALSE)),0,1)*IF(ISERROR(VLOOKUP(AG22,CY:CY,1,FALSE)),0,1)*AN22","v":0},{"$f":"IF(ISERROR(VLOOKUP(AE22,CY:CY,1,FALSE)),0,1)*IF(ISERROR(VLOOKUP(AG22,CY:CY,1,FALSE)),0,1)*AO22","v":0},{"$f":"IF(ISERROR(VLOOKUP(AE22,CY:CY,1,FALSE)),0,1)*IF(ISERROR(VLOOKUP(AG22,CY:CY,1,FALSE)),0,1)*AP22","v":0},{"$f":"IF(ISERROR(VLOOKUP(AE22,CY:CY,1,FALSE)),0,1)*IF(ISERROR(VLOOKUP(AG22,CY:CY,1,FALSE)),0,1)*AQ22","v":0},{"$f":"IF(ISERROR(VLOOKUP(AE22,CY:CY,1,FALSE)),0,1)*IF(ISERROR(VLOOKUP(AG22,CY:CY,1,FALSE)),0,1)*AR22","v":0},{"$f":"IF(ISERROR(VLOOKUP(AE22,DS:DS,1,FALSE)),0,1)*IF(ISERROR(VLOOKUP(AG22,DS:DS,1,FALSE)),0,1)*AM22","v":0},{"$f":"IF(ISERROR(VLOOKUP(AE22,DS:DS,1,FALSE)),0,1)*IF(ISERROR(VLOOKUP(AG22,DS:DS,1,FALSE)),0,1)*AN22","v":0},{"$f":"IF(ISERROR(VLOOKUP(AE22,DS:DS,1,FALSE)),0,1)*IF(ISERROR(VLOOKUP(AG22,DS:DS,1,FALSE)),0,1)*AO22","v":0},{"$f":"IF(ISERROR(VLOOKUP(AE22,DS:DS,1,FALSE)),0,1)*IF(ISERROR(VLOOKUP(AG22,DS:DS,1,FALSE)),0,1)*AP22","v":0},{"$f":"IF(ISERROR(VLOOKUP(AE22,DS:DS,1,FALSE)),0,1)*IF(ISERROR(VLOOKUP(AG22,DS:DS,1,FALSE)),0,1)*AQ22","v":0},{"$f":"IF(ISERROR(VLOOKUP(AE22,DS:DS,1,FALSE)),0,1)*IF(ISERROR(VLOOKUP(AG22,DS:DS,1,FALSE)),0,1)*AR22","v":0},{"$f":"IF(ISERROR(VLOOKUP(AE22,EM:EM,1,FALSE)),0,1)*IF(ISERROR(VLOOKUP(AG22,EM:EM,1,FALSE)),0,1)*AM22","v":0},{"$f":"IF(ISERROR(VLOOKUP(AE22,EM:EM,1,FALSE)),0,1)*IF(ISERROR(VLOOKUP(AG22,EM:EM,1,FALSE)),0,1)*AN22","v":0},{"$f":"IF(ISERROR(VLOOKUP(AE22,EM:EM,1,FALSE)),0,1)*IF(ISERROR(VLOOKUP(AG22,EM:EM,1,FALSE)),0,1)*AO22","v":0},{"$f":"IF(ISERROR(VLOOKUP(AE22,EM:EM,1,FALSE)),0,1)*IF(ISERROR(VLOOKUP(AG22,EM:EM,1,FALSE)),0,1)*AP22","v":0},{"$f":"IF(ISERROR(VLOOKUP(AE22,EM:EM,1,FALSE)),0,1)*IF(ISERROR(VLOOKUP(AG22,EM:EM,1,FALSE)),0,1)*AQ22","v":0},{"$f":"IF(ISERROR(VLOOKUP(AE22,EM:EM,1,FALSE)),0,1)*IF(ISERROR(VLOOKUP(AG22,EM:EM,1,FALSE)),0,1)*AR22","v":0},null,null,"Österrike",{"$f":"(SUMIF(AE4:AE54,BS22,AM4:AM54)+SUMIF(AG4:AG54,BS22,AN4:AN54))","v":0},{"$f":"(SUMIF(AE4:AE54,BS22,AO4:AO54)+SUMIF(AG4:AG54,BS22,AP4:AP54))","v":0},{"$f":"(SUMIF(AE4:AE54,BS22,AQ4:AQ54)+SUMIF(AG4:AG54,BS22,AR4:AR54))","v":0},{"$f":"SUMIF(AE4:AE54,BS22,AH4:AH54)+SUMIF(AG4:AG54,BS22,AJ4:AJ54)","v":0},{"$f":"SUMIF(AE4:AE54,BS22,AJ4:AJ54)+SUMIF(AG4:AG54,BS22,AH4:AH54)","v":0},{"$f":"BW22-BX22","v":0},{"$f":"IFERROR(BT22*3+BU22*1,0)","v":0},"C",{"$f":"RANK(BZ22,BZ22:BZ25)","v":1},{"$f":"SUMPRODUCT((BZ22:BZ25=BZ22)*(BY22:BY25>BY22))","v":0},null,{"$f":"IF(CB22=1,BS22,)","v":"Österrike"},{"$f":"(SUMIF(AE4:AE54,BS22,AS4:AS54)+SUMIF(AG4:AG54,BS22,AT4:AT54))","v":0},{"$f":"(SUMIF(AE4:AE54,BS22,AU4:AU54)+SUMIF(AG4:AG54,BS22,AV4:AV54))","v":0},{"$f":"(SUMIF(AE4:AE54,BS22,AW4:AW54)+SUMIF(AG4:AG54,BS22,AX4:AX54))","v":0},{"$f":"IFERROR(CF22*3+CG22*1,0)","v":0},{"$f":"CA22","v":"C"},{"$f":"IF(CE22>0,RANK(CI22,CI22:CI25),)","v":1},{"$f":"IF(AND(CE22>0,COUNTIF(CK22:CK25,CK22)>1),SUMIFS($AH$4:$AH$54,$AE$4:$AE$54,$BS22,$L$4:$L$54,1)+SUMIFS($AJ$4:$AJ$54,$AG$4:$AG$54,$BS22,$L$4:$L$54,1)-SUMIFS($AJ$4:$AJ$54,$AE$4:$AE$54,$BS22,$L$4:$L$54,1)-SUMIFS($AH$4:$AH$54,$AG$4:$AG$54,$BS22,$L$4:$L$54,1),)","v":0},{"$f":"IF(AND(CE22>0,COUNTIF(CK22:CK25,CK22)>1),CK22+RANK(CL22,CL22:CL25)-1,CK22)","v":1},{"$f":"IF(AND(CE22>0,COUNTIF(CM22:CM25,CM22)>1),SUMIFS($AH$4:$AH$54,$AE$4:$AE$54,$BS22,$L$4:$L$54,1)+SUMIFS($AJ$4:$AJ$54,$AG$4:$AG$54,$BS22,$L$4:$L$54,1),)","v":0},{"$f":"IF(AND(CE22>0,COUNTIF(CM22:CM25,CM22)>1),CM22+RANK(CN22,CN22:CN25)-1,CM22)","v":1},{"$f":"IF(CO22=0,\"\",CO22)","v":1},{"$f":"IF(OR(CP22=\"\",COUNTIF(CP22:CP25,CP22)=1),\"\",$BY22)","v":0},{"$f":"IF(CP22=\"\",\"\",IF(COUNTIF(CP22:CP25,CP22)=1,CP22,CP22+RANK(CQ22,CQ22:CQ25,0)-1))","v":1},{"$f":"IF(OR(CR22=\"\",COUNTIF(CR22:CR25,CR22)=1),\"\",$BW22)","v":0},{"$f":"IF(CP22=\"\",\"\",IF(COUNTIF(CR22:CR25,CR22)=1,CR22,CR22+RANK(CS22,CS22:CS25,0)-1))","v":1},{"$f":"IF(OR(CT22=\"\",COUNTIF(CT22:CT25,CT22)=1),\"\",$BT22)","v":0},{"$f":"IF(CP22=\"\",\"\",IF(COUNTIF(CT22:CT25,CT22)=1,CT22,CT22+RANK(CU22,CU22:CU25,0)-1))","v":1},{"$f":"IF(CE22>0,BL20+RANK(CV22,CV22:CV25,1),)","v":1},null,{"$f":"IF(CB22=2,BS22,)","v":0},{"$f":"(SUMIF(AE4:AE54,BS22,AY4:AY54)+SUMIF(AG4:AG54,BS22,AZ4:AZ54))","v":0},{"$f":"(SUMIF(AE4:AE54,BS22,BA4:BA54)+SUMIF(AG4:AG54,BS22,BB4:BB54))","v":0},{"$f":"(SUMIF(AE4:AE54,BS22,BC4:BC54)+SUMIF(AG4:AG54,BS22,BD4:BD54))","v":0},{"$f":"IFERROR(CZ22*3+DA22*1,0)","v":0},{"$f":"CA22","v":"C"},{"$f":"IF(CY22>0,RANK(DC22,DC22:DC25)+CF20,)","v":0},{"$f":"IF(AND(CY22>0,COUNTIF(DE22:DE25,DE22)>1),SUMIFS($AH$4:$AH$54,$AE$4:$AE$54,$BS22,$L$4:$L$54,2)+SUMIFS($AJ$4:$AJ$54,$AG$4:$AG$54,$BS22,$L$4:$L$54,2)-SUMIFS($AJ$4:$AJ$54,$AE$4:$AE$54,$BS22,$L$4:$L$54,2)-SUMIFS($AH$4:$AH$54,$AG$4:$AG$54,$BS22,$L$4:$L$54,2),)","v":0},{"$f":"IF(AND(CY22>0,COUNTIF(DE22:DE25,DE22)>1),DE22+RANK(DF22,DF22:DF25)-1,DE22)","v":0},{"$f":"IF(AND(CY22>0,COUNTIF(DG22:DG25,DG22)>1),SUMIFS($AH$4:$AH$54,$AE$4:$AE$54,$BS22,$L$4:$L$54,2)+SUMIFS($AJ$4:$AJ$54,$AG$4:$AG$54,$BS22,$L$4:$L$54,2),)","v":0},{"$f":"IF(AND(CY22>0,COUNTIF(DG22:DG25,DG22)>1),DG22+RANK(DH22,DH22:DH25)-1,DG22)","v":0},{"$f":"IF(DI22=0,\"\",DI22)","v":""},{"$f":"IF(OR(DJ22=\"\",COUNTIF(DJ22:DJ25,DJ22)=1),\"\",$BY22)","v":""},{"$f":"IF(DJ22=\"\",\"\",IF(COUNTIF(DJ22:DJ25,DJ22)=1,DJ22,DJ22+RANK(DK22,DK22:DK25,0)-1))","v":""},{"$f":"IF(OR(DL22=\"\",COUNTIF(DL22:DL25,DL22)=1),\"\",$BW22)","v":""},{"$f":"IF(DJ22=\"\",\"\",IF(COUNTIF(DL22:DL25,DL22)=1,DL22,DL22+RANK(DM22,DM22:DM25,0)-1))","v":""},{"$f":"IF(OR(DN22=\"\",COUNTIF(DN22:DN25,DN22)=1),\"\",$BT22)","v":""},{"$f":"IF(DJ22=\"\",\"\",IF(COUNTIF(DN22:DN25,DN22)=1,DN22,DN22+RANK(DO22,DO22:DO25,0)-1))","v":""},{"$f":"IF(CY22>0,CF20+RANK(DP22,DP22:DP25,1),)","v":0},null,{"$f":"IF(CB22=3,BS22,)","v":0},{"$f":"(SUMIF(AE4:AE54,BS22,BE4:BE54)+SUMIF(AG4:AG54,BS22,BF4:BF54))","v":0},{"$f":"(SUMIF(AE4:AE54,BS22,BG4:BG54)+SUMIF(AG4:AG54,BS22,BH4:BH54))","v":0},{"$f":"(SUMIF(AE4:AE54,BS22,BI4:BI54)+SUMIF(AG4:AG54,BS22,BJ4:BJ54))","v":0},{"$f":"IFERROR(DT22*3+DU22*1,0)","v":0},{"$f":"CA22","v":"C"},{"$f":"IF(DS22>0,RANK(DW22,DW22:DW25)+CF20+CZ20,)","v":0},{"$f":"IF(AND(DS22>0,COUNTIF(DY22:DY25,DY22)>1),SUMIFS($AH$4:$AH$54,$AE$4:$AE$54,$BS22,$L$4:$L$54,3)+SUMIFS($AJ$4:$AJ$54,$AG$4:$AG$54,$BS22,$L$4:$L$54,3)-SUMIFS($AJ$4:$AJ$54,$AE$4:$AE$54,$BS22,$L$4:$L$54,3)-SUMIFS($AH$4:$AH$54,$AG$4:$AG$54,$BS22,$L$4:$L$54,3),)","v":0},{"$f":"IF(AND(DS22>0,COUNTIF(DY22:DY25,DY22)>1),DY22+RANK(DZ22,DZ22:DZ25)-1,DY22)","v":0},{"$f":"IF(AND(DS22>0,COUNTIF(EA22:EA25,EA22)>1),SUMIFS($AH$4:$AH$54,$AE$4:$AE$54,$BS22,$L$4:$L$54,3)+SUMIFS($AJ$4:$AJ$54,$AG$4:$AG$54,$BS22,$L$4:$L$54,3),)","v":0},{"$f":"IF(AND(DS22>0,COUNTIF(EA22:EA25,EA22)>1),EA22+RANK(EB22,EB22:EB25)-1,EA22)","v":0},{"$f":"IF(EC22=0,\"\",EC22)","v":""},{"$f":"IF(OR(ED22=\"\",COUNTIF(ED22:ED25,ED22)=1),\"\",$BY22)","v":""},{"$f":"IF(ED22=\"\",\"\",IF(COUNTIF(ED22:ED25,ED22)=1,ED22,ED22+RANK(EE22,EE22:EE25,0)-1))","v":""},{"$f":"IF(OR(EF22=\"\",COUNTIF(EF22:EF25,EF22)=1),\"\",$BW22)","v":""},{"$f":"IF(ED22=\"\",\"\",IF(COUNTIF(EF22:EF25,EF22)=1,EF22,EF22+RANK(EG22,EG22:EG25,0)-1))","v":""},{"$f":"IF(OR(EH22=\"\",COUNTIF(EH22:EH25,EH22)=1),\"\",$BT22)","v":""},{"$f":"IF(ED22=\"\",\"\",IF(COUNTIF(EH22:EH25,EH22)=1,EH22,EH22+RANK(EI22,EI22:EI25,0)-1))","v":""},{"$f":"IF(DS22>0,CF20+CZ20+RANK(EJ22,EJ22:EJ25,1),)","v":0},null,{"$f":"IF(CB22=4,BS22,)","v":0},{"$f":"(SUMIF(AE4:AE54,BS22,BK4:BK54)+SUMIF(AG4:AG54,BS22,BL4:BL54))","v":0},{"$f":"(SUMIF(AE4:AE54,BS22,BM4:BM54)+SUMIF(AG4:AG54,BS22,BN4:BN54))","v":0},{"$f":"(SUMIF(AE4:AE54,BS22,BO4:BO54)+SUMIF(AG4:AG54,BS22,BP4:BP54))","v":0},{"$f":"IFERROR(EN22*3+EO22*1,0)","v":0},{"$f":"CA22","v":"C"},{"$f":"IF(EM22>0,RANK(EQ22,EQ22:EQ25)+CF20+CZ20+DT20,)","v":0},{"$f":"IF(AND(EM22>0,COUNTIF(ES22:ES25,ES22)>1),SUMIFS($AH$4:$AH$54,$AE$4:$AE$54,$BS22,$L$4:$L$54,4)+SUMIFS($AJ$4:$AJ$54,$AG$4:$AG$54,$BS22,$L$4:$L$54,4)-SUMIFS($AJ$4:$AJ$54,$AE$4:$AE$54,$BS22,$L$4:$L$54,4)-SUMIFS($AH$4:$AH$54,$AG$4:$AG$54,$BS22,$L$4:$L$54,4),)","v":0},{"$f":"IF(AND(EM22>0,COUNTIF(ES4:ES7,ES22)>1),ES22+RANK(ET22,ET4:ET7)-1,ES22)","v":0},{"$f":"IF(AND(EM22>0,COUNTIF(EU22:EU25,EU22)>1),SUMIFS($AH$4:$AH$54,$AE$4:$AE$54,$BS22,$L$4:$L$54,4)+SUMIFS($AJ$4:$AJ$54,$AG$4:$AG$54,$BS22,$L$4:$L$54,4),)","v":0},{"$f":"IF(AND(EM22>0,COUNTIF(EU22:EU25,EU22)>1),EU22+RANK(EV22,EV22:EV25)-1,EU22)","v":0},{"$f":"IF(EW22=0,\"\",EW22)","v":""},{"$f":"IF(OR(EX22=\"\",COUNTIF(EX22:EX25,EX22)=1),\"\",$BY22)","v":""},{"$f":"IF(EX22=\"\",\"\",IF(COUNTIF(EX22:EX25,EX22)=1,EX22,EX22+RANK(EY22,EY22:EY25,0)-1))","v":""},{"$f":"IF(OR(EZ22=\"\",COUNTIF(EZ22:EZ25,EZ22)=1),\"\",$BW22)","v":""},{"$f":"IF(EX22=\"\",\"\",IF(COUNTIF(EZ22:EZ25,EZ22)=1,EZ22,EZ22+RANK(FA22,FA22:FA25,0)-1))","v":""},{"$f":"IF(OR(FB22=\"\",COUNTIF(FB22:FB25,FB22)=1),\"\",$BT22)","v":""},{"$f":"IF(EX22=\"\",\"\",IF(COUNTIF(FB22:FB25,FB22)=1,FB22,FB22+RANK(FC22,FC22:FC25,0)-1))","v":""},{"$f":"IF(EM22>0,CF20+CZ20+DT20+RANK(FD22,FD22:FD25,1),)","v":0},null,{"$f":"IFERROR(VLOOKUP(FI22,CE21:CW25,19,FALSE),IFERROR(VLOOKUP(FI22,CY21:DQ25,19,FALSE),IFERROR(VLOOKUP(FI22,DS21:EK25,19,FALSE),VLOOKUP(FI22,EM21:FE25,19,FALSE))))","v":1},{"$f":"RANK(FG22,FG22:FG25,1)+COUNTIF(FG22:FG22,FG22)-1","v":1},{"$f":"BS22","v":"Österrike"}]
[null,null,"2021-06-13","Nederländerna","-","Ukraina",null,"-",null,{"$f":"IF(OR(ISBLANK(G23),ISBLANK(I23)),\"\",IF(G23>I23,1,IF(G23<I23,2,\"X\")))","v":""},{"$f":"IF(OR('Resultat & Tabell'!G23=\"\",'Resultat & Tabell'!I23=\"\",G23=\"\",I23=\"\"),0,IF(G23='Resultat & Tabell'!G23,2,0)+IF(I23='Resultat & Tabell'!I23,2,0)+IF(J23='Resultat & Tabell'!J23,3,0))","v":0},{"$f":"IF(VLOOKUP(D23,BS21:CB25,10,FALSE)=VLOOKUP(F23,BS21:CB25,10,FALSE),VLOOKUP(D23,BS21:CB25,10,FALSE),\"-\")","v":1},2,{"$f":"VLOOKUP(M23,FH22:FI25,2,FALSE)","v":"Nederländerna"},{"$f":"VLOOKUP(N23,BS22:BZ25,2,FALSE)","v":0},{"$f":"VLOOKUP(N23,BS22:BZ25,3,FALSE)","v":0},{"$f":"VLOOKUP(N23,BS22:BZ25,4,FALSE)","v":0},{"$f":"VLOOKUP(N23,BS22:BZ25,5,FALSE)","v":0},{"$f":"VLOOKUP(N23,BS22:BZ25,6,FALSE)","v":0},{"$f":"VLOOKUP(N23,BS22:BZ25,7,FALSE)","v":0},{"$f":"VLOOKUP(N23,BS22:BZ25,8,FALSE)","v":0},null,null,null,null,null,null,null,null,"2021-06-13","Nederländerna","-","Ukraina","","-","","",null,0,0,0,0,0,0,0,0,0,0,0,0,0,0,0,0,0,0,0,0,0,0,0,0,0,0,0,0,0,0,null,null,"Nederländerna",{"$f":"(SUMIF(AE4:AE54,BS23,AM4:AM54)+SUMIF(AG4:AG54,BS23,AN4:AN54))","v":0},{"$f":"(SUMIF(AE4:AE54,BS23,AO4:AO54)+SUMIF(AG4:AG54,BS23,AP4:AP54))","v":0},{"$f":"(SUMIF(AE4:AE54,BS23,AQ4:AQ54)+SUMIF(AG4:AG54,BS23,AR4:AR54))","v":0},{"$f":"SUMIF(AE4:AE54,BS23,AH4:AH54)+SUMIF(AG4:AG54,BS23,AJ4:AJ54)","v":0},{"$f":"SUMIF(AE4:AE54,BS23,AJ4:AJ54)+SUMIF(AG4:AG54,BS23,AH4:AH54)","v":0},{"$f":"BW23-BX23","v":0},{"$f":"IFERROR(BT23*3+BU23*1,0)","v":0},"C",{"$f":"RANK(BZ23,BZ22:BZ25)","v":1},{"$f":"SUMPRODUCT((BZ22:BZ25=BZ23)*(BY22:BY25>BY23))","v":0},null,{"$f":"IF(CB23=1,BS23,)","v":"Nederländerna"},{"$f":"(SUMIF(AE4:AE54,BS23,AS4:AS54)+SUMIF(AG4:AG54,BS23,AT4:AT54))","v":0},{"$f":"(SUMIF(AE4:AE54,BS23,AU4:AU54)+SUMIF(AG4:AG54,BS23,AV4:AV54))","v":0},{"$f":"(SUMIF(AE4:AE54,BS23,AW4:AW54)+SUMIF(AG4:AG54,BS23,AX4:AX54))","v":0},{"$f":"IFERROR(CF23*3+CG23*1,0)","v":0},{"$f":"CA23","v":"C"},{"$f":"IF(CE23>0,RANK(CI23,CI22:CI25),)","v":1},{"$f":"IF(AND(CE23>0,COUNTIF(CK22:CK25,CK23)>1),SUMIFS($AH$4:$AH$54,$AE$4:$AE$54,BS23,$L$4:$L$54,1)+SUMIFS($AJ$4:$AJ$54,$AG$4:$AG$54,BS23,$L$4:$L$54,1)-SUMIFS($AJ$4:$AJ$54,$AE$4:$AE$54,BS23,$L$4:$L$54,1)-SUMIFS($AH$4:$AH$54,$AG$4:$AG$54,BS23,$L$4:$L$54,1),)","v":0},{"$f":"IF(AND(CE23>0,COUNTIF(CK22:CK25,CK23)>1),CK23+RANK(CL23,CL22:CL25)-1,CK23)","v":1},{"$f":"IF(AND(CE23>0,COUNTIF(CM22:CM25,CM23)>1),SUMIFS($AH$4:$AH$54,$AE$4:$AE$54,BS23,$L$4:$L$54,1)+SUMIFS($AJ$4:$AJ$54,$AG$4:$AG$54,BS23,$L$4:$L$54,1),)","v":0},{"$f":"IF(AND(CE23>0,COUNTIF(CM22:CM25,CM23)>1),CM23+RANK(CN23,CN22:CN25)-1,CM23)","v":1},{"$f":"IF(CO23=0,\"\",CO23)","v":1},{"$f":"IF(OR(CP23=\"\",COUNTIF(CP22:CP25,CP23)=1),\"\",$BY23)","v":0},{"$f":"IF(CP23=\"\",\"\",IF(COUNTIF(CP22:CP25,CP23)=1,CP23,CP23+RANK(CQ23,CQ22:CQ25,0)-1))","v":1},{"$f":"IF(OR(CR23=\"\",COUNTIF(CR22:CR25,CR23)=1),\"\",$BW23)","v":0},{"$f":"IF(CP23=\"\",\"\",IF(COUNTIF(CR22:CR25,CR23)=1,CR23,CR23+RANK(CS23,CS22:CS25,0)-1))","v":1},{"$f":"IF(OR(CT23=\"\",COUNTIF(CT22:CT25,CT23)=1),\"\",$BT23)","v":0},{"$f":"IF(CP23=\"\",\"\",IF(COUNTIF(CT22:CT25,CT23)=1,CT23,CT23+RANK(CU23,CU22:CU25,0)-1))","v":1},{"$f":"IF(CE23>0,BL20+RANK(CV23,CV22:CV25,1),)","v":1},null,{"$f":"IF(CB23=2,BS23,)","v":0},{"$f":"(SUMIF(AE4:AE54,BS23,AY4:AY54)+SUMIF(AG4:AG54,BS23,AZ4:AZ54))","v":0},{"$f":"(SUMIF(AE4:AE54,BS23,BA4:BA54)+SUMIF(AG4:AG54,BS23,BB4:BB54))","v":0},{"$f":"(SUMIF(AE4:AE54,BS23,BC4:BC54)+SUMIF(AG4:AG54,BS23,BD4:BD54))","v":0},{"$f":"IFERROR(CZ23*3+DA23*1,0)","v":0},{"$f":"CA23","v":"C"},{"$f":"IF(CY23>0,RANK(DC23,DC22:DC25)+CF20,)","v":0},{"$f":"IF(AND(CY23>0,COUNTIF(DE22:DE25,DE23)>1),SUMIFS($AH$4:$AH$54,$AE$4:$AE$54,BS23,$L$4:$L$54,2)+SUMIFS($AJ$4:$AJ$54,$AG$4:$AG$54,BS23,$L$4:$L$54,2)-SUMIFS($AJ$4:$AJ$54,$AE$4:$AE$54,BS23,$L$4:$L$54,2)-SUMIFS($AH$4:$AH$54,$AG$4:$AG$54,BS23,$L$4:$L$54,2),)","v":0},{"$f":"IF(AND(CY23>0,COUNTIF(DE22:DE25,DE23)>1),DE23+RANK(DF23,DF22:DF25)-1,DE23)","v":0},{"$f":"IF(AND(CY23>0,COUNTIF(DG22:DG25,DG23)>1),SUMIFS($AH$4:$AH$54,$AE$4:$AE$54,BS23,$L$4:$L$54,2)+SUMIFS($AJ$4:$AJ$54,$AG$4:$AG$54,BS23,$L$4:$L$54,2),)","v":0},{"$f":"IF(AND(CY23>0,COUNTIF(DG22:DG25,DG23)>1),DG23+RANK(DH23,DH22:DH25)-1,DG23)","v":0},{"$f":"IF(DI23=0,\"\",DI23)","v":""},{"$f":"IF(OR(DJ23=\"\",COUNTIF(DJ22:DJ25,DJ23)=1),\"\",$BY23)","v":""},{"$f":"IF(DJ23=\"\",\"\",IF(COUNTIF(DJ22:DJ25,DJ23)=1,DJ23,DJ23+RANK(DK23,DK22:DK25,0)-1))","v":""},{"$f":"IF(OR(DL23=\"\",COUNTIF(DL22:DL25,DL23)=1),\"\",$BW23)","v":""},{"$f":"IF(DJ23=\"\",\"\",IF(COUNTIF(DL22:DL25,DL23)=1,DL23,DL23+RANK(DM23,DM22:DM25,0)-1))","v":""},{"$f":"IF(OR(DN23=\"\",COUNTIF(DN22:DN25,DN23)=1),\"\",$BT23)","v":""},{"$f":"IF(DJ23=\"\",\"\",IF(COUNTIF(DN22:DN25,DN23)=1,DN23,DN23+RANK(DO23,DO22:DO25,0)-1))","v":""},{"$f":"IF(CY23>0,CF20+RANK(DP23,DP22:DP25,1),)","v":0},null,{"$f":"IF(CB23=3,BS23,)","v":0},{"$f":"(SUMIF(AE4:AE54,BS23,BE4:BE54)+SUMIF(AG4:AG54,BS23,BF4:BF54))","v":0},{"$f":"(SUMIF(AE4:AE54,BS23,BG4:BG54)+SUMIF(AG4:AG54,BS23,BH4:BH54))","v":0},{"$f":"(SUMIF(AE4:AE54,BS23,BI4:BI54)+SUMIF(AG4:AG54,BS23,BJ4:BJ54))","v":0},{"$f":"IFERROR(DT23*3+DU23*1,0)","v":0},{"$f":"CA23","v":"C"},{"$f":"IF(DS23>0,RANK(DW23,DW22:DW25)+CF20+CZ20,)","v":0},{"$f":"IF(AND(DS23>0,COUNTIF(DY22:DY25,DY23)>1),SUMIFS($AH$4:$AH$54,$AE$4:$AE$54,BS23,$L$4:$L$54,3)+SUMIFS($AJ$4:$AJ$54,$AG$4:$AG$54,BS23,$L$4:$L$54,3)-SUMIFS($AJ$4:$AJ$54,$AE$4:$AE$54,BS23,$L$4:$L$54,3)-SUMIFS($AH$4:$AH$54,$AG$4:$AG$54,BS23,$L$4:$L$54,3),)","v":0},{"$f":"IF(AND(DS23>0,COUNTIF(DY22:DY25,DY23)>1),DY23+RANK(DZ23,DZ22:DZ25)-1,DY23)","v":0},{"$f":"IF(AND(DS23>0,COUNTIF(EA22:EA25,EA23)>1),SUMIFS($AH$4:$AH$54,$AE$4:$AE$54,BS23,$L$4:$L$54,3)+SUMIFS($AJ$4:$AJ$54,$AG$4:$AG$54,BS23,$L$4:$L$54,3),)","v":0},{"$f":"IF(AND(DS23>0,COUNTIF(EA22:EA25,EA23)>1),EA23+RANK(EB23,EB22:EB25)-1,EA23)","v":0},{"$f":"IF(EC23=0,\"\",EC23)","v":""},{"$f":"IF(OR(ED23=\"\",COUNTIF(ED22:ED25,ED23)=1),\"\",$BY23)","v":""},{"$f":"IF(ED23=\"\",\"\",IF(COUNTIF(ED22:ED25,ED23)=1,ED23,ED23+RANK(EE23,EE22:EE25,0)-1))","v":""},{"$f":"IF(OR(EF23=\"\",COUNTIF(EF22:EF25,EF23)=1),\"\",$BW23)","v":""},{"$f":"IF(ED23=\"\",\"\",IF(COUNTIF(EF22:EF25,EF23)=1,EF23,EF23+RANK(EG23,EG22:EG25,0)-1))","v":""},{"$f":"IF(OR(EH23=\"\",COUNTIF(EH22:EH25,EH23)=1),\"\",$BT23)","v":""},{"$f":"IF(ED23=\"\",\"\",IF(COUNTIF(EH22:EH25,EH23)=1,EH23,EH23+RANK(EI23,EI22:EI25,0)-1))","v":""},{"$f":"IF(DS23>0,CF20+CZ20+RANK(EJ23,EJ22:EJ25,1),)","v":0},null,{"$f":"IF(CB23=4,BS23,)","v":0},{"$f":"(SUMIF(AE4:AE54,BS23,BK4:BK54)+SUMIF(AG4:AG54,BS23,BL4:BL54))","v":0},{"$f":"(SUMIF(AE4:AE54,BS23,BM4:BM54)+SUMIF(AG4:AG54,BS23,BN4:BN54))","v":0},{"$f":"(SUMIF(AE4:AE54,BS23,BO4:BO54)+SUMIF(AG4:AG54,BS23,BP4:BP54))","v":0},{"$f":"IFERROR(EN23*3+EO23*1,0)","v":0},{"$f":"CA23","v":"C"},{"$f":"IF(EM23>0,RANK(EQ23,EQ22:EQ25)+CF20+CZ20+DT20,)","v":0},{"$f":"IF(AND(EM23>0,COUNTIF(ES22:ES25,ES23)>1),SUMIFS($AH$4:$AH$54,$AE$4:$AE$54,BS23,$L$4:$L$54,4)+SUMIFS($AJ$4:$AJ$54,$AG$4:$AG$54,BS23,$L$4:$L$54,4)-SUMIFS($AJ$4:$AJ$54,$AE$4:$AE$54,BS23,$L$4:$L$54,4)-SUMIFS($AH$4:$AH$54,$AG$4:$AG$54,BS23,$L$4:$L$54,4),)","v":0},{"$f":"IF(AND(EM23>0,COUNTIF(ES4:ES7,ES23)>1),ES23+RANK(ET23,ET4:ET7)-1,ES23)","v":0},{"$f":"IF(AND(EM23>0,COUNTIF(EU22:EU25,EU23)>1),SUMIFS($AH$4:$AH$54,$AE$4:$AE$54,BS23,$L$4:$L$54,4)+SUMIFS($AJ$4:$AJ$54,$AG$4:$AG$54,BS23,$L$4:$L$54,4),)","v":0},{"$f":"IF(AND(EM23>0,COUNTIF(EU22:EU25,EU23)>1),EU23+RANK(EV23,EV22:EV25)-1,EU23)","v":0},{"$f":"IF(EW23=0,\"\",EW23)","v":""},{"$f":"IF(OR(EX23=\"\",COUNTIF(EX22:EX25,EX23)=1),\"\",$BY23)","v":""},{"$f":"IF(EX23=\"\",\"\",IF(COUNTIF(EX22:EX25,EX23)=1,EX23,EX23+RANK(EY23,EY22:EY25,0)-1))","v":""},{"$f":"IF(OR(EZ23=\"\",COUNTIF(EZ22:EZ25,EZ23)=1),\"\",$BW23)","v":""},{"$f":"IF(EX23=\"\",\"\",IF(COUNTIF(EZ22:EZ25,EZ23)=1,EZ23,EZ23+RANK(FA23,FA22:FA25,0)-1))","v":""},{"$f":"IF(OR(FB23=\"\",COUNTIF(FB22:FB25,FB23)=1),\"\",$BT23)","v":""},{"$f":"IF(EX23=\"\",\"\",IF(COUNTIF(FB22:FB25,FB23)=1,FB23,FB23+RANK(FC23,FC22:FC25,0)-1))","v":""},{"$f":"IF(EM23>0,CF20+CZ20+DT20+RANK(FD23,FD22:FD25,1),)","v":0},null,{"$f":"IFERROR(VLOOKUP(FI23,CE21:CW25,19,FALSE),IFERROR(VLOOKUP(FI23,CY21:DQ25,19,FALSE),IFERROR(VLOOKUP(FI23,DS21:EK25,19,FALSE),VLOOKUP(FI23,EM21:FE25,19,FALSE))))","v":1},{"$f":"RANK(FG23,FG22:FG25,1)+COUNTIF(FG22:FG23,FG23)-1","v":2},{"$f":"BS23","v":"Nederländerna"}]
[null,null,"2021-06-17","Ukraina","-","Nord Makedonien",null,"-",null,"",{"$f":"IF(OR('Resultat & Tabell'!G24=\"\",'Resultat & Tabell'!I24=\"\",G24=\"\",I24=\"\"),0,IF(G24='Resultat & Tabell'!G24,2,0)+IF(I24='Resultat & Tabell'!I24,2,0)+IF(J24='Resultat & Tabell'!J24,3,0))","v":0},{"$f":"IF(VLOOKUP(D24,BS21:CB25,10,FALSE)=VLOOKUP(F24,BS21:CB25,10,FALSE),VLOOKUP(D24,BS21:CB25,10,FALSE),\"-\")","v":1},3,{"$f":"VLOOKUP(M24,FH22:FI25,2,FALSE)","v":"Nord Makedonien"},{"$f":"VLOOKUP(N24,BS22:BZ25,2,FALSE)","v":0},{"$f":"VLOOKUP(N24,BS22:BZ25,3,FALSE)","v":0},{"$f":"VLOOKUP(N24,BS22:BZ25,4,FALSE)","v":0},{"$f":"VLOOKUP(N24,BS22:BZ25,5,FALSE)","v":0},{"$f":"VLOOKUP(N24,BS22:BZ25,6,FALSE)","v":0},{"$f":"VLOOKUP(N24,BS22:BZ25,7,FALSE)","v":0},{"$f":"VLOOKUP(N24,BS22:BZ25,8,FALSE)","v":0},null,null,null,null,null,null,null,null,"2021-06-17","Ukraina","-","Nord Makedonien","","-","","",null,0,0,0,0,0,0,0,0,0,0,0,0,0,0,0,0,0,0,0,0,0,0,0,0,0,0,0,0,0,0,null,null,"Nord Makedonien",{"$f":"(SUMIF(AE4:AE54,BS24,AM4:AM54)+SUMIF(AG4:AG54,BS24,AN4:AN54))","v":0},{"$f":"(SUMIF(AE4:AE54,BS24,AO4:AO54)+SUMIF(AG4:AG54,BS24,AP4:AP54))","v":0},{"$f":"(SUMIF(AE4:AE54,BS24,AQ4:AQ54)+SUMIF(AG4:AG54,BS24,AR4:AR54))","v":0},{"$f":"SUMIF(AE4:AE54,BS24,AH4:AH54)+SUMIF(AG4:AG54,BS24,AJ4:AJ54)","v":0},{"$f":"SUMIF(AE4:AE54,BS24,AJ4:AJ54)+SUMIF(AG4:AG54,BS24,AH4:AH54)","v":0},{"$f":"BW24-BX24","v":0},{"$f":"IFERROR(BT24*3+BU24*1,0)","v":0},"C",{"$f":"RANK(BZ24,BZ22:BZ25)","v":1},{"$f":"SUMPRODUCT((BZ22:BZ25=BZ24)*(BY22:BY25>BY24))","v":0},null,{"$f":"IF(CB24=1,BS24,)","v":"Nord Makedonien"},{"$f":"(SUMIF(AE4:AE54,BS24,AS4:AS54)+SUMIF(AG4:AG54,BS24,AT4:AT54))","v":0},{"$f":"(SUMIF(AE4:AE54,BS24,AU4:AU54)+SUMIF(AG4:AG54,BS24,AV4:AV54))","v":0},{"$f":"(SUMIF(AE4:AE54,BS24,AW4:AW54)+SUMIF(AG4:AG54,BS24,AX4:AX54))","v":0},0,{"$f":"CA24","v":"C"},{"$f":"IF(CE24>0,RANK(CI24,CI22:CI25),)","v":1},{"$f":"IF(AND(CE24>0,COUNTIF(CK22:CK25,CK24)>1),SUMIFS($AH$4:$AH$54,$AE$4:$AE$54,BS24,$L$4:$L$54,1)+SUMIFS($AJ$4:$AJ$54,$AG$4:$AG$54,BS24,$L$4:$L$54,1)-SUMIFS($AJ$4:$AJ$54,$AE$4:$AE$54,BS24,$L$4:$L$54,1)-SUMIFS($AH$4:$AH$54,$AG$4:$AG$54,BS24,$L$4:$L$54,1),)","v":0},{"$f":"IF(AND(CE24>0,COUNTIF(CK22:CK25,CK24)>1),CK24+RANK(CL24,CL22:CL25)-1,CK24)","v":1},{"$f":"IF(AND(CE24>0,COUNTIF(CM22:CM25,CM24)>1),SUMIFS($AH$4:$AH$54,$AE$4:$AE$54,BS24,$L$4:$L$54,1)+SUMIFS($AJ$4:$AJ$54,$AG$4:$AG$54,BS24,$L$4:$L$54,1),)","v":0},{"$f":"IF(AND(CE24>0,COUNTIF(CM22:CM25,CM24)>1),CM24+RANK(CN24,CN22:CN25)-1,CM24)","v":1},1,{"$f":"IF(OR(CP24=\"\",COUNTIF(CP22:CP25,CP24)=1),\"\",$BY24)","v":0},{"$f":"IF(CP24=\"\",\"\",IF(COUNTIF(CP22:CP25,CP24)=1,CP24,CP24+RANK(CQ24,CQ22:CQ25,0)-1))","v":1},{"$f":"IF(OR(CR24=\"\",COUNTIF(CR22:CR25,CR24)=1),\"\",$BW24)","v":0},{"$f":"IF(CP24=\"\",\"\",IF(COUNTIF(CR22:CR25,CR24)=1,CR24,CR24+RANK(CS24,CS22:CS25,0)-1))","v":1},{"$f":"IF(OR(CT24=\"\",COUNTIF(CT22:CT25,CT24)=1),\"\",$BT24)","v":0},{"$f":"IF(CP24=\"\",\"\",IF(COUNTIF(CT22:CT25,CT24)=1,CT24,CT24+RANK(CU24,CU22:CU25,0)-1))","v":1},{"$f":"IF(CE24>0,BL20+RANK(CV24,CV22:CV25,1),)","v":1},null,{"$f":"IF(CB24=2,BS24,)","v":0},{"$f":"(SUMIF(AE4:AE54,BS24,AY4:AY54)+SUMIF(AG4:AG54,BS24,AZ4:AZ54))","v":0},{"$f":"(SUMIF(AE4:AE54,BS24,BA4:BA54)+SUMIF(AG4:AG54,BS24,BB4:BB54))","v":0},{"$f":"(SUMIF(AE4:AE54,BS24,BC4:BC54)+SUMIF(AG4:AG54,BS24,BD4:BD54))","v":0},0,{"$f":"CA24","v":"C"},{"$f":"IF(CY24>0,RANK(DC24,DC22:DC25)+CF20,)","v":0},{"$f":"IF(AND(CY24>0,COUNTIF(DE22:DE25,DE24)>1),SUMIFS($AH$4:$AH$54,$AE$4:$AE$54,BS24,$L$4:$L$54,2)+SUMIFS($AJ$4:$AJ$54,$AG$4:$AG$54,BS24,$L$4:$L$54,2)-SUMIFS($AJ$4:$AJ$54,$AE$4:$AE$54,BS24,$L$4:$L$54,2)-SUMIFS($AH$4:$AH$54,$AG$4:$AG$54,BS24,$L$4:$L$54,2),)","v":0},{"$f":"IF(AND(CY24>0,COUNTIF(DE22:DE25,DE24)>1),DE24+RANK(DF24,DF22:DF25)-1,DE24)","v":0},{"$f":"IF(AND(CY24>0,COUNTIF(DG22:DG25,DG24)>1),SUMIFS($AH$4:$AH$54,$AE$4:$AE$54,BS24,$L$4:$L$54,2)+SUMIFS($AJ$4:$AJ$54,$AG$4:$AG$54,BS24,$L$4:$L$54,2),)","v":0},{"$f":"IF(AND(CY24>0,COUNTIF(DG22:DG25,DG24)>1),DG24+RANK(DH24,DH22:DH25)-1,DG24)","v":0},"",{"$f":"IF(OR(DJ24=\"\",COUNTIF(DJ22:DJ25,DJ24)=1),\"\",$BY24)","v":""},{"$f":"IF(DJ24=\"\",\"\",IF(COUNTIF(DJ22:DJ25,DJ24)=1,DJ24,DJ24+RANK(DK24,DK22:DK25,0)-1))","v":""},{"$f":"IF(OR(DL24=\"\",COUNTIF(DL22:DL25,DL24)=1),\"\",$BW24)","v":""},{"$f":"IF(DJ24=\"\",\"\",IF(COUNTIF(DL22:DL25,DL24)=1,DL24,DL24+RANK(DM24,DM22:DM25,0)-1))","v":""},{"$f":"IF(OR(DN24=\"\",COUNTIF(DN22:DN25,DN24)=1),\"\",$BT24)","v":""},{"$f":"IF(DJ24=\"\",\"\",IF(COUNTIF(DN22:DN25,DN24)=1,DN24,DN24+RANK(DO24,DO22:DO25,0)-1))","v":""},{"$f":"IF(CY24>0,CF20+RANK(DP24,DP22:DP25,1),)","v":0},null,{"$f":"IF(CB24=3,BS24,)","v":0},{"$f":"(SUMIF(AE4:AE54,BS24,BE4:BE54)+SUMIF(AG4:AG54,BS24,BF4:BF54))","v":0},{"$f":"(SUMIF(AE4:AE54,BS24,BG4:BG54)+SUMIF(AG4:AG54,BS24,BH4:BH54))","v":0},{"$f":"(SUMIF(AE4:AE54,BS24,BI4:BI54)+SUMIF(AG4:AG54,BS24,BJ4:BJ54))","v":0},0,{"$f":"CA24","v":"C"},{"$f":"IF(DS24>0,RANK(DW24,DW22:DW25)+CF20+CZ20,)","v":0},{"$f":"IF(AND(DS24>0,COUNTIF(DY22:DY25,DY24)>1),SUMIFS($AH$4:$AH$54,$AE$4:$AE$54,BS24,$L$4:$L$54,3)+SUMIFS($AJ$4:$AJ$54,$AG$4:$AG$54,BS24,$L$4:$L$54,3)-SUMIFS($AJ$4:$AJ$54,$AE$4:$AE$54,BS24,$L$4:$L$54,3)-SUMIFS($AH$4:$AH$54,$AG$4:$AG$54,BS24,$L$4:$L$54,3),)","v":0},{"$f":"IF(AND(DS24>0,COUNTIF(DY22:DY25,DY24)>1),DY24+RANK(DZ24,DZ22:DZ25)-1,DY24)","v":0},{"$f":"IF(AND(DS24>0,COUNTIF(EA22:EA25,EA24)>1),SUMIFS($AH$4:$AH$54,$AE$4:$AE$54,BS24,$L$4:$L$54,3)+SUMIFS($AJ$4:$AJ$54,$AG$4:$AG$54,BS24,$L$4:$L$54,3),)","v":0},{"$f":"IF(AND(DS24>0,COUNTIF(EA22:EA25,EA24)>1),EA24+RANK(EB24,EB22:EB25)-1,EA24)","v":0},"",{"$f":"IF(OR(ED24=\"\",COUNTIF(ED22:ED25,ED24)=1),\"\",$BY24)","v":""},{"$f":"IF(ED24=\"\",\"\",IF(COUNTIF(ED22:ED25,ED24)=1,ED24,ED24+RANK(EE24,EE22:EE25,0)-1))","v":""},{"$f":"IF(OR(EF24=\"\",COUNTIF(EF22:EF25,EF24)=1),\"\",$BW24)","v":""},{"$f":"IF(ED24=\"\",\"\",IF(COUNTIF(EF22:EF25,EF24)=1,EF24,EF24+RANK(EG24,EG22:EG25,0)-1))","v":""},{"$f":"IF(OR(EH24=\"\",COUNTIF(EH22:EH25,EH24)=1),\"\",$BT24)","v":""},{"$f":"IF(ED24=\"\",\"\",IF(COUNTIF(EH22:EH25,EH24)=1,EH24,EH24+RANK(EI24,EI22:EI25,0)-1))","v":""},{"$f":"IF(DS24>0,CF20+CZ20+RANK(EJ24,EJ22:EJ25,1),)","v":0},null,{"$f":"IF(CB24=4,BS24,)","v":0},{"$f":"(SUMIF(AE4:AE54,BS24,BK4:BK54)+SUMIF(AG4:AG54,BS24,BL4:BL54))","v":0},{"$f":"(SUMIF(AE4:AE54,BS24,BM4:BM54)+SUMIF(AG4:AG54,BS24,BN4:BN54))","v":0},{"$f":"(SUMIF(AE4:AE54,BS24,BO4:BO54)+SUMIF(AG4:AG54,BS24,BP4:BP54))","v":0},0,{"$f":"CA24","v":"C"},{"$f":"IF(EM24>0,RANK(EQ24,EQ22:EQ25)+CF20+CZ20+DT20,)","v":0},{"$f":"IF(AND(EM24>0,COUNTIF(ES22:ES25,ES24)>1),SUMIFS($AH$4:$AH$54,$AE$4:$AE$54,BS24,$L$4:$L$54,4)+SUMIFS($AJ$4:$AJ$54,$AG$4:$AG$54,BS24,$L$4:$L$54,4)-SUMIFS($AJ$4:$AJ$54,$AE$4:$AE$54,BS24,$L$4:$L$54,4)-SUMIFS($AH$4:$AH$54,$AG$4:$AG$54,BS24,$L$4:$L$54,4),)","v":0},{"$f":"IF(AND(EM24>0,COUNTIF(ES4:ES7,ES24)>1),ES24+RANK(ET24,ET4:ET7)-1,ES24)","v":0},{"$f":"IF(AND(EM24>0,COUNTIF(EU22:EU25,EU24)>1),SUMIFS($AH$4:$AH$54,$AE$4:$AE$54,BS24,$L$4:$L$54,4)+SUMIFS($AJ$4:$AJ$54,$AG$4:$AG$54,BS24,$L$4:$L$54,4),)","v":0},{"$f":"IF(AND(EM24>0,COUNTIF(EU22:EU25,EU24)>1),EU24+RANK(EV24,EV22:EV25)-1,EU24)","v":0},"",{"$f":"IF(OR(EX24=\"\",COUNTIF(EX22:EX25,EX24)=1),\"\",$BY24)","v":""},{"$f":"IF(EX24=\"\",\"\",IF(COUNTIF(EX22:EX25,EX24)=1,EX24,EX24+RANK(EY24,EY22:EY25,0)-1))","v":""},{"$f":"IF(OR(EZ24=\"\",COUNTIF(EZ22:EZ25,EZ24)=1),\"\",$BW24)","v":""},{"$f":"IF(EX24=\"\",\"\",IF(COUNTIF(EZ22:EZ25,EZ24)=1,EZ24,EZ24+RANK(FA24,FA22:FA25,0)-1))","v":""},{"$f":"IF(OR(FB24=\"\",COUNTIF(FB22:FB25,FB24)=1),\"\",$BT24)","v":""},{"$f":"IF(EX24=\"\",\"\",IF(COUNTIF(FB22:FB25,FB24)=1,FB24,FB24+RANK(FC24,FC22:FC25,0)-1))","v":""},{"$f":"IF(EM24>0,CF20+CZ20+DT20+RANK(FD24,FD22:FD25,1),)","v":0},null,{"$f":"IFERROR(VLOOKUP(FI24,CE21:CW25,19,FALSE),IFERROR(VLOOKUP(FI24,CY21:DQ25,19,FALSE),IFERROR(VLOOKUP(FI24,DS21:EK25,19,FALSE),VLOOKUP(FI24,EM21:FE25,19,FALSE))))","v":1},{"$f":"RANK(FG24,FG22:FG25,1)+COUNTIF(FG22:FG24,FG24)-1","v":3},{"$f":"BS24","v":"Nord Makedonien"}]
[null,null,"2021-06-17","Nederländerna","-","Österrike",null,"-",null,"",{"$f":"IF(OR('Resultat & Tabell'!G25=\"\",'Resultat & Tabell'!I25=\"\",G25=\"\",I25=\"\"),0,IF(G25='Resultat & Tabell'!G25,2,0)+IF(I25='Resultat & Tabell'!I25,2,0)+IF(J25='Resultat & Tabell'!J25,3,0))","v":0},{"$f":"IF(VLOOKUP(D25,BS21:CB25,10,FALSE)=VLOOKUP(F25,BS21:CB25,10,FALSE),VLOOKUP(D25,BS21:CB25,10,FALSE),\"-\")","v":1},4,{"$f":"VLOOKUP(M25,FH22:FI25,2,FALSE)","v":"Ukraina"},{"$f":"VLOOKUP(N25,BS22:BZ25,2,FALSE)","v":0},{"$f":"VLOOKUP(N25,BS22:BZ25,3,FALSE)","v":0},{"$f":"VLOOKUP(N25,BS22:BZ25,4,FALSE)","v":0},{"$f":"VLOOKUP(N25,BS22:BZ25,5,FALSE)","v":0},{"$f":"VLOOKUP(N25,BS22:BZ25,6,FALSE)","v":0},{"$f":"VLOOKUP(N25,BS22:BZ25,7,FALSE)","v":0},{"$f":"VLOOKUP(N25,BS22:BZ25,8,FALSE)","v":0},null,null,null,null,null,null,null,null,"2021-06-17","Nederländerna","-","Österrike","","-","","",null,0,0,0,0,0,0,0,0,0,0,0,0,0,0,0,0,0,0,0,0,0,0,0,0,0,0,0,0,0,0,null,null,"Ukraina",{"$f":"(SUMIF(AE4:AE54,BS25,AM4:AM54)+SUMIF(AG4:AG54,BS25,AN4:AN54))","v":0},{"$f":"(SUMIF(AE4:AE54,BS25,AO4:AO54)+SUMIF(AG4:AG54,BS25,AP4:AP54))","v":0},{"$f":"(SUMIF(AE4:AE54,BS25,AQ4:AQ54)+SUMIF(AG4:AG54,BS25,AR4:AR54))","v":0},{"$f":"SUMIF(AE4:AE54,BS25,AH4:AH54)+SUMIF(AG4:AG54,BS25,AJ4:AJ54)","v":0},{"$f":"SUMIF(AE4:AE54,BS25,AJ4:AJ54)+SUMIF(AG4:AG54,BS25,AH4:AH54)","v":0},{"$f":"BW25-BX25","v":0},{"$f":"IFERROR(BT25*3+BU25*1,0)","v":0},"C",{"$f":"RANK(BZ25,BZ22:BZ25)","v":1},{"$f":"SUMPRODUCT((BZ22:BZ25=BZ25)*(BY22:BY25>BY25))","v":0},null,{"$f":"IF(CB25=1,BS25,)","v":"Ukraina"},{"$f":"(SUMIF(AE4:AE54,BS25,AS4:AS54)+SUMIF(AG4:AG54,BS25,AT4:AT54))","v":0},{"$f":"(SUMIF(AE4:AE54,BS25,AU4:AU54)+SUMIF(AG4:AG54,BS25,AV4:AV54))","v":0},{"$f":"(SUMIF(AE4:AE54,BS25,AW4:AW54)+SUMIF(AG4:AG54,BS25,AX4:AX54))","v":0},0,{"$f":"CA25","v":"C"},{"$f":"IF(CE25>0,RANK(CI25,CI22:CI25),)","v":1},{"$f":"IF(AND(CE25>0,COUNTIF(CK22:CK25,CK25)>1),SUMIFS($AH$4:$AH$54,$AE$4:$AE$54,BS25,$L$4:$L$54,1)+SUMIFS($AJ$4:$AJ$54,$AG$4:$AG$54,BS25,$L$4:$L$54,1)-SUMIFS($AJ$4:$AJ$54,$AE$4:$AE$54,BS25,$L$4:$L$54,1)-SUMIFS($AH$4:$AH$54,$AG$4:$AG$54,BS25,$L$4:$L$54,1),)","v":0},{"$f":"IF(AND(CE25>0,COUNTIF(CK22:CK25,CK25)>1),CK25+RANK(CL25,CL22:CL25)-1,CK25)","v":1},{"$f":"IF(AND(CE25>0,COUNTIF(CM22:CM25,CM25)>1),SUMIFS($AH$4:$AH$54,$AE$4:$AE$54,BS25,$L$4:$L$54,1)+SUMIFS($AJ$4:$AJ$54,$AG$4:$AG$54,BS25,$L$4:$L$54,1),)","v":0},{"$f":"IF(AND(CE25>0,COUNTIF(CM22:CM25,CM25)>1),CM25+RANK(CN25,CN22:CN25)-1,CM25)","v":1},1,{"$f":"IF(OR(CP25=\"\",COUNTIF(CP22:CP25,CP25)=1),\"\",$BY25)","v":0},{"$f":"IF(CP25=\"\",\"\",IF(COUNTIF(CP22:CP25,CP25)=1,CP25,CP25+RANK(CQ25,CQ22:CQ25,0)-1))","v":1},{"$f":"IF(OR(CR25=\"\",COUNTIF(CR22:CR25,CR25)=1),\"\",$BW25)","v":0},{"$f":"IF(CP25=\"\",\"\",IF(COUNTIF(CR22:CR25,CR25)=1,CR25,CR25+RANK(CS25,CS22:CS25,0)-1))","v":1},{"$f":"IF(OR(CT25=\"\",COUNTIF(CT22:CT25,CT25)=1),\"\",$BT25)","v":0},{"$f":"IF(CP25=\"\",\"\",IF(COUNTIF(CT22:CT25,CT25)=1,CT25,CT25+RANK(CU25,CU22:CU25,0)-1))","v":1},{"$f":"IF(CE25>0,BL20+RANK(CV25,CV22:CV25,1),)","v":1},null,{"$f":"IF(CB25=2,BS25,)","v":0},{"$f":"(SUMIF(AE4:AE54,BS25,AY4:AY54)+SUMIF(AG4:AG54,BS25,AZ4:AZ54))","v":0},{"$f":"(SUMIF(AE4:AE54,BS25,BA4:BA54)+SUMIF(AG4:AG54,BS25,BB4:BB54))","v":0},{"$f":"(SUMIF(AE4:AE54,BS25,BC4:BC54)+SUMIF(AG4:AG54,BS25,BD4:BD54))","v":0},0,{"$f":"CA25","v":"C"},{"$f":"IF(CY25>0,RANK(DC25,DC22:DC25)+CF20,)","v":0},{"$f":"IF(AND(CY25>0,COUNTIF(DE22:DE25,DE25)>1),SUMIFS($AH$4:$AH$54,$AE$4:$AE$54,BS25,$L$4:$L$54,2)+SUMIFS($AJ$4:$AJ$54,$AG$4:$AG$54,BS25,$L$4:$L$54,2)-SUMIFS($AJ$4:$AJ$54,$AE$4:$AE$54,BS25,$L$4:$L$54,2)-SUMIFS($AH$4:$AH$54,$AG$4:$AG$54,BS25,$L$4:$L$54,2),)","v":0},{"$f":"IF(AND(CY25>0,COUNTIF(DE22:DE25,DE25)>1),DE25+RANK(DF25,DF22:DF25)-1,DE25)","v":0},{"$f":"IF(AND(CY25>0,COUNTIF(DG22:DG25,DG25)>1),SUMIFS($AH$4:$AH$54,$AE$4:$AE$54,BS25,$L$4:$L$54,2)+SUMIFS($AJ$4:$AJ$54,$AG$4:$AG$54,BS25,$L$4:$L$54,2),)","v":0},{"$f":"IF(AND(CY25>0,COUNTIF(DG22:DG25,DG25)>1),DG25+RANK(DH25,DH22:DH25)-1,DG25)","v":0},"",{"$f":"IF(OR(DJ25=\"\",COUNTIF(DJ22:DJ25,DJ25)=1),\"\",$BY25)","v":""},{"$f":"IF(DJ25=\"\",\"\",IF(COUNTIF(DJ22:DJ25,DJ25)=1,DJ25,DJ25+RANK(DK25,DK22:DK25,0)-1))","v":""},{"$f":"IF(OR(DL25=\"\",COUNTIF(DL22:DL25,DL25)=1),\"\",$BW25)","v":""},{"$f":"IF(DJ25=\"\",\"\",IF(COUNTIF(DL22:DL25,DL25)=1,DL25,DL25+RANK(DM25,DM22:DM25,0)-1))","v":""},{"$f":"IF(OR(DN25=\"\",COUNTIF(DN22:DN25,DN25)=1),\"\",$BT25)","v":""},{"$f":"IF(DJ25=\"\",\"\",IF(COUNTIF(DN22:DN25,DN25)=1,DN25,DN25+RANK(DO25,DO22:DO25,0)-1))","v":""},{"$f":"IF(CY25>0,CF20+RANK(DP25,DP22:DP25,1),)","v":0},null,{"$f":"IF(CB25=3,BS25,)","v":0},{"$f":"(SUMIF(AE4:AE54,BS25,BE4:BE54)+SUMIF(AG4:AG54,BS25,BF4:BF54))","v":0},{"$f":"(SUMIF(AE4:AE54,BS25,BG4:BG54)+SUMIF(AG4:AG54,BS25,BH4:BH54))","v":0},{"$f":"(SUMIF(AE4:AE54,BS25,BI4:BI54)+SUMIF(AG4:AG54,BS25,BJ4:BJ54))","v":0},0,{"$f":"CA25","v":"C"},{"$f":"IF(DS25>0,RANK(DW25,DW22:DW25)+CF20+CZ20,)","v":0},{"$f":"IF(AND(DS25>0,COUNTIF(DY22:DY25,DY25)>1),SUMIFS($AH$4:$AH$54,$AE$4:$AE$54,BS25,$L$4:$L$54,3)+SUMIFS($AJ$4:$AJ$54,$AG$4:$AG$54,BS25,$L$4:$L$54,3)-SUMIFS($AJ$4:$AJ$54,$AE$4:$AE$54,BS25,$L$4:$L$54,3)-SUMIFS($AH$4:$AH$54,$AG$4:$AG$54,BS25,$L$4:$L$54,3),)","v":0},{"$f":"IF(AND(DS25>0,COUNTIF(DY22:DY25,DY25)>1),DY25+RANK(DZ25,DZ22:DZ25)-1,DY25)","v":0},{"$f":"IF(AND(DS25>0,COUNTIF(EA22:EA25,EA25)>1),SUMIFS($AH$4:$AH$54,$AE$4:$AE$54,BS25,$L$4:$L$54,3)+SUMIFS($AJ$4:$AJ$54,$AG$4:$AG$54,BS25,$L$4:$L$54,3),)","v":0},{"$f":"IF(AND(DS25>0,COUNTIF(EA22:EA25,EA25)>1),EA25+RANK(EB25,EB22:EB25)-1,EA25)","v":0},"",{"$f":"IF(OR(ED25=\"\",COUNTIF(ED22:ED25,ED25)=1),\"\",$BY25)","v":""},{"$f":"IF(ED25=\"\",\"\",IF(COUNTIF(ED22:ED25,ED25)=1,ED25,ED25+RANK(EE25,EE22:EE25,0)-1))","v":""},{"$f":"IF(OR(EF25=\"\",COUNTIF(EF22:EF25,EF25)=1),\"\",$BW25)","v":""},{"$f":"IF(ED25=\"\",\"\",IF(COUNTIF(EF22:EF25,EF25)=1,EF25,EF25+RANK(EG25,EG22:EG25,0)-1))","v":""},{"$f":"IF(OR(EH25=\"\",COUNTIF(EH22:EH25,EH25)=1),\"\",$BT25)","v":""},{"$f":"IF(ED25=\"\",\"\",IF(COUNTIF(EH22:EH25,EH25)=1,EH25,EH25+RANK(EI25,EI22:EI25,0)-1))","v":""},{"$f":"IF(DS25>0,CF20+CZ20+RANK(EJ25,EJ22:EJ25,1),)","v":0},null,{"$f":"IF(CB25=4,BS25,)","v":0},{"$f":"(SUMIF(AE4:AE54,BS25,BK4:BK54)+SUMIF(AG4:AG54,BS25,BL4:BL54))","v":0},{"$f":"(SUMIF(AE4:AE54,BS25,BM4:BM54)+SUMIF(AG4:AG54,BS25,BN4:BN54))","v":0},{"$f":"(SUMIF(AE4:AE54,BS25,BO4:BO54)+SUMIF(AG4:AG54,BS25,BP4:BP54))","v":0},0,{"$f":"CA25","v":"C"},{"$f":"IF(EM25>0,RANK(EQ25,EQ22:EQ25)+CF20+CZ20+DT20,)","v":0},{"$f":"IF(AND(EM25>0,COUNTIF(ES22:ES25,ES25)>1),SUMIFS($AH$4:$AH$54,$AE$4:$AE$54,BS25,$L$4:$L$54,4)+SUMIFS($AJ$4:$AJ$54,$AG$4:$AG$54,BS25,$L$4:$L$54,4)-SUMIFS($AJ$4:$AJ$54,$AE$4:$AE$54,BS25,$L$4:$L$54,4)-SUMIFS($AH$4:$AH$54,$AG$4:$AG$54,BS25,$L$4:$L$54,4),)","v":0},{"$f":"IF(AND(EM25>0,COUNTIF(ES4:ES7,ES25)>1),ES25+RANK(ET25,ET4:ET7)-1,ES25)","v":0},{"$f":"IF(AND(EM25>0,COUNTIF(EU22:EU25,EU25)>1),SUMIFS($AH$4:$AH$54,$AE$4:$AE$54,BS25,$L$4:$L$54,4)+SUMIFS($AJ$4:$AJ$54,$AG$4:$AG$54,BS25,$L$4:$L$54,4),)","v":0},{"$f":"IF(AND(EM25>0,COUNTIF(EU22:EU25,EU25)>1),EU25+RANK(EV25,EV22:EV25)-1,EU25)","v":0},"",{"$f":"IF(OR(EX25=\"\",COUNTIF(EX22:EX25,EX25)=1),\"\",$BY25)","v":""},{"$f":"IF(EX25=\"\",\"\",IF(COUNTIF(EX22:EX25,EX25)=1,EX25,EX25+RANK(EY25,EY22:EY25,0)-1))","v":""},{"$f":"IF(OR(EZ25=\"\",COUNTIF(EZ22:EZ25,EZ25)=1),\"\",$BW25)","v":""},{"$f":"IF(EX25=\"\",\"\",IF(COUNTIF(EZ22:EZ25,EZ25)=1,EZ25,EZ25+RANK(FA25,FA22:FA25,0)-1))","v":""},{"$f":"IF(OR(FB25=\"\",COUNTIF(FB22:FB25,FB25)=1),\"\",$BT25)","v":""},{"$f":"IF(EX25=\"\",\"\",IF(COUNTIF(FB22:FB25,FB25)=1,FB25,FB25+RANK(FC25,FC22:FC25,0)-1))","v":""},{"$f":"IF(EM25>0,CF20+CZ20+DT20+RANK(FD25,FD22:FD25,1),)","v":0},null,{"$f":"IFERROR(VLOOKUP(FI25,CE21:CW25,19,FALSE),IFERROR(VLOOKUP(FI25,CY21:DQ25,19,FALSE),IFERROR(VLOOKUP(FI25,DS21:EK25,19,FALSE),VLOOKUP(FI25,EM21:FE25,19,FALSE))))","v":1},{"$f":"RANK(FG25,FG22:FG25,1)+COUNTIF(FG22:FG25,FG25)-1","v":4},{"$f":"BS25","v":"Ukraina"}]
[null,null,"2021-06-21","Ukraina","-","Österrike",null,"-",null,"",{"$f":"IF(OR('Resultat & Tabell'!G26=\"\",'Resultat & Tabell'!I26=\"\",G26=\"\",I26=\"\"),0,IF(G26='Resultat & Tabell'!G26,2,0)+IF(I26='Resultat & Tabell'!I26,2,0)+IF(J26='Resultat & Tabell'!J26,3,0))","v":0},{"$f":"IF(VLOOKUP(D26,BS21:CB25,10,FALSE)=VLOOKUP(F26,BS21:CB25,10,FALSE),VLOOKUP(D26,BS21:CB25,10,FALSE),\"-\")","v":1},null,{"$f":"IF(COUNTBLANK(G22:G27)+COUNTBLANK(I22:I27)=0,\"Resultat OK\",\"Fyll i resultat\")","v":"Fyll i resultat"},null,null,null,null,null,null,null,null,null,null,null,null,null,null,null,"2021-06-21","Ukraina","-","Österrike","","-","","",null,0,0,0,0,0,0,0,0,0,0,0,0,0,0,0,0,0,0,0,0,0,0,0,0,0,0,0,0,0,0]
[null,null,"2021-06-21","Nord Makedonien","-","Nederländerna",null,"-",null,"",{"$f":"IF(OR('Resultat & Tabell'!G27=\"\",'Resultat & Tabell'!I27=\"\",G27=\"\",I27=\"\"),0,IF(G27='Resultat & Tabell'!G27,2,0)+IF(I27='Resultat & Tabell'!I27,2,0)+IF(J27='Resultat & Tabell'!J27,3,0))","v":0},{"$f":"IF(VLOOKUP(D27,BS21:CB25,10,FALSE)=VLOOKUP(F27,BS21:CB25,10,FALSE),VLOOKUP(D27,BS21:CB25,10,FALSE),\"-\")","v":1},null,null,null,null,null,null,null,null,null,null,null,null,null,null,null,null,null,"2021-06-21","Nord Makedonien","-","Nederländerna","","-","","",null,0,0,0,0,0,0,0,0,0,0,0,0,0,0,0,0,0,0,0,0,0,0,0,0,0,0,0,0,0,0]
[]
[null,null,"Grupp D",null,null,null,null,null,null,null,null,null,null,null,null,null,null,null,null,null,null,null,null,null,null,null,null,null,null,"Grupp D",null,null,null,null,null,null,null,null,null,null,null,null,null,null,null,null,null,null,null,null,null,null,null,null,null,null,null,null,null,null,null,null,null,null,null,null,null,null,null,null,"Rank 0",null,null,null,null,null,null,null,null,null,null,null,"Rank 1",{"$f":"COUNTIF(CB31:CB34,1)","v":4},null,null,null,null,null,null,null,null,null,null,null,null,null,null,null,null,null,null,"Rank 2",{"$f":"COUNTIF(CB31:CB34,2)","v":0},null,null,null,null,null,null,null,null,null,null,null,null,null,null,null,null,null,null,"Rank 3",{"$f":"COUNTIF(CB31:CB34,3)","v":0},null,null,null,null,null,null,null,null,null,null,null,null,null,null,null,null,null,null,"Rank 4",{"$f":"COUNTIF(CB31:CB34,4)","v":0}]
[null,null,"Datum","Match",null,null,"Resultat",null,null,"Tecken","Poäng",null,null,"Lag","V","O","F","GM","IM","+/-","P",null,null,null,null,null,null,null,null,"Datum","Match",null,null,"Resultat",null,null,"Tecken","Poäng","V1","V2","O1","O2","F1","F2","V1","V2","O1","O2","F1","F2","V1","V2","O1","O2","F1","F2","V1","V2","O1","O2","F1","F2","V1","V2","O1","O2","F1","F2",null,null,"Lag","V","O","F","GM","IM","+/-","P","Grupp","Rank P","Rank +/-",null,"Lag","V","O","F","P","Grupp","Rank P","+/-","+/- rank","GM","GM rank","Rank internal","+/- all","+/- rank all","GM all","GM rank all","V all","V rank all","Rank all",null,"Lag","V","O","F","P","Grupp","Rank P","+/-","+/- rank","GM","GM rank","Rank internal","+/- all","+/- rank all","GM all","GM rank all","V all","V rank all","Rank all",null,"Lag","V","O","F","P","Grupp","Rank P","+/-","+/- rank","GM","GM rank","Rank internal","+/- all","+/- rank all","GM all","GM rank all","V all","V rank all","Rank all",null,"Lag","V","O","F","P","Grupp","Rank P","+/-","+/- rank","GM","GM rank","Rank internal","+/- all","+/- rank all","GM all","GM rank all","V all","V rank all","Rank all",null,"Rank","Rank Ties"]
[null,null,"2021-06-13","England","-","Kroatien",null,"-",null,{"$f":"IF(OR(ISBLANK(G31),ISBLANK(I31)),\"\",IF(G31>I31,1,IF(G31<I31,2,\"X\")))","v":""},{"$f":"IF(OR('Resultat & Tabell'!G31=\"\",'Resultat & Tabell'!I31=\"\",G31=\"\",I31=\"\"),0,IF(G31='Resultat & Tabell'!G31,2,0)+IF(I31='Resultat & Tabell'!I31,2,0)+IF(J31='Resultat & Tabell'!J31,3,0))","v":0},{"$f":"IF(VLOOKUP(D31,BS30:CB34,10,FALSE)=VLOOKUP(F31,BS30:CB34,10,FALSE),VLOOKUP(D31,BS30:CB34,10,FALSE),\"-\")","v":1},1,{"$f":"VLOOKUP(M31,FH31:FI34,2,FALSE)","v":"Kroatien"},{"$f":"VLOOKUP(N31,BS31:BZ34,2,FALSE)","v":0},{"$f":"VLOOKUP(N31,BS31:BZ34,3,FALSE)","v":0},{"$f":"VLOOKUP(N31,BS31:BZ34,4,FALSE)","v":0},{"$f":"VLOOKUP(N31,BS31:BZ34,5,FALSE)","v":0},{"$f":"VLOOKUP(N31,BS31:BZ34,6,FALSE)","v":0},{"$f":"VLOOKUP(N31,BS31:BZ34,7,FALSE)","v":0},{"$f":"VLOOKUP(N31,BS31:BZ34,8,FALSE)","v":0},null,null,null,null,null,null,null,null,{"$f":"C31","v":"2021-06-13"},{"$f":"D31","v":"England"},{"$f":"E31","v":"-"},{"$f":"F31","v":"Kroatien"},{"$f":"IF(G31=\"\",\"\",G31)","v":""},"-",{"$f":"IF(I31=\"\",\"\",I31)","v":""},{"$f":"J31","v":""},null,{"$f":"IF(AH31>AJ31,1,0)","v":0},{"$f":"IF(AJ31>AH31,1,0)","v":0},{"$f":"IF(AND(AH31=AJ31,AH31<>\"\"),1,0)","v":0},{"$f":"IF(AND(AH31=AJ31,AH31<>\"\"),1,0)","v":0},{"$f":"IF(AH31<AJ31,1,0)","v":0},{"$f":"IF(AJ31<AH31,1,)","v":0},{"$f":"IF(ISERROR(VLOOKUP(AE31,CE:CE,1,FALSE)),0,1)*IF(ISERROR(VLOOKUP(AG31,CE:CE,1,FALSE)),0,1)*AM31","v":0},{"$f":"IF(ISERROR(VLOOKUP(AE31,CE:CE,1,FALSE)),0,1)*IF(ISERROR(VLOOKUP(AG31,CE:CE,1,FALSE)),0,1)*AN31","v":0},{"$f":"IF(ISERROR(VLOOKUP(AE31,CE:CE,1,FALSE)),0,1)*IF(ISERROR(VLOOKUP(AG31,CE:CE,1,FALSE)),0,1)*AO31","v":0},{"$f":"IF(ISERROR(VLOOKUP(AE31,CE:CE,1,FALSE)),0,1)*IF(ISERROR(VLOOKUP(AG31,CE:CE,1,FALSE)),0,1)*AP31","v":0},{"$f":"IF(ISERROR(VLOOKUP(AE31,CE:CE,1,FALSE)),0,1)*IF(ISERROR(VLOOKUP(AG31,CE:CE,1,FALSE)),0,1)*AQ31","v":0},{"$f":"IF(ISERROR(VLOOKUP(AE31,CE:CE,1,FALSE)),0,1)*IF(ISERROR(VLOOKUP(AG31,CE:CE,1,FALSE)),0,1)*AR31","v":0},{"$f":"IF(ISERROR(VLOOKUP(AE31,CY:CY,1,FALSE)),0,1)*IF(ISERROR(VLOOKUP(AG31,CY:CY,1,FALSE)),0,1)*AM31","v":0},{"$f":"IF(ISERROR(VLOOKUP(AE31,CY:CY,1,FALSE)),0,1)*IF(ISERROR(VLOOKUP(AG31,CY:CY,1,FALSE)),0,1)*AN31","v":0},{"$f":"IF(ISERROR(VLOOKUP(AE31,CY:CY,1,FALSE)),0,1)*IF(ISERROR(VLOOKUP(AG31,CY:CY,1,FALSE)),0,1)*AO31","v":0},{"$f":"IF(ISERROR(VLOOKUP(AE31,CY:CY,1,FALSE)),0,1)*IF(ISERROR(VLOOKUP(AG31,CY:CY,1,FALSE)),0,1)*AP31","v":0},{"$f":"IF(ISERROR(VLOOKUP(AE31,CY:CY,1,FALSE)),0,1)*IF(ISERROR(VLOOKUP(AG31,CY:CY,1,FALSE)),0,1)*AQ31","v":0},{"$f":"IF(ISERROR(VLOOKUP(AE31,CY:CY,1,FALSE)),0,1)*IF(ISERROR(VLOOKUP(AG31,CY:CY,1,FALSE)),0,1)*AR31","v":0},{"$f":"IF(ISERROR(VLOOKUP(AE31,DS:DS,1,FALSE)),0,1)*IF(ISERROR(VLOOKUP(AG31,DS:DS,1,FALSE)),0,1)*AM31","v":0},{"$f":"IF(ISERROR(VLOOKUP(AE31,DS:DS,1,FALSE)),0,1)*IF(ISERROR(VLOOKUP(AG31,DS:DS,1,FALSE)),0,1)*AN31","v":0},{"$f":"IF(ISERROR(VLOOKUP(AE31,DS:DS,1,FALSE)),0,1)*IF(ISERROR(VLOOKUP(AG31,DS:DS,1,FALSE)),0,1)*AO31","v":0},{"$f":"IF(ISERROR(VLOOKUP(AE31,DS:DS,1,FALSE)),0,1)*IF(ISERROR(VLOOKUP(AG31,DS:DS,1,FALSE)),0,1)*AP31","v":0},{"$f":"IF(ISERROR(VLOOKUP(AE31,DS:DS,1,FALSE)),0,1)*IF(ISERROR(VLOOKUP(AG31,DS:DS,1,FALSE)),0,1)*AQ31","v":0},{"$f":"IF(ISERROR(VLOOKUP(AE31,DS:DS,1,FALSE)),0,1)*IF(ISERROR(VLOOKUP(AG31,DS:DS,1,FALSE)),0,1)*AR31","v":0},{"$f":"IF(ISERROR(VLOOKUP(AE31,EM:EM,1,FALSE)),0,1)*IF(ISERROR(VLOOKUP(AG31,EM:EM,1,FALSE)),0,1)*AM31","v":0},{"$f":"IF(ISERROR(VLOOKUP(AE31,EM:EM,1,FALSE)),0,1)*IF(ISERROR(VLOOKUP(AG31,EM:EM,1,FALSE)),0,1)*AN31","v":0},{"$f":"IF(ISERROR(VLOOKUP(AE31,EM:EM,1,FALSE)),0,1)*IF(ISERROR(VLOOKUP(AG31,EM:EM,1,FALSE)),0,1)*AO31","v":0},{"$f":"IF(ISERROR(VLOOKUP(AE31,EM:EM,1,FALSE)),0,1)*IF(ISERROR(VLOOKUP(AG31,EM:EM,1,FALSE)),0,1)*AP31","v":0},{"$f":"IF(ISERROR(VLOOKUP(AE31,EM:EM,1,FALSE)),0,1)*IF(ISERROR(VLOOKUP(AG31,EM:EM,1,FALSE)),0,1)*AQ31","v":0},{"$f":"IF(ISERROR(VLOOKUP(AE31,EM:EM,1,FALSE)),0,1)*IF(ISERROR(VLOOKUP(AG31,EM:EM,1,FALSE)),0,1)*AR31","v":0},null,null,"Kroatien",{"$f":"(SUMIF(AE4:AE54,BS31,AM4:AM54)+SUMIF(AG4:AG54,BS31,AN4:AN54))","v":0},{"$f":"(SUMIF(AE4:AE54,BS31,AO4:AO54)+SUMIF(AG4:AG54,BS31,AP4:AP54))","v":0},{"$f":"(SUMIF(AE4:AE54,BS31,AQ4:AQ54)+SUMIF(AG4:AG54,BS31,AR4:AR54))","v":0},{"$f":"SUMIF(AE4:AE54,BS31,AH4:AH54)+SUMIF(AG4:AG54,BS31,AJ4:AJ54)","v":0},{"$f":"SUMIF(AE4:AE54,BS31,AJ4:AJ54)+SUMIF(AG4:AG54,BS31,AH4:AH54)","v":0},{"$f":"BW31-BX31","v":0},{"$f":"IFERROR(BT31*3+BU31*1,0)","v":0},"D",{"$f":"RANK(BZ31,BZ31:BZ34)","v":1},{"$f":"SUMPRODUCT((BZ31:BZ34=BZ31)*(BY31:BY34>BY31))","v":0},null,{"$f":"IF(CB31=1,BS31,)","v":"Kroatien"},{"$f":"(SUMIF(AE4:AE54,BS31,AS4:AS54)+SUMIF(AG4:AG54,BS31,AT4:AT54))","v":0},{"$f":"(SUMIF(AE4:AE54,BS31,AU4:AU54)+SUMIF(AG4:AG54,BS31,AV4:AV54))","v":0},{"$f":"(SUMIF(AE4:AE54,BS31,AW4:AW54)+SUMIF(AG4:AG54,BS31,AX4:AX54))","v":0},{"$f":"IFERROR(CF31*3+CG31*1,0)","v":0},{"$f":"CA31","v":"D"},{"$f":"IF(CE31>0,RANK(CI31,CI31:CI34),)","v":1},{"$f":"IF(AND(CE31>0,COUNTIF(CK31:CK34,CK31)>1),SUMIFS($AH$4:$AH$54,$AE$4:$AE$54,$BS31,$L$4:$L$54,1)+SUMIFS($AJ$4:$AJ$54,$AG$4:$AG$54,$BS31,$L$4:$L$54,1)-SUMIFS($AJ$4:$AJ$54,$AE$4:$AE$54,$BS31,$L$4:$L$54,1)-SUMIFS($AH$4:$AH$54,$AG$4:$AG$54,$BS31,$L$4:$L$54,1),)","v":0},{"$f":"IF(AND(CE31>0,COUNTIF(CK31:CK34,CK31)>1),CK31+RANK(CL31,CL31:CL34)-1,CK31)","v":1},{"$f":"IF(AND(CE31>0,COUNTIF(CM31:CM34,CM31)>1),SUMIFS($AH$4:$AH$54,$AE$4:$AE$54,$BS31,$L$4:$L$54,1)+SUMIFS($AJ$4:$AJ$54,$AG$4:$AG$54,$BS31,$L$4:$L$54,1),)","v":0},{"$f":"IF(AND(CE31>0,COUNTIF(CM31:CM34,CM31)>1),CM31+RANK(CN31,CN31:CN34)-1,CM31)","v":1},{"$f":"IF(CO31=0,\"\",CO31)","v":1},{"$f":"IF(OR(CP31=\"\",COUNTIF(CP31:CP34,CP31)=1),\"\",$BY31)","v":0},{"$f":"IF(CP31=\"\",\"\",IF(COUNTIF(CP31:CP34,CP31)=1,CP31,CP31+RANK(CQ31,CQ31:CQ34,0)-1))","v":1},{"$f":"IF(OR(CR31=\"\",COUNTIF(CR31:CR34,CR31)=1),\"\",$BW31)","v":0},{"$f":"IF(CP31=\"\",\"\",IF(COUNTIF(CR31:CR34,CR31)=1,CR31,CR31+RANK(CS31,CS31:CS34,0)-1))","v":1},{"$f":"IF(OR(CT31=\"\",COUNTIF(CT31:CT34,CT31)=1),\"\",$BT31)","v":0},{"$f":"IF(CP31=\"\",\"\",IF(COUNTIF(CT31:CT34,CT31)=1,CT31,CT31+RANK(CU31,CU31:CU34,0)-1))","v":1},{"$f":"IF(CE31>0,BL29+RANK(CV31,CV31:CV34,1),)","v":1},null,{"$f":"IF(CB31=2,BS31,)","v":0},{"$f":"(SUMIF(AE4:AE54,BS31,AY4:AY54)+SUMIF(AG4:AG54,BS31,AZ4:AZ54))","v":0},{"$f":"(SUMIF(AE4:AE54,BS31,BA4:BA54)+SUMIF(AG4:AG54,BS31,BB4:BB54))","v":0},{"$f":"(SUMIF(AE4:AE54,BS31,BC4:BC54)+SUMIF(AG4:AG54,BS31,BD4:BD54))","v":0},{"$f":"IFERROR(CZ31*3+DA31*1,0)","v":0},{"$f":"CA31","v":"D"},{"$f":"IF(CY31>0,RANK(DC31,DC31:DC34)+CF29,)","v":0},{"$f":"IF(AND(CY31>0,COUNTIF(DE31:DE34,DE31)>1),SUMIFS($AH$4:$AH$54,$AE$4:$AE$54,$BS31,$L$4:$L$54,2)+SUMIFS($AJ$4:$AJ$54,$AG$4:$AG$54,$BS31,$L$4:$L$54,2)-SUMIFS($AJ$4:$AJ$54,$AE$4:$AE$54,$BS31,$L$4:$L$54,2)-SUMIFS($AH$4:$AH$54,$AG$4:$AG$54,$BS31,$L$4:$L$54,2),)","v":0},{"$f":"IF(AND(CY31>0,COUNTIF(DE31:DE34,DE31)>1),DE31+RANK(DF31,DF31:DF34)-1,DE31)","v":0},{"$f":"IF(AND(CY31>0,COUNTIF(DG31:DG34,DG31)>1),SUMIFS($AH$4:$AH$54,$AE$4:$AE$54,$BS31,$L$4:$L$54,2)+SUMIFS($AJ$4:$AJ$54,$AG$4:$AG$54,$BS31,$L$4:$L$54,2),)","v":0},{"$f":"IF(AND(CY31>0,COUNTIF(DG31:DG34,DG31)>1),DG31+RANK(DH31,DH31:DH34)-1,DG31)","v":0},{"$f":"IF(DI31=0,\"\",DI31)","v":""},{"$f":"IF(OR(DJ31=\"\",COUNTIF(DJ31:DJ34,DJ31)=1),\"\",$BY31)","v":""},{"$f":"IF(DJ31=\"\",\"\",IF(COUNTIF(DJ31:DJ34,DJ31)=1,DJ31,DJ31+RANK(DK31,DK31:DK34,0)-1))","v":""},{"$f":"IF(OR(DL31=\"\",COUNTIF(DL31:DL34,DL31)=1),\"\",$BW31)","v":""},{"$f":"IF(DJ31=\"\",\"\",IF(COUNTIF(DL31:DL34,DL31)=1,DL31,DL31+RANK(DM31,DM31:DM34,0)-1))","v":""},{"$f":"IF(OR(DN31=\"\",COUNTIF(DN31:DN34,DN31)=1),\"\",$BT31)","v":""},{"$f":"IF(DJ31=\"\",\"\",IF(COUNTIF(DN31:DN34,DN31)=1,DN31,DN31+RANK(DO31,DO31:DO34,0)-1))","v":""},{"$f":"IF(CY31>0,CF29+RANK(DP31,DP31:DP34,1),)","v":0},null,{"$f":"IF(CB31=3,BS31,)","v":0},{"$f":"(SUMIF(AE4:AE54,BS31,BE4:BE54)+SUMIF(AG4:AG54,BS31,BF4:BF54))","v":0},{"$f":"(SUMIF(AE4:AE54,BS31,BG4:BG54)+SUMIF(AG4:AG54,BS31,BH4:BH54))","v":0},{"$f":"(SUMIF(AE4:AE54,BS31,BI4:BI54)+SUMIF(AG4:AG54,BS31,BJ4:BJ54))","v":0},{"$f":"IFERROR(DT31*3+DU31*1,0)","v":0},{"$f":"CA31","v":"D"},{"$f":"IF(DS31>0,RANK(DW31,DW31:DW34)+CF29+CZ29,)","v":0},{"$f":"IF(AND(DS31>0,COUNTIF(DY31:DY34,DY31)>1),SUMIFS($AH$4:$AH$54,$AE$4:$AE$54,$BS31,$L$4:$L$54,3)+SUMIFS($AJ$4:$AJ$54,$AG$4:$AG$54,$BS31,$L$4:$L$54,3)-SUMIFS($AJ$4:$AJ$54,$AE$4:$AE$54,$BS31,$L$4:$L$54,3)-SUMIFS($AH$4:$AH$54,$AG$4:$AG$54,$BS31,$L$4:$L$54,3),)","v":0},{"$f":"IF(AND(DS31>0,COUNTIF(DY31:DY34,DY31)>1),DY31+RANK(DZ31,DZ31:DZ34)-1,DY31)","v":0},{"$f":"IF(AND(DS31>0,COUNTIF(EA31:EA34,EA31)>1),SUMIFS($AH$4:$AH$54,$AE$4:$AE$54,$BS31,$L$4:$L$54,3)+SUMIFS($AJ$4:$AJ$54,$AG$4:$AG$54,$BS31,$L$4:$L$54,3),)","v":0},{"$f":"IF(AND(DS31>0,COUNTIF(EA31:EA34,EA31)>1),EA31+RANK(EB31,EB31:EB34)-1,EA31)","v":0},{"$f":"IF(EC31=0,\"\",EC31)","v":""},{"$f":"IF(OR(ED31=\"\",COUNTIF(ED31:ED34,ED31)=1),\"\",$BY31)","v":""},{"$f":"IF(ED31=\"\",\"\",IF(COUNTIF(ED31:ED34,ED31)=1,ED31,ED31+RANK(EE31,EE31:EE34,0)-1))","v":""},{"$f":"IF(OR(EF31=\"\",COUNTIF(EF31:EF34,EF31)=1),\"\",$BW31)","v":""},{"$f":"IF(ED31=\"\",\"\",IF(COUNTIF(EF31:EF34,EF31)=1,EF31,EF31+RANK(EG31,EG31:EG34,0)-1))","v":""},{"$f":"IF(OR(EH31=\"\",COUNTIF(EH31:EH34,EH31)=1),\"\",$BT31)","v":""},{"$f":"IF(ED31=\"\",\"\",IF(COUNTIF(EH31:EH34,EH31)=1,EH31,EH31+RANK(EI31,EI31:EI34,0)-1))","v":""},{"$f":"IF(DS31>0,CF29+CZ29+RANK(EJ31,EJ31:EJ34,1),)","v":0},null,{"$f":"IF(CB31=4,BS31,)","v":0},{"$f":"(SUMIF(AE4:AE54,BS31,BK4:BK54)+SUMIF(AG4:AG54,BS31,BL4:BL54))","v":0},{"$f":"(SUMIF(AE4:AE54,BS31,BM4:BM54)+SUMIF(AG4:AG54,BS31,BN4:BN54))","v":0},{"$f":"(SUMIF(AE4:AE54,BS31,BO4:BO54)+SUMIF(AG4:AG54,BS31,BP4:BP54))","v":0},{"$f":"IFERROR(EN31*3+EO31*1,0)","v":0},{"$f":"CA31","v":"D"},{"$f":"IF(EM31>0,RANK(EQ31,EQ31:EQ34)+CF29+CZ29+DT29,)","v":0},{"$f":"IF(AND(EM31>0,COUNTIF(ES31:ES34,ES31)>1),SUMIFS($AH$4:$AH$54,$AE$4:$AE$54,$BS31,$L$4:$L$54,4)+SUMIFS($AJ$4:$AJ$54,$AG$4:$AG$54,$BS31,$L$4:$L$54,4)-SUMIFS($AJ$4:$AJ$54,$AE$4:$AE$54,$BS31,$L$4:$L$54,4)-SUMIFS($AH$4:$AH$54,$AG$4:$AG$54,$BS31,$L$4:$L$54,4),)","v":0},{"$f":"IF(AND(EM31>0,COUNTIF(ES4:ES7,ES31)>1),ES31+RANK(ET31,ET4:ET7)-1,ES31)","v":0},{"$f":"IF(AND(EM31>0,COUNTIF(EU31:EU34,EU31)>1),SUMIFS($AH$4:$AH$54,$AE$4:$AE$54,$BS31,$L$4:$L$54,4)+SUMIFS($AJ$4:$AJ$54,$AG$4:$AG$54,$BS31,$L$4:$L$54,4),)","v":0},{"$f":"IF(AND(EM31>0,COUNTIF(EU31:EU34,EU31)>1),EU31+RANK(EV31,EV31:EV34)-1,EU31)","v":0},{"$f":"IF(EW31=0,\"\",EW31)","v":""},{"$f":"IF(OR(EX31=\"\",COUNTIF(EX31:EX34,EX31)=1),\"\",$BY31)","v":""},{"$f":"IF(EX31=\"\",\"\",IF(COUNTIF(EX31:EX34,EX31)=1,EX31,EX31+RANK(EY31,EY31:EY34,0)-1))","v":""},{"$f":"IF(OR(EZ31=\"\",COUNTIF(EZ31:EZ34,EZ31)=1),\"\",$BW31)","v":""},{"$f":"IF(EX31=\"\",\"\",IF(COUNTIF(EZ31:EZ34,EZ31)=1,EZ31,EZ31+RANK(FA31,FA31:FA34,0)-1))","v":""},{"$f":"IF(OR(FB31=\"\",COUNTIF(FB31:FB34,FB31)=1),\"\",$BT31)","v":""},{"$f":"IF(EX31=\"\",\"\",IF(COUNTIF(FB31:FB34,FB31)=1,FB31,FB31+RANK(FC31,FC31:FC34,0)-1))","v":""},{"$f":"IF(EM31>0,CF29+CZ29+DT29+RANK(FD31,FD31:FD34,1),)","v":0},null,{"$f":"IFERROR(VLOOKUP(FI31,CE30:CW34,19,FALSE),IFERROR(VLOOKUP(FI31,CY30:DQ34,19,FALSE),IFERROR(VLOOKUP(FI31,DS30:EK34,19,FALSE),VLOOKUP(FI31,EM30:FE34,19,FALSE))))","v":1},{"$f":"RANK(FG31,FG31:FG34,1)+COUNTIF(FG31:FG31,FG31)-1","v":1},{"$f":"BS31","v":"Kroatien"}]
[null,null,"2021-06-14","Skottland","-","Tjeckien",null,"-",null,{"$f":"IF(OR(ISBLANK(G32),ISBLANK(I32)),\"\",IF(G32>I32,1,IF(G32<I32,2,\"X\")))","v":""},{"$f":"IF(OR('Resultat & Tabell'!G32=\"\",'Resultat & Tabell'!I32=\"\",G32=\"\",I32=\"\"),0,IF(G32='Resultat & Tabell'!G32,2,0)+IF(I32='Resultat & Tabell'!I32,2,0)+IF(J32='Resultat & Tabell'!J32,3,0))","v":0},{"$f":"IF(VLOOKUP(D32,BS30:CB34,10,FALSE)=VLOOKUP(F32,BS30:CB34,10,FALSE),VLOOKUP(D32,BS30:CB34,10,FALSE),\"-\")","v":1},2,{"$f":"VLOOKUP(M32,FH31:FI34,2,FALSE)","v":"Tjeckien"},{"$f":"VLOOKUP(N32,BS31:BZ34,2,FALSE)","v":0},{"$f":"VLOOKUP(N32,BS31:BZ34,3,FALSE)","v":0},{"$f":"VLOOKUP(N32,BS31:BZ34,4,FALSE)","v":0},{"$f":"VLOOKUP(N32,BS31:BZ34,5,FALSE)","v":0},{"$f":"VLOOKUP(N32,BS31:BZ34,6,FALSE)","v":0},{"$f":"VLOOKUP(N32,BS31:BZ34,7,FALSE)","v":0},{"$f":"VLOOKUP(N32,BS31:BZ34,8,FALSE)","v":0},null,null,null,null,null,null,null,null,"2021-06-14","Skottland","-","Tjeckien","","-","","",null,0,0,0,0,0,0,0,0,0,0,0,0,0,0,0,0,0,0,0,0,0,0,0,0,0,0,0,0,0,0,null,null,"Tjeckien",{"$f":"(SUMIF(AE4:AE54,BS32,AM4:AM54)+SUMIF(AG4:AG54,BS32,AN4:AN54))","v":0},{"$f":"(SUMIF(AE4:AE54,BS32,AO4:AO54)+SUMIF(AG4:AG54,BS32,AP4:AP54))","v":0},{"$f":"(SUMIF(AE4:AE54,BS32,AQ4:AQ54)+SUMIF(AG4:AG54,BS32,AR4:AR54))","v":0},{"$f":"SUMIF(AE4:AE54,BS32,AH4:AH54)+SUMIF(AG4:AG54,BS32,AJ4:AJ54)","v":0},{"$f":"SUMIF(AE4:AE54,BS32,AJ4:AJ54)+SUMIF(AG4:AG54,BS32,AH4:AH54)","v":0},{"$f":"BW32-BX32","v":0},{"$f":"IFERROR(BT32*3+BU32*1,0)","v":0},"D",{"$f":"RANK(BZ32,BZ31:BZ34)","v":1},{"$f":"SUMPRODUCT((BZ31:BZ34=BZ32)*(BY31:BY34>BY32))","v":0},null,{"$f":"IF(CB32=1,BS32,)","v":"Tjeckien"},{"$f":"(SUMIF(AE4:AE54,BS32,AS4:AS54)+SUMIF(AG4:AG54,BS32,AT4:AT54))","v":0},{"$f":"(SUMIF(AE4:AE54,BS32,AU4:AU54)+SUMIF(AG4:AG54,BS32,AV4:AV54))","v":0},{"$f":"(SUMIF(AE4:AE54,BS32,AW4:AW54)+SUMIF(AG4:AG54,BS32,AX4:AX54))","v":0},{"$f":"IFERROR(CF32*3+CG32*1,0)","v":0},{"$f":"CA32","v":"D"},{"$f":"IF(CE32>0,RANK(CI32,CI31:CI34),)","v":1},{"$f":"IF(AND(CE32>0,COUNTIF(CK31:CK34,CK32)>1),SUMIFS($AH$4:$AH$54,$AE$4:$AE$54,BS32,$L$4:$L$54,1)+SUMIFS($AJ$4:$AJ$54,$AG$4:$AG$54,BS32,$L$4:$L$54,1)-SUMIFS($AJ$4:$AJ$54,$AE$4:$AE$54,BS32,$L$4:$L$54,1)-SUMIFS($AH$4:$AH$54,$AG$4:$AG$54,BS32,$L$4:$L$54,1),)","v":0},{"$f":"IF(AND(CE32>0,COUNTIF(CK31:CK34,CK32)>1),CK32+RANK(CL32,CL31:CL34)-1,CK32)","v":1},{"$f":"IF(AND(CE32>0,COUNTIF(CM31:CM34,CM32)>1),SUMIFS($AH$4:$AH$54,$AE$4:$AE$54,BS32,$L$4:$L$54,1)+SUMIFS($AJ$4:$AJ$54,$AG$4:$AG$54,BS32,$L$4:$L$54,1),)","v":0},{"$f":"IF(AND(CE32>0,COUNTIF(CM31:CM34,CM32)>1),CM32+RANK(CN32,CN31:CN34)-1,CM32)","v":1},{"$f":"IF(CO32=0,\"\",CO32)","v":1},{"$f":"IF(OR(CP32=\"\",COUNTIF(CP31:CP34,CP32)=1),\"\",$BY32)","v":0},{"$f":"IF(CP32=\"\",\"\",IF(COUNTIF(CP31:CP34,CP32)=1,CP32,CP32+RANK(CQ32,CQ31:CQ34,0)-1))","v":1},{"$f":"IF(OR(CR32=\"\",COUNTIF(CR31:CR34,CR32)=1),\"\",$BW32)","v":0},{"$f":"IF(CP32=\"\",\"\",IF(COUNTIF(CR31:CR34,CR32)=1,CR32,CR32+RANK(CS32,CS31:CS34,0)-1))","v":1},{"$f":"IF(OR(CT32=\"\",COUNTIF(CT31:CT34,CT32)=1),\"\",$BT32)","v":0},{"$f":"IF(CP32=\"\",\"\",IF(COUNTIF(CT31:CT34,CT32)=1,CT32,CT32+RANK(CU32,CU31:CU34,0)-1))","v":1},{"$f":"IF(CE32>0,BL29+RANK(CV32,CV31:CV34,1),)","v":1},null,{"$f":"IF(CB32=2,BS32,)","v":0},{"$f":"(SUMIF(AE4:AE54,BS32,AY4:AY54)+SUMIF(AG4:AG54,BS32,AZ4:AZ54))","v":0},{"$f":"(SUMIF(AE4:AE54,BS32,BA4:BA54)+SUMIF(AG4:AG54,BS32,BB4:BB54))","v":0},{"$f":"(SUMIF(AE4:AE54,BS32,BC4:BC54)+SUMIF(AG4:AG54,BS32,BD4:BD54))","v":0},{"$f":"IFERROR(CZ32*3+DA32*1,0)","v":0},{"$f":"CA32","v":"D"},{"$f":"IF(CY32>0,RANK(DC32,DC31:DC34)+CF29,)","v":0},{"$f":"IF(AND(CY32>0,COUNTIF(DE31:DE34,DE32)>1),SUMIFS($AH$4:$AH$54,$AE$4:$AE$54,BS32,$L$4:$L$54,2)+SUMIFS($AJ$4:$AJ$54,$AG$4:$AG$54,BS32,$L$4:$L$54,2)-SUMIFS($AJ$4:$AJ$54,$AE$4:$AE$54,BS32,$L$4:$L$54,2)-SUMIFS($AH$4:$AH$54,$AG$4:$AG$54,BS32,$L$4:$L$54,2),)","v":0},{"$f":"IF(AND(CY32>0,COUNTIF(DE31:DE34,DE32)>1),DE32+RANK(DF32,DF31:DF34)-1,DE32)","v":0},{"$f":"IF(AND(CY32>0,COUNTIF(DG31:DG34,DG32)>1),SUMIFS($AH$4:$AH$54,$AE$4:$AE$54,BS32,$L$4:$L$54,2)+SUMIFS($AJ$4:$AJ$54,$AG$4:$AG$54,BS32,$L$4:$L$54,2),)","v":0},{"$f":"IF(AND(CY32>0,COUNTIF(DG31:DG34,DG32)>1),DG32+RANK(DH32,DH31:DH34)-1,DG32)","v":0},{"$f":"IF(DI32=0,\"\",DI32)","v":""},{"$f":"IF(OR(DJ32=\"\",COUNTIF(DJ31:DJ34,DJ32)=1),\"\",$BY32)","v":""},{"$f":"IF(DJ32=\"\",\"\",IF(COUNTIF(DJ31:DJ34,DJ32)=1,DJ32,DJ32+RANK(DK32,DK31:DK34,0)-1))","v":""},{"$f":"IF(OR(DL32=\"\",COUNTIF(DL31:DL34,DL32)=1),\"\",$BW32)","v":""},{"$f":"IF(DJ32=\"\",\"\",IF(COUNTIF(DL31:DL34,DL32)=1,DL32,DL32+RANK(DM32,DM31:DM34,0)-1))","v":""},{"$f":"IF(OR(DN32=\"\",COUNTIF(DN31:DN34,DN32)=1),\"\",$BT32)","v":""},{"$f":"IF(DJ32=\"\",\"\",IF(COUNTIF(DN31:DN34,DN32)=1,DN32,DN32+RANK(DO32,DO31:DO34,0)-1))","v":""},{"$f":"IF(CY32>0,CF29+RANK(DP32,DP31:DP34,1),)","v":0},null,{"$f":"IF(CB32=3,BS32,)","v":0},{"$f":"(SUMIF(AE4:AE54,BS32,BE4:BE54)+SUMIF(AG4:AG54,BS32,BF4:BF54))","v":0},{"$f":"(SUMIF(AE4:AE54,BS32,BG4:BG54)+SUMIF(AG4:AG54,BS32,BH4:BH54))","v":0},{"$f":"(SUMIF(AE4:AE54,BS32,BI4:BI54)+SUMIF(AG4:AG54,BS32,BJ4:BJ54))","v":0},{"$f":"IFERROR(DT32*3+DU32*1,0)","v":0},{"$f":"CA32","v":"D"},{"$f":"IF(DS32>0,RANK(DW32,DW31:DW34)+CF29+CZ29,)","v":0},{"$f":"IF(AND(DS32>0,COUNTIF(DY31:DY34,DY32)>1),SUMIFS($AH$4:$AH$54,$AE$4:$AE$54,BS32,$L$4:$L$54,3)+SUMIFS($AJ$4:$AJ$54,$AG$4:$AG$54,BS32,$L$4:$L$54,3)-SUMIFS($AJ$4:$AJ$54,$AE$4:$AE$54,BS32,$L$4:$L$54,3)-SUMIFS($AH$4:$AH$54,$AG$4:$AG$54,BS32,$L$4:$L$54,3),)","v":0},{"$f":"IF(AND(DS32>0,COUNTIF(DY31:DY34,DY32)>1),DY32+RANK(DZ32,DZ31:DZ34)-1,DY32)","v":0},{"$f":"IF(AND(DS32>0,COUNTIF(EA31:EA34,EA32)>1),SUMIFS($AH$4:$AH$54,$AE$4:$AE$54,BS32,$L$4:$L$54,3)+SUMIFS($AJ$4:$AJ$54,$AG$4:$AG$54,BS32,$L$4:$L$54,3),)","v":0},{"$f":"IF(AND(DS32>0,COUNTIF(EA31:EA34,EA32)>1),EA32+RANK(EB32,EB31:EB34)-1,EA32)","v":0},{"$f":"IF(EC32=0,\"\",EC32)","v":""},{"$f":"IF(OR(ED32=\"\",COUNTIF(ED31:ED34,ED32)=1),\"\",$BY32)","v":""},{"$f":"IF(ED32=\"\",\"\",IF(COUNTIF(ED31:ED34,ED32)=1,ED32,ED32+RANK(EE32,EE31:EE34,0)-1))","v":""},{"$f":"IF(OR(EF32=\"\",COUNTIF(EF31:EF34,EF32)=1),\"\",$BW32)","v":""},{"$f":"IF(ED32=\"\",\"\",IF(COUNTIF(EF31:EF34,EF32)=1,EF32,EF32+RANK(EG32,EG31:EG34,0)-1))","v":""},{"$f":"IF(OR(EH32=\"\",COUNTIF(EH31:EH34,EH32)=1),\"\",$BT32)","v":""},{"$f":"IF(ED32=\"\",\"\",IF(COUNTIF(EH31:EH34,EH32)=1,EH32,EH32+RANK(EI32,EI31:EI34,0)-1))","v":""},{"$f":"IF(DS32>0,CF29+CZ29+RANK(EJ32,EJ31:EJ34,1),)","v":0},null,{"$f":"IF(CB32=4,BS32,)","v":0},{"$f":"(SUMIF(AE4:AE54,BS32,BK4:BK54)+SUMIF(AG4:AG54,BS32,BL4:BL54))","v":0},{"$f":"(SUMIF(AE4:AE54,BS32,BM4:BM54)+SUMIF(AG4:AG54,BS32,BN4:BN54))","v":0},{"$f":"(SUMIF(AE4:AE54,BS32,BO4:BO54)+SUMIF(AG4:AG54,BS32,BP4:BP54))","v":0},{"$f":"IFERROR(EN32*3+EO32*1,0)","v":0},{"$f":"CA32","v":"D"},{"$f":"IF(EM32>0,RANK(EQ32,EQ31:EQ34)+CF29+CZ29+DT29,)","v":0},{"$f":"IF(AND(EM32>0,COUNTIF(ES31:ES34,ES32)>1),SUMIFS($AH$4:$AH$54,$AE$4:$AE$54,BS32,$L$4:$L$54,4)+SUMIFS($AJ$4:$AJ$54,$AG$4:$AG$54,BS32,$L$4:$L$54,4)-SUMIFS($AJ$4:$AJ$54,$AE$4:$AE$54,BS32,$L$4:$L$54,4)-SUMIFS($AH$4:$AH$54,$AG$4:$AG$54,BS32,$L$4:$L$54,4),)","v":0},{"$f":"IF(AND(EM32>0,COUNTIF(ES4:ES7,ES32)>1),ES32+RANK(ET32,ET4:ET7)-1,ES32)","v":0},{"$f":"IF(AND(EM32>0,COUNTIF(EU31:EU34,EU32)>1),SUMIFS($AH$4:$AH$54,$AE$4:$AE$54,BS32,$L$4:$L$54,4)+SUMIFS($AJ$4:$AJ$54,$AG$4:$AG$54,BS32,$L$4:$L$54,4),)","v":0},{"$f":"IF(AND(EM32>0,COUNTIF(EU31:EU34,EU32)>1),EU32+RANK(EV32,EV31:EV34)-1,EU32)","v":0},{"$f":"IF(EW32=0,\"\",EW32)","v":""},{"$f":"IF(OR(EX32=\"\",COUNTIF(EX31:EX34,EX32)=1),\"\",$BY32)","v":""},{"$f":"IF(EX32=\"\",\"\",IF(COUNTIF(EX31:EX34,EX32)=1,EX32,EX32+RANK(EY32,EY31:EY34,0)-1))","v":""},{"$f":"IF(OR(EZ32=\"\",COUNTIF(EZ31:EZ34,EZ32)=1),\"\",$BW32)","v":""},{"$f":"IF(EX32=\"\",\"\",IF(COUNTIF(EZ31:EZ34,EZ32)=1,EZ32,EZ32+RANK(FA32,FA31:FA34,0)-1))","v":""},{"$f":"IF(OR(FB32=\"\",COUNTIF(FB31:FB34,FB32)=1),\"\",$BT32)","v":""},{"$f":"IF(EX32=\"\",\"\",IF(COUNTIF(FB31:FB34,FB32)=1,FB32,FB32+RANK(FC32,FC31:FC34,0)-1))","v":""},{"$f":"IF(EM32>0,CF29+CZ29+DT29+RANK(FD32,FD31:FD34,1),)","v":0},null,{"$f":"IFERROR(VLOOKUP(FI32,CE30:CW34,19,FALSE),IFERROR(VLOOKUP(FI32,CY30:DQ34,19,FALSE),IFERROR(VLOOKUP(FI32,DS30:EK34,19,FALSE),VLOOKUP(FI32,EM30:FE34,19,FALSE))))","v":1},{"$f":"RANK(FG32,FG31:FG34,1)+COUNTIF(FG31:FG32,FG32)-1","v":2},{"$f":"BS32","v":"Tjeckien"}]
[null,null,"2021-06-18","Kroatien","-","Tjeckien",null,"-",null,"",{"$f":"IF(OR('Resultat & Tabell'!G33=\"\",'Resultat & Tabell'!I33=\"\",G33=\"\",I33=\"\"),0,IF(G33='Resultat & Tabell'!G33,2,0)+IF(I33='Resultat & Tabell'!I33,2,0)+IF(J33='Resultat & Tabell'!J33,3,0))","v":0},{"$f":"IF(VLOOKUP(D33,BS30:CB34,10,FALSE)=VLOOKUP(F33,BS30:CB34,10,FALSE),VLOOKUP(D33,BS30:CB34,10,FALSE),\"-\")","v":1},3,{"$f":"VLOOKUP(M33,FH31:FI34,2,FALSE)","v":"England"},{"$f":"VLOOKUP(N33,BS31:BZ34,2,FALSE)","v":0},{"$f":"VLOOKUP(N33,BS31:BZ34,3,FALSE)","v":0},{"$f":"VLOOKUP(N33,BS31:BZ34,4,FALSE)","v":0},{"$f":"VLOOKUP(N33,BS31:BZ34,5,FALSE)","v":0},{"$f":"VLOOKUP(N33,BS31:BZ34,6,FALSE)","v":0},{"$f":"VLOOKUP(N33,BS31:BZ34,7,FALSE)","v":0},{"$f":"VLOOKUP(N33,BS31:BZ34,8,FALSE)","v":0},null,null,null,null,null,null,null,null,"2021-06-18","Kroatien","-","Tjeckien","","-","","",null,0,0,0,0,0,0,0,0,0,0,0,0,0,0,0,0,0,0,0,0,0,0,0,0,0,0,0,0,0,0,null,null,"England",{"$f":"(SUMIF(AE4:AE54,BS33,AM4:AM54)+SUMIF(AG4:AG54,BS33,AN4:AN54))","v":0},{"$f":"(SUMIF(AE4:AE54,BS33,AO4:AO54)+SUMIF(AG4:AG54,BS33,AP4:AP54))","v":0},{"$f":"(SUMIF(AE4:AE54,BS33,AQ4:AQ54)+SUMIF(AG4:AG54,BS33,AR4:AR54))","v":0},{"$f":"SUMIF(AE4:AE54,BS33,AH4:AH54)+SUMIF(AG4:AG54,BS33,AJ4:AJ54)","v":0},{"$f":"SUMIF(AE4:AE54,BS33,AJ4:AJ54)+SUMIF(AG4:AG54,BS33,AH4:AH54)","v":0},{"$f":"BW33-BX33","v":0},{"$f":"IFERROR(BT33*3+BU33*1,0)","v":0},"D",{"$f":"RANK(BZ33,BZ31:BZ34)","v":1},{"$f":"SUMPRODUCT((BZ31:BZ34=BZ33)*(BY31:BY34>BY33))","v":0},null,{"$f":"IF(CB33=1,BS33,)","v":"England"},{"$f":"(SUMIF(AE4:AE54,BS33,AS4:AS54)+SUMIF(AG4:AG54,BS33,AT4:AT54))","v":0},{"$f":"(SUMIF(AE4:AE54,BS33,AU4:AU54)+SUMIF(AG4:AG54,BS33,AV4:AV54))","v":0},{"$f":"(SUMIF(AE4:AE54,BS33,AW4:AW54)+SUMIF(AG4:AG54,BS33,AX4:AX54))","v":0},0,{"$f":"CA33","v":"D"},{"$f":"IF(CE33>0,RANK(CI33,CI31:CI34),)","v":1},{"$f":"IF(AND(CE33>0,COUNTIF(CK31:CK34,CK33)>1),SUMIFS($AH$4:$AH$54,$AE$4:$AE$54,BS33,$L$4:$L$54,1)+SUMIFS($AJ$4:$AJ$54,$AG$4:$AG$54,BS33,$L$4:$L$54,1)-SUMIFS($AJ$4:$AJ$54,$AE$4:$AE$54,BS33,$L$4:$L$54,1)-SUMIFS($AH$4:$AH$54,$AG$4:$AG$54,BS33,$L$4:$L$54,1),)","v":0},{"$f":"IF(AND(CE33>0,COUNTIF(CK31:CK34,CK33)>1),CK33+RANK(CL33,CL31:CL34)-1,CK33)","v":1},{"$f":"IF(AND(CE33>0,COUNTIF(CM31:CM34,CM33)>1),SUMIFS($AH$4:$AH$54,$AE$4:$AE$54,BS33,$L$4:$L$54,1)+SUMIFS($AJ$4:$AJ$54,$AG$4:$AG$54,BS33,$L$4:$L$54,1),)","v":0},{"$f":"IF(AND(CE33>0,COUNTIF(CM31:CM34,CM33)>1),CM33+RANK(CN33,CN31:CN34)-1,CM33)","v":1},1,{"$f":"IF(OR(CP33=\"\",COUNTIF(CP31:CP34,CP33)=1),\"\",$BY33)","v":0},{"$f":"IF(CP33=\"\",\"\",IF(COUNTIF(CP31:CP34,CP33)=1,CP33,CP33+RANK(CQ33,CQ31:CQ34,0)-1))","v":1},{"$f":"IF(OR(CR33=\"\",COUNTIF(CR31:CR34,CR33)=1),\"\",$BW33)","v":0},{"$f":"IF(CP33=\"\",\"\",IF(COUNTIF(CR31:CR34,CR33)=1,CR33,CR33+RANK(CS33,CS31:CS34,0)-1))","v":1},{"$f":"IF(OR(CT33=\"\",COUNTIF(CT31:CT34,CT33)=1),\"\",$BT33)","v":0},{"$f":"IF(CP33=\"\",\"\",IF(COUNTIF(CT31:CT34,CT33)=1,CT33,CT33+RANK(CU33,CU31:CU34,0)-1))","v":1},{"$f":"IF(CE33>0,BL29+RANK(CV33,CV31:CV34,1),)","v":1},null,{"$f":"IF(CB33=2,BS33,)","v":0},{"$f":"(SUMIF(AE4:AE54,BS33,AY4:AY54)+SUMIF(AG4:AG54,BS33,AZ4:AZ54))","v":0},{"$f":"(SUMIF(AE4:AE54,BS33,BA4:BA54)+SUMIF(AG4:AG54,BS33,BB4:BB54))","v":0},{"$f":"(SUMIF(AE4:AE54,BS33,BC4:BC54)+SUMIF(AG4:AG54,BS33,BD4:BD54))","v":0},0,{"$f":"CA33","v":"D"},{"$f":"IF(CY33>0,RANK(DC33,DC31:DC34)+CF29,)","v":0},{"$f":"IF(AND(CY33>0,COUNTIF(DE31:DE34,DE33)>1),SUMIFS($AH$4:$AH$54,$AE$4:$AE$54,BS33,$L$4:$L$54,2)+SUMIFS($AJ$4:$AJ$54,$AG$4:$AG$54,BS33,$L$4:$L$54,2)-SUMIFS($AJ$4:$AJ$54,$AE$4:$AE$54,BS33,$L$4:$L$54,2)-SUMIFS($AH$4:$AH$54,$AG$4:$AG$54,BS33,$L$4:$L$54,2),)","v":0},{"$f":"IF(AND(CY33>0,COUNTIF(DE31:DE34,DE33)>1),DE33+RANK(DF33,DF31:DF34)-1,DE33)","v":0},{"$f":"IF(AND(CY33>0,COUNTIF(DG31:DG34,DG33)>1),SUMIFS($AH$4:$AH$54,$AE$4:$AE$54,BS33,$L$4:$L$54,2)+SUMIFS($AJ$4:$AJ$54,$AG$4:$AG$54,BS33,$L$4:$L$54,2),)","v":0},{"$f":"IF(AND(CY33>0,COUNTIF(DG31:DG34,DG33)>1),DG33+RANK(DH33,DH31:DH34)-1,DG33)","v":0},"",{"$f":"IF(OR(DJ33=\"\",COUNTIF(DJ31:DJ34,DJ33)=1),\"\",$BY33)","v":""},{"$f":"IF(DJ33=\"\",\"\",IF(COUNTIF(DJ31:DJ34,DJ33)=1,DJ33,DJ33+RANK(DK33,DK31:DK34,0)-1))","v":""},{"$f":"IF(OR(DL33=\"\",COUNTIF(DL31:DL34,DL33)=1),\"\",$BW33)","v":""},{"$f":"IF(DJ33=\"\",\"\",IF(COUNTIF(DL31:DL34,DL33)=1,DL33,DL33+RANK(DM33,DM31:DM34,0)-1))","v":""},{"$f":"IF(OR(DN33=\"\",COUNTIF(DN31:DN34,DN33)=1),\"\",$BT33)","v":""},{"$f":"IF(DJ33=\"\",\"\",IF(COUNTIF(DN31:DN34,DN33)=1,DN33,DN33+RANK(DO33,DO31:DO34,0)-1))","v":""},{"$f":"IF(CY33>0,CF29+RANK(DP33,DP31:DP34,1),)","v":0},null,{"$f":"IF(CB33=3,BS33,)","v":0},{"$f":"(SUMIF(AE4:AE54,BS33,BE4:BE54)+SUMIF(AG4:AG54,BS33,BF4:BF54))","v":0},{"$f":"(SUMIF(AE4:AE54,BS33,BG4:BG54)+SUMIF(AG4:AG54,BS33,BH4:BH54))","v":0},{"$f":"(SUMIF(AE4:AE54,BS33,BI4:BI54)+SUMIF(AG4:AG54,BS33,BJ4:BJ54))","v":0},0,{"$f":"CA33","v":"D"},{"$f":"IF(DS33>0,RANK(DW33,DW31:DW34)+CF29+CZ29,)","v":0},{"$f":"IF(AND(DS33>0,COUNTIF(DY31:DY34,DY33)>1),SUMIFS($AH$4:$AH$54,$AE$4:$AE$54,BS33,$L$4:$L$54,3)+SUMIFS($AJ$4:$AJ$54,$AG$4:$AG$54,BS33,$L$4:$L$54,3)-SUMIFS($AJ$4:$AJ$54,$AE$4:$AE$54,BS33,$L$4:$L$54,3)-SUMIFS($AH$4:$AH$54,$AG$4:$AG$54,BS33,$L$4:$L$54,3),)","v":0},{"$f":"IF(AND(DS33>0,COUNTIF(DY31:DY34,DY33)>1),DY33+RANK(DZ33,DZ31:DZ34)-1,DY33)","v":0},{"$f":"IF(AND(DS33>0,COUNTIF(EA31:EA34,EA33)>1),SUMIFS($AH$4:$AH$54,$AE$4:$AE$54,BS33,$L$4:$L$54,3)+SUMIFS($AJ$4:$AJ$54,$AG$4:$AG$54,BS33,$L$4:$L$54,3),)","v":0},{"$f":"IF(AND(DS33>0,COUNTIF(EA31:EA34,EA33)>1),EA33+RANK(EB33,EB31:EB34)-1,EA33)","v":0},"",{"$f":"IF(OR(ED33=\"\",COUNTIF(ED31:ED34,ED33)=1),\"\",$BY33)","v":""},{"$f":"IF(ED33=\"\",\"\",IF(COUNTIF(ED31:ED34,ED33)=1,ED33,ED33+RANK(EE33,EE31:EE34,0)-1))","v":""},{"$f":"IF(OR(EF33=\"\",COUNTIF(EF31:EF34,EF33)=1),\"\",$BW33)","v":""},{"$f":"IF(ED33=\"\",\"\",IF(COUNTIF(EF31:EF34,EF33)=1,EF33,EF33+RANK(EG33,EG31:EG34,0)-1))","v":""},{"$f":"IF(OR(EH33=\"\",COUNTIF(EH31:EH34,EH33)=1),\"\",$BT33)","v":""},{"$f":"IF(ED33=\"\",\"\",IF(COUNTIF(EH31:EH34,EH33)=1,EH33,EH33+RANK(EI33,EI31:EI34,0)-1))","v":""},{"$f":"IF(DS33>0,CF29+CZ29+RANK(EJ33,EJ31:EJ34,1),)","v":0},null,{"$f":"IF(CB33=4,BS33,)","v":0},{"$f":"(SUMIF(AE4:AE54,BS33,BK4:BK54)+SUMIF(AG4:AG54,BS33,BL4:BL54))","v":0},{"$f":"(SUMIF(AE4:AE54,BS33,BM4:BM54)+SUMIF(AG4:AG54,BS33,BN4:BN54))","v":0},{"$f":"(SUMIF(AE4:AE54,BS33,BO4:BO54)+SUMIF(AG4:AG54,BS33,BP4:BP54))","v":0},0,{"$f":"CA33","v":"D"},{"$f":"IF(EM33>0,RANK(EQ33,EQ31:EQ34)+CF29+CZ29+DT29,)","v":0},{"$f":"IF(AND(EM33>0,COUNTIF(ES31:ES34,ES33)>1),SUMIFS($AH$4:$AH$54,$AE$4:$AE$54,BS33,$L$4:$L$54,4)+SUMIFS($AJ$4:$AJ$54,$AG$4:$AG$54,BS33,$L$4:$L$54,4)-SUMIFS($AJ$4:$AJ$54,$AE$4:$AE$54,BS33,$L$4:$L$54,4)-SUMIFS($AH$4:$AH$54,$AG$4:$AG$54,BS33,$L$4:$L$54,4),)","v":0},{"$f":"IF(AND(EM33>0,COUNTIF(ES4:ES7,ES33)>1),ES33+RANK(ET33,ET4:ET7)-1,ES33)","v":0},{"$f":"IF(AND(EM33>0,COUNTIF(EU31:EU34,EU33)>1),SUMIFS($AH$4:$AH$54,$AE$4:$AE$54,BS33,$L$4:$L$54,4)+SUMIFS($AJ$4:$AJ$54,$AG$4:$AG$54,BS33,$L$4:$L$54,4),)","v":0},{"$f":"IF(AND(EM33>0,COUNTIF(EU31:EU34,EU33)>1),EU33+RANK(EV33,EV31:EV34)-1,EU33)","v":0},"",{"$f":"IF(OR(EX33=\"\",COUNTIF(EX31:EX34,EX33)=1),\"\",$BY33)","v":""},{"$f":"IF(EX33=\"\",\"\",IF(COUNTIF(EX31:EX34,EX33)=1,EX33,EX33+RANK(EY33,EY31:EY34,0)-1))","v":""},{"$f":"IF(OR(EZ33=\"\",COUNTIF(EZ31:EZ34,EZ33)=1),\"\",$BW33)","v":""},{"$f":"IF(EX33=\"\",\"\",IF(COUNTIF(EZ31:EZ34,EZ33)=1,EZ33,EZ33+RANK(FA33,FA31:FA34,0)-1))","v":""},{"$f":"IF(OR(FB33=\"\",COUNTIF(FB31:FB34,FB33)=1),\"\",$BT33)","v":""},{"$f":"IF(EX33=\"\",\"\",IF(COUNTIF(FB31:FB34,FB33)=1,FB33,FB33+RANK(FC33,FC31:FC34,0)-1))","v":""},{"$f":"IF(EM33>0,CF29+CZ29+DT29+RANK(FD33,FD31:FD34,1),)","v":0},null,{"$f":"IFERROR(VLOOKUP(FI33,CE30:CW34,19,FALSE),IFERROR(VLOOKUP(FI33,CY30:DQ34,19,FALSE),IFERROR(VLOOKUP(FI33,DS30:EK34,19,FALSE),VLOOKUP(FI33,EM30:FE34,19,FALSE))))","v":1},{"$f":"RANK(FG33,FG31:FG34,1)+COUNTIF(FG31:FG33,FG33)-1","v":3},{"$f":"BS33","v":"England"}]
[null,null,"2021-06-18","England","-","Skottland",null,"-",null,"",{"$f":"IF(OR('Resultat & Tabell'!G34=\"\",'Resultat & Tabell'!I34=\"\",G34=\"\",I34=\"\"),0,IF(G34='Resultat & Tabell'!G34,2,0)+IF(I34='Resultat & Tabell'!I34,2,0)+IF(J34='Resultat & Tabell'!J34,3,0))","v":0},{"$f":"IF(VLOOKUP(D34,BS30:CB34,10,FALSE)=VLOOKUP(F34,BS30:CB34,10,FALSE),VLOOKUP(D34,BS30:CB34,10,FALSE),\"-\")","v":1},4,{"$f":"VLOOKUP(M34,FH31:FI34,2,FALSE)","v":"Skottland"},{"$f":"VLOOKUP(N34,BS31:BZ34,2,FALSE)","v":0},{"$f":"VLOOKUP(N34,BS31:BZ34,3,FALSE)","v":0},{"$f":"VLOOKUP(N34,BS31:BZ34,4,FALSE)","v":0},{"$f":"VLOOKUP(N34,BS31:BZ34,5,FALSE)","v":0},{"$f":"VLOOKUP(N34,BS31:BZ34,6,FALSE)","v":0},{"$f":"VLOOKUP(N34,BS31:BZ34,7,FALSE)","v":0},{"$f":"VLOOKUP(N34,BS31:BZ34,8,FALSE)","v":0},null,null,null,null,null,null,null,null,"2021-06-18","England","-","Skottland","","-","","",null,0,0,0,0,0,0,0,0,0,0,0,0,0,0,0,0,0,0,0,0,0,0,0,0,0,0,0,0,0,0,null,null,"Skottland",{"$f":"(SUMIF(AE4:AE54,BS34,AM4:AM54)+SUMIF(AG4:AG54,BS34,AN4:AN54))","v":0},{"$f":"(SUMIF(AE4:AE54,BS34,AO4:AO54)+SUMIF(AG4:AG54,BS34,AP4:AP54))","v":0},{"$f":"(SUMIF(AE4:AE54,BS34,AQ4:AQ54)+SUMIF(AG4:AG54,BS34,AR4:AR54))","v":0},{"$f":"SUMIF(AE4:AE54,BS34,AH4:AH54)+SUMIF(AG4:AG54,BS34,AJ4:AJ54)","v":0},{"$f":"SUMIF(AE4:AE54,BS34,AJ4:AJ54)+SUMIF(AG4:AG54,BS34,AH4:AH54)","v":0},{"$f":"BW34-BX34","v":0},{"$f":"IFERROR(BT34*3+BU34*1,0)","v":0},"D",{"$f":"RANK(BZ34,BZ31:BZ34)","v":1},{"$f":"SUMPRODUCT((BZ31:BZ34=BZ34)*(BY31:BY34>BY34))","v":0},null,{"$f":"IF(CB34=1,BS34,)","v":"Skottland"},{"$f":"(SUMIF(AE4:AE54,BS34,AS4:AS54)+SUMIF(AG4:AG54,BS34,AT4:AT54))","v":0},{"$f":"(SUMIF(AE4:AE54,BS34,AU4:AU54)+SUMIF(AG4:AG54,BS34,AV4:AV54))","v":0},{"$f":"(SUMIF(AE4:AE54,BS34,AW4:AW54)+SUMIF(AG4:AG54,BS34,AX4:AX54))","v":0},0,{"$f":"CA34","v":"D"},{"$f":"IF(CE34>0,RANK(CI34,CI31:CI34),)","v":1},{"$f":"IF(AND(CE34>0,COUNTIF(CK31:CK34,CK34)>1),SUMIFS($AH$4:$AH$54,$AE$4:$AE$54,BS34,$L$4:$L$54,1)+SUMIFS($AJ$4:$AJ$54,$AG$4:$AG$54,BS34,$L$4:$L$54,1)-SUMIFS($AJ$4:$AJ$54,$AE$4:$AE$54,BS34,$L$4:$L$54,1)-SUMIFS($AH$4:$AH$54,$AG$4:$AG$54,BS34,$L$4:$L$54,1),)","v":0},{"$f":"IF(AND(CE34>0,COUNTIF(CK31:CK34,CK34)>1),CK34+RANK(CL34,CL31:CL34)-1,CK34)","v":1},{"$f":"IF(AND(CE34>0,COUNTIF(CM31:CM34,CM34)>1),SUMIFS($AH$4:$AH$54,$AE$4:$AE$54,BS34,$L$4:$L$54,1)+SUMIFS($AJ$4:$AJ$54,$AG$4:$AG$54,BS34,$L$4:$L$54,1),)","v":0},{"$f":"IF(AND(CE34>0,COUNTIF(CM31:CM34,CM34)>1),CM34+RANK(CN34,CN31:CN34)-1,CM34)","v":1},1,{"$f":"IF(OR(CP34=\"\",COUNTIF(CP31:CP34,CP34)=1),\"\",$BY34)","v":0},{"$f":"IF(CP34=\"\",\"\",IF(COUNTIF(CP31:CP34,CP34)=1,CP34,CP34+RANK(CQ34,CQ31:CQ34,0)-1))","v":1},{"$f":"IF(OR(CR34=\"\",COUNTIF(CR31:CR34,CR34)=1),\"\",$BW34)","v":0},{"$f":"IF(CP34=\"\",\"\",IF(COUNTIF(CR31:CR34,CR34)=1,CR34,CR34+RANK(CS34,CS31:CS34,0)-1))","v":1},{"$f":"IF(OR(CT34=\"\",COUNTIF(CT31:CT34,CT34)=1),\"\",$BT34)","v":0},{"$f":"IF(CP34=\"\",\"\",IF(COUNTIF(CT31:CT34,CT34)=1,CT34,CT34+RANK(CU34,CU31:CU34,0)-1))","v":1},{"$f":"IF(CE34>0,BL29+RANK(CV34,CV31:CV34,1),)","v":1},null,{"$f":"IF(CB34=2,BS34,)","v":0},{"$f":"(SUMIF(AE4:AE54,BS34,AY4:AY54)+SUMIF(AG4:AG54,BS34,AZ4:AZ54))","v":0},{"$f":"(SUMIF(AE4:AE54,BS34,BA4:BA54)+SUMIF(AG4:AG54,BS34,BB4:BB54))","v":0},{"$f":"(SUMIF(AE4:AE54,BS34,BC4:BC54)+SUMIF(AG4:AG54,BS34,BD4:BD54))","v":0},0,{"$f":"CA34","v":"D"},{"$f":"IF(CY34>0,RANK(DC34,DC31:DC34)+CF29,)","v":0},{"$f":"IF(AND(CY34>0,COUNTIF(DE31:DE34,DE34)>1),SUMIFS($AH$4:$AH$54,$AE$4:$AE$54,BS34,$L$4:$L$54,2)+SUMIFS($AJ$4:$AJ$54,$AG$4:$AG$54,BS34,$L$4:$L$54,2)-SUMIFS($AJ$4:$AJ$54,$AE$4:$AE$54,BS34,$L$4:$L$54,2)-SUMIFS($AH$4:$AH$54,$AG$4:$AG$54,BS34,$L$4:$L$54,2),)","v":0},{"$f":"IF(AND(CY34>0,COUNTIF(DE31:DE34,DE34)>1),DE34+RANK(DF34,DF31:DF34)-1,DE34)","v":0},{"$f":"IF(AND(CY34>0,COUNTIF(DG31:DG34,DG34)>1),SUMIFS($AH$4:$AH$54,$AE$4:$AE$54,BS34,$L$4:$L$54,2)+SUMIFS($AJ$4:$AJ$54,$AG$4:$AG$54,BS34,$L$4:$L$54,2),)","v":0},{"$f":"IF(AND(CY34>0,COUNTIF(DG31:DG34,DG34)>1),DG34+RANK(DH34,DH31:DH34)-1,DG34)","v":0},"",{"$f":"IF(OR(DJ34=\"\",COUNTIF(DJ31:DJ34,DJ34)=1),\"\",$BY34)","v":""},{"$f":"IF(DJ34=\"\",\"\",IF(COUNTIF(DJ31:DJ34,DJ34)=1,DJ34,DJ34+RANK(DK34,DK31:DK34,0)-1))","v":""},{"$f":"IF(OR(DL34=\"\",COUNTIF(DL31:DL34,DL34)=1),\"\",$BW34)","v":""},{"$f":"IF(DJ34=\"\",\"\",IF(COUNTIF(DL31:DL34,DL34)=1,DL34,DL34+RANK(DM34,DM31:DM34,0)-1))","v":""},{"$f":"IF(OR(DN34=\"\",COUNTIF(DN31:DN34,DN34)=1),\"\",$BT34)","v":""},{"$f":"IF(DJ34=\"\",\"\",IF(COUNTIF(DN31:DN34,DN34)=1,DN34,DN34+RANK(DO34,DO31:DO34,0)-1))","v":""},{"$f":"IF(CY34>0,CF29+RANK(DP34,DP31:DP34,1),)","v":0},null,{"$f":"IF(CB34=3,BS34,)","v":0},{"$f":"(SUMIF(AE4:AE54,BS34,BE4:BE54)+SUMIF(AG4:AG54,BS34,BF4:BF54))","v":0},{"$f":"(SUMIF(AE4:AE54,BS34,BG4:BG54)+SUMIF(AG4:AG54,BS34,BH4:BH54))","v":0},{"$f":"(SUMIF(AE4:AE54,BS34,BI4:BI54)+SUMIF(AG4:AG54,BS34,BJ4:BJ54))","v":0},0,{"$f":"CA34","v":"D"},{"$f":"IF(DS34>0,RANK(DW34,DW31:DW34)+CF29+CZ29,)","v":0},{"$f":"IF(AND(DS34>0,COUNTIF(DY31:DY34,DY34)>1),SUMIFS($AH$4:$AH$54,$AE$4:$AE$54,BS34,$L$4:$L$54,3)+SUMIFS($AJ$4:$AJ$54,$AG$4:$AG$54,BS34,$L$4:$L$54,3)-SUMIFS($AJ$4:$AJ$54,$AE$4:$AE$54,BS34,$L$4:$L$54,3)-SUMIFS($AH$4:$AH$54,$AG$4:$AG$54,BS34,$L$4:$L$54,3),)","v":0},{"$f":"IF(AND(DS34>0,COUNTIF(DY31:DY34,DY34)>1),DY34+RANK(DZ34,DZ31:DZ34)-1,DY34)","v":0},{"$f":"IF(AND(DS34>0,COUNTIF(EA31:EA34,EA34)>1),SUMIFS($AH$4:$AH$54,$AE$4:$AE$54,BS34,$L$4:$L$54,3)+SUMIFS($AJ$4:$AJ$54,$AG$4:$AG$54,BS34,$L$4:$L$54,3),)","v":0},{"$f":"IF(AND(DS34>0,COUNTIF(EA31:EA34,EA34)>1),EA34+RANK(EB34,EB31:EB34)-1,EA34)","v":0},"",{"$f":"IF(OR(ED34=\"\",COUNTIF(ED31:ED34,ED34)=1),\"\",$BY34)","v":""},{"$f":"IF(ED34=\"\",\"\",IF(COUNTIF(ED31:ED34,ED34)=1,ED34,ED34+RANK(EE34,EE31:EE34,0)-1))","v":""},{"$f":"IF(OR(EF34=\"\",COUNTIF(EF31:EF34,EF34)=1),\"\",$BW34)","v":""},{"$f":"IF(ED34=\"\",\"\",IF(COUNTIF(EF31:EF34,EF34)=1,EF34,EF34+RANK(EG34,EG31:EG34,0)-1))","v":""},{"$f":"IF(OR(EH34=\"\",COUNTIF(EH31:EH34,EH34)=1),\"\",$BT34)","v":""},{"$f":"IF(ED34=\"\",\"\",IF(COUNTIF(EH31:EH34,EH34)=1,EH34,EH34+RANK(EI34,EI31:EI34,0)-1))","v":""},{"$f":"IF(DS34>0,CF29+CZ29+RANK(EJ34,EJ31:EJ34,1),)","v":0},null,{"$f":"IF(CB34=4,BS34,)","v":0},{"$f":"(SUMIF(AE4:AE54,BS34,BK4:BK54)+SUMIF(AG4:AG54,BS34,BL4:BL54))","v":0},{"$f":"(SUMIF(AE4:AE54,BS34,BM4:BM54)+SUMIF(AG4:AG54,BS34,BN4:BN54))","v":0},{"$f":"(SUMIF(AE4:AE54,BS34,BO4:BO54)+SUMIF(AG4:AG54,BS34,BP4:BP54))","v":0},0,{"$f":"CA34","v":"D"},{"$f":"IF(EM34>0,RANK(EQ34,EQ31:EQ34)+CF29+CZ29+DT29,)","v":0},{"$f":"IF(AND(EM34>0,COUNTIF(ES31:ES34,ES34)>1),SUMIFS($AH$4:$AH$54,$AE$4:$AE$54,BS34,$L$4:$L$54,4)+SUMIFS($AJ$4:$AJ$54,$AG$4:$AG$54,BS34,$L$4:$L$54,4)-SUMIFS($AJ$4:$AJ$54,$AE$4:$AE$54,BS34,$L$4:$L$54,4)-SUMIFS($AH$4:$AH$54,$AG$4:$AG$54,BS34,$L$4:$L$54,4),)","v":0},{"$f":"IF(AND(EM34>0,COUNTIF(ES4:ES7,ES34)>1),ES34+RANK(ET34,ET4:ET7)-1,ES34)","v":0},{"$f":"IF(AND(EM34>0,COUNTIF(EU31:EU34,EU34)>1),SUMIFS($AH$4:$AH$54,$AE$4:$AE$54,BS34,$L$4:$L$54,4)+SUMIFS($AJ$4:$AJ$54,$AG$4:$AG$54,BS34,$L$4:$L$54,4),)","v":0},{"$f":"IF(AND(EM34>0,COUNTIF(EU31:EU34,EU34)>1),EU34+RANK(EV34,EV31:EV34)-1,EU34)","v":0},"",{"$f":"IF(OR(EX34=\"\",COUNTIF(EX31:EX34,EX34)=1),\"\",$BY34)","v":""},{"$f":"IF(EX34=\"\",\"\",IF(COUNTIF(EX31:EX34,EX34)=1,EX34,EX34+RANK(EY34,EY31:EY34,0)-1))","v":""},{"$f":"IF(OR(EZ34=\"\",COUNTIF(EZ31:EZ34,EZ34)=1),\"\",$BW34)","v":""},{"$f":"IF(EX34=\"\",\"\",IF(COUNTIF(EZ31:EZ34,EZ34)=1,EZ34,EZ34+RANK(FA34,FA31:FA34,0)-1))","v":""},{"$f":"IF(OR(FB34=\"\",COUNTIF(FB31:FB34,FB34)=1),\"\",$BT34)","v":""},{"$f":"IF(EX34=\"\",\"\",IF(COUNTIF(FB31:FB34,FB34)=1,FB34,FB34+RANK(FC34,FC31:FC34,0)-1))","v":""},{"$f":"IF(EM34>0,CF29+CZ29+DT29+RANK(FD34,FD31:FD34,1),)","v":0},null,{"$f":"IFERROR(VLOOKUP(FI34,CE30:CW34,19,FALSE),IFERROR(VLOOKUP(FI34,CY30:DQ34,19,FALSE),IFERROR(VLOOKUP(FI34,DS30:EK34,19,FALSE),VLOOKUP(FI34,EM30:FE34,19,FALSE))))","v":1},{"$f":"RANK(FG34,FG31:FG34,1)+COUNTIF(FG31:FG34,FG34)-1","v":4},{"$f":"BS34","v":"Skottland"}]
[null,null,"2021-06-22","Tjeckien","-","England",null,"-",null,"",{"$f":"IF(OR('Resultat & Tabell'!G35=\"\",'Resultat & Tabell'!I35=\"\",G35=\"\",I35=\"\"),0,IF(G35='Resultat & Tabell'!G35,2,0)+IF(I35='Resultat & Tabell'!I35,2,0)+IF(J35='Resultat & Tabell'!J35,3,0))","v":0},{"$f":"IF(VLOOKUP(D35,BS30:CB34,10,FALSE)=VLOOKUP(F35,BS30:CB34,10,FALSE),VLOOKUP(D35,BS30:CB34,10,FALSE),\"-\")","v":1},null,{"$f":"IF(COUNTBLANK(G31:G36)+COUNTBLANK(I31:I36)=0,\"Resultat OK\",\"Fyll i resultat\")","v":"Fyll i resultat"},null,null,null,null,null,null,null,null,null,null,null,null,null,null,null,"2021-06-22","Tjeckien","-","England","","-","","",null,0,0,0,0,0,0,0,0,0,0,0,0,0,0,0,0,0,0,0,0,0,0,0,0,0,0,0,0,0,0]
[null,null,"2021-06-22","Kroatien","-","Skottland",null,"-",null,"",{"$f":"IF(OR('Resultat & Tabell'!G36=\"\",'Resultat & Tabell'!I36=\"\",G36=\"\",I36=\"\"),0,IF(G36='Resultat & Tabell'!G36,2,0)+IF(I36='Resultat & Tabell'!I36,2,0)+IF(J36='Resultat & Tabell'!J36,3,0))","v":0},{"$f":"IF(VLOOKUP(D36,BS30:CB34,10,FALSE)=VLOOKUP(F36,BS30:CB34,10,FALSE),VLOOKUP(D36,BS30:CB34,10,FALSE),\"-\")","v":1},null,null,null,null,null,null,null,null,null,null,null,null,null,null,null,null,null,"2021-06-22","Kroatien","-","Skottland","","-","","",null,0,0,0,0,0,0,0,0,0,0,0,0,0,0,0,0,0,0,0,0,0,0,0,0,0,0,0,0,0,0]
[]
[null,null,"Grupp E",null,null,null,null,null,null,null,null,null,null,null,null,null,null,null,null,null,null,null,null,null,null,null,null,null,null,"Grupp E",null,null,null,null,null,null,null,null,null,null,null,null,null,null,null,null,null,null,null,null,null,null,null,null,null,null,null,null,null,null,null,null,null,null,null,null,null,null,null,null,"Rank 0",null,null,null,null,null,null,null,null,null,null,null,"Rank 1",{"$f":"COUNTIF(CB40:CB43,1)","v":4},null,null,null,null,null,null,null,null,null,null,null,null,null,null,null,null,null,null,"Rank 2",{"$f":"COUNTIF(CB40:CB43,2)","v":0},null,null,null,null,null,null,null,null,null,null,null,null,null,null,null,null,null,null,"Rank 3",{"$f":"COUNTIF(CB40:CB43,3)","v":0},null,null,null,null,null,null,null,null,null,null,null,null,null,null,null,null,null,null,"Rank 4",{"$f":"COUNTIF(CB40:CB43,4)","v":0}]
[null,null,"Datum","Match",null,null,"Resultat",null,null,"Tecken","Poäng",null,null,"Lag","V","O","F","GM","IM","+/-","P",null,null,null,null,null,null,null,null,"Datum","Match",null,null,"Resultat",null,null,"Tecken","Poäng","V1","V2","O1","O2","F1","F2","V1","V2","O1","O2","F1","F2","V1","V2","O1","O2","F1","F2","V1","V2","O1","O2","F1","F2","V1","V2","O1","O2","F1","F2",null,null,"Lag","V","O","F","GM","IM","+/-","P","Grupp","Rank P","Rank +/-",null,"Lag","V","O","F","P","Grupp","Rank P","+/-","+/- rank","GM","GM rank","Rank internal","+/- all","+/- rank all","GM all","GM rank all","V all","V rank all","Rank all",null,"Lag","V","O","F","P","Grupp","Rank P","+/-","+/- rank","GM","GM rank","Rank internal","+/- all","+/- rank all","GM all","GM rank all","V all","V rank all","Rank all",null,"Lag","V","O","F","P","Grupp","Rank P","+/-","+/- rank","GM","GM rank","Rank internal","+/- all","+/- rank all","GM all","GM rank all","V all","V rank all","Rank all",null,"Lag","V","O","F","P","Grupp","Rank P","+/-","+/- rank","GM","GM rank","Rank internal","+/- all","+/- rank all","GM all","GM rank all","V all","V rank all","Rank all",null,"Rank","Rank Ties"]
[null,null,"2021-06-14","Polen","-","Slovakien",null,"-",null,{"$f":"IF(OR(ISBLANK(G40),ISBLANK(I40)),\"\",IF(G40>I40,1,IF(G40<I40,2,\"X\")))","v":""},{"$f":"IF(OR('Resultat & Tabell'!G40=\"\",'Resultat & Tabell'!I40=\"\",G40=\"\",I40=\"\"),0,IF(G40='Resultat & Tabell'!G40,2,0)+IF(I40='Resultat & Tabell'!I40,2,0)+IF(J40='Resultat & Tabell'!J40,3,0))","v":0},{"$f":"IF(VLOOKUP(D40,BS39:CB43,10,FALSE)=VLOOKUP(F40,BS39:CB43,10,FALSE),VLOOKUP(D40,BS39:CB43,10,FALSE),\"-\")","v":1},1,{"$f":"VLOOKUP(M40,FH40:FI43,2,FALSE)","v":"Polen"},{"$f":"VLOOKUP(N40,BS40:BZ43,2,FALSE)","v":0},{"$f":"VLOOKUP(N40,BS40:BZ43,3,FALSE)","v":0},{"$f":"VLOOKUP(N40,BS40:BZ43,4,FALSE)","v":0},{"$f":"VLOOKUP(N40,BS40:BZ43,5,FALSE)","v":0},{"$f":"VLOOKUP(N40,BS40:BZ43,6,FALSE)","v":0},{"$f":"VLOOKUP(N40,BS40:BZ43,7,FALSE)","v":0},{"$f":"VLOOKUP(N40,BS40:BZ43,8,FALSE)","v":0},null,null,null,null,null,null,null,null,{"$f":"C40","v":"2021-06-14"},{"$f":"D40","v":"Polen"},{"$f":"E40","v":"-"},{"$f":"F40","v":"Slovakien"},{"$f":"IF(G40=\"\",\"\",G40)","v":""},"-",{"$f":"IF(I40=\"\",\"\",I40)","v":""},{"$f":"J40","v":""},null,{"$f":"IF(AH40>AJ40,1,0)","v":0},{"$f":"IF(AJ40>AH40,1,0)","v":0},{"$f":"IF(AND(AH40=AJ40,AH40<>\"\"),1,0)","v":0},{"$f":"IF(AND(AH40=AJ40,AH40<>\"\"),1,0)","v":0},{"$f":"IF(AH40<AJ40,1,0)","v":0},{"$f":"IF(AJ40<AH40,1,)","v":0},{"$f":"IF(ISERROR(VLOOKUP(AE40,CE:CE,1,FALSE)),0,1)*IF(ISERROR(VLOOKUP(AG40,CE:CE,1,FALSE)),0,1)*AM40","v":0},{"$f":"IF(ISERROR(VLOOKUP(AE40,CE:CE,1,FALSE)),0,1)*IF(ISERROR(VLOOKUP(AG40,CE:CE,1,FALSE)),0,1)*AN40","v":0},{"$f":"IF(ISERROR(VLOOKUP(AE40,CE:CE,1,FALSE)),0,1)*IF(ISERROR(VLOOKUP(AG40,CE:CE,1,FALSE)),0,1)*AO40","v":0},{"$f":"IF(ISERROR(VLOOKUP(AE40,CE:CE,1,FALSE)),0,1)*IF(ISERROR(VLOOKUP(AG40,CE:CE,1,FALSE)),0,1)*AP40","v":0},{"$f":"IF(ISERROR(VLOOKUP(AE40,CE:CE,1,FALSE)),0,1)*IF(ISERROR(VLOOKUP(AG40,CE:CE,1,FALSE)),0,1)*AQ40","v":0},{"$f":"IF(ISERROR(VLOOKUP(AE40,CE:CE,1,FALSE)),0,1)*IF(ISERROR(VLOOKUP(AG40,CE:CE,1,FALSE)),0,1)*AR40","v":0},{"$f":"IF(ISERROR(VLOOKUP(AE40,CY:CY,1,FALSE)),0,1)*IF(ISERROR(VLOOKUP(AG40,CY:CY,1,FALSE)),0,1)*AM40","v":0},{"$f":"IF(ISERROR(VLOOKUP(AE40,CY:CY,1,FALSE)),0,1)*IF(ISERROR(VLOOKUP(AG40,CY:CY,1,FALSE)),0,1)*AN40","v":0},{"$f":"IF(ISERROR(VLOOKUP(AE40,CY:CY,1,FALSE)),0,1)*IF(ISERROR(VLOOKUP(AG40,CY:CY,1,FALSE)),0,1)*AO40","v":0},{"$f":"IF(ISERROR(VLOOKUP(AE40,CY:CY,1,FALSE)),0,1)*IF(ISERROR(VLOOKUP(AG40,CY:CY,1,FALSE)),0,1)*AP40","v":0},{"$f":"IF(ISERROR(VLOOKUP(AE40,CY:CY,1,FALSE)),0,1)*IF(ISERROR(VLOOKUP(AG40,CY:CY,1,FALSE)),0,1)*AQ40","v":0},{"$f":"IF(ISERROR(VLOOKUP(AE40,CY:CY,1,FALSE)),0,1)*IF(ISERROR(VLOOKUP(AG40,CY:CY,1,FALSE)),0,1)*AR40","v":0},{"$f":"IF(ISERROR(VLOOKUP(AE40,DS:DS,1,FALSE)),0,1)*IF(ISERROR(VLOOKUP(AG40,DS:DS,1,FALSE)),0,1)*AM40","v":0},{"$f":"IF(ISERROR(VLOOKUP(AE40,DS:DS,1,FALSE)),0,1)*IF(ISERROR(VLOOKUP(AG40,DS:DS,1,FALSE)),0,1)*AN40","v":0},{"$f":"IF(ISERROR(VLOOKUP(AE40,DS:DS,1,FALSE)),0,1)*IF(ISERROR(VLOOKUP(AG40,DS:DS,1,FALSE)),0,1)*AO40","v":0},{"$f":"IF(ISERROR(VLOOKUP(AE40,DS:DS,1,FALSE)),0,1)*IF(ISERROR(VLOOKUP(AG40,DS:DS,1,FALSE)),0,1)*AP40","v":0},{"$f":"IF(ISERROR(VLOOKUP(AE40,DS:DS,1,FALSE)),0,1)*IF(ISERROR(VLOOKUP(AG40,DS:DS,1,FALSE)),0,1)*AQ40","v":0},{"$f":"IF(ISERROR(VLOOKUP(AE40,DS:DS,1,FALSE)),0,1)*IF(ISERROR(VLOOKUP(AG40,DS:DS,1,FALSE)),0,1)*AR40","v":0},{"$f":"IF(ISERROR(VLOOKUP(AE40,EM:EM,1,FALSE)),0,1)*IF(ISERROR(VLOOKUP(AG40,EM:EM,1,FALSE)),0,1)*AM40","v":0},{"$f":"IF(ISERROR(VLOOKUP(AE40,EM:EM,1,FALSE)),0,1)*IF(ISERROR(VLOOKUP(AG40,EM:EM,1,FALSE)),0,1)*AN40","v":0},{"$f":"IF(ISERROR(VLOOKUP(AE40,EM:EM,1,FALSE)),0,1)*IF(ISERROR(VLOOKUP(AG40,EM:EM,1,FALSE)),0,1)*AO40","v":0},{"$f":"IF(ISERROR(VLOOKUP(AE40,EM:EM,1,FALSE)),0,1)*IF(ISERROR(VLOOKUP(AG40,EM:EM,1,FALSE)),0,1)*AP40","v":0},{"$f":"IF(ISERROR(VLOOKUP(AE40,EM:EM,1,FALSE)),0,1)*IF(ISERROR(VLOOKUP(AG40,EM:EM,1,FALSE)),0,1)*AQ40","v":0},{"$f":"IF(ISERROR(VLOOKUP(AE40,EM:EM,1,FALSE)),0,1)*IF(ISERROR(VLOOKUP(AG40,EM:EM,1,FALSE)),0,1)*AR40","v":0},null,null,"Polen",{"$f":"(SUMIF(AE4:AE54,BS40,AM4:AM54)+SUMIF(AG4:AG54,BS40,AN4:AN54))","v":0},{"$f":"(SUMIF(AE4:AE54,BS40,AO4:AO54)+SUMIF(AG4:AG54,BS40,AP4:AP54))","v":0},{"$f":"(SUMIF(AE4:AE54,BS40,AQ4:AQ54)+SUMIF(AG4:AG54,BS40,AR4:AR54))","v":0},{"$f":"SUMIF(AE4:AE54,BS40,AH4:AH54)+SUMIF(AG4:AG54,BS40,AJ4:AJ54)","v":0},{"$f":"SUMIF(AE4:AE54,BS40,AJ4:AJ54)+SUMIF(AG4:AG54,BS40,AH4:AH54)","v":0},{"$f":"BW40-BX40","v":0},{"$f":"IFERROR(BT40*3+BU40*1,0)","v":0},"E",{"$f":"RANK(BZ40,BZ40:BZ43)","v":1},{"$f":"SUMPRODUCT((BZ40:BZ43=BZ40)*(BY40:BY43>BY40))","v":0},null,{"$f":"IF(CB40=1,BS40,)","v":"Polen"},{"$f":"(SUMIF(AE4:AE54,BS40,AS4:AS54)+SUMIF(AG4:AG54,BS40,AT4:AT54))","v":0},{"$f":"(SUMIF(AE4:AE54,BS40,AU4:AU54)+SUMIF(AG4:AG54,BS40,AV4:AV54))","v":0},{"$f":"(SUMIF(AE4:AE54,BS40,AW4:AW54)+SUMIF(AG4:AG54,BS40,AX4:AX54))","v":0},{"$f":"IFERROR(CF40*3+CG40*1,0)","v":0},{"$f":"CA40","v":"E"},{"$f":"IF(CE40>0,RANK(CI40,CI40:CI43),)","v":1},{"$f":"IF(AND(CE40>0,COUNTIF(CK40:CK43,CK40)>1),SUMIFS($AH$4:$AH$54,$AE$4:$AE$54,$BS40,$L$4:$L$54,1)+SUMIFS($AJ$4:$AJ$54,$AG$4:$AG$54,$BS40,$L$4:$L$54,1)-SUMIFS($AJ$4:$AJ$54,$AE$4:$AE$54,$BS40,$L$4:$L$54,1)-SUMIFS($AH$4:$AH$54,$AG$4:$AG$54,$BS40,$L$4:$L$54,1),)","v":0},{"$f":"IF(AND(CE40>0,COUNTIF(CK40:CK43,CK40)>1),CK40+RANK(CL40,CL40:CL43)-1,CK40)","v":1},{"$f":"IF(AND(CE40>0,COUNTIF(CM40:CM43,CM40)>1),SUMIFS($AH$4:$AH$54,$AE$4:$AE$54,$BS40,$L$4:$L$54,1)+SUMIFS($AJ$4:$AJ$54,$AG$4:$AG$54,$BS40,$L$4:$L$54,1),)","v":0},{"$f":"IF(AND(CE40>0,COUNTIF(CM40:CM43,CM40)>1),CM40+RANK(CN40,CN40:CN43)-1,CM40)","v":1},{"$f":"IF(CO40=0,\"\",CO40)","v":1},{"$f":"IF(OR(CP40=\"\",COUNTIF(CP40:CP43,CP40)=1),\"\",$BY40)","v":0},{"$f":"IF(CP40=\"\",\"\",IF(COUNTIF(CP40:CP43,CP40)=1,CP40,CP40+RANK(CQ40,CQ40:CQ43,0)-1))","v":1},{"$f":"IF(OR(CR40=\"\",COUNTIF(CR40:CR43,CR40)=1),\"\",$BW40)","v":0},{"$f":"IF(CP40=\"\",\"\",IF(COUNTIF(CR40:CR43,CR40)=1,CR40,CR40+RANK(CS40,CS40:CS43,0)-1))","v":1},{"$f":"IF(OR(CT40=\"\",COUNTIF(CT40:CT43,CT40)=1),\"\",$BT40)","v":0},{"$f":"IF(CP40=\"\",\"\",IF(COUNTIF(CT40:CT43,CT40)=1,CT40,CT40+RANK(CU40,CU40:CU43,0)-1))","v":1},{"$f":"IF(CE40>0,BL38+RANK(CV40,CV40:CV43,1),)","v":1},null,{"$f":"IF(CB40=2,BS40,)","v":0},{"$f":"(SUMIF(AE4:AE54,BS40,AY4:AY54)+SUMIF(AG4:AG54,BS40,AZ4:AZ54))","v":0},{"$f":"(SUMIF(AE4:AE54,BS40,BA4:BA54)+SUMIF(AG4:AG54,BS40,BB4:BB54))","v":0},{"$f":"(SUMIF(AE4:AE54,BS40,BC4:BC54)+SUMIF(AG4:AG54,BS40,BD4:BD54))","v":0},{"$f":"IFERROR(CZ40*3+DA40*1,0)","v":0},{"$f":"CA40","v":"E"},{"$f":"IF(CY40>0,RANK(DC40,DC40:DC43)+CF38,)","v":0},{"$f":"IF(AND(CY40>0,COUNTIF(DE40:DE43,DE40)>1),SUMIFS($AH$4:$AH$54,$AE$4:$AE$54,$BS40,$L$4:$L$54,2)+SUMIFS($AJ$4:$AJ$54,$AG$4:$AG$54,$BS40,$L$4:$L$54,2)-SUMIFS($AJ$4:$AJ$54,$AE$4:$AE$54,$BS40,$L$4:$L$54,2)-SUMIFS($AH$4:$AH$54,$AG$4:$AG$54,$BS40,$L$4:$L$54,2),)","v":0},{"$f":"IF(AND(CY40>0,COUNTIF(DE40:DE43,DE40)>1),DE40+RANK(DF40,DF40:DF43)-1,DE40)","v":0},{"$f":"IF(AND(CY40>0,COUNTIF(DG40:DG43,DG40)>1),SUMIFS($AH$4:$AH$54,$AE$4:$AE$54,$BS40,$L$4:$L$54,2)+SUMIFS($AJ$4:$AJ$54,$AG$4:$AG$54,$BS40,$L$4:$L$54,2),)","v":0},{"$f":"IF(AND(CY40>0,COUNTIF(DG40:DG43,DG40)>1),DG40+RANK(DH40,DH40:DH43)-1,DG40)","v":0},{"$f":"IF(DI40=0,\"\",DI40)","v":""},{"$f":"IF(OR(DJ40=\"\",COUNTIF(DJ40:DJ43,DJ40)=1),\"\",$BY40)","v":""},{"$f":"IF(DJ40=\"\",\"\",IF(COUNTIF(DJ40:DJ43,DJ40)=1,DJ40,DJ40+RANK(DK40,DK40:DK43,0)-1))","v":""},{"$f":"IF(OR(DL40=\"\",COUNTIF(DL40:DL43,DL40)=1),\"\",$BW40)","v":""},{"$f":"IF(DJ40=\"\",\"\",IF(COUNTIF(DL40:DL43,DL40)=1,DL40,DL40+RANK(DM40,DM40:DM43,0)-1))","v":""},{"$f":"IF(OR(DN40=\"\",COUNTIF(DN40:DN43,DN40)=1),\"\",$BT40)","v":""},{"$f":"IF(DJ40=\"\",\"\",IF(COUNTIF(DN40:DN43,DN40)=1,DN40,DN40+RANK(DO40,DO40:DO43,0)-1))","v":""},{"$f":"IF(CY40>0,CF38+RANK(DP40,DP40:DP43,1),)","v":0},null,{"$f":"IF(CB40=3,BS40,)","v":0},{"$f":"(SUMIF(AE4:AE54,BS40,BE4:BE54)+SUMIF(AG4:AG54,BS40,BF4:BF54))","v":0},{"$f":"(SUMIF(AE4:AE54,BS40,BG4:BG54)+SUMIF(AG4:AG54,BS40,BH4:BH54))","v":0},{"$f":"(SUMIF(AE4:AE54,BS40,BI4:BI54)+SUMIF(AG4:AG54,BS40,BJ4:BJ54))","v":0},{"$f":"IFERROR(DT40*3+DU40*1,0)","v":0},{"$f":"CA40","v":"E"},{"$f":"IF(DS40>0,RANK(DW40,DW40:DW43)+CF38+CZ38,)","v":0},{"$f":"IF(AND(DS40>0,COUNTIF(DY40:DY43,DY40)>1),SUMIFS($AH$4:$AH$54,$AE$4:$AE$54,$BS40,$L$4:$L$54,3)+SUMIFS($AJ$4:$AJ$54,$AG$4:$AG$54,$BS40,$L$4:$L$54,3)-SUMIFS($AJ$4:$AJ$54,$AE$4:$AE$54,$BS40,$L$4:$L$54,3)-SUMIFS($AH$4:$AH$54,$AG$4:$AG$54,$BS40,$L$4:$L$54,3),)","v":0},{"$f":"IF(AND(DS40>0,COUNTIF(DY40:DY43,DY40)>1),DY40+RANK(DZ40,DZ40:DZ43)-1,DY40)","v":0},{"$f":"IF(AND(DS40>0,COUNTIF(EA40:EA43,EA40)>1),SUMIFS($AH$4:$AH$54,$AE$4:$AE$54,$BS40,$L$4:$L$54,3)+SUMIFS($AJ$4:$AJ$54,$AG$4:$AG$54,$BS40,$L$4:$L$54,3),)","v":0},{"$f":"IF(AND(DS40>0,COUNTIF(EA40:EA43,EA40)>1),EA40+RANK(EB40,EB40:EB43)-1,EA40)","v":0},{"$f":"IF(EC40=0,\"\",EC40)","v":""},{"$f":"IF(OR(ED40=\"\",COUNTIF(ED40:ED43,ED40)=1),\"\",$BY40)","v":""},{"$f":"IF(ED40=\"\",\"\",IF(COUNTIF(ED40:ED43,ED40)=1,ED40,ED40+RANK(EE40,EE40:EE43,0)-1))","v":""},{"$f":"IF(OR(EF40=\"\",COUNTIF(EF40:EF43,EF40)=1),\"\",$BW40)","v":""},{"$f":"IF(ED40=\"\",\"\",IF(COUNTIF(EF40:EF43,EF40)=1,EF40,EF40+RANK(EG40,EG40:EG43,0)-1))","v":""},{"$f":"IF(OR(EH40=\"\",COUNTIF(EH40:EH43,EH40)=1),\"\",$BT40)","v":""},{"$f":"IF(ED40=\"\",\"\",IF(COUNTIF(EH40:EH43,EH40)=1,EH40,EH40+RANK(EI40,EI40:EI43,0)-1))","v":""},{"$f":"IF(DS40>0,CF38+CZ38+RANK(EJ40,EJ40:EJ43,1),)","v":0},null,{"$f":"IF(CB40=4,BS40,)","v":0},{"$f":"(SUMIF(AE4:AE54,BS40,BK4:BK54)+SUMIF(AG4:AG54,BS40,BL4:BL54))","v":0},{"$f":"(SUMIF(AE4:AE54,BS40,BM4:BM54)+SUMIF(AG4:AG54,BS40,BN4:BN54))","v":0},{"$f":"(SUMIF(AE4:AE54,BS40,BO4:BO54)+SUMIF(AG4:AG54,BS40,BP4:BP54))","v":0},{"$f":"IFERROR(EN40*3+EO40*1,0)","v":0},{"$f":"CA40","v":"E"},{"$f":"IF(EM40>0,RANK(EQ40,EQ40:EQ43)+CF38+CZ38+DT38,)","v":0},{"$f":"IF(AND(EM40>0,COUNTIF(ES40:ES43,ES40)>1),SUMIFS($AH$4:$AH$54,$AE$4:$AE$54,$BS40,$L$4:$L$54,4)+SUMIFS($AJ$4:$AJ$54,$AG$4:$AG$54,$BS40,$L$4:$L$54,4)-SUMIFS($AJ$4:$AJ$54,$AE$4:$AE$54,$BS40,$L$4:$L$54,4)-SUMIFS($AH$4:$AH$54,$AG$4:$AG$54,$BS40,$L$4:$L$54,4),)","v":0},{"$f":"IF(AND(EM40>0,COUNTIF(ES4:ES7,ES40)>1),ES40+RANK(ET40,ET4:ET7)-1,ES40)","v":0},{"$f":"IF(AND(EM40>0,COUNTIF(EU40:EU43,EU40)>1),SUMIFS($AH$4:$AH$54,$AE$4:$AE$54,$BS40,$L$4:$L$54,4)+SUMIFS($AJ$4:$AJ$54,$AG$4:$AG$54,$BS40,$L$4:$L$54,4),)","v":0},{"$f":"IF(AND(EM40>0,COUNTIF(EU40:EU43,EU40)>1),EU40+RANK(EV40,EV40:EV43)-1,EU40)","v":0},{"$f":"IF(EW40=0,\"\",EW40)","v":""},{"$f":"IF(OR(EX40=\"\",COUNTIF(EX40:EX43,EX40)=1),\"\",$BY40)","v":""},{"$f":"IF(EX40=\"\",\"\",IF(COUNTIF(EX40:EX43,EX40)=1,EX40,EX40+RANK(EY40,EY40:EY43,0)-1))","v":""},{"$f":"IF(OR(EZ40=\"\",COUNTIF(EZ40:EZ43,EZ40)=1),\"\",$BW40)","v":""},{"$f":"IF(EX40=\"\",\"\",IF(COUNTIF(EZ40:EZ43,EZ40)=1,EZ40,EZ40+RANK(FA40,FA40:FA43,0)-1))","v":""},{"$f":"IF(OR(FB40=\"\",COUNTIF(FB40:FB43,FB40)=1),\"\",$BT40)","v":""},{"$f":"IF(EX40=\"\",\"\",IF(COUNTIF(FB40:FB43,FB40)=1,FB40,FB40+RANK(FC40,FC40:FC43,0)-1))","v":""},{"$f":"IF(EM40>0,CF38+CZ38+DT38+RANK(FD40,FD40:FD43,1),)","v":0},null,{"$f":"IFERROR(VLOOKUP(FI40,CE39:CW43,19,FALSE),IFERROR(VLOOKUP(FI40,CY39:DQ43,19,FALSE),IFERROR(VLOOKUP(FI40,DS39:EK43,19,FALSE),VLOOKUP(FI40,EM39:FE43,19,FALSE))))","v":1},{"$f":"RANK(FG40,FG40:FG43,1)+COUNTIF(FG40:FG40,FG40)-1","v":1},{"$f":"BS40","v":"Polen"}]
[null,null,"2021-06-14","Spanien","-","Sverige",null,"-",null,{"$f":"IF(OR(ISBLANK(G41),ISBLANK(I41)),\"\",IF(G41>I41,1,IF(G41<I41,2,\"X\")))","v":""},{"$f":"IF(OR('Resultat & Tabell'!G41=\"\",'Resultat & Tabell'!I41=\"\",G41=\"\",I41=\"\"),0,IF(G41='Resultat & Tabell'!G41,2,0)+IF(I41='Resultat & Tabell'!I41,2,0)+IF(J41='Resultat & Tabell'!J41,3,0))","v":0},{"$f":"IF(VLOOKUP(D41,BS39:CB43,10,FALSE)=VLOOKUP(F41,BS39:CB43,10,FALSE),VLOOKUP(D41,BS39:CB43,10,FALSE),\"-\")","v":1},2,{"$f":"VLOOKUP(M41,FH40:FI43,2,FALSE)","v":"Slovakien"},{"$f":"VLOOKUP(N41,BS40:BZ43,2,FALSE)","v":0},{"$f":"VLOOKUP(N41,BS40:BZ43,3,FALSE)","v":0},{"$f":"VLOOKUP(N41,BS40:BZ43,4,FALSE)","v":0},{"$f":"VLOOKUP(N41,BS40:BZ43,5,FALSE)","v":0},{"$f":"VLOOKUP(N41,BS40:BZ43,6,FALSE)","v":0},{"$f":"VLOOKUP(N41,BS40:BZ43,7,FALSE)","v":0},{"$f":"VLOOKUP(N41,BS40:BZ43,8,FALSE)","v":0},null,null,null,null,null,null,null,null,"2021-06-14","Spanien","-","Sverige","","-","","",null,0,0,0,0,0,0,0,0,0,0,0,0,0,0,0,0,0,0,0,0,0,0,0,0,0,0,0,0,0,0,null,null,"Slovakien",{"$f":"(SUMIF(AE4:AE54,BS41,AM4:AM54)+SUMIF(AG4:AG54,BS41,AN4:AN54))","v":0},{"$f":"(SUMIF(AE4:AE54,BS41,AO4:AO54)+SUMIF(AG4:AG54,BS41,AP4:AP54))","v":0},{"$f":"(SUMIF(AE4:AE54,BS41,AQ4:AQ54)+SUMIF(AG4:AG54,BS41,AR4:AR54))","v":0},{"$f":"SUMIF(AE4:AE54,BS41,AH4:AH54)+SUMIF(AG4:AG54,BS41,AJ4:AJ54)","v":0},{"$f":"SUMIF(AE4:AE54,BS41,AJ4:AJ54)+SUMIF(AG4:AG54,BS41,AH4:AH54)","v":0},{"$f":"BW41-BX41","v":0},{"$f":"IFERROR(BT41*3+BU41*1,0)","v":0},"E",{"$f":"RANK(BZ41,BZ40:BZ43)","v":1},{"$f":"SUMPRODUCT((BZ40:BZ43=BZ41)*(BY40:BY43>BY41))","v":0},null,{"$f":"IF(CB41=1,BS41,)","v":"Slovakien"},{"$f":"(SUMIF(AE4:AE54,BS41,AS4:AS54)+SUMIF(AG4:AG54,BS41,AT4:AT54))","v":0},{"$f":"(SUMIF(AE4:AE54,BS41,AU4:AU54)+SUMIF(AG4:AG54,BS41,AV4:AV54))","v":0},{"$f":"(SUMIF(AE4:AE54,BS41,AW4:AW54)+SUMIF(AG4:AG54,BS41,AX4:AX54))","v":0},{"$f":"IFERROR(CF41*3+CG41*1,0)","v":0},{"$f":"CA41","v":"E"},{"$f":"IF(CE41>0,RANK(CI41,CI40:CI43),)","v":1},{"$f":"IF(AND(CE41>0,COUNTIF(CK40:CK43,CK41)>1),SUMIFS($AH$4:$AH$54,$AE$4:$AE$54,BS41,$L$4:$L$54,1)+SUMIFS($AJ$4:$AJ$54,$AG$4:$AG$54,BS41,$L$4:$L$54,1)-SUMIFS($AJ$4:$AJ$54,$AE$4:$AE$54,BS41,$L$4:$L$54,1)-SUMIFS($AH$4:$AH$54,$AG$4:$AG$54,BS41,$L$4:$L$54,1),)","v":0},{"$f":"IF(AND(CE41>0,COUNTIF(CK40:CK43,CK41)>1),CK41+RANK(CL41,CL40:CL43)-1,CK41)","v":1},{"$f":"IF(AND(CE41>0,COUNTIF(CM40:CM43,CM41)>1),SUMIFS($AH$4:$AH$54,$AE$4:$AE$54,BS41,$L$4:$L$54,1)+SUMIFS($AJ$4:$AJ$54,$AG$4:$AG$54,BS41,$L$4:$L$54,1),)","v":0},{"$f":"IF(AND(CE41>0,COUNTIF(CM40:CM43,CM41)>1),CM41+RANK(CN41,CN40:CN43)-1,CM41)","v":1},{"$f":"IF(CO41=0,\"\",CO41)","v":1},{"$f":"IF(OR(CP41=\"\",COUNTIF(CP40:CP43,CP41)=1),\"\",$BY41)","v":0},{"$f":"IF(CP41=\"\",\"\",IF(COUNTIF(CP40:CP43,CP41)=1,CP41,CP41+RANK(CQ41,CQ40:CQ43,0)-1))","v":1},{"$f":"IF(OR(CR41=\"\",COUNTIF(CR40:CR43,CR41)=1),\"\",$BW41)","v":0},{"$f":"IF(CP41=\"\",\"\",IF(COUNTIF(CR40:CR43,CR41)=1,CR41,CR41+RANK(CS41,CS40:CS43,0)-1))","v":1},{"$f":"IF(OR(CT41=\"\",COUNTIF(CT40:CT43,CT41)=1),\"\",$BT41)","v":0},{"$f":"IF(CP41=\"\",\"\",IF(COUNTIF(CT40:CT43,CT41)=1,CT41,CT41+RANK(CU41,CU40:CU43,0)-1))","v":1},{"$f":"IF(CE41>0,BL38+RANK(CV41,CV40:CV43,1),)","v":1},null,{"$f":"IF(CB41=2,BS41,)","v":0},{"$f":"(SUMIF(AE4:AE54,BS41,AY4:AY54)+SUMIF(AG4:AG54,BS41,AZ4:AZ54))","v":0},{"$f":"(SUMIF(AE4:AE54,BS41,BA4:BA54)+SUMIF(AG4:AG54,BS41,BB4:BB54))","v":0},{"$f":"(SUMIF(AE4:AE54,BS41,BC4:BC54)+SUMIF(AG4:AG54,BS41,BD4:BD54))","v":0},{"$f":"IFERROR(CZ41*3+DA41*1,0)","v":0},{"$f":"CA41","v":"E"},{"$f":"IF(CY41>0,RANK(DC41,DC40:DC43)+CF38,)","v":0},{"$f":"IF(AND(CY41>0,COUNTIF(DE40:DE43,DE41)>1),SUMIFS($AH$4:$AH$54,$AE$4:$AE$54,BS41,$L$4:$L$54,2)+SUMIFS($AJ$4:$AJ$54,$AG$4:$AG$54,BS41,$L$4:$L$54,2)-SUMIFS($AJ$4:$AJ$54,$AE$4:$AE$54,BS41,$L$4:$L$54,2)-SUMIFS($AH$4:$AH$54,$AG$4:$AG$54,BS41,$L$4:$L$54,2),)","v":0},{"$f":"IF(AND(CY41>0,COUNTIF(DE40:DE43,DE41)>1),DE41+RANK(DF41,DF40:DF43)-1,DE41)","v":0},{"$f":"IF(AND(CY41>0,COUNTIF(DG40:DG43,DG41)>1),SUMIFS($AH$4:$AH$54,$AE$4:$AE$54,BS41,$L$4:$L$54,2)+SUMIFS($AJ$4:$AJ$54,$AG$4:$AG$54,BS41,$L$4:$L$54,2),)","v":0},{"$f":"IF(AND(CY41>0,COUNTIF(DG40:DG43,DG41)>1),DG41+RANK(DH41,DH40:DH43)-1,DG41)","v":0},{"$f":"IF(DI41=0,\"\",DI41)","v":""},{"$f":"IF(OR(DJ41=\"\",COUNTIF(DJ40:DJ43,DJ41)=1),\"\",$BY41)","v":""},{"$f":"IF(DJ41=\"\",\"\",IF(COUNTIF(DJ40:DJ43,DJ41)=1,DJ41,DJ41+RANK(DK41,DK40:DK43,0)-1))","v":""},{"$f":"IF(OR(DL41=\"\",COUNTIF(DL40:DL43,DL41)=1),\"\",$BW41)","v":""},{"$f":"IF(DJ41=\"\",\"\",IF(COUNTIF(DL40:DL43,DL41)=1,DL41,DL41+RANK(DM41,DM40:DM43,0)-1))","v":""},{"$f":"IF(OR(DN41=\"\",COUNTIF(DN40:DN43,DN41)=1),\"\",$BT41)","v":""},{"$f":"IF(DJ41=\"\",\"\",IF(COUNTIF(DN40:DN43,DN41)=1,DN41,DN41+RANK(DO41,DO40:DO43,0)-1))","v":""},{"$f":"IF(CY41>0,CF38+RANK(DP41,DP40:DP43,1),)","v":0},null,{"$f":"IF(CB41=3,BS41,)","v":0},{"$f":"(SUMIF(AE4:AE54,BS41,BE4:BE54)+SUMIF(AG4:AG54,BS41,BF4:BF54))","v":0},{"$f":"(SUMIF(AE4:AE54,BS41,BG4:BG54)+SUMIF(AG4:AG54,BS41,BH4:BH54))","v":0},{"$f":"(SUMIF(AE4:AE54,BS41,BI4:BI54)+SUMIF(AG4:AG54,BS41,BJ4:BJ54))","v":0},{"$f":"IFERROR(DT41*3+DU41*1,0)","v":0},{"$f":"CA41","v":"E"},{"$f":"IF(DS41>0,RANK(DW41,DW40:DW43)+CF38+CZ38,)","v":0},{"$f":"IF(AND(DS41>0,COUNTIF(DY40:DY43,DY41)>1),SUMIFS($AH$4:$AH$54,$AE$4:$AE$54,BS41,$L$4:$L$54,3)+SUMIFS($AJ$4:$AJ$54,$AG$4:$AG$54,BS41,$L$4:$L$54,3)-SUMIFS($AJ$4:$AJ$54,$AE$4:$AE$54,BS41,$L$4:$L$54,3)-SUMIFS($AH$4:$AH$54,$AG$4:$AG$54,BS41,$L$4:$L$54,3),)","v":0},{"$f":"IF(AND(DS41>0,COUNTIF(DY40:DY43,DY41)>1),DY41+RANK(DZ41,DZ40:DZ43)-1,DY41)","v":0},{"$f":"IF(AND(DS41>0,COUNTIF(EA40:EA43,EA41)>1),SUMIFS($AH$4:$AH$54,$AE$4:$AE$54,BS41,$L$4:$L$54,3)+SUMIFS($AJ$4:$AJ$54,$AG$4:$AG$54,BS41,$L$4:$L$54,3),)","v":0},{"$f":"IF(AND(DS41>0,COUNTIF(EA40:EA43,EA41)>1),EA41+RANK(EB41,EB40:EB43)-1,EA41)","v":0},{"$f":"IF(EC41=0,\"\",EC41)","v":""},{"$f":"IF(OR(ED41=\"\",COUNTIF(ED40:ED43,ED41)=1),\"\",$BY41)","v":""},{"$f":"IF(ED41=\"\",\"\",IF(COUNTIF(ED40:ED43,ED41)=1,ED41,ED41+RANK(EE41,EE40:EE43,0)-1))","v":""},{"$f":"IF(OR(EF41=\"\",COUNTIF(EF40:EF43,EF41)=1),\"\",$BW41)","v":""},{"$f":"IF(ED41=\"\",\"\",IF(COUNTIF(EF40:EF43,EF41)=1,EF41,EF41+RANK(EG41,EG40:EG43,0)-1))","v":""},{"$f":"IF(OR(EH41=\"\",COUNTIF(EH40:EH43,EH41)=1),\"\",$BT41)","v":""},{"$f":"IF(ED41=\"\",\"\",IF(COUNTIF(EH40:EH43,EH41)=1,EH41,EH41+RANK(EI41,EI40:EI43,0)-1))","v":""},{"$f":"IF(DS41>0,CF38+CZ38+RANK(EJ41,EJ40:EJ43,1),)","v":0},null,{"$f":"IF(CB41=4,BS41,)","v":0},{"$f":"(SUMIF(AE4:AE54,BS41,BK4:BK54)+SUMIF(AG4:AG54,BS41,BL4:BL54))","v":0},{"$f":"(SUMIF(AE4:AE54,BS41,BM4:BM54)+SUMIF(AG4:AG54,BS41,BN4:BN54))","v":0},{"$f":"(SUMIF(AE4:AE54,BS41,BO4:BO54)+SUMIF(AG4:AG54,BS41,BP4:BP54))","v":0},{"$f":"IFERROR(EN41*3+EO41*1,0)","v":0},{"$f":"CA41","v":"E"},{"$f":"IF(EM41>0,RANK(EQ41,EQ40:EQ43)+CF38+CZ38+DT38,)","v":0},{"$f":"IF(AND(EM41>0,COUNTIF(ES40:ES43,ES41)>1),SUMIFS($AH$4:$AH$54,$AE$4:$AE$54,BS41,$L$4:$L$54,4)+SUMIFS($AJ$4:$AJ$54,$AG$4:$AG$54,BS41,$L$4:$L$54,4)-SUMIFS($AJ$4:$AJ$54,$AE$4:$AE$54,BS41,$L$4:$L$54,4)-SUMIFS($AH$4:$AH$54,$AG$4:$AG$54,BS41,$L$4:$L$54,4),)","v":0},{"$f":"IF(AND(EM41>0,COUNTIF(ES4:ES7,ES41)>1),ES41+RANK(ET41,ET4:ET7)-1,ES41)","v":0},{"$f":"IF(AND(EM41>0,COUNTIF(EU40:EU43,EU41)>1),SUMIFS($AH$4:$AH$54,$AE$4:$AE$54,BS41,$L$4:$L$54,4)+SUMIFS($AJ$4:$AJ$54,$AG$4:$AG$54,BS41,$L$4:$L$54,4),)","v":0},{"$f":"IF(AND(EM41>0,COUNTIF(EU40:EU43,EU41)>1),EU41+RANK(EV41,EV40:EV43)-1,EU41)","v":0},{"$f":"IF(EW41=0,\"\",EW41)","v":""},{"$f":"IF(OR(EX41=\"\",COUNTIF(EX40:EX43,EX41)=1),\"\",$BY41)","v":""},{"$f":"IF(EX41=\"\",\"\",IF(COUNTIF(EX40:EX43,EX41)=1,EX41,EX41+RANK(EY41,EY40:EY43,0)-1))","v":""},{"$f":"IF(OR(EZ41=\"\",COUNTIF(EZ40:EZ43,EZ41)=1),\"\",$BW41)","v":""},{"$f":"IF(EX41=\"\",\"\",IF(COUNTIF(EZ40:EZ43,EZ41)=1,EZ41,EZ41+RANK(FA41,FA40:FA43,0)-1))","v":""},{"$f":"IF(OR(FB41=\"\",COUNTIF(FB40:FB43,FB41)=1),\"\",$BT41)","v":""},{"$f":"IF(EX41=\"\",\"\",IF(COUNTIF(FB40:FB43,FB41)=1,FB41,FB41+RANK(FC41,FC40:FC43,0)-1))","v":""},{"$f":"IF(EM41>0,CF38+CZ38+DT38+RANK(FD41,FD40:FD43,1),)","v":0},null,{"$f":"IFERROR(VLOOKUP(FI41,CE39:CW43,19,FALSE),IFERROR(VLOOKUP(FI41,CY39:DQ43,19,FALSE),IFERROR(VLOOKUP(FI41,DS39:EK43,19,FALSE),VLOOKUP(FI41,EM39:FE43,19,FALSE))))","v":1},{"$f":"RANK(FG41,FG40:FG43,1)+COUNTIF(FG40:FG41,FG41)-1","v":2},{"$f":"BS41","v":"Slovakien"}]
[null,null,"2021-06-18","Sverige","-","Slovakien",null,"-",null,"",{"$f":"IF(OR('Resultat & Tabell'!G42=\"\",'Resultat & Tabell'!I42=\"\",G42=\"\",I42=\"\"),0,IF(G42='Resultat & Tabell'!G42,2,0)+IF(I42='Resultat & Tabell'!I42,2,0)+IF(J42='Resultat & Tabell'!J42,3,0))","v":0},{"$f":"IF(VLOOKUP(D42,BS39:CB43,10,FALSE)=VLOOKUP(F42,BS39:CB43,10,FALSE),VLOOKUP(D42,BS39:CB43,10,FALSE),\"-\")","v":1},3,{"$f":"VLOOKUP(M42,FH40:FI43,2,FALSE)","v":"Spanien"},{"$f":"VLOOKUP(N42,BS40:BZ43,2,FALSE)","v":0},{"$f":"VLOOKUP(N42,BS40:BZ43,3,FALSE)","v":0},{"$f":"VLOOKUP(N42,BS40:BZ43,4,FALSE)","v":0},{"$f":"VLOOKUP(N42,BS40:BZ43,5,FALSE)","v":0},{"$f":"VLOOKUP(N42,BS40:BZ43,6,FALSE)","v":0},{"$f":"VLOOKUP(N42,BS40:BZ43,7,FALSE)","v":0},{"$f":"VLOOKUP(N42,BS40:BZ43,8,FALSE)","v":0},null,null,null,null,null,null,null,null,"2021-06-18","Sverige","-","Slovakien","","-","","",null,0,0,0,0,0,0,0,0,0,0,0,0,0,0,0,0,0,0,0,0,0,0,0,0,0,0,0,0,0,0,null,null,"Spanien",{"$f":"(SUMIF(AE4:AE54,BS42,AM4:AM54)+SUMIF(AG4:AG54,BS42,AN4:AN54))","v":0},{"$f":"(SUMIF(AE4:AE54,BS42,AO4:AO54)+SUMIF(AG4:AG54,BS42,AP4:AP54))","v":0},{"$f":"(SUMIF(AE4:AE54,BS42,AQ4:AQ54)+SUMIF(AG4:AG54,BS42,AR4:AR54))","v":0},{"$f":"SUMIF(AE4:AE54,BS42,AH4:AH54)+SUMIF(AG4:AG54,BS42,AJ4:AJ54)","v":0},{"$f":"SUMIF(AE4:AE54,BS42,AJ4:AJ54)+SUMIF(AG4:AG54,BS42,AH4:AH54)","v":0},{"$f":"BW42-BX42","v":0},{"$f":"IFERROR(BT42*3+BU42*1,0)","v":0},"E",{"$f":"RANK(BZ42,BZ40:BZ43)","v":1},{"$f":"SUMPRODUCT((BZ40:BZ43=BZ42)*(BY40:BY43>BY42))","v":0},null,{"$f":"IF(CB42=1,BS42,)","v":"Spanien"},{"$f":"(SUMIF(AE4:AE54,BS42,AS4:AS54)+SUMIF(AG4:AG54,BS42,AT4:AT54))","v":0},{"$f":"(SUMIF(AE4:AE54,BS42,AU4:AU54)+SUMIF(AG4:AG54,BS42,AV4:AV54))","v":0},{"$f":"(SUMIF(AE4:AE54,BS42,AW4:AW54)+SUMIF(AG4:AG54,BS42,AX4:AX54))","v":0},0,{"$f":"CA42","v":"E"},{"$f":"IF(CE42>0,RANK(CI42,CI40:CI43),)","v":1},{"$f":"IF(AND(CE42>0,COUNTIF(CK40:CK43,CK42)>1),SUMIFS($AH$4:$AH$54,$AE$4:$AE$54,BS42,$L$4:$L$54,1)+SUMIFS($AJ$4:$AJ$54,$AG$4:$AG$54,BS42,$L$4:$L$54,1)-SUMIFS($AJ$4:$AJ$54,$AE$4:$AE$54,BS42,$L$4:$L$54,1)-SUMIFS($AH$4:$AH$54,$AG$4:$AG$54,BS42,$L$4:$L$54,1),)","v":0},{"$f":"IF(AND(CE42>0,COUNTIF(CK40:CK43,CK42)>1),CK42+RANK(CL42,CL40:CL43)-1,CK42)","v":1},{"$f":"IF(AND(CE42>0,COUNTIF(CM40:CM43,CM42)>1),SUMIFS($AH$4:$AH$54,$AE$4:$AE$54,BS42,$L$4:$L$54,1)+SUMIFS($AJ$4:$AJ$54,$AG$4:$AG$54,BS42,$L$4:$L$54,1),)","v":0},{"$f":"IF(AND(CE42>0,COUNTIF(CM40:CM43,CM42)>1),CM42+RANK(CN42,CN40:CN43)-1,CM42)","v":1},1,{"$f":"IF(OR(CP42=\"\",COUNTIF(CP40:CP43,CP42)=1),\"\",$BY42)","v":0},{"$f":"IF(CP42=\"\",\"\",IF(COUNTIF(CP40:CP43,CP42)=1,CP42,CP42+RANK(CQ42,CQ40:CQ43,0)-1))","v":1},{"$f":"IF(OR(CR42=\"\",COUNTIF(CR40:CR43,CR42)=1),\"\",$BW42)","v":0},{"$f":"IF(CP42=\"\",\"\",IF(COUNTIF(CR40:CR43,CR42)=1,CR42,CR42+RANK(CS42,CS40:CS43,0)-1))","v":1},{"$f":"IF(OR(CT42=\"\",COUNTIF(CT40:CT43,CT42)=1),\"\",$BT42)","v":0},{"$f":"IF(CP42=\"\",\"\",IF(COUNTIF(CT40:CT43,CT42)=1,CT42,CT42+RANK(CU42,CU40:CU43,0)-1))","v":1},{"$f":"IF(CE42>0,BL38+RANK(CV42,CV40:CV43,1),)","v":1},null,{"$f":"IF(CB42=2,BS42,)","v":0},{"$f":"(SUMIF(AE4:AE54,BS42,AY4:AY54)+SUMIF(AG4:AG54,BS42,AZ4:AZ54))","v":0},{"$f":"(SUMIF(AE4:AE54,BS42,BA4:BA54)+SUMIF(AG4:AG54,BS42,BB4:BB54))","v":0},{"$f":"(SUMIF(AE4:AE54,BS42,BC4:BC54)+SUMIF(AG4:AG54,BS42,BD4:BD54))","v":0},{"$f":"IFERROR(CZ42*3+DA42*1,0)","v":0},{"$f":"CA42","v":"E"},{"$f":"IF(CY42>0,RANK(DC42,DC40:DC43)+CF38,)","v":0},{"$f":"IF(AND(CY42>0,COUNTIF(DE40:DE43,DE42)>1),SUMIFS($AH$4:$AH$54,$AE$4:$AE$54,BS42,$L$4:$L$54,2)+SUMIFS($AJ$4:$AJ$54,$AG$4:$AG$54,BS42,$L$4:$L$54,2)-SUMIFS($AJ$4:$AJ$54,$AE$4:$AE$54,BS42,$L$4:$L$54,2)-SUMIFS($AH$4:$AH$54,$AG$4:$AG$54,BS42,$L$4:$L$54,2),)","v":0},{"$f":"IF(AND(CY42>0,COUNTIF(DE40:DE43,DE42)>1),DE42+RANK(DF42,DF40:DF43)-1,DE42)","v":0},{"$f":"IF(AND(CY42>0,COUNTIF(DG40:DG43,DG42)>1),SUMIFS($AH$4:$AH$54,$AE$4:$AE$54,BS42,$L$4:$L$54,2)+SUMIFS($AJ$4:$AJ$54,$AG$4:$AG$54,BS42,$L$4:$L$54,2),)","v":0},{"$f":"IF(AND(CY42>0,COUNTIF(DG40:DG43,DG42)>1),DG42+RANK(DH42,DH40:DH43)-1,DG42)","v":0},"",{"$f":"IF(OR(DJ42=\"\",COUNTIF(DJ40:DJ43,DJ42)=1),\"\",$BY42)","v":""},{"$f":"IF(DJ42=\"\",\"\",IF(COUNTIF(DJ40:DJ43,DJ42)=1,DJ42,DJ42+RANK(DK42,DK40:DK43,0)-1))","v":""},{"$f":"IF(OR(DL42=\"\",COUNTIF(DL40:DL43,DL42)=1),\"\",$BW42)","v":""},{"$f":"IF(DJ42=\"\",\"\",IF(COUNTIF(DL40:DL43,DL42)=1,DL42,DL42+RANK(DM42,DM40:DM43,0)-1))","v":""},{"$f":"IF(OR(DN42=\"\",COUNTIF(DN40:DN43,DN42)=1),\"\",$BT42)","v":""},{"$f":"IF(DJ42=\"\",\"\",IF(COUNTIF(DN40:DN43,DN42)=1,DN42,DN42+RANK(DO42,DO40:DO43,0)-1))","v":""},{"$f":"IF(CY42>0,CF38+RANK(DP42,DP40:DP43,1),)","v":0},null,{"$f":"IF(CB42=3,BS42,)","v":0},{"$f":"(SUMIF(AE4:AE54,BS42,BE4:BE54)+SUMIF(AG4:AG54,BS42,BF4:BF54))","v":0},{"$f":"(SUMIF(AE4:AE54,BS42,BG4:BG54)+SUMIF(AG4:AG54,BS42,BH4:BH54))","v":0},{"$f":"(SUMIF(AE4:AE54,BS42,BI4:BI54)+SUMIF(AG4:AG54,BS42,BJ4:BJ54))","v":0},0,{"$f":"CA42","v":"E"},{"$f":"IF(DS42>0,RANK(DW42,DW40:DW43)+CF38+CZ38,)","v":0},{"$f":"IF(AND(DS42>0,COUNTIF(DY40:DY43,DY42)>1),SUMIFS($AH$4:$AH$54,$AE$4:$AE$54,BS42,$L$4:$L$54,3)+SUMIFS($AJ$4:$AJ$54,$AG$4:$AG$54,BS42,$L$4:$L$54,3)-SUMIFS($AJ$4:$AJ$54,$AE$4:$AE$54,BS42,$L$4:$L$54,3)-SUMIFS($AH$4:$AH$54,$AG$4:$AG$54,BS42,$L$4:$L$54,3),)","v":0},{"$f":"IF(AND(DS42>0,COUNTIF(DY40:DY43,DY42)>1),DY42+RANK(DZ42,DZ40:DZ43)-1,DY42)","v":0},{"$f":"IF(AND(DS42>0,COUNTIF(EA40:EA43,EA42)>1),SUMIFS($AH$4:$AH$54,$AE$4:$AE$54,BS42,$L$4:$L$54,3)+SUMIFS($AJ$4:$AJ$54,$AG$4:$AG$54,BS42,$L$4:$L$54,3),)","v":0},{"$f":"IF(AND(DS42>0,COUNTIF(EA40:EA43,EA42)>1),EA42+RANK(EB42,EB40:EB43)-1,EA42)","v":0},"",{"$f":"IF(OR(ED42=\"\",COUNTIF(ED40:ED43,ED42)=1),\"\",$BY42)","v":""},{"$f":"IF(ED42=\"\",\"\",IF(COUNTIF(ED40:ED43,ED42)=1,ED42,ED42+RANK(EE42,EE40:EE43,0)-1))","v":""},{"$f":"IF(OR(EF42=\"\",COUNTIF(EF40:EF43,EF42)=1),\"\",$BW42)","v":""},{"$f":"IF(ED42=\"\",\"\",IF(COUNTIF(EF40:EF43,EF42)=1,EF42,EF42+RANK(EG42,EG40:EG43,0)-1))","v":""},{"$f":"IF(OR(EH42=\"\",COUNTIF(EH40:EH43,EH42)=1),\"\",$BT42)","v":""},{"$f":"IF(ED42=\"\",\"\",IF(COUNTIF(EH40:EH43,EH42)=1,EH42,EH42+RANK(EI42,EI40:EI43,0)-1))","v":""},{"$f":"IF(DS42>0,CF38+CZ38+RANK(EJ42,EJ40:EJ43,1),)","v":0},null,{"$f":"IF(CB42=4,BS42,)","v":0},{"$f":"(SUMIF(AE4:AE54,BS42,BK4:BK54)+SUMIF(AG4:AG54,BS42,BL4:BL54))","v":0},{"$f":"(SUMIF(AE4:AE54,BS42,BM4:BM54)+SUMIF(AG4:AG54,BS42,BN4:BN54))","v":0},{"$f":"(SUMIF(AE4:AE54,BS42,BO4:BO54)+SUMIF(AG4:AG54,BS42,BP4:BP54))","v":0},0,{"$f":"CA42","v":"E"},{"$f":"IF(EM42>0,RANK(EQ42,EQ40:EQ43)+CF38+CZ38+DT38,)","v":0},{"$f":"IF(AND(EM42>0,COUNTIF(ES40:ES43,ES42)>1),SUMIFS($AH$4:$AH$54,$AE$4:$AE$54,BS42,$L$4:$L$54,4)+SUMIFS($AJ$4:$AJ$54,$AG$4:$AG$54,BS42,$L$4:$L$54,4)-SUMIFS($AJ$4:$AJ$54,$AE$4:$AE$54,BS42,$L$4:$L$54,4)-SUMIFS($AH$4:$AH$54,$AG$4:$AG$54,BS42,$L$4:$L$54,4),)","v":0},{"$f":"IF(AND(EM42>0,COUNTIF(ES4:ES7,ES42)>1),ES42+RANK(ET42,ET4:ET7)-1,ES42)","v":0},{"$f":"IF(AND(EM42>0,COUNTIF(EU40:EU43,EU42)>1),SUMIFS($AH$4:$AH$54,$AE$4:$AE$54,BS42,$L$4:$L$54,4)+SUMIFS($AJ$4:$AJ$54,$AG$4:$AG$54,BS42,$L$4:$L$54,4),)","v":0},{"$f":"IF(AND(EM42>0,COUNTIF(EU40:EU43,EU42)>1),EU42+RANK(EV42,EV40:EV43)-1,EU42)","v":0},"",{"$f":"IF(OR(EX42=\"\",COUNTIF(EX40:EX43,EX42)=1),\"\",$BY42)","v":""},{"$f":"IF(EX42=\"\",\"\",IF(COUNTIF(EX40:EX43,EX42)=1,EX42,EX42+RANK(EY42,EY40:EY43,0)-1))","v":""},{"$f":"IF(OR(EZ42=\"\",COUNTIF(EZ40:EZ43,EZ42)=1),\"\",$BW42)","v":""},{"$f":"IF(EX42=\"\",\"\",IF(COUNTIF(EZ40:EZ43,EZ42)=1,EZ42,EZ42+RANK(FA42,FA40:FA43,0)-1))","v":""},{"$f":"IF(OR(FB42=\"\",COUNTIF(FB40:FB43,FB42)=1),\"\",$BT42)","v":""},{"$f":"IF(EX42=\"\",\"\",IF(COUNTIF(FB40:FB43,FB42)=1,FB42,FB42+RANK(FC42,FC40:FC43,0)-1))","v":""},{"$f":"IF(EM42>0,CF38+CZ38+DT38+RANK(FD42,FD40:FD43,1),)","v":0},null,{"$f":"IFERROR(VLOOKUP(FI42,CE39:CW43,19,FALSE),IFERROR(VLOOKUP(FI42,CY39:DQ43,19,FALSE),IFERROR(VLOOKUP(FI42,DS39:EK43,19,FALSE),VLOOKUP(FI42,EM39:FE43,19,FALSE))))","v":1},{"$f":"RANK(FG42,FG40:FG43,1)+COUNTIF(FG40:FG42,FG42)-1","v":3},{"$f":"BS42","v":"Spanien"}]
[null,null,"2021-06-19","Spanien","-","Polen",null,"-",null,"",{"$f":"IF(OR('Resultat & Tabell'!G43=\"\",'Resultat & Tabell'!I43=\"\",G43=\"\",I43=\"\"),0,IF(G43='Resultat & Tabell'!G43,2,0)+IF(I43='Resultat & Tabell'!I43,2,0)+IF(J43='Resultat & Tabell'!J43,3,0))","v":0},{"$f":"IF(VLOOKUP(D43,BS39:CB43,10,FALSE)=VLOOKUP(F43,BS39:CB43,10,FALSE),VLOOKUP(D43,BS39:CB43,10,FALSE),\"-\")","v":1},4,{"$f":"VLOOKUP(M43,FH40:FI43,2,FALSE)","v":"Sverige"},{"$f":"VLOOKUP(N43,BS40:BZ43,2,FALSE)","v":0},{"$f":"VLOOKUP(N43,BS40:BZ43,3,FALSE)","v":0},{"$f":"VLOOKUP(N43,BS40:BZ43,4,FALSE)","v":0},{"$f":"VLOOKUP(N43,BS40:BZ43,5,FALSE)","v":0},{"$f":"VLOOKUP(N43,BS40:BZ43,6,FALSE)","v":0},{"$f":"VLOOKUP(N43,BS40:BZ43,7,FALSE)","v":0},{"$f":"VLOOKUP(N43,BS40:BZ43,8,FALSE)","v":0},null,null,null,null,null,null,null,null,"2021-06-19","Spanien","-","Polen","","-","","",null,0,0,0,0,0,0,0,0,0,0,0,0,0,0,0,0,0,0,0,0,0,0,0,0,0,0,0,0,0,0,null,null,"Sverige",{"$f":"(SUMIF(AE4:AE54,BS43,AM4:AM54)+SUMIF(AG4:AG54,BS43,AN4:AN54))","v":0},{"$f":"(SUMIF(AE4:AE54,BS43,AO4:AO54)+SUMIF(AG4:AG54,BS43,AP4:AP54))","v":0},{"$f":"(SUMIF(AE4:AE54,BS43,AQ4:AQ54)+SUMIF(AG4:AG54,BS43,AR4:AR54))","v":0},{"$f":"SUMIF(AE4:AE54,BS43,AH4:AH54)+SUMIF(AG4:AG54,BS43,AJ4:AJ54)","v":0},{"$f":"SUMIF(AE4:AE54,BS43,AJ4:AJ54)+SUMIF(AG4:AG54,BS43,AH4:AH54)","v":0},{"$f":"BW43-BX43","v":0},{"$f":"IFERROR(BT43*3+BU43*1,0)","v":0},"E",{"$f":"RANK(BZ43,BZ40:BZ43)","v":1},{"$f":"SUMPRODUCT((BZ40:BZ43=BZ43)*(BY40:BY43>BY43))","v":0},null,{"$f":"IF(CB43=1,BS43,)","v":"Sverige"},{"$f":"(SUMIF(AE4:AE54,BS43,AS4:AS54)+SUMIF(AG4:AG54,BS43,AT4:AT54))","v":0},{"$f":"(SUMIF(AE4:AE54,BS43,AU4:AU54)+SUMIF(AG4:AG54,BS43,AV4:AV54))","v":0},{"$f":"(SUMIF(AE4:AE54,BS43,AW4:AW54)+SUMIF(AG4:AG54,BS43,AX4:AX54))","v":0},0,{"$f":"CA43","v":"E"},{"$f":"IF(CE43>0,RANK(CI43,CI40:CI43),)","v":1},{"$f":"IF(AND(CE43>0,COUNTIF(CK40:CK43,CK43)>1),SUMIFS($AH$4:$AH$54,$AE$4:$AE$54,BS43,$L$4:$L$54,1)+SUMIFS($AJ$4:$AJ$54,$AG$4:$AG$54,BS43,$L$4:$L$54,1)-SUMIFS($AJ$4:$AJ$54,$AE$4:$AE$54,BS43,$L$4:$L$54,1)-SUMIFS($AH$4:$AH$54,$AG$4:$AG$54,BS43,$L$4:$L$54,1),)","v":0},{"$f":"IF(AND(CE43>0,COUNTIF(CK40:CK43,CK43)>1),CK43+RANK(CL43,CL40:CL43)-1,CK43)","v":1},{"$f":"IF(AND(CE43>0,COUNTIF(CM40:CM43,CM43)>1),SUMIFS($AH$4:$AH$54,$AE$4:$AE$54,BS43,$L$4:$L$54,1)+SUMIFS($AJ$4:$AJ$54,$AG$4:$AG$54,BS43,$L$4:$L$54,1),)","v":0},{"$f":"IF(AND(CE43>0,COUNTIF(CM40:CM43,CM43)>1),CM43+RANK(CN43,CN40:CN43)-1,CM43)","v":1},1,{"$f":"IF(OR(CP43=\"\",COUNTIF(CP40:CP43,CP43)=1),\"\",$BY43)","v":0},{"$f":"IF(CP43=\"\",\"\",IF(COUNTIF(CP40:CP43,CP43)=1,CP43,CP43+RANK(CQ43,CQ40:CQ43,0)-1))","v":1},{"$f":"IF(OR(CR43=\"\",COUNTIF(CR40:CR43,CR43)=1),\"\",$BW43)","v":0},{"$f":"IF(CP43=\"\",\"\",IF(COUNTIF(CR40:CR43,CR43)=1,CR43,CR43+RANK(CS43,CS40:CS43,0)-1))","v":1},{"$f":"IF(OR(CT43=\"\",COUNTIF(CT40:CT43,CT43)=1),\"\",$BT43)","v":0},{"$f":"IF(CP43=\"\",\"\",IF(COUNTIF(CT40:CT43,CT43)=1,CT43,CT43+RANK(CU43,CU40:CU43,0)-1))","v":1},{"$f":"IF(CE43>0,BL38+RANK(CV43,CV40:CV43,1),)","v":1},null,{"$f":"IF(CB43=2,BS43,)","v":0},{"$f":"(SUMIF(AE4:AE54,BS43,AY4:AY54)+SUMIF(AG4:AG54,BS43,AZ4:AZ54))","v":0},{"$f":"(SUMIF(AE4:AE54,BS43,BA4:BA54)+SUMIF(AG4:AG54,BS43,BB4:BB54))","v":0},{"$f":"(SUMIF(AE4:AE54,BS43,BC4:BC54)+SUMIF(AG4:AG54,BS43,BD4:BD54))","v":0},0,{"$f":"CA43","v":"E"},{"$f":"IF(CY43>0,RANK(DC43,DC40:DC43)+CF38,)","v":0},{"$f":"IF(AND(CY43>0,COUNTIF(DE40:DE43,DE43)>1),SUMIFS($AH$4:$AH$54,$AE$4:$AE$54,BS43,$L$4:$L$54,2)+SUMIFS($AJ$4:$AJ$54,$AG$4:$AG$54,BS43,$L$4:$L$54,2)-SUMIFS($AJ$4:$AJ$54,$AE$4:$AE$54,BS43,$L$4:$L$54,2)-SUMIFS($AH$4:$AH$54,$AG$4:$AG$54,BS43,$L$4:$L$54,2),)","v":0},{"$f":"IF(AND(CY43>0,COUNTIF(DE40:DE43,DE43)>1),DE43+RANK(DF43,DF40:DF43)-1,DE43)","v":0},{"$f":"IF(AND(CY43>0,COUNTIF(DG40:DG43,DG43)>1),SUMIFS($AH$4:$AH$54,$AE$4:$AE$54,BS43,$L$4:$L$54,2)+SUMIFS($AJ$4:$AJ$54,$AG$4:$AG$54,BS43,$L$4:$L$54,2),)","v":0},{"$f":"IF(AND(CY43>0,COUNTIF(DG40:DG43,DG43)>1),DG43+RANK(DH43,DH40:DH43)-1,DG43)","v":0},"",{"$f":"IF(OR(DJ43=\"\",COUNTIF(DJ40:DJ43,DJ43)=1),\"\",$BY43)","v":""},{"$f":"IF(DJ43=\"\",\"\",IF(COUNTIF(DJ40:DJ43,DJ43)=1,DJ43,DJ43+RANK(DK43,DK40:DK43,0)-1))","v":""},{"$f":"IF(OR(DL43=\"\",COUNTIF(DL40:DL43,DL43)=1),\"\",$BW43)","v":""},{"$f":"IF(DJ43=\"\",\"\",IF(COUNTIF(DL40:DL43,DL43)=1,DL43,DL43+RANK(DM43,DM40:DM43,0)-1))","v":""},{"$f":"IF(OR(DN43=\"\",COUNTIF(DN40:DN43,DN43)=1),\"\",$BT43)","v":""},{"$f":"IF(DJ43=\"\",\"\",IF(COUNTIF(DN40:DN43,DN43)=1,DN43,DN43+RANK(DO43,DO40:DO43,0)-1))","v":""},{"$f":"IF(CY43>0,CF38+RANK(DP43,DP40:DP43,1),)","v":0},null,{"$f":"IF(CB43=3,BS43,)","v":0},{"$f":"(SUMIF(AE4:AE54,BS43,BE4:BE54)+SUMIF(AG4:AG54,BS43,BF4:BF54))","v":0},{"$f":"(SUMIF(AE4:AE54,BS43,BG4:BG54)+SUMIF(AG4:AG54,BS43,BH4:BH54))","v":0},{"$f":"(SUMIF(AE4:AE54,BS43,BI4:BI54)+SUMIF(AG4:AG54,BS43,BJ4:BJ54))","v":0},0,{"$f":"CA43","v":"E"},{"$f":"IF(DS43>0,RANK(DW43,DW40:DW43)+CF38+CZ38,)","v":0},{"$f":"IF(AND(DS43>0,COUNTIF(DY40:DY43,DY43)>1),SUMIFS($AH$4:$AH$54,$AE$4:$AE$54,BS43,$L$4:$L$54,3)+SUMIFS($AJ$4:$AJ$54,$AG$4:$AG$54,BS43,$L$4:$L$54,3)-SUMIFS($AJ$4:$AJ$54,$AE$4:$AE$54,BS43,$L$4:$L$54,3)-SUMIFS($AH$4:$AH$54,$AG$4:$AG$54,BS43,$L$4:$L$54,3),)","v":0},{"$f":"IF(AND(DS43>0,COUNTIF(DY40:DY43,DY43)>1),DY43+RANK(DZ43,DZ40:DZ43)-1,DY43)","v":0},{"$f":"IF(AND(DS43>0,COUNTIF(EA40:EA43,EA43)>1),SUMIFS($AH$4:$AH$54,$AE$4:$AE$54,BS43,$L$4:$L$54,3)+SUMIFS($AJ$4:$AJ$54,$AG$4:$AG$54,BS43,$L$4:$L$54,3),)","v":0},{"$f":"IF(AND(DS43>0,COUNTIF(EA40:EA43,EA43)>1),EA43+RANK(EB43,EB40:EB43)-1,EA43)","v":0},"",{"$f":"IF(OR(ED43=\"\",COUNTIF(ED40:ED43,ED43)=1),\"\",$BY43)","v":""},{"$f":"IF(ED43=\"\",\"\",IF(COUNTIF(ED40:ED43,ED43)=1,ED43,ED43+RANK(EE43,EE40:EE43,0)-1))","v":""},{"$f":"IF(OR(EF43=\"\",COUNTIF(EF40:EF43,EF43)=1),\"\",$BW43)","v":""},{"$f":"IF(ED43=\"\",\"\",IF(COUNTIF(EF40:EF43,EF43)=1,EF43,EF43+RANK(EG43,EG40:EG43,0)-1))","v":""},{"$f":"IF(OR(EH43=\"\",COUNTIF(EH40:EH43,EH43)=1),\"\",$BT43)","v":""},{"$f":"IF(ED43=\"\",\"\",IF(COUNTIF(EH40:EH43,EH43)=1,EH43,EH43+RANK(EI43,EI40:EI43,0)-1))","v":""},{"$f":"IF(DS43>0,CF38+CZ38+RANK(EJ43,EJ40:EJ43,1),)","v":0},null,{"$f":"IF(CB43=4,BS43,)","v":0},{"$f":"(SUMIF(AE4:AE54,BS43,BK4:BK54)+SUMIF(AG4:AG54,BS43,BL4:BL54))","v":0},{"$f":"(SUMIF(AE4:AE54,BS43,BM4:BM54)+SUMIF(AG4:AG54,BS43,BN4:BN54))","v":0},{"$f":"(SUMIF(AE4:AE54,BS43,BO4:BO54)+SUMIF(AG4:AG54,BS43,BP4:BP54))","v":0},0,{"$f":"CA43","v":"E"},{"$f":"IF(EM43>0,RANK(EQ43,EQ40:EQ43)+CF38+CZ38+DT38,)","v":0},{"$f":"IF(AND(EM43>0,COUNTIF(ES40:ES43,ES43)>1),SUMIFS($AH$4:$AH$54,$AE$4:$AE$54,BS43,$L$4:$L$54,4)+SUMIFS($AJ$4:$AJ$54,$AG$4:$AG$54,BS43,$L$4:$L$54,4)-SUMIFS($AJ$4:$AJ$54,$AE$4:$AE$54,BS43,$L$4:$L$54,4)-SUMIFS($AH$4:$AH$54,$AG$4:$AG$54,BS43,$L$4:$L$54,4),)","v":0},{"$f":"IF(AND(EM43>0,COUNTIF(ES4:ES7,ES43)>1),ES43+RANK(ET43,ET4:ET7)-1,ES43)","v":0},{"$f":"IF(AND(EM43>0,COUNTIF(EU40:EU43,EU43)>1),SUMIFS($AH$4:$AH$54,$AE$4:$AE$54,BS43,$L$4:$L$54,4)+SUMIFS($AJ$4:$AJ$54,$AG$4:$AG$54,BS43,$L$4:$L$54,4),)","v":0},{"$f":"IF(AND(EM43>0,COUNTIF(EU40:EU43,EU43)>1),EU43+RANK(EV43,EV40:EV43)-1,EU43)","v":0},"",{"$f":"IF(OR(EX43=\"\",COUNTIF(EX40:EX43,EX43)=1),\"\",$BY43)","v":""},{"$f":"IF(EX43=\"\",\"\",IF(COUNTIF(EX40:EX43,EX43)=1,EX43,EX43+RANK(EY43,EY40:EY43,0)-1))","v":""},{"$f":"IF(OR(EZ43=\"\",COUNTIF(EZ40:EZ43,EZ43)=1),\"\",$BW43)","v":""},{"$f":"IF(EX43=\"\",\"\",IF(COUNTIF(EZ40:EZ43,EZ43)=1,EZ43,EZ43+RANK(FA43,FA40:FA43,0)-1))","v":""},{"$f":"IF(OR(FB43=\"\",COUNTIF(FB40:FB43,FB43)=1),\"\",$BT43)","v":""},{"$f":"IF(EX43=\"\",\"\",IF(COUNTIF(FB40:FB43,FB43)=1,FB43,FB43+RANK(FC43,FC40:FC43,0)-1))","v":""},{"$f":"IF(EM43>0,CF38+CZ38+DT38+RANK(FD43,FD40:FD43,1),)","v":0},null,{"$f":"IFERROR(VLOOKUP(FI43,CE39:CW43,19,FALSE),IFERROR(VLOOKUP(FI43,CY39:DQ43,19,FALSE),IFERROR(VLOOKUP(FI43,DS39:EK43,19,FALSE),VLOOKUP(FI43,EM39:FE43,19,FALSE))))","v":1},{"$f":"RANK(FG43,FG40:FG43,1)+COUNTIF(FG40:FG43,FG43)-1","v":4},{"$f":"BS43","v":"Sverige"}]
[null,null,"2021-06-23","Sverige","-","Polen",null,"-",null,"",{"$f":"IF(OR('Resultat & Tabell'!G44=\"\",'Resultat & Tabell'!I44=\"\",G44=\"\",I44=\"\"),0,IF(G44='Resultat & Tabell'!G44,2,0)+IF(I44='Resultat & Tabell'!I44,2,0)+IF(J44='Resultat & Tabell'!J44,3,0))","v":0},{"$f":"IF(VLOOKUP(D44,BS39:CB43,10,FALSE)=VLOOKUP(F44,BS39:CB43,10,FALSE),VLOOKUP(D44,BS39:CB43,10,FALSE),\"-\")","v":1},null,{"$f":"IF(COUNTBLANK(G40:G45)+COUNTBLANK(I40:I45)=0,\"Resultat OK\",\"Fyll i resultat\")","v":"Fyll i resultat"},null,null,null,null,null,null,null,null,null,null,null,null,null,null,null,"2021-06-23","Sverige","-","Polen","","-","","",null,0,0,0,0,0,0,0,0,0,0,0,0,0,0,0,0,0,0,0,0,0,0,0,0,0,0,0,0,0,0]
[null,null,"2021-06-23","Slovakien","-","Spanien",null,"-",null,"",{"$f":"IF(OR('Resultat & Tabell'!G45=\"\",'Resultat & Tabell'!I45=\"\",G45=\"\",I45=\"\"),0,IF(G45='Resultat & Tabell'!G45,2,0)+IF(I45='Resultat & Tabell'!I45,2,0)+IF(J45='Resultat & Tabell'!J45,3,0))","v":0},{"$f":"IF(VLOOKUP(D45,BS39:CB43,10,FALSE)=VLOOKUP(F45,BS39:CB43,10,FALSE),VLOOKUP(D45,BS39:CB43,10,FALSE),\"-\")","v":1},null,null,null,null,null,null,null,null,null,null,null,null,null,null,null,null,null,"2021-06-23","Slovakien","-","Spanien","","-","","",null,0,0,0,0,0,0,0,0,0,0,0,0,0,0,0,0,0,0,0,0,0,0,0,0,0,0,0,0,0,0]
[]
[null,null,"Grupp F",null,null,null,null,null,null,null,null,null,null,null,null,null,null,null,null,null,null,null,null,null,null,null,null,null,null,"Grupp F",null,null,null,null,null,null,null,null,null,null,null,null,null,null,null,null,null,null,null,null,null,null,null,null,null,null,null,null,null,null,null,null,null,null,null,null,null,null,null,null,"Rank 0",null,null,null,null,null,null,null,null,null,null,null,"Rank 1",{"$f":"COUNTIF(CB49:CB52,1)","v":4},null,null,null,null,null,null,null,null,null,null,null,null,null,null,null,null,null,null,"Rank 2",{"$f":"COUNTIF(CB49:CB52,2)","v":0},null,null,null,null,null,null,null,null,null,null,null,null,null,null,null,null,null,null,"Rank 3",{"$f":"COUNTIF(CB49:CB52,3)","v":0},null,null,null,null,null,null,null,null,null,null,null,null,null,null,null,null,null,null,"Rank 4",{"$f":"COUNTIF(CB49:CB52,4)","v":0}]
[null,null,"Datum","Match",null,null,"Resultat",null,null,"Tecken","Poäng",null,null,"Lag","V","O","F","GM","IM","+/-","P",null,null,null,null,null,null,null,null,"Datum","Match",null,null,"Resultat",null,null,"Tecken","Poäng","V1","V2","O1","O2","F1","F2","V1","V2","O1","O2","F1","F2","V1","V2","O1","O2","F1","F2","V1","V2","O1","O2","F1","F2","V1","V2","O1","O2","F1","F2",null,null,"Lag","V","O","F","GM","IM","+/-","P","Grupp","Rank P","Rank +/-",null,"Lag","V","O","F","P","Grupp","Rank P","+/-","+/- rank","GM","GM rank","Rank internal","+/- all","+/- rank all","GM all","GM rank all","V all","V rank all","Rank all",null,"Lag","V","O","F","P","Grupp","Rank P","+/-","+/- rank","GM","GM rank","Rank internal","+/- all","+/- rank all","GM all","GM rank all","V all","V rank all","Rank all",null,"Lag","V","O","F","P","Grupp","Rank P","+/-","+/- rank","GM","GM rank","Rank internal","+/- all","+/- rank all","GM all","GM rank all","V all","V rank all","Rank all",null,"Lag","V","O","F","P","Grupp","Rank P","+/-","+/- rank","GM","GM rank","Rank internal","+/- all","+/- rank all","GM all","GM rank all","V all","V rank all","Rank all",null,"Rank","Rank Ties"]
[null,null,"2021-06-15","Ungern","-","Portugal",null,"-",null,{"$f":"IF(OR(ISBLANK(G49),ISBLANK(I49)),\"\",IF(G49>I49,1,IF(G49<I49,2,\"X\")))","v":""},{"$f":"IF(OR('Resultat & Tabell'!G49=\"\",'Resultat & Tabell'!I49=\"\",G49=\"\",I49=\"\"),0,IF(G49='Resultat & Tabell'!G49,2,0)+IF(I49='Resultat & Tabell'!I49,2,0)+IF(J49='Resultat & Tabell'!J49,3,0))","v":0},{"$f":"IF(VLOOKUP(D49,BS48:CB52,10,FALSE)=VLOOKUP(F49,BS48:CB52,10,FALSE),VLOOKUP(D49,BS48:CB52,10,FALSE),\"-\")","v":1},1,{"$f":"VLOOKUP(M49,FH49:FI52,2,FALSE)","v":"Frankrike"},{"$f":"VLOOKUP(N49,BS49:BZ52,2,FALSE)","v":0},{"$f":"VLOOKUP(N49,BS49:BZ52,3,FALSE)","v":0},{"$f":"VLOOKUP(N49,BS49:BZ52,4,FALSE)","v":0},{"$f":"VLOOKUP(N49,BS49:BZ52,5,FALSE)","v":0},{"$f":"VLOOKUP(N49,BS49:BZ52,6,FALSE)","v":0},{"$f":"VLOOKUP(N49,BS49:BZ52,7,FALSE)","v":0},{"$f":"VLOOKUP(N49,BS49:BZ52,8,FALSE)","v":0},null,null,null,null,null,null,null,null,{"$f":"C49","v":"2021-06-15"},{"$f":"D49","v":"Ungern"},{"$f":"E49","v":"-"},{"$f":"F49","v":"Portugal"},{"$f":"IF(G49=\"\",\"\",G49)","v":""},"-",{"$f":"IF(I49=\"\",\"\",I49)","v":""},{"$f":"J49","v":""},null,{"$f":"IF(AH49>AJ49,1,0)","v":0},{"$f":"IF(AJ49>AH49,1,0)","v":0},{"$f":"IF(AND(AH49=AJ49,AH49<>\"\"),1,0)","v":0},{"$f":"IF(AND(AH49=AJ49,AH49<>\"\"),1,0)","v":0},{"$f":"IF(AH49<AJ49,1,0)","v":0},{"$f":"IF(AJ49<AH49,1,)","v":0},{"$f":"IF(ISERROR(VLOOKUP(AE49,CE:CE,1,FALSE)),0,1)*IF(ISERROR(VLOOKUP(AG49,CE:CE,1,FALSE)),0,1)*AM49","v":0},{"$f":"IF(ISERROR(VLOOKUP(AE49,CE:CE,1,FALSE)),0,1)*IF(ISERROR(VLOOKUP(AG49,CE:CE,1,FALSE)),0,1)*AN49","v":0},{"$f":"IF(ISERROR(VLOOKUP(AE49,CE:CE,1,FALSE)),0,1)*IF(ISERROR(VLOOKUP(AG49,CE:CE,1,FALSE)),0,1)*AO49","v":0},{"$f":"IF(ISERROR(VLOOKUP(AE49,CE:CE,1,FALSE)),0,1)*IF(ISERROR(VLOOKUP(AG49,CE:CE,1,FALSE)),0,1)*AP49","v":0},{"$f":"IF(ISERROR(VLOOKUP(AE49,CE:CE,1,FALSE)),0,1)*IF(ISERROR(VLOOKUP(AG49,CE:CE,1,FALSE)),0,1)*AQ49","v":0},{"$f":"IF(ISERROR(VLOOKUP(AE49,CE:CE,1,FALSE)),0,1)*IF(ISERROR(VLOOKUP(AG49,CE:CE,1,FALSE)),0,1)*AR49","v":0},{"$f":"IF(ISERROR(VLOOKUP(AE49,CY:CY,1,FALSE)),0,1)*IF(ISERROR(VLOOKUP(AG49,CY:CY,1,FALSE)),0,1)*AM49","v":0},{"$f":"IF(ISERROR(VLOOKUP(AE49,CY:CY,1,FALSE)),0,1)*IF(ISERROR(VLOOKUP(AG49,CY:CY,1,FALSE)),0,1)*AN49","v":0},{"$f":"IF(ISERROR(VLOOKUP(AE49,CY:CY,1,FALSE)),0,1)*IF(ISERROR(VLOOKUP(AG49,CY:CY,1,FALSE)),0,1)*AO49","v":0},{"$f":"IF(ISERROR(VLOOKUP(AE49,CY:CY,1,FALSE)),0,1)*IF(ISERROR(VLOOKUP(AG49,CY:CY,1,FALSE)),0,1)*AP49","v":0},{"$f":"IF(ISERROR(VLOOKUP(AE49,CY:CY,1,FALSE)),0,1)*IF(ISERROR(VLOOKUP(AG49,CY:CY,1,FALSE)),0,1)*AQ49","v":0},{"$f":"IF(ISERROR(VLOOKUP(AE49,CY:CY,1,FALSE)),0,1)*IF(ISERROR(VLOOKUP(AG49,CY:CY,1,FALSE)),0,1)*AR49","v":0},{"$f":"IF(ISERROR(VLOOKUP(AE49,DS:DS,1,FALSE)),0,1)*IF(ISERROR(VLOOKUP(AG49,DS:DS,1,FALSE)),0,1)*AM49","v":0},{"$f":"IF(ISERROR(VLOOKUP(AE49,DS:DS,1,FALSE)),0,1)*IF(ISERROR(VLOOKUP(AG49,DS:DS,1,FALSE)),0,1)*AN49","v":0},{"$f":"IF(ISERROR(VLOOKUP(AE49,DS:DS,1,FALSE)),0,1)*IF(ISERROR(VLOOKUP(AG49,DS:DS,1,FALSE)),0,1)*AO49","v":0},{"$f":"IF(ISERROR(VLOOKUP(AE49,DS:DS,1,FALSE)),0,1)*IF(ISERROR(VLOOKUP(AG49,DS:DS,1,FALSE)),0,1)*AP49","v":0},{"$f":"IF(ISERROR(VLOOKUP(AE49,DS:DS,1,FALSE)),0,1)*IF(ISERROR(VLOOKUP(AG49,DS:DS,1,FALSE)),0,1)*AQ49","v":0},{"$f":"IF(ISERROR(VLOOKUP(AE49,DS:DS,1,FALSE)),0,1)*IF(ISERROR(VLOOKUP(AG49,DS:DS,1,FALSE)),0,1)*AR49","v":0},{"$f":"IF(ISERROR(VLOOKUP(AE49,EM:EM,1,FALSE)),0,1)*IF(ISERROR(VLOOKUP(AG49,EM:EM,1,FALSE)),0,1)*AM49","v":0},{"$f":"IF(ISERROR(VLOOKUP(AE49,EM:EM,1,FALSE)),0,1)*IF(ISERROR(VLOOKUP(AG49,EM:EM,1,FALSE)),0,1)*AN49","v":0},{"$f":"IF(ISERROR(VLOOKUP(AE49,EM:EM,1,FALSE)),0,1)*IF(ISERROR(VLOOKUP(AG49,EM:EM,1,FALSE)),0,1)*AO49","v":0},{"$f":"IF(ISERROR(VLOOKUP(AE49,EM:EM,1,FALSE)),0,1)*IF(ISERROR(VLOOKUP(AG49,EM:EM,1,FALSE)),0,1)*AP49","v":0},{"$f":"IF(ISERROR(VLOOKUP(AE49,EM:EM,1,FALSE)),0,1)*IF(ISERROR(VLOOKUP(AG49,EM:EM,1,FALSE)),0,1)*AQ49","v":0},{"$f":"IF(ISERROR(VLOOKUP(AE49,EM:EM,1,FALSE)),0,1)*IF(ISERROR(VLOOKUP(AG49,EM:EM,1,FALSE)),0,1)*AR49","v":0},null,null,"Frankrike",{"$f":"(SUMIF(AE4:AE54,BS49,AM4:AM54)+SUMIF(AG4:AG54,BS49,AN4:AN54))","v":0},{"$f":"(SUMIF(AE4:AE54,BS49,AO4:AO54)+SUMIF(AG4:AG54,BS49,AP4:AP54))","v":0},{"$f":"(SUMIF(AE4:AE54,BS49,AQ4:AQ54)+SUMIF(AG4:AG54,BS49,AR4:AR54))","v":0},{"$f":"SUMIF(AE4:AE54,BS49,AH4:AH54)+SUMIF(AG4:AG54,BS49,AJ4:AJ54)","v":0},{"$f":"SUMIF(AE4:AE54,BS49,AJ4:AJ54)+SUMIF(AG4:AG54,BS49,AH4:AH54)","v":0},{"$f":"BW49-BX49","v":0},{"$f":"IFERROR(BT49*3+BU49*1,0)","v":0},"F",{"$f":"RANK(BZ49,BZ49:BZ52)","v":1},{"$f":"SUMPRODUCT((BZ49:BZ52=BZ49)*(BY49:BY52>BY49))","v":0},null,{"$f":"IF(CB49=1,BS49,)","v":"Frankrike"},{"$f":"(SUMIF(AE4:AE54,BS49,AS4:AS54)+SUMIF(AG4:AG54,BS49,AT4:AT54))","v":0},{"$f":"(SUMIF(AE4:AE54,BS49,AU4:AU54)+SUMIF(AG4:AG54,BS49,AV4:AV54))","v":0},{"$f":"(SUMIF(AE4:AE54,BS49,AW4:AW54)+SUMIF(AG4:AG54,BS49,AX4:AX54))","v":0},{"$f":"IFERROR(CF49*3+CG49*1,0)","v":0},{"$f":"CA49","v":"F"},{"$f":"IF(CE49>0,RANK(CI49,CI49:CI52),)","v":1},{"$f":"IF(AND(CE49>0,COUNTIF(CK49:CK52,CK49)>1),SUMIFS($AH$4:$AH$54,$AE$4:$AE$54,$BS49,$L$4:$L$54,1)+SUMIFS($AJ$4:$AJ$54,$AG$4:$AG$54,$BS49,$L$4:$L$54,1)-SUMIFS($AJ$4:$AJ$54,$AE$4:$AE$54,$BS49,$L$4:$L$54,1)-SUMIFS($AH$4:$AH$54,$AG$4:$AG$54,$BS49,$L$4:$L$54,1),)","v":0},{"$f":"IF(AND(CE49>0,COUNTIF(CK49:CK52,CK49)>1),CK49+RANK(CL49,CL49:CL52)-1,CK49)","v":1},{"$f":"IF(AND(CE49>0,COUNTIF(CM49:CM52,CM49)>1),SUMIFS($AH$4:$AH$54,$AE$4:$AE$54,$BS49,$L$4:$L$54,1)+SUMIFS($AJ$4:$AJ$54,$AG$4:$AG$54,$BS49,$L$4:$L$54,1),)","v":0},{"$f":"IF(AND(CE49>0,COUNTIF(CM49:CM52,CM49)>1),CM49+RANK(CN49,CN49:CN52)-1,CM49)","v":1},{"$f":"IF(CO49=0,\"\",CO49)","v":1},{"$f":"IF(OR(CP49=\"\",COUNTIF(CP49:CP52,CP49)=1),\"\",$BY49)","v":0},{"$f":"IF(CP49=\"\",\"\",IF(COUNTIF(CP49:CP52,CP49)=1,CP49,CP49+RANK(CQ49,CQ49:CQ52,0)-1))","v":1},{"$f":"IF(OR(CR49=\"\",COUNTIF(CR49:CR52,CR49)=1),\"\",$BW49)","v":0},{"$f":"IF(CP49=\"\",\"\",IF(COUNTIF(CR49:CR52,CR49)=1,CR49,CR49+RANK(CS49,CS49:CS52,0)-1))","v":1},{"$f":"IF(OR(CT49=\"\",COUNTIF(CT49:CT52,CT49)=1),\"\",$BT49)","v":0},{"$f":"IF(CP49=\"\",\"\",IF(COUNTIF(CT49:CT52,CT49)=1,CT49,CT49+RANK(CU49,CU49:CU52,0)-1))","v":1},{"$f":"IF(CE49>0,BL47+RANK(CV49,CV49:CV52,1),)","v":1},null,{"$f":"IF(CB49=2,BS49,)","v":0},{"$f":"(SUMIF(AE4:AE54,BS49,AY4:AY54)+SUMIF(AG4:AG54,BS49,AZ4:AZ54))","v":0},{"$f":"(SUMIF(AE4:AE54,BS49,BA4:BA54)+SUMIF(AG4:AG54,BS49,BB4:BB54))","v":0},{"$f":"(SUMIF(AE4:AE54,BS49,BC4:BC54)+SUMIF(AG4:AG54,BS49,BD4:BD54))","v":0},{"$f":"IFERROR(CZ49*3+DA49*1,0)","v":0},{"$f":"CA49","v":"F"},{"$f":"IF(CY49>0,RANK(DC49,DC49:DC52)+CF47,)","v":0},{"$f":"IF(AND(CY49>0,COUNTIF(DE49:DE52,DE49)>1),SUMIFS($AH$4:$AH$54,$AE$4:$AE$54,$BS49,$L$4:$L$54,2)+SUMIFS($AJ$4:$AJ$54,$AG$4:$AG$54,$BS49,$L$4:$L$54,2)-SUMIFS($AJ$4:$AJ$54,$AE$4:$AE$54,$BS49,$L$4:$L$54,2)-SUMIFS($AH$4:$AH$54,$AG$4:$AG$54,$BS49,$L$4:$L$54,2),)","v":0},{"$f":"IF(AND(CY49>0,COUNTIF(DE49:DE52,DE49)>1),DE49+RANK(DF49,DF49:DF52)-1,DE49)","v":0},{"$f":"IF(AND(CY49>0,COUNTIF(DG49:DG52,DG49)>1),SUMIFS($AH$4:$AH$54,$AE$4:$AE$54,$BS49,$L$4:$L$54,2)+SUMIFS($AJ$4:$AJ$54,$AG$4:$AG$54,$BS49,$L$4:$L$54,2),)","v":0},{"$f":"IF(AND(CY49>0,COUNTIF(DG49:DG52,DG49)>1),DG49+RANK(DH49,DH49:DH52)-1,DG49)","v":0},{"$f":"IF(DI49=0,\"\",DI49)","v":""},{"$f":"IF(OR(DJ49=\"\",COUNTIF(DJ49:DJ52,DJ49)=1),\"\",$BY49)","v":""},{"$f":"IF(DJ49=\"\",\"\",IF(COUNTIF(DJ49:DJ52,DJ49)=1,DJ49,DJ49+RANK(DK49,DK49:DK52,0)-1))","v":""},{"$f":"IF(OR(DL49=\"\",COUNTIF(DL49:DL52,DL49)=1),\"\",$BW49)","v":""},{"$f":"IF(DJ49=\"\",\"\",IF(COUNTIF(DL49:DL52,DL49)=1,DL49,DL49+RANK(DM49,DM49:DM52,0)-1))","v":""},{"$f":"IF(OR(DN49=\"\",COUNTIF(DN49:DN52,DN49)=1),\"\",$BT49)","v":""},{"$f":"IF(DJ49=\"\",\"\",IF(COUNTIF(DN49:DN52,DN49)=1,DN49,DN49+RANK(DO49,DO49:DO52,0)-1))","v":""},{"$f":"IF(CY49>0,CF47+RANK(DP49,DP49:DP52,1),)","v":0},null,{"$f":"IF(CB49=3,BS49,)","v":0},{"$f":"(SUMIF(AE4:AE54,BS49,BE4:BE54)+SUMIF(AG4:AG54,BS49,BF4:BF54))","v":0},{"$f":"(SUMIF(AE4:AE54,BS49,BG4:BG54)+SUMIF(AG4:AG54,BS49,BH4:BH54))","v":0},{"$f":"(SUMIF(AE4:AE54,BS49,BI4:BI54)+SUMIF(AG4:AG54,BS49,BJ4:BJ54))","v":0},{"$f":"IFERROR(DT49*3+DU49*1,0)","v":0},{"$f":"CA49","v":"F"},{"$f":"IF(DS49>0,RANK(DW49,DW49:DW52)+CF47+CZ47,)","v":0},{"$f":"IF(AND(DS49>0,COUNTIF(DY49:DY52,DY49)>1),SUMIFS($AH$4:$AH$54,$AE$4:$AE$54,$BS49,$L$4:$L$54,3)+SUMIFS($AJ$4:$AJ$54,$AG$4:$AG$54,$BS49,$L$4:$L$54,3)-SUMIFS($AJ$4:$AJ$54,$AE$4:$AE$54,$BS49,$L$4:$L$54,3)-SUMIFS($AH$4:$AH$54,$AG$4:$AG$54,$BS49,$L$4:$L$54,3),)","v":0},{"$f":"IF(AND(DS49>0,COUNTIF(DY49:DY52,DY49)>1),DY49+RANK(DZ49,DZ49:DZ52)-1,DY49)","v":0},{"$f":"IF(AND(DS49>0,COUNTIF(EA49:EA52,EA49)>1),SUMIFS($AH$4:$AH$54,$AE$4:$AE$54,$BS49,$L$4:$L$54,3)+SUMIFS($AJ$4:$AJ$54,$AG$4:$AG$54,$BS49,$L$4:$L$54,3),)","v":0},{"$f":"IF(AND(DS49>0,COUNTIF(EA49:EA52,EA49)>1),EA49+RANK(EB49,EB49:EB52)-1,EA49)","v":0},{"$f":"IF(EC49=0,\"\",EC49)","v":""},{"$f":"IF(OR(ED49=\"\",COUNTIF(ED49:ED52,ED49)=1),\"\",$BY49)","v":""},{"$f":"IF(ED49=\"\",\"\",IF(COUNTIF(ED49:ED52,ED49)=1,ED49,ED49+RANK(EE49,EE49:EE52,0)-1))","v":""},{"$f":"IF(OR(EF49=\"\",COUNTIF(EF49:EF52,EF49)=1),\"\",$BW49)","v":""},{"$f":"IF(ED49=\"\",\"\",IF(COUNTIF(EF49:EF52,EF49)=1,EF49,EF49+RANK(EG49,EG49:EG52,0)-1))","v":""},{"$f":"IF(OR(EH49=\"\",COUNTIF(EH49:EH52,EH49)=1),\"\",$BT49)","v":""},{"$f":"IF(ED49=\"\",\"\",IF(COUNTIF(EH49:EH52,EH49)=1,EH49,EH49+RANK(EI49,EI49:EI52,0)-1))","v":""},{"$f":"IF(DS49>0,CF47+CZ47+RANK(EJ49,EJ49:EJ52,1),)","v":0},null,{"$f":"IF(CB49=4,BS49,)","v":0},{"$f":"(SUMIF(AE4:AE54,BS49,BK4:BK54)+SUMIF(AG4:AG54,BS49,BL4:BL54))","v":0},{"$f":"(SUMIF(AE4:AE54,BS49,BM4:BM54)+SUMIF(AG4:AG54,BS49,BN4:BN54))","v":0},{"$f":"(SUMIF(AE4:AE54,BS49,BO4:BO54)+SUMIF(AG4:AG54,BS49,BP4:BP54))","v":0},{"$f":"IFERROR(EN49*3+EO49*1,0)","v":0},{"$f":"CA49","v":"F"},{"$f":"IF(EM49>0,RANK(EQ49,EQ49:EQ52)+CF47+CZ47+DT47,)","v":0},{"$f":"IF(AND(EM49>0,COUNTIF(ES49:ES52,ES49)>1),SUMIFS($AH$4:$AH$54,$AE$4:$AE$54,$BS49,$L$4:$L$54,4)+SUMIFS($AJ$4:$AJ$54,$AG$4:$AG$54,$BS49,$L$4:$L$54,4)-SUMIFS($AJ$4:$AJ$54,$AE$4:$AE$54,$BS49,$L$4:$L$54,4)-SUMIFS($AH$4:$AH$54,$AG$4:$AG$54,$BS49,$L$4:$L$54,4),)","v":0},{"$f":"IF(AND(EM49>0,COUNTIF(ES4:ES7,ES49)>1),ES49+RANK(ET49,ET4:ET7)-1,ES49)","v":0},{"$f":"IF(AND(EM49>0,COUNTIF(EU49:EU52,EU49)>1),SUMIFS($AH$4:$AH$54,$AE$4:$AE$54,$BS49,$L$4:$L$54,4)+SUMIFS($AJ$4:$AJ$54,$AG$4:$AG$54,$BS49,$L$4:$L$54,4),)","v":0},{"$f":"IF(AND(EM49>0,COUNTIF(EU49:EU52,EU49)>1),EU49+RANK(EV49,EV49:EV52)-1,EU49)","v":0},{"$f":"IF(EW49=0,\"\",EW49)","v":""},{"$f":"IF(OR(EX49=\"\",COUNTIF(EX49:EX52,EX49)=1),\"\",$BY49)","v":""},{"$f":"IF(EX49=\"\",\"\",IF(COUNTIF(EX49:EX52,EX49)=1,EX49,EX49+RANK(EY49,EY49:EY52,0)-1))","v":""},{"$f":"IF(OR(EZ49=\"\",COUNTIF(EZ49:EZ52,EZ49)=1),\"\",$BW49)","v":""},{"$f":"IF(EX49=\"\",\"\",IF(COUNTIF(EZ49:EZ52,EZ49)=1,EZ49,EZ49+RANK(FA49,FA49:FA52,0)-1))","v":""},{"$f":"IF(OR(FB49=\"\",COUNTIF(FB49:FB52,FB49)=1),\"\",$BT49)","v":""},{"$f":"IF(EX49=\"\",\"\",IF(COUNTIF(FB49:FB52,FB49)=1,FB49,FB49+RANK(FC49,FC49:FC52,0)-1))","v":""},{"$f":"IF(EM49>0,CF47+CZ47+DT47+RANK(FD49,FD49:FD52,1),)","v":0},null,{"$f":"IFERROR(VLOOKUP(FI49,CE48:CW52,19,FALSE),IFERROR(VLOOKUP(FI49,CY48:DQ52,19,FALSE),IFERROR(VLOOKUP(FI49,DS48:EK52,19,FALSE),VLOOKUP(FI49,EM48:FE52,19,FALSE))))","v":1},{"$f":"RANK(FG49,FG49:FG52,1)+COUNTIF(FG49:FG49,FG49)-1","v":1},{"$f":"BS49","v":"Frankrike"}]
[null,null,"2021-06-15","Frankrike","-","Tyskland",null,"-",null,{"$f":"IF(OR(ISBLANK(G50),ISBLANK(I50)),\"\",IF(G50>I50,1,IF(G50<I50,2,\"X\")))","v":""},{"$f":"IF(OR('Resultat & Tabell'!G50=\"\",'Resultat & Tabell'!I50=\"\",G50=\"\",I50=\"\"),0,IF(G50='Resultat & Tabell'!G50,2,0)+IF(I50='Resultat & Tabell'!I50,2,0)+IF(J50='Resultat & Tabell'!J50,3,0))","v":0},{"$f":"IF(VLOOKUP(D50,BS48:CB52,10,FALSE)=VLOOKUP(F50,BS48:CB52,10,FALSE),VLOOKUP(D50,BS48:CB52,10,FALSE),\"-\")","v":1},2,{"$f":"VLOOKUP(M50,FH49:FI52,2,FALSE)","v":"Tyskland"},{"$f":"VLOOKUP(N50,BS49:BZ52,2,FALSE)","v":0},{"$f":"VLOOKUP(N50,BS49:BZ52,3,FALSE)","v":0},{"$f":"VLOOKUP(N50,BS49:BZ52,4,FALSE)","v":0},{"$f":"VLOOKUP(N50,BS49:BZ52,5,FALSE)","v":0},{"$f":"VLOOKUP(N50,BS49:BZ52,6,FALSE)","v":0},{"$f":"VLOOKUP(N50,BS49:BZ52,7,FALSE)","v":0},{"$f":"VLOOKUP(N50,BS49:BZ52,8,FALSE)","v":0},null,null,null,null,null,null,null,null,"2021-06-15","Frankrike","-","Tyskland","","-","","",null,0,0,0,0,0,0,0,0,0,0,0,0,0,0,0,0,0,0,0,0,0,0,0,0,0,0,0,0,0,0,null,null,"Tyskland",{"$f":"(SUMIF(AE4:AE54,BS50,AM4:AM54)+SUMIF(AG4:AG54,BS50,AN4:AN54))","v":0},{"$f":"(SUMIF(AE4:AE54,BS50,AO4:AO54)+SUMIF(AG4:AG54,BS50,AP4:AP54))","v":0},{"$f":"(SUMIF(AE4:AE54,BS50,AQ4:AQ54)+SUMIF(AG4:AG54,BS50,AR4:AR54))","v":0},{"$f":"SUMIF(AE4:AE54,BS50,AH4:AH54)+SUMIF(AG4:AG54,BS50,AJ4:AJ54)","v":0},{"$f":"SUMIF(AE4:AE54,BS50,AJ4:AJ54)+SUMIF(AG4:AG54,BS50,AH4:AH54)","v":0},{"$f":"BW50-BX50","v":0},{"$f":"IFERROR(BT50*3+BU50*1,0)","v":0},"F",{"$f":"RANK(BZ50,BZ49:BZ52)","v":1},{"$f":"SUMPRODUCT((BZ49:BZ52=BZ50)*(BY49:BY52>BY50))","v":0},null,{"$f":"IF(CB50=1,BS50,)","v":"Tyskland"},{"$f":"(SUMIF(AE4:AE54,BS50,AS4:AS54)+SUMIF(AG4:AG54,BS50,AT4:AT54))","v":0},{"$f":"(SUMIF(AE4:AE54,BS50,AU4:AU54)+SUMIF(AG4:AG54,BS50,AV4:AV54))","v":0},{"$f":"(SUMIF(AE4:AE54,BS50,AW4:AW54)+SUMIF(AG4:AG54,BS50,AX4:AX54))","v":0},{"$f":"IFERROR(CF50*3+CG50*1,0)","v":0},{"$f":"CA50","v":"F"},{"$f":"IF(CE50>0,RANK(CI50,CI49:CI52),)","v":1},{"$f":"IF(AND(CE50>0,COUNTIF(CK49:CK52,CK50)>1),SUMIFS($AH$4:$AH$54,$AE$4:$AE$54,BS50,$L$4:$L$54,1)+SUMIFS($AJ$4:$AJ$54,$AG$4:$AG$54,BS50,$L$4:$L$54,1)-SUMIFS($AJ$4:$AJ$54,$AE$4:$AE$54,BS50,$L$4:$L$54,1)-SUMIFS($AH$4:$AH$54,$AG$4:$AG$54,BS50,$L$4:$L$54,1),)","v":0},{"$f":"IF(AND(CE50>0,COUNTIF(CK49:CK52,CK50)>1),CK50+RANK(CL50,CL49:CL52)-1,CK50)","v":1},{"$f":"IF(AND(CE50>0,COUNTIF(CM49:CM52,CM50)>1),SUMIFS($AH$4:$AH$54,$AE$4:$AE$54,BS50,$L$4:$L$54,1)+SUMIFS($AJ$4:$AJ$54,$AG$4:$AG$54,BS50,$L$4:$L$54,1),)","v":0},{"$f":"IF(AND(CE50>0,COUNTIF(CM49:CM52,CM50)>1),CM50+RANK(CN50,CN49:CN52)-1,CM50)","v":1},{"$f":"IF(CO50=0,\"\",CO50)","v":1},{"$f":"IF(OR(CP50=\"\",COUNTIF(CP49:CP52,CP50)=1),\"\",$BY50)","v":0},{"$f":"IF(CP50=\"\",\"\",IF(COUNTIF(CP49:CP52,CP50)=1,CP50,CP50+RANK(CQ50,CQ49:CQ52,0)-1))","v":1},{"$f":"IF(OR(CR50=\"\",COUNTIF(CR49:CR52,CR50)=1),\"\",$BW50)","v":0},{"$f":"IF(CP50=\"\",\"\",IF(COUNTIF(CR49:CR52,CR50)=1,CR50,CR50+RANK(CS50,CS49:CS52,0)-1))","v":1},{"$f":"IF(OR(CT50=\"\",COUNTIF(CT49:CT52,CT50)=1),\"\",$BT50)","v":0},{"$f":"IF(CP50=\"\",\"\",IF(COUNTIF(CT49:CT52,CT50)=1,CT50,CT50+RANK(CU50,CU49:CU52,0)-1))","v":1},{"$f":"IF(CE50>0,BL47+RANK(CV50,CV49:CV52,1),)","v":1},null,{"$f":"IF(CB50=2,BS50,)","v":0},{"$f":"(SUMIF(AE4:AE54,BS50,AY4:AY54)+SUMIF(AG4:AG54,BS50,AZ4:AZ54))","v":0},{"$f":"(SUMIF(AE4:AE54,BS50,BA4:BA54)+SUMIF(AG4:AG54,BS50,BB4:BB54))","v":0},{"$f":"(SUMIF(AE4:AE54,BS50,BC4:BC54)+SUMIF(AG4:AG54,BS50,BD4:BD54))","v":0},{"$f":"IFERROR(CZ50*3+DA50*1,0)","v":0},{"$f":"CA50","v":"F"},{"$f":"IF(CY50>0,RANK(DC50,DC49:DC52)+CF47,)","v":0},{"$f":"IF(AND(CY50>0,COUNTIF(DE49:DE52,DE50)>1),SUMIFS($AH$4:$AH$54,$AE$4:$AE$54,BS50,$L$4:$L$54,2)+SUMIFS($AJ$4:$AJ$54,$AG$4:$AG$54,BS50,$L$4:$L$54,2)-SUMIFS($AJ$4:$AJ$54,$AE$4:$AE$54,BS50,$L$4:$L$54,2)-SUMIFS($AH$4:$AH$54,$AG$4:$AG$54,BS50,$L$4:$L$54,2),)","v":0},{"$f":"IF(AND(CY50>0,COUNTIF(DE49:DE52,DE50)>1),DE50+RANK(DF50,DF49:DF52)-1,DE50)","v":0},{"$f":"IF(AND(CY50>0,COUNTIF(DG49:DG52,DG50)>1),SUMIFS($AH$4:$AH$54,$AE$4:$AE$54,BS50,$L$4:$L$54,2)+SUMIFS($AJ$4:$AJ$54,$AG$4:$AG$54,BS50,$L$4:$L$54,2),)","v":0},{"$f":"IF(AND(CY50>0,COUNTIF(DG49:DG52,DG50)>1),DG50+RANK(DH50,DH49:DH52)-1,DG50)","v":0},{"$f":"IF(DI50=0,\"\",DI50)","v":""},{"$f":"IF(OR(DJ50=\"\",COUNTIF(DJ49:DJ52,DJ50)=1),\"\",$BY50)","v":""},{"$f":"IF(DJ50=\"\",\"\",IF(COUNTIF(DJ49:DJ52,DJ50)=1,DJ50,DJ50+RANK(DK50,DK49:DK52,0)-1))","v":""},{"$f":"IF(OR(DL50=\"\",COUNTIF(DL49:DL52,DL50)=1),\"\",$BW50)","v":""},{"$f":"IF(DJ50=\"\",\"\",IF(COUNTIF(DL49:DL52,DL50)=1,DL50,DL50+RANK(DM50,DM49:DM52,0)-1))","v":""},{"$f":"IF(OR(DN50=\"\",COUNTIF(DN49:DN52,DN50)=1),\"\",$BT50)","v":""},{"$f":"IF(DJ50=\"\",\"\",IF(COUNTIF(DN49:DN52,DN50)=1,DN50,DN50+RANK(DO50,DO49:DO52,0)-1))","v":""},{"$f":"IF(CY50>0,CF47+RANK(DP50,DP49:DP52,1),)","v":0},null,{"$f":"IF(CB50=3,BS50,)","v":0},{"$f":"(SUMIF(AE4:AE54,BS50,BE4:BE54)+SUMIF(AG4:AG54,BS50,BF4:BF54))","v":0},{"$f":"(SUMIF(AE4:AE54,BS50,BG4:BG54)+SUMIF(AG4:AG54,BS50,BH4:BH54))","v":0},{"$f":"(SUMIF(AE4:AE54,BS50,BI4:BI54)+SUMIF(AG4:AG54,BS50,BJ4:BJ54))","v":0},{"$f":"IFERROR(DT50*3+DU50*1,0)","v":0},{"$f":"CA50","v":"F"},{"$f":"IF(DS50>0,RANK(DW50,DW49:DW52)+CF47+CZ47,)","v":0},{"$f":"IF(AND(DS50>0,COUNTIF(DY49:DY52,DY50)>1),SUMIFS($AH$4:$AH$54,$AE$4:$AE$54,BS50,$L$4:$L$54,3)+SUMIFS($AJ$4:$AJ$54,$AG$4:$AG$54,BS50,$L$4:$L$54,3)-SUMIFS($AJ$4:$AJ$54,$AE$4:$AE$54,BS50,$L$4:$L$54,3)-SUMIFS($AH$4:$AH$54,$AG$4:$AG$54,BS50,$L$4:$L$54,3),)","v":0},{"$f":"IF(AND(DS50>0,COUNTIF(DY49:DY52,DY50)>1),DY50+RANK(DZ50,DZ49:DZ52)-1,DY50)","v":0},{"$f":"IF(AND(DS50>0,COUNTIF(EA49:EA52,EA50)>1),SUMIFS($AH$4:$AH$54,$AE$4:$AE$54,BS50,$L$4:$L$54,3)+SUMIFS($AJ$4:$AJ$54,$AG$4:$AG$54,BS50,$L$4:$L$54,3),)","v":0},{"$f":"IF(AND(DS50>0,COUNTIF(EA49:EA52,EA50)>1),EA50+RANK(EB50,EB49:EB52)-1,EA50)","v":0},{"$f":"IF(EC50=0,\"\",EC50)","v":""},{"$f":"IF(OR(ED50=\"\",COUNTIF(ED49:ED52,ED50)=1),\"\",$BY50)","v":""},{"$f":"IF(ED50=\"\",\"\",IF(COUNTIF(ED49:ED52,ED50)=1,ED50,ED50+RANK(EE50,EE49:EE52,0)-1))","v":""},{"$f":"IF(OR(EF50=\"\",COUNTIF(EF49:EF52,EF50)=1),\"\",$BW50)","v":""},{"$f":"IF(ED50=\"\",\"\",IF(COUNTIF(EF49:EF52,EF50)=1,EF50,EF50+RANK(EG50,EG49:EG52,0)-1))","v":""},{"$f":"IF(OR(EH50=\"\",COUNTIF(EH49:EH52,EH50)=1),\"\",$BT50)","v":""},{"$f":"IF(ED50=\"\",\"\",IF(COUNTIF(EH49:EH52,EH50)=1,EH50,EH50+RANK(EI50,EI49:EI52,0)-1))","v":""},{"$f":"IF(DS50>0,CF47+CZ47+RANK(EJ50,EJ49:EJ52,1),)","v":0},null,{"$f":"IF(CB50=4,BS50,)","v":0},{"$f":"(SUMIF(AE4:AE54,BS50,BK4:BK54)+SUMIF(AG4:AG54,BS50,BL4:BL54))","v":0},{"$f":"(SUMIF(AE4:AE54,BS50,BM4:BM54)+SUMIF(AG4:AG54,BS50,BN4:BN54))","v":0},{"$f":"(SUMIF(AE4:AE54,BS50,BO4:BO54)+SUMIF(AG4:AG54,BS50,BP4:BP54))","v":0},{"$f":"IFERROR(EN50*3+EO50*1,0)","v":0},{"$f":"CA50","v":"F"},{"$f":"IF(EM50>0,RANK(EQ50,EQ49:EQ52)+CF47+CZ47+DT47,)","v":0},{"$f":"IF(AND(EM50>0,COUNTIF(ES49:ES52,ES50)>1),SUMIFS($AH$4:$AH$54,$AE$4:$AE$54,BS50,$L$4:$L$54,4)+SUMIFS($AJ$4:$AJ$54,$AG$4:$AG$54,BS50,$L$4:$L$54,4)-SUMIFS($AJ$4:$AJ$54,$AE$4:$AE$54,BS50,$L$4:$L$54,4)-SUMIFS($AH$4:$AH$54,$AG$4:$AG$54,BS50,$L$4:$L$54,4),)","v":0},{"$f":"IF(AND(EM50>0,COUNTIF(ES4:ES7,ES50)>1),ES50+RANK(ET50,ET4:ET7)-1,ES50)","v":0},{"$f":"IF(AND(EM50>0,COUNTIF(EU49:EU52,EU50)>1),SUMIFS($AH$4:$AH$54,$AE$4:$AE$54,BS50,$L$4:$L$54,4)+SUMIFS($AJ$4:$AJ$54,$AG$4:$AG$54,BS50,$L$4:$L$54,4),)","v":0},{"$f":"IF(AND(EM50>0,COUNTIF(EU49:EU52,EU50)>1),EU50+RANK(EV50,EV49:EV52)-1,EU50)","v":0},{"$f":"IF(EW50=0,\"\",EW50)","v":""},{"$f":"IF(OR(EX50=\"\",COUNTIF(EX49:EX52,EX50)=1),\"\",$BY50)","v":""},{"$f":"IF(EX50=\"\",\"\",IF(COUNTIF(EX49:EX52,EX50)=1,EX50,EX50+RANK(EY50,EY49:EY52,0)-1))","v":""},{"$f":"IF(OR(EZ50=\"\",COUNTIF(EZ49:EZ52,EZ50)=1),\"\",$BW50)","v":""},{"$f":"IF(EX50=\"\",\"\",IF(COUNTIF(EZ49:EZ52,EZ50)=1,EZ50,EZ50+RANK(FA50,FA49:FA52,0)-1))","v":""},{"$f":"IF(OR(FB50=\"\",COUNTIF(FB49:FB52,FB50)=1),\"\",$BT50)","v":""},{"$f":"IF(EX50=\"\",\"\",IF(COUNTIF(FB49:FB52,FB50)=1,FB50,FB50+RANK(FC50,FC49:FC52,0)-1))","v":""},{"$f":"IF(EM50>0,CF47+CZ47+DT47+RANK(FD50,FD49:FD52,1),)","v":0},null,{"$f":"IFERROR(VLOOKUP(FI50,CE48:CW52,19,FALSE),IFERROR(VLOOKUP(FI50,CY48:DQ52,19,FALSE),IFERROR(VLOOKUP(FI50,DS48:EK52,19,FALSE),VLOOKUP(FI50,EM48:FE52,19,FALSE))))","v":1},{"$f":"RANK(FG50,FG49:FG52,1)+COUNTIF(FG49:FG50,FG50)-1","v":2},{"$f":"BS50","v":"Tyskland"}]
[null,null,"2021-06-19","Ungern","-","Frankrike",null,"-",null,"",{"$f":"IF(OR('Resultat & Tabell'!G51=\"\",'Resultat & Tabell'!I51=\"\",G51=\"\",I51=\"\"),0,IF(G51='Resultat & Tabell'!G51,2,0)+IF(I51='Resultat & Tabell'!I51,2,0)+IF(J51='Resultat & Tabell'!J51,3,0))","v":0},{"$f":"IF(VLOOKUP(D51,BS48:CB52,10,FALSE)=VLOOKUP(F51,BS48:CB52,10,FALSE),VLOOKUP(D51,BS48:CB52,10,FALSE),\"-\")","v":1},3,{"$f":"VLOOKUP(M51,FH49:FI52,2,FALSE)","v":"Ungern"},{"$f":"VLOOKUP(N51,BS49:BZ52,2,FALSE)","v":0},{"$f":"VLOOKUP(N51,BS49:BZ52,3,FALSE)","v":0},{"$f":"VLOOKUP(N51,BS49:BZ52,4,FALSE)","v":0},{"$f":"VLOOKUP(N51,BS49:BZ52,5,FALSE)","v":0},{"$f":"VLOOKUP(N51,BS49:BZ52,6,FALSE)","v":0},{"$f":"VLOOKUP(N51,BS49:BZ52,7,FALSE)","v":0},{"$f":"VLOOKUP(N51,BS49:BZ52,8,FALSE)","v":0},null,null,null,null,null,null,null,null,"2021-06-19","Ungern","-","Frankrike","","-","","",null,0,0,0,0,0,0,0,0,0,0,0,0,0,0,0,0,0,0,0,0,0,0,0,0,0,0,0,0,0,0,null,null,"Ungern",{"$f":"(SUMIF(AE4:AE54,BS51,AM4:AM54)+SUMIF(AG4:AG54,BS51,AN4:AN54))","v":0},{"$f":"(SUMIF(AE4:AE54,BS51,AO4:AO54)+SUMIF(AG4:AG54,BS51,AP4:AP54))","v":0},{"$f":"(SUMIF(AE4:AE54,BS51,AQ4:AQ54)+SUMIF(AG4:AG54,BS51,AR4:AR54))","v":0},{"$f":"SUMIF(AE4:AE54,BS51,AH4:AH54)+SUMIF(AG4:AG54,BS51,AJ4:AJ54)","v":0},{"$f":"SUMIF(AE4:AE54,BS51,AJ4:AJ54)+SUMIF(AG4:AG54,BS51,AH4:AH54)","v":0},{"$f":"BW51-BX51","v":0},{"$f":"IFERROR(BT51*3+BU51*1,0)","v":0},"F",{"$f":"RANK(BZ51,BZ49:BZ52)","v":1},{"$f":"SUMPRODUCT((BZ49:BZ52=BZ51)*(BY49:BY52>BY51))","v":0},null,{"$f":"IF(CB51=1,BS51,)","v":"Ungern"},{"$f":"(SUMIF(AE4:AE54,BS51,AS4:AS54)+SUMIF(AG4:AG54,BS51,AT4:AT54))","v":0},{"$f":"(SUMIF(AE4:AE54,BS51,AU4:AU54)+SUMIF(AG4:AG54,BS51,AV4:AV54))","v":0},{"$f":"(SUMIF(AE4:AE54,BS51,AW4:AW54)+SUMIF(AG4:AG54,BS51,AX4:AX54))","v":0},0,{"$f":"CA51","v":"F"},{"$f":"IF(CE51>0,RANK(CI51,CI49:CI52),)","v":1},{"$f":"IF(AND(CE51>0,COUNTIF(CK49:CK52,CK51)>1),SUMIFS($AH$4:$AH$54,$AE$4:$AE$54,BS51,$L$4:$L$54,1)+SUMIFS($AJ$4:$AJ$54,$AG$4:$AG$54,BS51,$L$4:$L$54,1)-SUMIFS($AJ$4:$AJ$54,$AE$4:$AE$54,BS51,$L$4:$L$54,1)-SUMIFS($AH$4:$AH$54,$AG$4:$AG$54,BS51,$L$4:$L$54,1),)","v":0},{"$f":"IF(AND(CE51>0,COUNTIF(CK49:CK52,CK51)>1),CK51+RANK(CL51,CL49:CL52)-1,CK51)","v":1},{"$f":"IF(AND(CE51>0,COUNTIF(CM49:CM52,CM51)>1),SUMIFS($AH$4:$AH$54,$AE$4:$AE$54,BS51,$L$4:$L$54,1)+SUMIFS($AJ$4:$AJ$54,$AG$4:$AG$54,BS51,$L$4:$L$54,1),)","v":0},{"$f":"IF(AND(CE51>0,COUNTIF(CM49:CM52,CM51)>1),CM51+RANK(CN51,CN49:CN52)-1,CM51)","v":1},1,{"$f":"IF(OR(CP51=\"\",COUNTIF(CP49:CP52,CP51)=1),\"\",$BY51)","v":0},{"$f":"IF(CP51=\"\",\"\",IF(COUNTIF(CP49:CP52,CP51)=1,CP51,CP51+RANK(CQ51,CQ49:CQ52,0)-1))","v":1},{"$f":"IF(OR(CR51=\"\",COUNTIF(CR49:CR52,CR51)=1),\"\",$BW51)","v":0},{"$f":"IF(CP51=\"\",\"\",IF(COUNTIF(CR49:CR52,CR51)=1,CR51,CR51+RANK(CS51,CS49:CS52,0)-1))","v":1},{"$f":"IF(OR(CT51=\"\",COUNTIF(CT49:CT52,CT51)=1),\"\",$BT51)","v":0},{"$f":"IF(CP51=\"\",\"\",IF(COUNTIF(CT49:CT52,CT51)=1,CT51,CT51+RANK(CU51,CU49:CU52,0)-1))","v":1},{"$f":"IF(CE51>0,BL47+RANK(CV51,CV49:CV52,1),)","v":1},null,{"$f":"IF(CB51=2,BS51,)","v":0},{"$f":"(SUMIF(AE4:AE54,BS51,AY4:AY54)+SUMIF(AG4:AG54,BS51,AZ4:AZ54))","v":0},{"$f":"(SUMIF(AE4:AE54,BS51,BA4:BA54)+SUMIF(AG4:AG54,BS51,BB4:BB54))","v":0},{"$f":"(SUMIF(AE4:AE54,BS51,BC4:BC54)+SUMIF(AG4:AG54,BS51,BD4:BD54))","v":0},0,{"$f":"CA51","v":"F"},{"$f":"IF(CY51>0,RANK(DC51,DC49:DC52)+CF47,)","v":0},{"$f":"IF(AND(CY51>0,COUNTIF(DE49:DE52,DE51)>1),SUMIFS($AH$4:$AH$54,$AE$4:$AE$54,BS51,$L$4:$L$54,2)+SUMIFS($AJ$4:$AJ$54,$AG$4:$AG$54,BS51,$L$4:$L$54,2)-SUMIFS($AJ$4:$AJ$54,$AE$4:$AE$54,BS51,$L$4:$L$54,2)-SUMIFS($AH$4:$AH$54,$AG$4:$AG$54,BS51,$L$4:$L$54,2),)","v":0},{"$f":"IF(AND(CY51>0,COUNTIF(DE49:DE52,DE51)>1),DE51+RANK(DF51,DF49:DF52)-1,DE51)","v":0},{"$f":"IF(AND(CY51>0,COUNTIF(DG49:DG52,DG51)>1),SUMIFS($AH$4:$AH$54,$AE$4:$AE$54,BS51,$L$4:$L$54,2)+SUMIFS($AJ$4:$AJ$54,$AG$4:$AG$54,BS51,$L$4:$L$54,2),)","v":0},{"$f":"IF(AND(CY51>0,COUNTIF(DG49:DG52,DG51)>1),DG51+RANK(DH51,DH49:DH52)-1,DG51)","v":0},"",{"$f":"IF(OR(DJ51=\"\",COUNTIF(DJ49:DJ52,DJ51)=1),\"\",$BY51)","v":""},{"$f":"IF(DJ51=\"\",\"\",IF(COUNTIF(DJ49:DJ52,DJ51)=1,DJ51,DJ51+RANK(DK51,DK49:DK52,0)-1))","v":""},{"$f":"IF(OR(DL51=\"\",COUNTIF(DL49:DL52,DL51)=1),\"\",$BW51)","v":""},{"$f":"IF(DJ51=\"\",\"\",IF(COUNTIF(DL49:DL52,DL51)=1,DL51,DL51+RANK(DM51,DM49:DM52,0)-1))","v":""},{"$f":"IF(OR(DN51=\"\",COUNTIF(DN49:DN52,DN51)=1),\"\",$BT51)","v":""},{"$f":"IF(DJ51=\"\",\"\",IF(COUNTIF(DN49:DN52,DN51)=1,DN51,DN51+RANK(DO51,DO49:DO52,0)-1))","v":""},{"$f":"IF(CY51>0,CF47+RANK(DP51,DP49:DP52,1),)","v":0},null,{"$f":"IF(CB51=3,BS51,)","v":0},{"$f":"(SUMIF(AE4:AE54,BS51,BE4:BE54)+SUMIF(AG4:AG54,BS51,BF4:BF54))","v":0},{"$f":"(SUMIF(AE4:AE54,BS51,BG4:BG54)+SUMIF(AG4:AG54,BS51,BH4:BH54))","v":0},{"$f":"(SUMIF(AE4:AE54,BS51,BI4:BI54)+SUMIF(AG4:AG54,BS51,BJ4:BJ54))","v":0},0,{"$f":"CA51","v":"F"},{"$f":"IF(DS51>0,RANK(DW51,DW49:DW52)+CF47+CZ47,)","v":0},{"$f":"IF(AND(DS51>0,COUNTIF(DY49:DY52,DY51)>1),SUMIFS($AH$4:$AH$54,$AE$4:$AE$54,BS51,$L$4:$L$54,3)+SUMIFS($AJ$4:$AJ$54,$AG$4:$AG$54,BS51,$L$4:$L$54,3)-SUMIFS($AJ$4:$AJ$54,$AE$4:$AE$54,BS51,$L$4:$L$54,3)-SUMIFS($AH$4:$AH$54,$AG$4:$AG$54,BS51,$L$4:$L$54,3),)","v":0},{"$f":"IF(AND(DS51>0,COUNTIF(DY49:DY52,DY51)>1),DY51+RANK(DZ51,DZ49:DZ52)-1,DY51)","v":0},{"$f":"IF(AND(DS51>0,COUNTIF(EA49:EA52,EA51)>1),SUMIFS($AH$4:$AH$54,$AE$4:$AE$54,BS51,$L$4:$L$54,3)+SUMIFS($AJ$4:$AJ$54,$AG$4:$AG$54,BS51,$L$4:$L$54,3),)","v":0},{"$f":"IF(AND(DS51>0,COUNTIF(EA49:EA52,EA51)>1),EA51+RANK(EB51,EB49:EB52)-1,EA51)","v":0},"",{"$f":"IF(OR(ED51=\"\",COUNTIF(ED49:ED52,ED51)=1),\"\",$BY51)","v":""},{"$f":"IF(ED51=\"\",\"\",IF(COUNTIF(ED49:ED52,ED51)=1,ED51,ED51+RANK(EE51,EE49:EE52,0)-1))","v":""},{"$f":"IF(OR(EF51=\"\",COUNTIF(EF49:EF52,EF51)=1),\"\",$BW51)","v":""},{"$f":"IF(ED51=\"\",\"\",IF(COUNTIF(EF49:EF52,EF51)=1,EF51,EF51+RANK(EG51,EG49:EG52,0)-1))","v":""},{"$f":"IF(OR(EH51=\"\",COUNTIF(EH49:EH52,EH51)=1),\"\",$BT51)","v":""},{"$f":"IF(ED51=\"\",\"\",IF(COUNTIF(EH49:EH52,EH51)=1,EH51,EH51+RANK(EI51,EI49:EI52,0)-1))","v":""},{"$f":"IF(DS51>0,CF47+CZ47+RANK(EJ51,EJ49:EJ52,1),)","v":0},null,{"$f":"IF(CB51=4,BS51,)","v":0},{"$f":"(SUMIF(AE4:AE54,BS51,BK4:BK54)+SUMIF(AG4:AG54,BS51,BL4:BL54))","v":0},{"$f":"(SUMIF(AE4:AE54,BS51,BM4:BM54)+SUMIF(AG4:AG54,BS51,BN4:BN54))","v":0},{"$f":"(SUMIF(AE4:AE54,BS51,BO4:BO54)+SUMIF(AG4:AG54,BS51,BP4:BP54))","v":0},0,{"$f":"CA51","v":"F"},{"$f":"IF(EM51>0,RANK(EQ51,EQ49:EQ52)+CF47+CZ47+DT47,)","v":0},{"$f":"IF(AND(EM51>0,COUNTIF(ES49:ES52,ES51)>1),SUMIFS($AH$4:$AH$54,$AE$4:$AE$54,BS51,$L$4:$L$54,4)+SUMIFS($AJ$4:$AJ$54,$AG$4:$AG$54,BS51,$L$4:$L$54,4)-SUMIFS($AJ$4:$AJ$54,$AE$4:$AE$54,BS51,$L$4:$L$54,4)-SUMIFS($AH$4:$AH$54,$AG$4:$AG$54,BS51,$L$4:$L$54,4),)","v":0},{"$f":"IF(AND(EM51>0,COUNTIF(ES4:ES7,ES51)>1),ES51+RANK(ET51,ET4:ET7)-1,ES51)","v":0},{"$f":"IF(AND(EM51>0,COUNTIF(EU49:EU52,EU51)>1),SUMIFS($AH$4:$AH$54,$AE$4:$AE$54,BS51,$L$4:$L$54,4)+SUMIFS($AJ$4:$AJ$54,$AG$4:$AG$54,BS51,$L$4:$L$54,4),)","v":0},{"$f":"IF(AND(EM51>0,COUNTIF(EU49:EU52,EU51)>1),EU51+RANK(EV51,EV49:EV52)-1,EU51)","v":0},"",{"$f":"IF(OR(EX51=\"\",COUNTIF(EX49:EX52,EX51)=1),\"\",$BY51)","v":""},{"$f":"IF(EX51=\"\",\"\",IF(COUNTIF(EX49:EX52,EX51)=1,EX51,EX51+RANK(EY51,EY49:EY52,0)-1))","v":""},{"$f":"IF(OR(EZ51=\"\",COUNTIF(EZ49:EZ52,EZ51)=1),\"\",$BW51)","v":""},{"$f":"IF(EX51=\"\",\"\",IF(COUNTIF(EZ49:EZ52,EZ51)=1,EZ51,EZ51+RANK(FA51,FA49:FA52,0)-1))","v":""},{"$f":"IF(OR(FB51=\"\",COUNTIF(FB49:FB52,FB51)=1),\"\",$BT51)","v":""},{"$f":"IF(EX51=\"\",\"\",IF(COUNTIF(FB49:FB52,FB51)=1,FB51,FB51+RANK(FC51,FC49:FC52,0)-1))","v":""},{"$f":"IF(EM51>0,CF47+CZ47+DT47+RANK(FD51,FD49:FD52,1),)","v":0},null,{"$f":"IFERROR(VLOOKUP(FI51,CE48:CW52,19,FALSE),IFERROR(VLOOKUP(FI51,CY48:DQ52,19,FALSE),IFERROR(VLOOKUP(FI51,DS48:EK52,19,FALSE),VLOOKUP(FI51,EM48:FE52,19,FALSE))))","v":1},{"$f":"RANK(FG51,FG49:FG52,1)+COUNTIF(FG49:FG51,FG51)-1","v":3},{"$f":"BS51","v":"Ungern"}]
[null,null,"2021-06-19","Portugal","-","Tyskland",null,"-",null,"",{"$f":"IF(OR('Resultat & Tabell'!G52=\"\",'Resultat & Tabell'!I52=\"\",G52=\"\",I52=\"\"),0,IF(G52='Resultat & Tabell'!G52,2,0)+IF(I52='Resultat & Tabell'!I52,2,0)+IF(J52='Resultat & Tabell'!J52,3,0))","v":0},{"$f":"IF(VLOOKUP(D52,BS48:CB52,10,FALSE)=VLOOKUP(F52,BS48:CB52,10,FALSE),VLOOKUP(D52,BS48:CB52,10,FALSE),\"-\")","v":1},4,{"$f":"VLOOKUP(M52,FH49:FI52,2,FALSE)","v":"Portugal"},{"$f":"VLOOKUP(N52,BS49:BZ52,2,FALSE)","v":0},{"$f":"VLOOKUP(N52,BS49:BZ52,3,FALSE)","v":0},{"$f":"VLOOKUP(N52,BS49:BZ52,4,FALSE)","v":0},{"$f":"VLOOKUP(N52,BS49:BZ52,5,FALSE)","v":0},{"$f":"VLOOKUP(N52,BS49:BZ52,6,FALSE)","v":0},{"$f":"VLOOKUP(N52,BS49:BZ52,7,FALSE)","v":0},{"$f":"VLOOKUP(N52,BS49:BZ52,8,FALSE)","v":0},null,null,null,null,null,null,null,null,"2021-06-19","Portugal","-","Tyskland","","-","","",null,0,0,0,0,0,0,0,0,0,0,0,0,0,0,0,0,0,0,0,0,0,0,0,0,0,0,0,0,0,0,null,null,"Portugal",{"$f":"(SUMIF(AE4:AE54,BS52,AM4:AM54)+SUMIF(AG4:AG54,BS52,AN4:AN54))","v":0},{"$f":"(SUMIF(AE4:AE54,BS52,AO4:AO54)+SUMIF(AG4:AG54,BS52,AP4:AP54))","v":0},{"$f":"(SUMIF(AE4:AE54,BS52,AQ4:AQ54)+SUMIF(AG4:AG54,BS52,AR4:AR54))","v":0},{"$f":"SUMIF(AE4:AE54,BS52,AH4:AH54)+SUMIF(AG4:AG54,BS52,AJ4:AJ54)","v":0},{"$f":"SUMIF(AE4:AE54,BS52,AJ4:AJ54)+SUMIF(AG4:AG54,BS52,AH4:AH54)","v":0},{"$f":"BW52-BX52","v":0},{"$f":"IFERROR(BT52*3+BU52*1,0)","v":0},"F",{"$f":"RANK(BZ52,BZ49:BZ52)","v":1},{"$f":"SUMPRODUCT((BZ49:BZ52=BZ52)*(BY49:BY52>BY52))","v":0},null,{"$f":"IF(CB52=1,BS52,)","v":"Portugal"},{"$f":"(SUMIF(AE4:AE54,BS52,AS4:AS54)+SUMIF(AG4:AG54,BS52,AT4:AT54))","v":0},{"$f":"(SUMIF(AE4:AE54,BS52,AU4:AU54)+SUMIF(AG4:AG54,BS52,AV4:AV54))","v":0},{"$f":"(SUMIF(AE4:AE54,BS52,AW4:AW54)+SUMIF(AG4:AG54,BS52,AX4:AX54))","v":0},0,{"$f":"CA52","v":"F"},{"$f":"IF(CE52>0,RANK(CI52,CI49:CI52),)","v":1},{"$f":"IF(AND(CE52>0,COUNTIF(CK49:CK52,CK52)>1),SUMIFS($AH$4:$AH$54,$AE$4:$AE$54,BS52,$L$4:$L$54,1)+SUMIFS($AJ$4:$AJ$54,$AG$4:$AG$54,BS52,$L$4:$L$54,1)-SUMIFS($AJ$4:$AJ$54,$AE$4:$AE$54,BS52,$L$4:$L$54,1)-SUMIFS($AH$4:$AH$54,$AG$4:$AG$54,BS52,$L$4:$L$54,1),)","v":0},{"$f":"IF(AND(CE52>0,COUNTIF(CK49:CK52,CK52)>1),CK52+RANK(CL52,CL49:CL52)-1,CK52)","v":1},{"$f":"IF(AND(CE52>0,COUNTIF(CM49:CM52,CM52)>1),SUMIFS($AH$4:$AH$54,$AE$4:$AE$54,BS52,$L$4:$L$54,1)+SUMIFS($AJ$4:$AJ$54,$AG$4:$AG$54,BS52,$L$4:$L$54,1),)","v":0},{"$f":"IF(AND(CE52>0,COUNTIF(CM49:CM52,CM52)>1),CM52+RANK(CN52,CN49:CN52)-1,CM52)","v":1},1,{"$f":"IF(OR(CP52=\"\",COUNTIF(CP49:CP52,CP52)=1),\"\",$BY52)","v":0},{"$f":"IF(CP52=\"\",\"\",IF(COUNTIF(CP49:CP52,CP52)=1,CP52,CP52+RANK(CQ52,CQ49:CQ52,0)-1))","v":1},{"$f":"IF(OR(CR52=\"\",COUNTIF(CR49:CR52,CR52)=1),\"\",$BW52)","v":0},{"$f":"IF(CP52=\"\",\"\",IF(COUNTIF(CR49:CR52,CR52)=1,CR52,CR52+RANK(CS52,CS49:CS52,0)-1))","v":1},{"$f":"IF(OR(CT52=\"\",COUNTIF(CT49:CT52,CT52)=1),\"\",$BT52)","v":0},{"$f":"IF(CP52=\"\",\"\",IF(COUNTIF(CT49:CT52,CT52)=1,CT52,CT52+RANK(CU52,CU49:CU52,0)-1))","v":1},{"$f":"IF(CE52>0,BL47+RANK(CV52,CV49:CV52,1),)","v":1},null,{"$f":"IF(CB52=2,BS52,)","v":0},{"$f":"(SUMIF(AE4:AE54,BS52,AY4:AY54)+SUMIF(AG4:AG54,BS52,AZ4:AZ54))","v":0},{"$f":"(SUMIF(AE4:AE54,BS52,BA4:BA54)+SUMIF(AG4:AG54,BS52,BB4:BB54))","v":0},{"$f":"(SUMIF(AE4:AE54,BS52,BC4:BC54)+SUMIF(AG4:AG54,BS52,BD4:BD54))","v":0},0,{"$f":"CA52","v":"F"},{"$f":"IF(CY52>0,RANK(DC52,DC49:DC52)+CF47,)","v":0},{"$f":"IF(AND(CY52>0,COUNTIF(DE49:DE52,DE52)>1),SUMIFS($AH$4:$AH$54,$AE$4:$AE$54,BS52,$L$4:$L$54,2)+SUMIFS($AJ$4:$AJ$54,$AG$4:$AG$54,BS52,$L$4:$L$54,2)-SUMIFS($AJ$4:$AJ$54,$AE$4:$AE$54,BS52,$L$4:$L$54,2)-SUMIFS($AH$4:$AH$54,$AG$4:$AG$54,BS52,$L$4:$L$54,2),)","v":0},{"$f":"IF(AND(CY52>0,COUNTIF(DE49:DE52,DE52)>1),DE52+RANK(DF52,DF49:DF52)-1,DE52)","v":0},{"$f":"IF(AND(CY52>0,COUNTIF(DG49:DG52,DG52)>1),SUMIFS($AH$4:$AH$54,$AE$4:$AE$54,BS52,$L$4:$L$54,2)+SUMIFS($AJ$4:$AJ$54,$AG$4:$AG$54,BS52,$L$4:$L$54,2),)","v":0},{"$f":"IF(AND(CY52>0,COUNTIF(DG49:DG52,DG52)>1),DG52+RANK(DH52,DH49:DH52)-1,DG52)","v":0},"",{"$f":"IF(OR(DJ52=\"\",COUNTIF(DJ49:DJ52,DJ52)=1),\"\",$BY52)","v":""},{"$f":"IF(DJ52=\"\",\"\",IF(COUNTIF(DJ49:DJ52,DJ52)=1,DJ52,DJ52+RANK(DK52,DK49:DK52,0)-1))","v":""},{"$f":"IF(OR(DL52=\"\",COUNTIF(DL49:DL52,DL52)=1),\"\",$BW52)","v":""},{"$f":"IF(DJ52=\"\",\"\",IF(COUNTIF(DL49:DL52,DL52)=1,DL52,DL52+RANK(DM52,DM49:DM52,0)-1))","v":""},{"$f":"IF(OR(DN52=\"\",COUNTIF(DN49:DN52,DN52)=1),\"\",$BT52)","v":""},{"$f":"IF(DJ52=\"\",\"\",IF(COUNTIF(DN49:DN52,DN52)=1,DN52,DN52+RANK(DO52,DO49:DO52,0)-1))","v":""},{"$f":"IF(CY52>0,CF47+RANK(DP52,DP49:DP52,1),)","v":0},null,{"$f":"IF(CB52=3,BS52,)","v":0},{"$f":"(SUMIF(AE4:AE54,BS52,BE4:BE54)+SUMIF(AG4:AG54,BS52,BF4:BF54))","v":0},{"$f":"(SUMIF(AE4:AE54,BS52,BG4:BG54)+SUMIF(AG4:AG54,BS52,BH4:BH54))","v":0},{"$f":"(SUMIF(AE4:AE54,BS52,BI4:BI54)+SUMIF(AG4:AG54,BS52,BJ4:BJ54))","v":0},0,{"$f":"CA52","v":"F"},{"$f":"IF(DS52>0,RANK(DW52,DW49:DW52)+CF47+CZ47,)","v":0},{"$f":"IF(AND(DS52>0,COUNTIF(DY49:DY52,DY52)>1),SUMIFS($AH$4:$AH$54,$AE$4:$AE$54,BS52,$L$4:$L$54,3)+SUMIFS($AJ$4:$AJ$54,$AG$4:$AG$54,BS52,$L$4:$L$54,3)-SUMIFS($AJ$4:$AJ$54,$AE$4:$AE$54,BS52,$L$4:$L$54,3)-SUMIFS($AH$4:$AH$54,$AG$4:$AG$54,BS52,$L$4:$L$54,3),)","v":0},{"$f":"IF(AND(DS52>0,COUNTIF(DY49:DY52,DY52)>1),DY52+RANK(DZ52,DZ49:DZ52)-1,DY52)","v":0},{"$f":"IF(AND(DS52>0,COUNTIF(EA49:EA52,EA52)>1),SUMIFS($AH$4:$AH$54,$AE$4:$AE$54,BS52,$L$4:$L$54,3)+SUMIFS($AJ$4:$AJ$54,$AG$4:$AG$54,BS52,$L$4:$L$54,3),)","v":0},{"$f":"IF(AND(DS52>0,COUNTIF(EA49:EA52,EA52)>1),EA52+RANK(EB52,EB49:EB52)-1,EA52)","v":0},"",{"$f":"IF(OR(ED52=\"\",COUNTIF(ED49:ED52,ED52)=1),\"\",$BY52)","v":""},{"$f":"IF(ED52=\"\",\"\",IF(COUNTIF(ED49:ED52,ED52)=1,ED52,ED52+RANK(EE52,EE49:EE52,0)-1))","v":""},{"$f":"IF(OR(EF52=\"\",COUNTIF(EF49:EF52,EF52)=1),\"\",$BW52)","v":""},{"$f":"IF(ED52=\"\",\"\",IF(COUNTIF(EF49:EF52,EF52)=1,EF52,EF52+RANK(EG52,EG49:EG52,0)-1))","v":""},{"$f":"IF(OR(EH52=\"\",COUNTIF(EH49:EH52,EH52)=1),\"\",$BT52)","v":""},{"$f":"IF(ED52=\"\",\"\",IF(COUNTIF(EH49:EH52,EH52)=1,EH52,EH52+RANK(EI52,EI49:EI52,0)-1))","v":""},{"$f":"IF(DS52>0,CF47+CZ47+RANK(EJ52,EJ49:EJ52,1),)","v":0},null,{"$f":"IF(CB52=4,BS52,)","v":0},{"$f":"(SUMIF(AE4:AE54,BS52,BK4:BK54)+SUMIF(AG4:AG54,BS52,BL4:BL54))","v":0},{"$f":"(SUMIF(AE4:AE54,BS52,BM4:BM54)+SUMIF(AG4:AG54,BS52,BN4:BN54))","v":0},{"$f":"(SUMIF(AE4:AE54,BS52,BO4:BO54)+SUMIF(AG4:AG54,BS52,BP4:BP54))","v":0},0,{"$f":"CA52","v":"F"},{"$f":"IF(EM52>0,RANK(EQ52,EQ49:EQ52)+CF47+CZ47+DT47,)","v":0},{"$f":"IF(AND(EM52>0,COUNTIF(ES49:ES52,ES52)>1),SUMIFS($AH$4:$AH$54,$AE$4:$AE$54,BS52,$L$4:$L$54,4)+SUMIFS($AJ$4:$AJ$54,$AG$4:$AG$54,BS52,$L$4:$L$54,4)-SUMIFS($AJ$4:$AJ$54,$AE$4:$AE$54,BS52,$L$4:$L$54,4)-SUMIFS($AH$4:$AH$54,$AG$4:$AG$54,BS52,$L$4:$L$54,4),)","v":0},{"$f":"IF(AND(EM52>0,COUNTIF(ES4:ES7,ES52)>1),ES52+RANK(ET52,ET4:ET7)-1,ES52)","v":0},{"$f":"IF(AND(EM52>0,COUNTIF(EU49:EU52,EU52)>1),SUMIFS($AH$4:$AH$54,$AE$4:$AE$54,BS52,$L$4:$L$54,4)+SUMIFS($AJ$4:$AJ$54,$AG$4:$AG$54,BS52,$L$4:$L$54,4),)","v":0},{"$f":"IF(AND(EM52>0,COUNTIF(EU49:EU52,EU52)>1),EU52+RANK(EV52,EV49:EV52)-1,EU52)","v":0},"",{"$f":"IF(OR(EX52=\"\",COUNTIF(EX49:EX52,EX52)=1),\"\",$BY52)","v":""},{"$f":"IF(EX52=\"\",\"\",IF(COUNTIF(EX49:EX52,EX52)=1,EX52,EX52+RANK(EY52,EY49:EY52,0)-1))","v":""},{"$f":"IF(OR(EZ52=\"\",COUNTIF(EZ49:EZ52,EZ52)=1),\"\",$BW52)","v":""},{"$f":"IF(EX52=\"\",\"\",IF(COUNTIF(EZ49:EZ52,EZ52)=1,EZ52,EZ52+RANK(FA52,FA49:FA52,0)-1))","v":""},{"$f":"IF(OR(FB52=\"\",COUNTIF(FB49:FB52,FB52)=1),\"\",$BT52)","v":""},{"$f":"IF(EX52=\"\",\"\",IF(COUNTIF(FB50:FB53,FB52)=1,FB52,FB52+RANK(FC52,FC50:FC53,0)-1))","v":""},{"$f":"IF(EM52>0,CF47+CZ47+DT47+RANK(FD52,FD49:FD52,1),)","v":0},null,{"$f":"IFERROR(VLOOKUP(FI52,CE48:CW52,19,FALSE),IFERROR(VLOOKUP(FI52,CY48:DQ52,19,FALSE),IFERROR(VLOOKUP(FI52,DS48:EK52,19,FALSE),VLOOKUP(FI52,EM48:FE52,19,FALSE))))","v":1},{"$f":"RANK(FG52,FG49:FG52,1)+COUNTIF(FG49:FG52,FG52)-1","v":4},{"$f":"BS52","v":"Portugal"}]
[null,null,"2021-06-23","Tyskland","-","Ungern",null,"-",null,"",{"$f":"IF(OR('Resultat & Tabell'!G53=\"\",'Resultat & Tabell'!I53=\"\",G53=\"\",I53=\"\"),0,IF(G53='Resultat & Tabell'!G53,2,0)+IF(I53='Resultat & Tabell'!I53,2,0)+IF(J53='Resultat & Tabell'!J53,3,0))","v":0},{"$f":"IF(VLOOKUP(D53,BS48:CB52,10,FALSE)=VLOOKUP(F53,BS48:CB52,10,FALSE),VLOOKUP(D53,BS48:CB52,10,FALSE),\"-\")","v":1},null,{"$f":"IF(COUNTBLANK(G49:G54)+COUNTBLANK(I49:I54)=0,\"Resultat OK\",\"Fyll i resultat\")","v":"Fyll i resultat"},null,null,null,null,null,null,null,null,null,null,null,null,null,null,null,"2021-06-23","Tyskland","-","Ungern","","-","","",null,0,0,0,0,0,0,0,0,0,0,0,0,0,0,0,0,0,0,0,0,0,0,0,0,0,0,0,0,0,0]
[null,null,"2021-06-23","Portugal","-","Frankrike",null,"-",null,"",{"$f":"IF(OR('Resultat & Tabell'!G54=\"\",'Resultat & Tabell'!I54=\"\",G54=\"\",I54=\"\"),0,IF(G54='Resultat & Tabell'!G54,2,0)+IF(I54='Resultat & Tabell'!I54,2,0)+IF(J54='Resultat & Tabell'!J54,3,0))","v":0},{"$f":"IF(VLOOKUP(D54,BS48:CB52,10,FALSE)=VLOOKUP(F54,BS48:CB52,10,FALSE),VLOOKUP(D54,BS48:CB52,10,FALSE),\"-\")","v":1},null,null,null,null,null,null,null,null,null,null,null,null,null,null,null,null,null,"2021-06-23","Portugal","-","Frankrike","","-","","",null,0,0,0,0,0,0,0,0,0,0,0,0,0,0,0,0,0,0,0,0,0,0,0,0,0,0,0,0,0,0]
[]
[null,null,"Åttondelsfinaler",null,null,null,null,null,null,null,null,null,null,null,null,null,null,null,null,null,null,null,null,null,null,null,null,null,null,"Åttondelsfinaler"]
[null,"#","Datum","Match",null,null,"Resultat",null,null,"Tecken","Poäng","Vinnare oavgjort",null,"Vinnare åttondelsfinaler",null,"Poäng för lag i åttondelsfinal",null,null,null,null,null,null,null,null,null,null,null,null,null,"Datum","Match",null,null,"Resultat",null,null,"Tecken","Poäng",null,null,null,null,null,null,"Åttondelsfinaler",null,null,null,null,"List"]
[null,1,"2021-06-26",{"$f":"IF(N8=\"Resultat OK\",N5,\"Tvåa grupp A\")","v":"Tvåa grupp A"},"-",{"$f":"IF(N17=\"Resultat OK\",N14,\"Tvåa grupp B\")","v":"Tvåa grupp B"},null,"-",null,{"$f":"IF(OR(ISBLANK(G58),ISBLANK(I58)),\"\",IF(G58>I58,1,IF(G58<I58,2,\"X\")))","v":""},{"$f":"IF(OR('Resultat & Tabell'!G58=\"\",'Resultat & Tabell'!I58=\"\",G58=\"\",I58=\"\"),0,IF(G58='Resultat & Tabell'!G58,2,0)+IF(I58='Resultat & Tabell'!I58,2,0)+IF(J58='Resultat & Tabell'!J58,3,0))","v":0},null,null,{"$f":"IF(J58=\"\",\"\",IF(G58>I58,D58,IF(I58>G58,F58,IF(OR(L58=\"-\",L58=0),\"Fyll i vinnare oavgjort\",L58))))","v":""},null,{"$f":"AV75","v":0},null,null,null,null,null,null,null,null,null,null,null,null,null,{"$f":"C58","v":"2021-06-26"},{"$f":"D58","v":"Tvåa grupp A"},{"$f":"E58","v":"-"},{"$f":"F58","v":"Tvåa grupp B"},{"$f":"IF(G58=\"\",\"\",G58)","v":""},"-",{"$f":"IF(I58=\"\",\"\",I58)","v":""},{"$f":"J58","v":""},null,null,null,null,null,null,null,"Mitt tips","Resultat & tabell","Utfall","Poäng",null,{"$f":"D58","v":"Tvåa grupp A"},{"$f":"F58","v":"Tvåa grupp B"}]
[null,2,"2021-06-26",{"$f":"IF(N8=\"Resultat OK\",N4,\"Etta grupp A\")","v":"Etta grupp A"},"-",{"$f":"IF(N26=\"Resultat OK\",N23,\"Tvåa grupp C\")","v":"Tvåa grupp C"},null,"-",null,{"$f":"IF(OR(ISBLANK(G59),ISBLANK(I59)),\"\",IF(G59>I59,1,IF(G59<I59,2,\"X\")))","v":""},{"$f":"IF(OR('Resultat & Tabell'!G59=\"\",'Resultat & Tabell'!I59=\"\",G59=\"\",I59=\"\"),0,IF(G59='Resultat & Tabell'!G59,2,0)+IF(I59='Resultat & Tabell'!I59,2,0)+IF(J59='Resultat & Tabell'!J59,3,0))","v":0},null,null,{"$f":"IF(J59=\"\",\"\",IF(G59>I59,D59,IF(I59>G59,F59,IF(OR(L59=\"-\",L59=0),\"Fyll i vinnare oavgjort\",L59))))","v":""},null,null,null,null,null,null,null,null,null,null,null,null,null,null,null,"2021-06-26","Etta grupp A","-","Tvåa grupp C","","-","","",null,null,null,null,null,null,null,{"$f":"D58","v":"Tvåa grupp A"},{"$f":"IF(OR('Resultat & Tabell'!G58=\"\",'Resultat & Tabell'!I58=\"\"),\"\",'Resultat & Tabell'!D58)","v":""},{"$f":"IF(ISERROR(VLOOKUP(AS59,AT59:AT74,1,FALSE)),0,1)","v":0},{"$f":"2*AU59","v":0},null,"Etta grupp A","Tvåa grupp C"]
[null,3,"2021-06-27",{"$f":"IF(N26=\"Resultat OK\",N22,\"Etta grupp C\")","v":"Etta grupp C"},"-",{"$f":"IF(FL12=\"Resultat OK\",HLOOKUP(\"C\",GE2:GE17,FY2),\"Trea D/E/F\")","v":"Trea D/E/F"},null,"-",null,"",{"$f":"IF(OR('Resultat & Tabell'!G60=\"\",'Resultat & Tabell'!I60=\"\",G60=\"\",I60=\"\"),0,IF(G60='Resultat & Tabell'!G60,2,0)+IF(I60='Resultat & Tabell'!I60,2,0)+IF(J60='Resultat & Tabell'!J60,3,0))","v":0},null,null,"",null,null,null,null,null,null,null,null,null,null,null,null,null,null,null,"2021-06-27","Etta grupp C","-","Trea D/E/F","","-","","",null,null,null,null,null,null,null,"Etta grupp A",{"$f":"IF(OR('Resultat & Tabell'!G59=\"\",'Resultat & Tabell'!I59=\"\"),\"\",'Resultat & Tabell'!D59)","v":""},{"$f":"IF(ISERROR(VLOOKUP(AS60,AT59:AT74,1,FALSE)),0,1)","v":0},{"$f":"2*AU60","v":0},null,"Etta grupp C","Trea D/E/F"]
[null,4,"2021-06-27",{"$f":"IF(N17=\"Resultat OK\",N13,\"Etta grupp B\")","v":"Etta grupp B"},"-",{"$f":"IF(FL12=\"Resultat OK\",HLOOKUP(\"B\",GD2:GD17,FY2),\"Trea A/D/E/F\")","v":"Trea A/D/E/F"},null,"-",null,"",{"$f":"IF(OR('Resultat & Tabell'!G61=\"\",'Resultat & Tabell'!I61=\"\",G61=\"\",I61=\"\"),0,IF(G61='Resultat & Tabell'!G61,2,0)+IF(I61='Resultat & Tabell'!I61,2,0)+IF(J61='Resultat & Tabell'!J61,3,0))","v":0},null,null,"",null,null,null,null,null,null,null,null,null,null,null,null,null,null,null,"2021-06-27","Etta grupp B","-","Trea A/D/E/F","","-","","",null,null,null,null,null,null,null,"Etta grupp C",{"$f":"IF(OR('Resultat & Tabell'!G60=\"\",'Resultat & Tabell'!I60=\"\"),\"\",'Resultat & Tabell'!D60)","v":""},{"$f":"IF(ISERROR(VLOOKUP(AS61,AT59:AT74,1,FALSE)),0,1)","v":0},0,null,"Etta grupp B","Trea A/D/E/F"]
[null,5,"2021-06-28",{"$f":"IF(N35=\"Resultat OK\",N32,\"Tvåa grupp D\")","v":"Tvåa grupp D"},"-",{"$f":"IF(N44=\"Resultat OK\",N41,\"Tvåa grupp E\")","v":"Tvåa grupp E"},null,"-",null,"",{"$f":"IF(OR('Resultat & Tabell'!G62=\"\",'Resultat & Tabell'!I62=\"\",G62=\"\",I62=\"\"),0,IF(G62='Resultat & Tabell'!G62,2,0)+IF(I62='Resultat & Tabell'!I62,2,0)+IF(J62='Resultat & Tabell'!J62,3,0))","v":0},null,null,"",null,null,null,null,null,null,null,null,null,null,null,null,null,null,null,"2021-06-28","Tvåa grupp D","-","Tvåa grupp E","","-","","",null,null,null,null,null,null,null,"Etta grupp B",{"$f":"IF(OR('Resultat & Tabell'!G61=\"\",'Resultat & Tabell'!I61=\"\"),\"\",'Resultat & Tabell'!D61)","v":""},{"$f":"IF(ISERROR(VLOOKUP(AS62,AT59:AT74,1,FALSE)),0,1)","v":0},0,null,"Tvåa grupp D","Tvåa grupp E"]
[null,6,"2021-06-28",{"$f":"IF(N53=\"Resultat OK\",N49,\"Etta grupp F\")","v":"Etta grupp F"},"-",{"$f":"IF(FL12=\"Resultat OK\",HLOOKUP(\"F\",GG2:GG17,FY2),\"Trea A/B/C\")","v":"Trea A/B/C"},null,"-",null,"",{"$f":"IF(OR('Resultat & Tabell'!G63=\"\",'Resultat & Tabell'!I63=\"\",G63=\"\",I63=\"\"),0,IF(G63='Resultat & Tabell'!G63,2,0)+IF(I63='Resultat & Tabell'!I63,2,0)+IF(J63='Resultat & Tabell'!J63,3,0))","v":0},null,null,"",null,null,null,null,null,null,null,null,null,null,null,null,null,null,null,"2021-06-28","Etta grupp F","-","Trea A/B/C","","-","","",null,null,null,null,null,null,null,"Tvåa grupp D",{"$f":"IF(OR('Resultat & Tabell'!G62=\"\",'Resultat & Tabell'!I62=\"\"),\"\",'Resultat & Tabell'!D62)","v":""},{"$f":"IF(ISERROR(VLOOKUP(AS63,AT59:AT74,1,FALSE)),0,1)","v":0},0,null,"Etta grupp F","Trea A/B/C"]
[null,7,"2021-06-29",{"$f":"IF(N35=\"Resultat OK\",N31,\"Etta grupp D\")","v":"Etta grupp D"},"-",{"$f":"IF(N53=\"Resultat OK\",N50,\"Tvåa grupp F\")","v":"Tvåa grupp F"},null,"-",null,{"$f":"IF(OR(ISBLANK(G64),ISBLANK(I64)),\"\",IF(G64>I64,1,IF(G64<I64,2,\"X\")))","v":""},{"$f":"IF(OR('Resultat & Tabell'!G64=\"\",'Resultat & Tabell'!I64=\"\",G64=\"\",I64=\"\"),0,IF(G64='Resultat & Tabell'!G64,2,0)+IF(I64='Resultat & Tabell'!I64,2,0)+IF(J64='Resultat & Tabell'!J64,3,0))","v":0},null,null,"",null,null,null,null,null,null,null,null,null,null,null,null,null,null,null,"2021-06-29","Etta grupp D","-","Tvåa grupp F","","-","","",null,null,null,null,null,null,null,"Etta grupp F",{"$f":"IF(OR('Resultat & Tabell'!G63=\"\",'Resultat & Tabell'!I63=\"\"),\"\",'Resultat & Tabell'!D63)","v":""},{"$f":"IF(ISERROR(VLOOKUP(AS64,AT59:AT74,1,FALSE)),0,1)","v":0},0,null,"Etta grupp D","Tvåa grupp F"]
[null,8,"2021-06-29",{"$f":"IF(N44=\"Resultat OK\",N40,\"Etta grupp E\")","v":"Etta grupp E"},"-",{"$f":"IF(FL12=\"Resultat OK\",HLOOKUP(\"E\",GF2:GF17,FY2),\"Trea A/B/C/D\")","v":"Trea A/B/C/D"},null,"-",null,"",{"$f":"IF(OR('Resultat & Tabell'!G65=\"\",'Resultat & Tabell'!I65=\"\",G65=\"\",I65=\"\"),0,IF(G65='Resultat & Tabell'!G65,2,0)+IF(I65='Resultat & Tabell'!I65,2,0)+IF(J65='Resultat & Tabell'!J65,3,0))","v":0},null,null,"",null,null,null,null,null,null,null,null,null,null,null,null,null,null,null,"2021-06-29","Etta grupp E","-","Trea A/B/C/D","","-","","",null,null,null,null,null,null,null,"Etta grupp D",{"$f":"IF(OR('Resultat & Tabell'!G64=\"\",'Resultat & Tabell'!I64=\"\"),\"\",'Resultat & Tabell'!D64)","v":""},{"$f":"IF(ISERROR(VLOOKUP(AS65,AT59:AT74,1,FALSE)),0,1)","v":0},0,null,"Etta grupp E","Trea A/B/C/D"]
[null,null,null,null,null,null,null,null,null,null,null,null,null,null,null,null,null,null,null,null,null,null,null,null,null,null,null,null,null,null,null,null,null,null,null,null,null,null,null,null,null,null,null,null,"Etta grupp E",{"$f":"IF(OR('Resultat & Tabell'!G65=\"\",'Resultat & Tabell'!I65=\"\"),\"\",'Resultat & Tabell'!D65)","v":""},{"$f":"IF(ISERROR(VLOOKUP(AS66,AT59:AT74,1,FALSE)),0,1)","v":0},0]
[null,null,"Kvartsfinaler",null,null,null,null,null,null,null,null,null,null,null,null,null,null,null,null,null,null,null,null,null,null,null,null,null,null,"Kvartsfinaler",null,null,null,null,null,null,null,null,null,null,null,null,null,null,{"$f":"F58","v":"Tvåa grupp B"},{"$f":"IF(OR('Resultat & Tabell'!G58=\"\",'Resultat & Tabell'!I58=\"\"),\"\",'Resultat & Tabell'!F58)","v":""},{"$f":"IF(ISERROR(VLOOKUP(AS67,AT59:AT74,1,FALSE)),0,1)","v":0},0]
[null,"#","Datum","Match",null,null,"Resultat",null,null,"Tecken","Poäng","Vinnare oavgjort",null,"Vinnare kvartsfinaler",null,"Poäng för lag i kvartsfinal",null,null,null,null,null,null,null,null,null,null,null,null,null,"Datum","Match",null,null,"Resultat",null,null,"Tecken","Poäng",null,null,null,null,null,null,"Tvåa grupp C",{"$f":"IF(OR('Resultat & Tabell'!G59=\"\",'Resultat & Tabell'!I59=\"\"),\"\",'Resultat & Tabell'!F59)","v":""},{"$f":"IF(ISERROR(VLOOKUP(AS68,AT59:AT74,1,FALSE)),0,1)","v":0},0]
[null,1,"2021-07-02",{"$f":"IF(OR(N63=\"\",N63=\"Fyll i vinnare oavgjort\"),\"Vinnare åttondel 6\",N63)","v":"Vinnare åttondel 6"},"-",{"$f":"IF(OR(N62=\"\",N62=\"Fyll i vinnare oavgjort\"),\"Vinnare åttondel 5\",N62)","v":"Vinnare åttondel 5"},null,"-",null,{"$f":"IF(OR(ISBLANK(G69),ISBLANK(I69)),\"\",IF(G69>I69,1,IF(G69<I69,2,\"X\")))","v":""},{"$f":"IF(OR('Resultat & Tabell'!G69=\"\",'Resultat & Tabell'!I69=\"\",G69=\"\",I69=\"\"),0,IF(G69='Resultat & Tabell'!G69,2,0)+IF(I69='Resultat & Tabell'!I69,2,0)+IF(J69='Resultat & Tabell'!J69,3,0))","v":0},null,null,{"$f":"IF(J69=\"\",\"\",IF(G69>I69,D69,IF(I69>G69,F69,IF(OR(L69=\"-\",L69=0),\"Fyll i vinnare oavgjort\",L69))))","v":""},null,{"$f":"AV86","v":0},null,null,null,null,null,null,null,null,null,null,null,null,null,{"$f":"C69","v":"2021-07-02"},{"$f":"D69","v":"Vinnare åttondel 6"},{"$f":"E69","v":"-"},{"$f":"F69","v":"Vinnare åttondel 5"},{"$f":"IF(G69=\"\",\"\",G69)","v":""},"-",{"$f":"IF(I69=\"\",\"\",I69)","v":""},{"$f":"J69","v":""},null,null,null,null,null,null,null,"Trea D/E/F",{"$f":"IF(OR('Resultat & Tabell'!G60=\"\",'Resultat & Tabell'!I60=\"\"),\"\",'Resultat & Tabell'!F60)","v":""},{"$f":"IF(ISERROR(VLOOKUP(AS69,AT59:AT74,1,FALSE)),0,1)","v":0},0,null,{"$f":"D69","v":"Vinnare åttondel 6"},{"$f":"F69","v":"Vinnare åttondel 5"}]
[null,2,"2021-07-02",{"$f":"IF(OR(N61=\"\",N61=\"Fyll i vinnare oavgjort\"),\"Vinnare åttondel 4\",N61)","v":"Vinnare åttondel 4"},"-",{"$f":"IF(OR(N59=\"\",N59=\"Fyll i vinnare oavgjort\"),\"Vinnare åttondel 2\",N59)","v":"Vinnare åttondel 2"},null,"-",null,"",{"$f":"IF(OR('Resultat & Tabell'!G70=\"\",'Resultat & Tabell'!I70=\"\",G70=\"\",I70=\"\"),0,IF(G70='Resultat & Tabell'!G70,2,0)+IF(I70='Resultat & Tabell'!I70,2,0)+IF(J70='Resultat & Tabell'!J70,3,0))","v":0},null,null,{"$f":"IF(J70=\"\",\"\",IF(G70>I70,D70,IF(I70>G70,F70,IF(OR(L70=\"-\",L70=0),\"Fyll i vinnare oavgjort\",L70))))","v":""},null,null,null,null,null,null,null,null,null,null,null,null,null,null,null,"2021-07-02",{"$f":"D70","v":"Vinnare åttondel 4"},"-","Vinnare åttondel 2",{"$f":"IF(G70=\"\",\"\",G70)","v":""},"-",{"$f":"IF(I70=\"\",\"\",I70)","v":""},{"$f":"J70","v":""},null,null,null,null,null,null,null,"Trea A/D/E/F",{"$f":"IF(OR('Resultat & Tabell'!G61=\"\",'Resultat & Tabell'!I61=\"\"),\"\",'Resultat & Tabell'!F61)","v":""},{"$f":"IF(ISERROR(VLOOKUP(AS70,AT59:AT74,1,FALSE)),0,1)","v":0},0,null,{"$f":"D70","v":"Vinnare åttondel 4"},{"$f":"F70","v":"Vinnare åttondel 2"}]
[null,3,"2021-07-03",{"$f":"IF(OR(N60=\"\",N60=\"Fyll i vinnare oavgjort\"),\"Vinnare åttondel 3\",N60)","v":"Vinnare åttondel 3"},"-",{"$f":"IF(OR(N58=\"\",N58=\"Fyll i vinnare oavgjort\"),\"Vinnare åttondel 1\",N58)","v":"Vinnare åttondel 1"},null,"-",null,"",{"$f":"IF(OR('Resultat & Tabell'!G71=\"\",'Resultat & Tabell'!I71=\"\",G71=\"\",I71=\"\"),0,IF(G71='Resultat & Tabell'!G71,2,0)+IF(I71='Resultat & Tabell'!I71,2,0)+IF(J71='Resultat & Tabell'!J71,3,0))","v":0},null,null,"",null,null,null,null,null,null,null,null,null,null,null,null,null,null,null,"2021-07-03","Vinnare åttondel 3","-","Vinnare åttondel 1",{"$f":"IF(G71=\"\",\"\",G71)","v":""},"-",{"$f":"IF(I71=\"\",\"\",I71)","v":""},{"$f":"J71","v":""},null,null,null,null,null,null,null,"Tvåa grupp E",{"$f":"IF(OR('Resultat & Tabell'!G62=\"\",'Resultat & Tabell'!I62=\"\"),\"\",'Resultat & Tabell'!F62)","v":""},{"$f":"IF(ISERROR(VLOOKUP(AS71,AT59:AT74,1,FALSE)),0,1)","v":0},0,null,{"$f":"D71","v":"Vinnare åttondel 3"},{"$f":"F71","v":"Vinnare åttondel 1"}]
[null,4,"2021-07-03",{"$f":"IF(OR(N65=\"\",N65=\"Fyll i vinnare oavgjort\"),\"Vinnare åttondel 8\",N65)","v":"Vinnare åttondel 8"},"-",{"$f":"IF(OR(N64=\"\",N64=\"Fyll i vinnare oavgjort\"),\"Vinnare åttondel 7\",N64)","v":"Vinnare åttondel 7"},null,"-",null,"",{"$f":"IF(OR('Resultat & Tabell'!G72=\"\",'Resultat & Tabell'!I72=\"\",G72=\"\",I72=\"\"),0,IF(G72='Resultat & Tabell'!G72,2,0)+IF(I72='Resultat & Tabell'!I72,2,0)+IF(J72='Resultat & Tabell'!J72,3,0))","v":0},null,null,"",null,null,null,null,null,null,null,null,null,null,null,null,null,null,null,"2021-07-03","Vinnare åttondel 8","-","Vinnare åttondel 7",{"$f":"IF(G72=\"\",\"\",G72)","v":""},"-",{"$f":"IF(I72=\"\",\"\",I72)","v":""},{"$f":"J72","v":""},null,null,null,null,null,null,null,"Trea A/B/C",{"$f":"IF(OR('Resultat & Tabell'!G63=\"\",'Resultat & Tabell'!I63=\"\"),\"\",'Resultat & Tabell'!F63)","v":""},{"$f":"IF(ISERROR(VLOOKUP(AS72,AT59:AT74,1,FALSE)),0,1)","v":0},0,null,{"$f":"D72","v":"Vinnare åttondel 8"},{"$f":"F72","v":"Vinnare åttondel 7"}]
[null,null,null,null,null,null,null,null,null,null,null,null,null,null,null,null,null,null,null,null,null,null,null,null,null,null,null,null,null,null,null,null,null,null,null,null,null,null,null,null,null,null,null,null,"Tvåa grupp F",{"$f":"IF(OR('Resultat & Tabell'!G64=\"\",'Resultat & Tabell'!I64=\"\"),\"\",'Resultat & Tabell'!F64)","v":""},{"$f":"IF(ISERROR(VLOOKUP(AS73,AT59:AT74,1,FALSE)),0,1)","v":0},0]
[null,null,"Semifinaler",null,null,null,null,null,null,null,null,null,null,null,null,null,null,null,null,null,null,null,null,null,null,null,null,null,null,"Semifinaler",null,null,null,null,null,null,null,null,null,null,null,null,null,null,"Trea A/B/C/D",{"$f":"IF(OR('Resultat & Tabell'!G65=\"\",'Resultat & Tabell'!I65=\"\"),\"\",'Resultat & Tabell'!F65)","v":""},{"$f":"IF(ISERROR(VLOOKUP(AS74,AT59:AT74,1,FALSE)),0,1)","v":0},0]
[null,"#","Datum","Match",null,null,"Resultat",null,null,"Tecken","Poäng","Vinnare oavgjort",null,"Vinnare semifinaler",null,"Poäng för lag i semifinal",null,null,null,null,null,null,null,null,null,null,null,null,null,"Datum","Match",null,null,"Resultat",null,null,"Tecken","Poäng",null,null,null,null,null,null,null,null,"SUMMA",{"$f":"SUM(AV59:AV74)","v":0}]
[null,1,"2021-07-06",{"$f":"IF(OR(N70=\"\",N70=\"Fyll i vinnare oavgjort\"),\"Vinnare kvartsfinal 2\",N70)","v":"Vinnare kvartsfinal 2"},"-",{"$f":"IF(OR(N69=\"\",N69=\"Fyll i vinnare oavgjort\"),\"Vinnare kvartsfinal 1\",N69)","v":"Vinnare kvartsfinal 1"},null,"-",null,{"$f":"IF(OR(ISBLANK(G76),ISBLANK(I76)),\"\",IF(G76>I76,1,IF(G76<I76,2,\"X\")))","v":""},{"$f":"IF(OR('Resultat & Tabell'!G76=\"\",'Resultat & Tabell'!I76=\"\",G76=\"\",I76=\"\"),0,IF(G76='Resultat & Tabell'!G76,2,0)+IF(I76='Resultat & Tabell'!I76,2,0)+IF(J76='Resultat & Tabell'!J76,3,0))","v":0},null,null,{"$f":"IF(J76=\"\",\"\",IF(G76>I76,D76,IF(I76>G76,F76,IF(OR(L76=\"-\",L76=0),\"Fyll i vinnare oavgjort\",L76))))","v":""},null,{"$f":"AV93","v":0},null,null,null,null,null,null,null,null,null,null,null,null,null,{"$f":"C76","v":"2021-07-06"},{"$f":"D76","v":"Vinnare kvartsfinal 2"},{"$f":"E76","v":"-"},{"$f":"F76","v":"Vinnare kvartsfinal 1"},{"$f":"IF(G76=\"\",\"\",G76)","v":""},"-",{"$f":"IF(I76=\"\",\"\",I76)","v":""},{"$f":"J76","v":""},null,null,null,null,null,null,null,"Kvartsfinaler",null,null,null,null,{"$f":"D76","v":"Vinnare kvartsfinal 2"},{"$f":"F76","v":"Vinnare kvartsfinal 1"}]
[null,2,"2021-07-07",{"$f":"IF(OR(N72=\"\",N72=\"Fyll i vinnare oavgjort\"),\"Vinnare kvartsfinal 4\",N72)","v":"Vinnare kvartsfinal 4"},"-",{"$f":"IF(OR(N71=\"\",N71=\"Fyll i vinnare oavgjort\"),\"Vinnare kvartsfinal 3\",N71)","v":"Vinnare kvartsfinal 3"},null,"-",null,"",{"$f":"IF(OR('Resultat & Tabell'!G77=\"\",'Resultat & Tabell'!I77=\"\",G77=\"\",I77=\"\"),0,IF(G77='Resultat & Tabell'!G77,2,0)+IF(I77='Resultat & Tabell'!I77,2,0)+IF(J77='Resultat & Tabell'!J77,3,0))","v":0},null,null,{"$f":"IF(J77=\"\",\"\",IF(G77>I77,D77,IF(I77>G77,F77,IF(OR(L77=\"-\",L77=0),\"Fyll i vinnare oavgjort\",L77))))","v":""},null,null,null,null,null,null,null,null,null,null,null,null,null,null,null,"2021-07-07","Vinnare kvartsfinal 4","-","Vinnare kvartsfinal 3",{"$f":"IF(G77=\"\",\"\",G77)","v":""},"-",{"$f":"IF(I77=\"\",\"\",I77)","v":""},{"$f":"J77","v":""},null,null,null,null,null,null,null,"Mitt tips","Resultat & tabell","Utfall","Poäng",null,{"$f":"D77","v":"Vinnare kvartsfinal 4"},{"$f":"F77","v":"Vinnare kvartsfinal 3"}]
[null,null,null,null,null,null,null,null,null,null,null,null,null,null,null,null,null,null,null,null,null,null,null,null,null,null,null,null,null,null,null,null,null,null,null,null,null,null,null,null,null,null,null,null,{"$f":"D69","v":"Vinnare åttondel 6"},{"$f":"IF(OR('Resultat & Tabell'!G69=\"\",'Resultat & Tabell'!I69=\"\"),\"\",'Resultat & Tabell'!D69)","v":""},{"$f":"IF(ISERROR(VLOOKUP(AS78,AT78:AT85,1,FALSE)),0,1)","v":0},{"$f":"4*AU78","v":0}]
[null,null,"Final",null,null,null,null,null,null,null,null,null,null,null,null,null,null,null,null,null,null,null,null,null,null,null,null,null,null,"Final",null,null,null,null,null,null,null,null,null,null,null,null,null,null,{"$f":"D70","v":"Vinnare åttondel 4"},{"$f":"IF(OR('Resultat & Tabell'!G70=\"\",'Resultat & Tabell'!I70=\"\"),\"\",'Resultat & Tabell'!D70)","v":""},{"$f":"IF(ISERROR(VLOOKUP(AS79,AT78:AT85,1,FALSE)),0,1)","v":0},{"$f":"4*AU79","v":0}]
[null,null,"Datum","Match",null,null,"Resultat",null,null,"Tecken","Poäng",null,null,null,null,"Poäng för lag i final",null,null,null,null,null,null,null,null,null,null,null,null,null,"Datum","Match",null,null,"Resultat",null,null,"Tecken","Poäng",null,null,null,null,null,null,{"$f":"D71","v":"Vinnare åttondel 3"},{"$f":"IF(OR('Resultat & Tabell'!G71=\"\",'Resultat & Tabell'!I71=\"\"),\"\",'Resultat & Tabell'!D71)","v":""},{"$f":"IF(ISERROR(VLOOKUP(AS80,AT78:AT85,1,FALSE)),0,1)","v":0},0]
[null,null,"2021-07-11",{"$f":"IF(OR(N76=\"\",N76=\"Fyll i vinnare oavgjort\"),\"Vinnare semifinal 1\",N76)","v":"Vinnare semifinal 1"},"-",{"$f":"IF(OR(N77=\"\",N77=\"Fyll i vinnare oavgjort\"),\"Vinnare semifinal 2\",N77)","v":"Vinnare semifinal 2"},null,"-",null,{"$f":"IF(OR(ISBLANK(G81),ISBLANK(I81)),\"\",IF(G81>I81,1,IF(G81<I81,2,\"X\")))","v":""},{"$f":"IF(OR('Resultat & Tabell'!G81=\"\",'Resultat & Tabell'!I81=\"\",G81=\"\",I81=\"\"),0,IF(G81='Resultat & Tabell'!G81,2,0)+IF(I81='Resultat & Tabell'!I81,2,0)+IF(J81='Resultat & Tabell'!J81,3,0))","v":0},null,null,null,null,{"$f":"AV98","v":0},null,null,null,null,null,null,null,null,null,null,null,null,null,{"$f":"C81","v":"2021-07-11"},{"$f":"D81","v":"Vinnare semifinal 1"},{"$f":"E81","v":"-"},{"$f":"F81","v":"Vinnare semifinal 2"},{"$f":"IF(G81=\"\",\"\",G81)","v":""},"-",{"$f":"IF(I81=\"\",\"\",I81)","v":""},{"$f":"J81","v":""},null,null,null,null,null,null,null,{"$f":"D72","v":"Vinnare åttondel 8"},{"$f":"IF(OR('Resultat & Tabell'!G72=\"\",'Resultat & Tabell'!I72=\"\"),\"\",'Resultat & Tabell'!D72)","v":""},{"$f":"IF(ISERROR(VLOOKUP(AS81,AT78:AT85,1,FALSE)),0,1)","v":0},0,null,{"$f":"D81","v":"Vinnare semifinal 1"},{"$f":"F81","v":"Vinnare semifinal 2"}]
[null,null,null,null,null,null,null,null,null,null,null,null,null,null,null,null,null,null,null,null,null,null,null,null,null,null,null,null,null,null,null,null,null,null,null,null,null,null,null,null,null,null,null,null,{"$f":"F69","v":"Vinnare åttondel 5"},{"$f":"IF(OR('Resultat & Tabell'!G69=\"\",'Resultat & Tabell'!I69=\"\"),\"\",'Resultat & Tabell'!F69)","v":""},{"$f":"IF(ISERROR(VLOOKUP(AS82,AT78:AT85,1,FALSE)),0,1)","v":0},0]
[null,null,null,null,null,null,null,null,null,null,null,null,null,null,null,null,null,null,null,null,null,null,null,null,null,null,null,null,null,null,null,null,null,null,null,null,null,null,null,null,null,null,null,null,{"$f":"F70","v":"Vinnare åttondel 2"},{"$f":"IF(OR('Resultat & Tabell'!G70=\"\",'Resultat & Tabell'!I70=\"\"),\"\",'Resultat & Tabell'!F70)","v":""},{"$f":"IF(ISERROR(VLOOKUP(AS83,AT78:AT85,1,FALSE)),0,1)","v":0},0]
[null,null,null,null,null,null,null,null,null,null,null,null,null,null,null,null,null,null,null,null,null,null,null,null,null,null,null,null,null,null,null,null,null,null,null,null,null,null,null,null,null,null,null,null,{"$f":"F71","v":"Vinnare åttondel 1"},{"$f":"IF(OR('Resultat & Tabell'!G71=\"\",'Resultat & Tabell'!I71=\"\"),\"\",'Resultat & Tabell'!F71)","v":""},{"$f":"IF(ISERROR(VLOOKUP(AS84,AT78:AT85,1,FALSE)),0,1)","v":0},0]
[null,null,null,null,null,null,null,null,null,null,null,null,null,null,null,null,null,null,null,null,null,null,null,null,null,null,null,null,null,null,null,null,null,null,null,null,null,null,null,null,null,null,null,null,{"$f":"F72","v":"Vinnare åttondel 7"},{"$f":"IF(OR('Resultat & Tabell'!G72=\"\",'Resultat & Tabell'!I72=\"\"),\"\",'Resultat & Tabell'!F72)","v":""},{"$f":"IF(ISERROR(VLOOKUP(AS85,AT78:AT85,1,FALSE)),0,1)","v":0},0]
[null,null,null,null,null,null,null,null,null,null,null,null,null,null,null,null,null,null,null,null,null,null,null,null,null,null,null,null,null,null,null,null,null,null,null,null,null,null,null,null,null,null,null,null,null,null,"SUMMA",{"$f":"SUM(AV78:AV85)","v":0}]
[null,null,null,null,null,null,null,null,null,null,null,null,null,null,null,null,null,null,null,null,null,null,null,null,null,null,null,null,null,null,null,null,null,null,null,null,null,null,null,null,null,null,null,null,"Semifinaler"]
[null,null,null,null,null,null,null,null,null,null,null,null,null,null,null,null,null,null,null,null,null,null,null,null,null,null,null,null,null,null,null,null,null,null,null,null,null,null,null,null,null,null,null,null,"Mitt tips","Resultat & tabell","Utfall","Poäng"]
[null,null,null,null,null,null,null,null,null,null,null,null,null,null,null,null,null,null,null,null,null,null,null,null,null,null,null,null,null,null,null,null,null,null,null,null,null,null,null,null,null,null,null,null,{"$f":"D76","v":"Vinnare kvartsfinal 2"},{"$f":"IF(OR('Resultat & Tabell'!G76=\"\",'Resultat & Tabell'!I76=\"\"),\"\",'Resultat & Tabell'!D76)","v":""},{"$f":"IF(ISERROR(VLOOKUP(AS89,AT89:AT92,1,FALSE)),0,1)","v":0},{"$f":"6*AU89","v":0}]
[null,null,null,null,null,null,null,null,null,null,null,null,null,null,null,null,null,null,null,null,null,null,null,null,null,null,null,null,null,null,null,null,null,null,null,null,null,null,null,null,null,null,null,null,{"$f":"D77","v":"Vinnare kvartsfinal 4"},{"$f":"IF(OR('Resultat & Tabell'!G77=\"\",'Resultat & Tabell'!I77=\"\"),\"\",'Resultat & Tabell'!D77)","v":""},{"$f":"IF(ISERROR(VLOOKUP(AS90,AT89:AT92,1,FALSE)),0,1)","v":0},{"$f":"6*AU90","v":0}]
[null,null,null,null,null,null,null,null,null,null,null,null,null,null,null,null,null,null,null,null,null,null,null,null,null,null,null,null,null,null,null,null,null,null,null,null,null,null,null,null,null,null,null,null,{"$f":"F76","v":"Vinnare kvartsfinal 1"},{"$f":"IF(OR('Resultat & Tabell'!G76=\"\",'Resultat & Tabell'!I76=\"\"),\"\",'Resultat & Tabell'!F76)","v":""},{"$f":"IF(ISERROR(VLOOKUP(AS91,AT89:AT92,1,FALSE)),0,1)","v":0},0]
[null,null,null,null,null,null,null,null,null,null,null,null,null,null,null,null,null,null,null,null,null,null,null,null,null,null,null,null,null,null,null,null,null,null,null,null,null,null,null,null,null,null,null,null,{"$f":"F77","v":"Vinnare kvartsfinal 3"},{"$f":"IF(OR('Resultat & Tabell'!G77=\"\",'Resultat & Tabell'!I77=\"\"),\"\",'Resultat & Tabell'!F77)","v":""},{"$f":"IF(ISERROR(VLOOKUP(AS92,AT89:AT92,1,FALSE)),0,1)","v":0},0]
[null,null,null,null,null,null,null,null,null,null,null,null,null,null,null,null,null,null,null,null,null,null,null,null,null,null,null,null,null,null,null,null,null,null,null,null,null,null,null,null,null,null,null,null,null,null,"SUMMA",{"$f":"SUM(AV89:AV92)","v":0}]
[null,null,null,null,null,null,null,null,null,null,null,null,null,null,null,null,null,null,null,null,null,null,null,null,null,null,null,null,null,null,null,null,null,null,null,null,null,null,null,null,null,null,null,null,"Final"]
[null,null,null,null,null,null,null,null,null,null,null,null,null,null,null,null,null,null,null,null,null,null,null,null,null,null,null,null,null,null,null,null,null,null,null,null,null,null,null,null,null,null,null,null,"Mitt tips","Resultat & tabell","Utfall","Poäng"]
[null,null,null,null,null,null,null,null,null,null,null,null,null,null,null,null,null,null,null,null,null,null,null,null,null,null,null,null,null,null,null,null,null,null,null,null,null,null,null,null,null,null,null,null,{"$f":"D81","v":"Vinnare semifinal 1"},{"$f":"IF(OR('Resultat & Tabell'!G81=\"\",'Resultat & Tabell'!I81=\"\"),\"\",'Resultat & Tabell'!D81)","v":""},{"$f":"IF(ISERROR(VLOOKUP(AS96,AT96:AT97,1,FALSE)),0,1)","v":0},{"$f":"8*AU96","v":0}]
[null,null,null,null,null,null,null,null,null,null,null,null,null,null,null,null,null,null,null,null,null,null,null,null,null,null,null,null,null,null,null,null,null,null,null,null,null,null,null,null,null,null,null,null,{"$f":"F81","v":"Vinnare semifinal 2"},{"$f":"IF(OR('Resultat & Tabell'!G81=\"\",'Resultat & Tabell'!I81=\"\"),\"\",'Resultat & Tabell'!F81)","v":""},{"$f":"IF(ISERROR(VLOOKUP(AS97,AT96:AT97,1,FALSE)),0,1)","v":0},{"$f":"8*AU97","v":0}]
[null,null,null,null,null,null,null,null,null,null,null,null,null,null,null,null,null,null,null,null,null,null,null,null,null,null,null,null,null,null,null,null,null,null,null,null,null,null,null,null,null,null,null,null,null,null,"SUMMA",{"$f":"SUM(AV96:AV97)","v":0}]